{"text_format":"1","workbook":"xlsx","n_sheets":27,"sheets":["転記用FMT","更新履歴","祝日","変更内容","日本標準産業分類","見込み省エネルギー量","提出書類一覧","【参考】見込み省エネルギー量の算出（要件アと要件ウ）","【参考】エネルギー使用量の原油換算表","（様式第１）融資計画書","（別添１）融資計画詳細１","（別添１）融資計画詳細２","（別添１）融資計画詳細３","（別添２）役員名簿（利子補給対象事業者）","（別添３）利子補給金の交付の対象となる経費リスト","（別添４）エネルギー消費効率の根拠（要件ア）入力例","（別添４）エネルギー消費効率の根拠（要件ア）","（別添５）エネルギー消費原単位の改善根拠（要件イ）","（別添６）省エネルギー取組の根拠（要件ウ）","（様式第３）交付申請書（新規融資案件）","（別添１）融資計画詳細１（交付申請）","（別添１）融資計画詳細２（交付申請）","（様式第９）実績報告書","（別添1）融資計画詳細１（実績報告）","（別添１）融資計画詳細２（実績報告）","（様式第１１）概算払請求書","（様式第１１）精算払請求書"],"not_rendered":{"charts":0,"images":5,"macros":1,"external_links":3,"defined_names":155,"comments":0,"pivot_tables":0},"unopened":[],"bounds":{"document_bytes":16777216,"sheet_cells":100000,"rows_first":2000,"rows_last":500,"rows_between":2000,"halvings":0,"cell_chars":16384,"cell_head_chars":4096},"cells_cut":0,"cells_raw":0,"read":"whole","date_system":"1900"}

{"sheet":"転記用FMT","index":0,"n_rows":1671,"n_cols":1679,"rows_kept":1671,"cut":false,"hidden":true,"merged":[]}
["No","項目\n（様式_参照セル）","項目","内容",null,null,null,null,"No",1,2,3,4,5,6,7,8,9,10,11,12,13,14,15,16,17,18,19,20,21,22,23,24,25,26,27,28,29,30,31,32,33,34,35,36,37,38,39,40,41,42,43,44,45,46,47,48,49,50,51,52,53,54,55,56,57,58,59,60,61,62,63,64,65,66,67,68,69,70,71,72,73,74,75,76,77,78,79,80,81,82,83,84,85,86,87,88,89,90,91,92,93,94,95,96,97,98,99,100,101,102,103,104,105,106,107,108,109,110,111,112,113,114,115,116,117,118,119,120,121,122,123,124,125,126,127,128,129,130,131,132,133,134,135,136,137,138,139,140,141,142,143,144,145,146,147,148,149,150,151,152,153,154,155,156,157,158,159,160,161,162,163,164,165,166,167,168,169,170,171,172,173,174,175,176,177,178,179,180,181,182,183,184,185,186,187,188,189,190,191,192,193,194,195,196,197,198,199,200,201,202,203,204,205,206,207,208,209,210,211,212,213,214,215,216,217,218,219,220,221,222,223,224,225,226,227,228,229,230,231,232,233,234,235,236,237,238,239,240,241,242,243,244,245,246,247,248,249,250,251,252,253,254,255,256,257,258,259,260,261,262,263,264,265,266,267,268,269,270,271,272,273,274,275,276,277,278,279,280,281,282,283,284,285,286,287,288,289,290,291,292,293,294,295,296,297,298,299,300,301,302,303,304,305,306,307,308,309,310,311,312,313,314,315,316,317,318,319,320,321,322,323,324,325,326,327,328,329,330,331,332,333,334,335,336,337,338,339,340,341,342,343,344,345,346,347,348,349,350,351,352,353,354,355,356,357,358,359,360,361,362,363,364,365,366,367,368,369,370,371,372,373,374,375,376,377,378,379,380,381,382,383,384,385,386,387,388,389,390,391,392,393,394,395,396,397,398,399,400,401,402,403,404,405,406,407,408,409,410,411,412,413,414,415,416,417,418,419,420,421,422,423,424,425,426,427,428,429,430,431,432,433,434,435,436,437,438,439,440,441,442,443,444,445,446,447,448,449,450,451,452,453,454,455,456,457,458,459,460,461,462,463,464,465,466,467,468,469,470,471,472,473,474,475,476,477,478,479,480,481,482,483,484,485,486,487,488,489,490,491,492,493,494,495,496,497,498,499,500,501,502,503,504,505,506,507,508,509,510,511,512,513,514,515,516,517,518,519,520,521,522,523,524,525,526,527,528,529,530,531,532,533,534,535,536,537,538,539,540,541,542,543,544,545,546,547,548,549,550,551,552,553,554,555,556,557,558,559,560,561,562,563,564,565,566,567,568,569,570,571,572,573,574,575,576,577,578,579,580,581,582,583,584,585,586,587,588,589,590,591,592,593,594,595,596,597,598,599,600,601,602,603,604,605,606,607,608,609,610,611,612,613,614,615,616,617,618,619,620,621,622,623,624,625,626,627,628,629,630,631,632,633,634,635,636,637,638,639,640,641,642,643,644,645,646,647,648,649,650,651,652,653,654,655,656,657,658,659,660,661,662,663,664,665,666,667,668,669,670,671,672,673,674,675,676,677,678,679,680,681,682,683,684,685,686,687,688,689,690,691,692,693,694,695,696,697,698,699,700,701,702,703,704,705,706,707,708,709,710,711,712,713,714,715,716,717,718,719,720,721,722,723,724,725,726,727,728,729,730,731,732,733,734,735,736,737,738,739,740,741,742,743,744,745,746,747,748,749,750,751,752,753,754,755,756,757,758,759,760,761,762,763,764,765,766,767,768,769,770,771,772,773,774,775,776,777,778,779,780,781,782,783,784,785,786,787,788,789,790,791,792,793,794,795,796,797,798,799,800,801,802,803,804,805,806,807,808,809,810,811,812,813,814,815,816,817,818,819,820,821,822,823,824,825,826,827,828,829,830,831,832,833,834,835,836,837,838,839,840,841,842,843,844,845,846,847,848,849,850,851,852,853,854,855,856,857,858,859,860,861,862,863,864,865,866,867,868,869,870,871,872,873,874,875,876,877,878,879,880,881,882,883,884,885,886,887,888,889,890,891,892,893,894,895,896,897,898,899,900,901,902,903,904,905,906,907,908,909,910,911,912,913,914,915,916,917,918,919,920,921,922,923,924,925,926,927,928,929,930,931,932,933,934,935,936,937,938,939,940,941,942,943,944,945,946,947,948,949,950,951,952,953,954,955,956,957,958,959,960,961,962,963,964,965,966,967,968,969,970,971,972,973,974,975,976,977,978,979,980,981,982,983,984,985,986,987,988,989,990,991,992,993,994,995,996,997,998,999,1000,1001,1002,1003,1004,1005,1006,1007,1008,1009,1010,1011,1012,1013,1014,1015,1016,1017,1018,1019,1020,1021,1022,1023,1024,1025,1026,1027,1028,1029,1030,1031,1032,1033,1034,1035,1036,1037,1038,1039,1040,1041,1042,1043,1044,1045,1046,1047,1048,1049,1050,1051,1052,1053,1054,1055,1056,1057,1058,1059,1060,1061,1062,1063,1064,1065,1066,1067,1068,1069,1070,1071,1072,1073,1074,1075,1076,1077,1078,1079,1080,1081,1082,1083,1084,1085,1086,1087,1088,1089,1090,1091,1092,1093,1094,1095,1096,1097,1098,1099,1100,1101,1102,1103,1104,1105,1106,1107,1108,1109,1110,1111,1112,1113,1114,1115,1116,1117,1118,1119,1120,1121,1122,1123,1124,1125,1126,1127,1128,1129,1130,1131,1132,1133,1134,1135,1136,1137,1138,1139,1140,1141,1142,1143,1144,1145,1146,1147,1148,1149,1150,1151,1152,1153,1154,1155,1156,1157,1158,1159,1160,1161,1162,1163,1164,1165,1166,1167,1168,1169,1170,1171,1172,1173,1174,1175,1176,1177,1178,1179,1180,1181,1182,1183,1184,1185,1186,1187,1188,1189,1190,1191,1192,1193,1194,1195,1196,1197,1198,1199,1200,1201,1202,1203,1204,1205,1206,1207,1208,1209,1210,1211,1212,1213,1214,1215,1216,1217,1218,1219,1220,1221,1222,1223,1224,1225,1226,1227,1228,1229,1230,1231,1232,1233,1234,1235,1236,1237,1238,1239,1240,1241,1242,1243,1244,1245,1246,1247,1248,1249,1250,1251,1252,1253,1254,1255,1256,1257,1258,1259,1260,1261,1262,1263,1264,1265,1266,1267,1268,1269,1270,1271,1272,1273,1274,1275,1276,1277,1278,1279,1280,1281,1282,1283,1284,1285,1286,1287,1288,1289,1290,1291,1292,1293,1294,1295,1296,1297,1298,1299,1300,1301,1302,1303,1304,1305,1306,1307,1308,1309,1310,1311,1312,1313,1314,1315,1316,1317,1318,1319,1320,1321,1322,1323,1324,1325,1326,1327,1328,1329,1330,1331,1332,1333,1334,1335,1336,1337,1338,1339,1340,1341,1342,1343,1344,1345,1346,1347,1348,1349,1350,1351,1352,1353,1354,1355,1356,1357,1358,1359,1360,1361,1362,1363,1364,1365,1366,1367,1368,1369,1370,1371,1372,1373,1374,1375,1376,1377,1378,1379,1380,1381,1382,1383,1384,1385,1386,1387,1388,1389,1390,1391,1392,1393,1394,1395,1396,1397,1398,1399,1400,1401,1402,1403,1404,1405,1406,1407,1408,1409,1410,1411,1412,1413,1414,1415,1416,1417,1418,1419,1420,1421,1422,1423,1424,1425,1426,1427,1428,1429,1430,1431,1432,1433,1434,1435,1436,1437,1438,1439,1440,1441,1442,1443,1444,1445,1446,1447,1448,1449,1450,1451,1452,1453,1454,1455,1456,1457,1458,1459,1460,1461,1462,1463,1464,1465,1466,1467,1468,1469,1470,1471,1472,1473,1474,1475,1476,1477,1478,1479,1480,1481,1482,1483,1484,1485,1486,1487,1488,1489,1490,1491,1492,1493,1494,1495,1496,1497,1498,1499,1500,1501,1502,1503,1504,1505,1506,1507,1508,1509,1510,1511,1512,1513,1514,1515,1516,1517,1518,1519,1520,1521,1522,1523,1524,1525,1526,1527,1528,1529,1530,1531,1532,1533,1534,1535,1536,1537,1538,1539,1540,1541,1542,1543,1544,1545,1546,1547,1548,1549,1550,1551,1552,1553,1554,1555,1556,1557,1558,1559,1560,1561,1562,1563,1564,1565,1566,1567,1568,1569,1570,1571,1572,1573,1574,1575,1576,1577,1578,1579,1580,1581,1582,1583,1584,1585,1586,1587,1588,1589,1590,1591,1592,1593,1594,1595,1596,1597,1598,1599,1600,1601,1602,1603,1604,1605,1606,1607,1608,1609,1610,1611,1612,1613,1614,1615,1616,1617,1618,1619,1620,1621,1622,1623,1624,1625,1626,1627,1628,1629,1630,1631,1632,1633,1634,1635,1636,1637,1638,1639,1640,1641,1642,1643,1644,1645,1646,1647,1648,1649,1650,1651,1652,1653,1654,1655,1656,1657,1658,1659,1660,1661,1662,1663,1664,1665,1666,1667,1668,1669,1670]
[{"$f":"ROW()-1","v":1},{"$f":"'（様式第１）融資計画書'!$BA$3","v":"様式第1_L6"},{"$f":"'（様式第１）融資計画書'!$BB$3","v":"年"},{"$f":"'（様式第１）融資計画書'!$BC$3","v":""},null,null,null,null,"項目（様式/参照セル）",{"$f":"'（様式第１）融資計画書'!$BA$3","v":"様式第1_L6"},{"$f":"'（様式第１）融資計画書'!$BA$4","v":"様式第1_N6"},{"$f":"'（様式第１）融資計画書'!$BA$5","v":"様式第1_P6"},{"$f":"'（様式第１）融資計画書'!$BA$6","v":"様式第1_K16"},{"$f":"'（様式第１）融資計画書'!$BA$7","v":"様式第1_K19"},{"$f":"'（様式第１）融資計画書'!$BA$8","v":"様式第1_K22"},{"$f":"'（様式第１）融資計画書'!$BA$9","v":"様式第1_K24"},{"$f":"'（様式第１）融資計画書'!$BA$10","v":"様式第1_K27"},{"$f":"'（様式第１）融資計画書'!$BA$11","v":"様式第1_K30"},{"$f":"'（様式第１）融資計画書'!$BA$12","v":"様式第1_K33"},{"$f":"'（様式第１）融資計画書'!$BA$13","v":"様式第1_K35"},{"$f":"'（様式第１）融資計画書'!$BA$14","v":"様式第1_B72"},{"$f":"'（様式第１）融資計画書'!$BA$15","v":"様式第1_B76"},"別添1_C9","別添1_C11","別添1_C13","別添1_C15","別添1_C17","別添1_C19","別添1_C22","別添1_C24","別添1_C26","別添1_C28","別添1_C30","別添1_C32","別添1_M43","別添1_M51","別添1_N35","別添1_I11","別添1_I21","別添1_I28","別添1-2_D9","別添1-2_D11","別添1-2_D13","別添1-2_D15","別添1-2_D17","別添1-2_D19","別添1-2_D21","別添1-2_D23","別添1-2_D25","別添1-2_D27","別添1-2_D29","別添1-2_D34","別添1-2_D36","別添1-2_D38","別添1-2_D43～55","別添1-2_D43～55","別添1-2_D61","別添1-2_D61","別添1-2_D63","別添1-2_D73","別添1-2_D86","別添1-2_D90",{"$f":"'（別添１）融資計画詳細３'!$BB$3","v":"別添1-3_F10"},{"$f":"'（別添１）融資計画詳細３'!$BB$4","v":"別添1-3_F13"},{"$f":"'（別添１）融資計画詳細３'!$BB$5","v":"別添1-3_F16"},{"$f":"'（別添１）融資計画詳細３'!$BB$6","v":"別添1-3_F19"},{"$f":"'（別添１）融資計画詳細３'!$BB$7","v":"別添1-3_F25"},{"$f":"'（別添１）融資計画詳細３'!$BB$8","v":"別添1-3_F28"},{"$f":"'（別添１）融資計画詳細３'!$BB$9","v":"別添1-3_F31"},{"$f":"'（別添１）融資計画詳細３'!$BB$10","v":"別添1-3_F34"},"様式第3_L2","様式第3_L4","様式第3_N4","様式第3_P4","様式第3_K14","様式第3_K17","様式第3_K20","様式第3_K22","様式第3_A37","様式第3_J37","様式第3_B69","様式第3_B73","様式第3_B77","様式第3_B81","別添1_C9","別添1_C11","別添1_C13","別添1_C15","別添1_C17","別添1_C19","別添1_C22","別添1_C24","別添1_C26","別添1_C28","別添1_C30","別添1_C32","別添1_M43","別添1_M51","別添1_N35","別添1_I11","別添1_I21","別添1_I28","別添1-2_D9","別添1-2_D11","別添1-2_D13","別添1-2_D15","別添1-2_D17","別添1-2_D19","別添1-2_D21","別添1-2_D23","別添1-2_D25","別添1-2_D27","別添1-2_D29","別添1-2_D34","別添1-2_D36","別添1-2_D38","別添1-2_D43～55","別添1-2_D43～55","別添1-2_D61","別添1-2_D61","別添1-2_D63","別添1-2_D73","様式9_L6","様式9_N6","様式9_P6","様式9_K16","様式9_K19","様式9_K22","様式9_K24","様式9_A40","様式9_H40","様式9_B71","様式9_B75","様式9_B79","様式9_B83","別添1_C9","別添1_C11","別添1_C13","別添1_C15","別添1_C17","別添1_C19","別添1_C22","別添1_C24","別添1_C26","別添1_C28","別添1_C30","別添1_C32","別添1_M43","別添1_M51","別添1_N35","別添1_I11","別添1_I21","別添1_I28","別添1-2_D9","別添1-2_D11","別添1-2_D13","別添1-2_D15","別添1-2_D17","別添1-2_D19","別添1-2_D21","別添1-2_D23","別添1-2_D25","別添1-2_D27","別添1-2_D29","別添1-2_D34","別添1-2_D36","別添1-2_D38","別添1-2_D43～55","別添1-2_D43～55","別添1-2_D61","別添1-2_D61","別添1-2_D63","別添1-2_D73","別添1-2_D86","別添1-2_D90","別添1-2_D91","様式11概_L6","様式11概_N6","様式11概_P6","様式11概_K16","様式11概_K19","様式11概_K22","様式11概_K24","様式11概_A40","様式11概_H40","様式11概_B71","様式11概_B75","様式11概_B79","様式11概_D85","様式11概_K85","様式11概_D87","様式11概_K87","様式11概_D89","様式11概_K89","様式11概_D91","様式11概_K91","様式11精_L6","様式11精_N6","様式11精_P6","様式11精_K16","様式11精_K19","様式11精_K22","様式11精_K24","様式11精_A40","様式11精_H40","様式11精_B71","様式11精_B75","様式11精_B79","様式11精_D85","様式11精_K85","様式11精_D87","様式11精_K87","様式11精_D89","様式11精_K89","様式11精_D91","様式11精_K91","別添4_0_1","別添4_0_2",{"$f":"'（別添４）エネルギー消費効率の根拠（要件ア）'!$D$40","v":"別添4_1_1"},{"$f":"'（別添４）エネルギー消費効率の根拠（要件ア）'!$D$41","v":"別添4_1_2"},{"$f":"'（別添４）エネルギー消費効率の根拠（要件ア）'!$D$42","v":"別添4_1_3"},{"$f":"'（別添４）エネルギー消費効率の根拠（要件ア）'!$D$43","v":"別添4_1_4"},{"$f":"'（別添４）エネルギー消費効率の根拠（要件ア）'!$D$44","v":"別添4_1_5"},{"$f":"'（別添４）エネルギー消費効率の根拠（要件ア）'!$D$45","v":"別添4_1_6"},{"$f":"'（別添４）エネルギー消費効率の根拠（要件ア）'!$D$46","v":"別添4_1_7"},{"$f":"'（別添４）エネルギー消費効率の根拠（要件ア）'!$D$47","v":"別添4_1_8"},{"$f":"'（別添４）エネルギー消費効率の根拠（要件ア）'!$D$48","v":"別添4_1_9"},{"$f":"'（別添４）エネルギー消費効率の根拠（要件ア）'!$D$49","v":"別添4_1_10"},{"$f":"'（別添４）エネルギー消費効率の根拠（要件ア）'!$D$50","v":"別添4_1_11"},{"$f":"'（別添４）エネルギー消費効率の根拠（要件ア）'!$D$51","v":"別添4_1_12"},{"$f":"'（別添４）エネルギー消費効率の根拠（要件ア）'!$D$52","v":"別添4_1_13"},{"$f":"'（別添４）エネルギー消費効率の根拠（要件ア）'!$D$53","v":"別添4_1_14"},{"$f":"'（別添４）エネルギー消費効率の根拠（要件ア）'!$D$54","v":"別添4_1_15"},{"$f":"'（別添４）エネルギー消費効率の根拠（要件ア）'!$D$55","v":"別添4_1_16"},{"$f":"'（別添４）エネルギー消費効率の根拠（要件ア）'!$D$56","v":"別添4_1_17"},{"$f":"'（別添４）エネルギー消費効率の根拠（要件ア）'!$D$57","v":"別添4_1_18"},{"$f":"'（別添４）エネルギー消費効率の根拠（要件ア）'!$D$58","v":"別添4_1_19"},{"$f":"'（別添４）エネルギー消費効率の根拠（要件ア）'!$D$59","v":"別添4_1_20"},{"$f":"'（別添４）エネルギー消費効率の根拠（要件ア）'!$D$60","v":"別添4_1_21"},{"$f":"'（別添４）エネルギー消費効率の根拠（要件ア）'!$D$61","v":"別添4_1_22"},{"$f":"'（別添４）エネルギー消費効率の根拠（要件ア）'!$D$62","v":"別添4_1_23"},{"$f":"'（別添４）エネルギー消費効率の根拠（要件ア）'!$D$63","v":"別添4_1_24"},{"$f":"'（別添４）エネルギー消費効率の根拠（要件ア）'!$H$40","v":"別添4_2_1"},{"$f":"'（別添４）エネルギー消費効率の根拠（要件ア）'!$H$41","v":"別添4_2_2"},{"$f":"'（別添４）エネルギー消費効率の根拠（要件ア）'!$H$42","v":"別添4_2_3"},{"$f":"'（別添４）エネルギー消費効率の根拠（要件ア）'!$H$43","v":"別添4_2_4"},{"$f":"'（別添４）エネルギー消費効率の根拠（要件ア）'!$H$44","v":"別添4_2_5"},{"$f":"'（別添４）エネルギー消費効率の根拠（要件ア）'!$H$45","v":"別添4_2_6"},{"$f":"'（別添４）エネルギー消費効率の根拠（要件ア）'!$H$46","v":"別添4_2_7"},{"$f":"'（別添４）エネルギー消費効率の根拠（要件ア）'!$H$47","v":"別添4_2_8"},{"$f":"'（別添４）エネルギー消費効率の根拠（要件ア）'!$H$48","v":"別添4_2_9"},{"$f":"'（別添４）エネルギー消費効率の根拠（要件ア）'!$H$49","v":"別添4_2_10"},{"$f":"'（別添４）エネルギー消費効率の根拠（要件ア）'!$H$50","v":"別添4_2_11"},{"$f":"'（別添４）エネルギー消費効率の根拠（要件ア）'!$H$51","v":"別添4_2_12"},{"$f":"'（別添４）エネルギー消費効率の根拠（要件ア）'!$H$52","v":"別添4_2_13"},{"$f":"'（別添４）エネルギー消費効率の根拠（要件ア）'!$H$53","v":"別添4_2_14"},{"$f":"'（別添４）エネルギー消費効率の根拠（要件ア）'!$H$54","v":"別添4_2_15"},{"$f":"'（別添４）エネルギー消費効率の根拠（要件ア）'!$H$55","v":"別添4_2_16"},{"$f":"'（別添４）エネルギー消費効率の根拠（要件ア）'!$H$56","v":"別添4_2_17"},{"$f":"'（別添４）エネルギー消費効率の根拠（要件ア）'!$H$57","v":"別添4_2_18"},{"$f":"'（別添４）エネルギー消費効率の根拠（要件ア）'!$H$58","v":"別添4_2_19"},{"$f":"'（別添４）エネルギー消費効率の根拠（要件ア）'!$H$59","v":"別添4_2_20"},{"$f":"'（別添４）エネルギー消費効率の根拠（要件ア）'!$H$60","v":"別添4_2_21"},{"$f":"'（別添４）エネルギー消費効率の根拠（要件ア）'!$H$61","v":"別添4_2_22"},{"$f":"'（別添４）エネルギー消費効率の根拠（要件ア）'!$H$62","v":"別添4_2_23"},{"$f":"'（別添４）エネルギー消費効率の根拠（要件ア）'!$H$63","v":"別添4_2_24"},{"$f":"'（別添４）エネルギー消費効率の根拠（要件ア）'!$L$40","v":"別添4_3_1"},{"$f":"'（別添４）エネルギー消費効率の根拠（要件ア）'!$L$41","v":"別添4_3_2"},{"$f":"'（別添４）エネルギー消費効率の根拠（要件ア）'!$L$42","v":"別添4_3_3"},{"$f":"'（別添４）エネルギー消費効率の根拠（要件ア）'!$L$43","v":"別添4_3_4"},{"$f":"'（別添４）エネルギー消費効率の根拠（要件ア）'!$L$44","v":"別添4_3_5"},{"$f":"'（別添４）エネルギー消費効率の根拠（要件ア）'!$L$45","v":"別添4_3_6"},{"$f":"'（別添４）エネルギー消費効率の根拠（要件ア）'!$L$46","v":"別添4_3_7"},{"$f":"'（別添４）エネルギー消費効率の根拠（要件ア）'!$L$47","v":"別添4_3_8"},{"$f":"'（別添４）エネルギー消費効率の根拠（要件ア）'!$L$48","v":"別添4_3_9"},{"$f":"'（別添４）エネルギー消費効率の根拠（要件ア）'!$L$49","v":"別添4_3_10"},{"$f":"'（別添４）エネルギー消費効率の根拠（要件ア）'!$L$50","v":"別添4_3_11"},{"$f":"'（別添４）エネルギー消費効率の根拠（要件ア）'!$L$51","v":"別添4_3_12"},{"$f":"'（別添４）エネルギー消費効率の根拠（要件ア）'!$L$52","v":"別添4_3_13"},{"$f":"'（別添４）エネルギー消費効率の根拠（要件ア）'!$L$53","v":"別添4_3_14"},{"$f":"'（別添４）エネルギー消費効率の根拠（要件ア）'!$L$54","v":"別添4_3_15"},{"$f":"'（別添４）エネルギー消費効率の根拠（要件ア）'!$L$55","v":"別添4_3_16"},{"$f":"'（別添４）エネルギー消費効率の根拠（要件ア）'!$L$56","v":"別添4_3_17"},{"$f":"'（別添４）エネルギー消費効率の根拠（要件ア）'!$L$57","v":"別添4_3_18"},{"$f":"'（別添４）エネルギー消費効率の根拠（要件ア）'!$L$58","v":"別添4_3_19"},{"$f":"'（別添４）エネルギー消費効率の根拠（要件ア）'!$L$59","v":"別添4_3_20"},{"$f":"'（別添４）エネルギー消費効率の根拠（要件ア）'!$L$60","v":"別添4_3_21"},{"$f":"'（別添４）エネルギー消費効率の根拠（要件ア）'!$L$61","v":"別添4_3_22"},{"$f":"'（別添４）エネルギー消費効率の根拠（要件ア）'!$L$62","v":"別添4_3_23"},{"$f":"'（別添４）エネルギー消費効率の根拠（要件ア）'!$L$63","v":"別添4_3_24"},{"$f":"'（別添４）エネルギー消費効率の根拠（要件ア）'!$P$40","v":"別添4_4_1"},{"$f":"'（別添４）エネルギー消費効率の根拠（要件ア）'!$P$41","v":"別添4_4_2"},{"$f":"'（別添４）エネルギー消費効率の根拠（要件ア）'!$P$42","v":"別添4_4_3"},{"$f":"'（別添４）エネルギー消費効率の根拠（要件ア）'!$P$43","v":"別添4_4_4"},{"$f":"'（別添４）エネルギー消費効率の根拠（要件ア）'!$P$44","v":"別添4_4_5"},{"$f":"'（別添４）エネルギー消費効率の根拠（要件ア）'!$P$45","v":"別添4_4_6"},{"$f":"'（別添４）エネルギー消費効率の根拠（要件ア）'!$P$46","v":"別添4_4_7"},{"$f":"'（別添４）エネルギー消費効率の根拠（要件ア）'!$P$47","v":"別添4_4_8"},{"$f":"'（別添４）エネルギー消費効率の根拠（要件ア）'!$P$48","v":"別添4_4_9"},{"$f":"'（別添４）エネルギー消費効率の根拠（要件ア）'!$P$49","v":"別添4_4_10"},{"$f":"'（別添４）エネルギー消費効率の根拠（要件ア）'!$P$50","v":"別添4_4_11"},{"$f":"'（別添４）エネルギー消費効率の根拠（要件ア）'!$P$51","v":"別添4_4_12"},{"$f":"'（別添４）エネルギー消費効率の根拠（要件ア）'!$P$52","v":"別添4_4_13"},{"$f":"'（別添４）エネルギー消費効率の根拠（要件ア）'!$P$53","v":"別添4_4_14"},{"$f":"'（別添４）エネルギー消費効率の根拠（要件ア）'!$P$54","v":"別添4_4_15"},{"$f":"'（別添４）エネルギー消費効率の根拠（要件ア）'!$P$55","v":"別添4_4_16"},{"$f":"'（別添４）エネルギー消費効率の根拠（要件ア）'!$P$56","v":"別添4_4_17"},{"$f":"'（別添４）エネルギー消費効率の根拠（要件ア）'!$P$57","v":"別添4_4_18"},{"$f":"'（別添４）エネルギー消費効率の根拠（要件ア）'!$P$58","v":"別添4_4_19"},{"$f":"'（別添４）エネルギー消費効率の根拠（要件ア）'!$P$59","v":"別添4_4_20"},{"$f":"'（別添４）エネルギー消費効率の根拠（要件ア）'!$P$60","v":"別添4_4_21"},{"$f":"'（別添４）エネルギー消費効率の根拠（要件ア）'!$P$61","v":"別添4_4_22"},{"$f":"'（別添４）エネルギー消費効率の根拠（要件ア）'!$P$62","v":"別添4_4_23"},{"$f":"'（別添４）エネルギー消費効率の根拠（要件ア）'!$P$63","v":"別添4_4_24"},{"$f":"'（別添４）エネルギー消費効率の根拠（要件ア）'!$T$40","v":"別添4_5_1"},{"$f":"'（別添４）エネルギー消費効率の根拠（要件ア）'!$T$41","v":"別添4_5_2"},{"$f":"'（別添４）エネルギー消費効率の根拠（要件ア）'!$T$42","v":"別添4_5_3"},{"$f":"'（別添４）エネルギー消費効率の根拠（要件ア）'!$T$43","v":"別添4_5_4"},{"$f":"'（別添４）エネルギー消費効率の根拠（要件ア）'!$T$44","v":"別添4_5_5"},{"$f":"'（別添４）エネルギー消費効率の根拠（要件ア）'!$T$45","v":"別添4_5_6"},{"$f":"'（別添４）エネルギー消費効率の根拠（要件ア）'!$T$46","v":"別添4_5_7"},{"$f":"'（別添４）エネルギー消費効率の根拠（要件ア）'!$T$47","v":"別添4_5_8"},{"$f":"'（別添４）エネルギー消費効率の根拠（要件ア）'!$T$48","v":"別添4_5_9"},{"$f":"'（別添４）エネルギー消費効率の根拠（要件ア）'!$T$49","v":"別添4_5_10"},{"$f":"'（別添４）エネルギー消費効率の根拠（要件ア）'!$T$50","v":"別添4_5_11"},{"$f":"'（別添４）エネルギー消費効率の根拠（要件ア）'!$T$51","v":"別添4_5_12"},{"$f":"'（別添４）エネルギー消費効率の根拠（要件ア）'!$T$52","v":"別添4_5_13"},{"$f":"'（別添４）エネルギー消費効率の根拠（要件ア）'!$T$53","v":"別添4_5_14"},{"$f":"'（別添４）エネルギー消費効率の根拠（要件ア）'!$T$54","v":"別添4_5_15"},{"$f":"'（別添４）エネルギー消費効率の根拠（要件ア）'!$T$55","v":"別添4_5_16"},{"$f":"'（別添４）エネルギー消費効率の根拠（要件ア）'!$T$56","v":"別添4_5_17"},{"$f":"'（別添４）エネルギー消費効率の根拠（要件ア）'!$T$57","v":"別添4_5_18"},{"$f":"'（別添４）エネルギー消費効率の根拠（要件ア）'!$T$58","v":"別添4_5_19"},{"$f":"'（別添４）エネルギー消費効率の根拠（要件ア）'!$T$59","v":"別添4_5_20"},{"$f":"'（別添４）エネルギー消費効率の根拠（要件ア）'!$T$60","v":"別添4_5_21"},{"$f":"'（別添４）エネルギー消費効率の根拠（要件ア）'!$T$61","v":"別添4_5_22"},{"$f":"'（別添４）エネルギー消費効率の根拠（要件ア）'!$T$62","v":"別添4_5_23"},{"$f":"'（別添４）エネルギー消費効率の根拠（要件ア）'!$T$63","v":"別添4_5_24"},{"$f":"'（別添４）エネルギー消費効率の根拠（要件ア）'!$X$40","v":"別添4_6_1"},{"$f":"'（別添４）エネルギー消費効率の根拠（要件ア）'!$X$41","v":"別添4_6_2"},{"$f":"'（別添４）エネルギー消費効率の根拠（要件ア）'!$X$42","v":"別添4_6_3"},{"$f":"'（別添４）エネルギー消費効率の根拠（要件ア）'!$X$43","v":"別添4_6_4"},{"$f":"'（別添４）エネルギー消費効率の根拠（要件ア）'!$X$44","v":"別添4_6_5"},{"$f":"'（別添４）エネルギー消費効率の根拠（要件ア）'!$X$45","v":"別添4_6_6"},{"$f":"'（別添４）エネルギー消費効率の根拠（要件ア）'!$X$46","v":"別添4_6_7"},{"$f":"'（別添４）エネルギー消費効率の根拠（要件ア）'!$X$47","v":"別添4_6_8"},{"$f":"'（別添４）エネルギー消費効率の根拠（要件ア）'!$X$48","v":"別添4_6_9"},{"$f":"'（別添４）エネルギー消費効率の根拠（要件ア）'!$X$49","v":"別添4_6_10"},{"$f":"'（別添４）エネルギー消費効率の根拠（要件ア）'!$X$50","v":"別添4_6_11"},{"$f":"'（別添４）エネルギー消費効率の根拠（要件ア）'!$X$51","v":"別添4_6_12"},{"$f":"'（別添４）エネルギー消費効率の根拠（要件ア）'!$X$52","v":"別添4_6_13"},{"$f":"'（別添４）エネルギー消費効率の根拠（要件ア）'!$X$53","v":"別添4_6_14"},{"$f":"'（別添４）エネルギー消費効率の根拠（要件ア）'!$X$54","v":"別添4_6_15"},{"$f":"'（別添４）エネルギー消費効率の根拠（要件ア）'!$X$55","v":"別添4_6_16"},{"$f":"'（別添４）エネルギー消費効率の根拠（要件ア）'!$X$56","v":"別添4_6_17"},{"$f":"'（別添４）エネルギー消費効率の根拠（要件ア）'!$X$57","v":"別添4_6_18"},{"$f":"'（別添４）エネルギー消費効率の根拠（要件ア）'!$X$58","v":"別添4_6_19"},{"$f":"'（別添４）エネルギー消費効率の根拠（要件ア）'!$X$59","v":"別添4_6_20"},{"$f":"'（別添４）エネルギー消費効率の根拠（要件ア）'!$X$60","v":"別添4_6_21"},{"$f":"'（別添４）エネルギー消費効率の根拠（要件ア）'!$X$61","v":"別添4_6_22"},{"$f":"'（別添４）エネルギー消費効率の根拠（要件ア）'!$X$62","v":"別添4_6_23"},{"$f":"'（別添４）エネルギー消費効率の根拠（要件ア）'!$X$63","v":"別添4_6_24"},{"$f":"'（別添４）エネルギー消費効率の根拠（要件ア）'!$AB$40","v":"別添4_7_1"},{"$f":"'（別添４）エネルギー消費効率の根拠（要件ア）'!$AB$41","v":"別添4_7_2"},{"$f":"'（別添４）エネルギー消費効率の根拠（要件ア）'!$AB$42","v":"別添4_7_3"},{"$f":"'（別添４）エネルギー消費効率の根拠（要件ア）'!$AB$43","v":"別添4_7_4"},{"$f":"'（別添４）エネルギー消費効率の根拠（要件ア）'!$AB$44","v":"別添4_7_5"},{"$f":"'（別添４）エネルギー消費効率の根拠（要件ア）'!$AB$45","v":"別添4_7_6"},{"$f":"'（別添４）エネルギー消費効率の根拠（要件ア）'!$AB$46","v":"別添4_7_7"},{"$f":"'（別添４）エネルギー消費効率の根拠（要件ア）'!$AB$47","v":"別添4_7_8"},{"$f":"'（別添４）エネルギー消費効率の根拠（要件ア）'!$AB$48","v":"別添4_7_9"},{"$f":"'（別添４）エネルギー消費効率の根拠（要件ア）'!$AB$49","v":"別添4_7_10"},{"$f":"'（別添４）エネルギー消費効率の根拠（要件ア）'!$AB$50","v":"別添4_7_11"},{"$f":"'（別添４）エネルギー消費効率の根拠（要件ア）'!$AB$51","v":"別添4_7_12"},{"$f":"'（別添４）エネルギー消費効率の根拠（要件ア）'!$AB$52","v":"別添4_7_13"},{"$f":"'（別添４）エネルギー消費効率の根拠（要件ア）'!$AB$53","v":"別添4_7_14"},{"$f":"'（別添４）エネルギー消費効率の根拠（要件ア）'!$AB$54","v":"別添4_7_15"},{"$f":"'（別添４）エネルギー消費効率の根拠（要件ア）'!$AB$55","v":"別添4_7_16"},{"$f":"'（別添４）エネルギー消費効率の根拠（要件ア）'!$AB$56","v":"別添4_7_17"},{"$f":"'（別添４）エネルギー消費効率の根拠（要件ア）'!$AB$57","v":"別添4_7_18"},{"$f":"'（別添４）エネルギー消費効率の根拠（要件ア）'!$AB$58","v":"別添4_7_19"},{"$f":"'（別添４）エネルギー消費効率の根拠（要件ア）'!$AB$59","v":"別添4_7_20"},{"$f":"'（別添４）エネルギー消費効率の根拠（要件ア）'!$AB$60","v":"別添4_7_21"},{"$f":"'（別添４）エネルギー消費効率の根拠（要件ア）'!$AB$61","v":"別添4_7_22"},{"$f":"'（別添４）エネルギー消費効率の根拠（要件ア）'!$AB$62","v":"別添4_7_23"},{"$f":"'（別添４）エネルギー消費効率の根拠（要件ア）'!$AB$63","v":"別添4_7_24"},{"$f":"'（別添４）エネルギー消費効率の根拠（要件ア）'!$AF$40","v":"別添4_8_1"},{"$f":"'（別添４）エネルギー消費効率の根拠（要件ア）'!$AF$41","v":"別添4_8_2"},{"$f":"'（別添４）エネルギー消費効率の根拠（要件ア）'!$AF$42","v":"別添4_8_3"},{"$f":"'（別添４）エネルギー消費効率の根拠（要件ア）'!$AF$43","v":"別添4_8_4"},{"$f":"'（別添４）エネルギー消費効率の根拠（要件ア）'!$AF$44","v":"別添4_8_5"},{"$f":"'（別添４）エネルギー消費効率の根拠（要件ア）'!$AF$45","v":"別添4_8_6"},{"$f":"'（別添４）エネルギー消費効率の根拠（要件ア）'!$AF$46","v":"別添4_8_7"},{"$f":"'（別添４）エネルギー消費効率の根拠（要件ア）'!$AF$47","v":"別添4_8_8"},{"$f":"'（別添４）エネルギー消費効率の根拠（要件ア）'!$AF$48","v":"別添4_8_9"},{"$f":"'（別添４）エネルギー消費効率の根拠（要件ア）'!$AF$49","v":"別添4_8_10"},{"$f":"'（別添４）エネルギー消費効率の根拠（要件ア）'!$AF$50","v":"別添4_8_11"},{"$f":"'（別添４）エネルギー消費効率の根拠（要件ア）'!$AF$51","v":"別添4_8_12"},{"$f":"'（別添４）エネルギー消費効率の根拠（要件ア）'!$AF$52","v":"別添4_8_13"},{"$f":"'（別添４）エネルギー消費効率の根拠（要件ア）'!$AF$53","v":"別添4_8_14"},{"$f":"'（別添４）エネルギー消費効率の根拠（要件ア）'!$AF$54","v":"別添4_8_15"},{"$f":"'（別添４）エネルギー消費効率の根拠（要件ア）'!$AF$55","v":"別添4_8_16"},{"$f":"'（別添４）エネルギー消費効率の根拠（要件ア）'!$AF$56","v":"別添4_8_17"},{"$f":"'（別添４）エネルギー消費効率の根拠（要件ア）'!$AF$57","v":"別添4_8_18"},{"$f":"'（別添４）エネルギー消費効率の根拠（要件ア）'!$AF$58","v":"別添4_8_19"},{"$f":"'（別添４）エネルギー消費効率の根拠（要件ア）'!$AF$59","v":"別添4_8_20"},{"$f":"'（別添４）エネルギー消費効率の根拠（要件ア）'!$AF$60","v":"別添4_8_21"},{"$f":"'（別添４）エネルギー消費効率の根拠（要件ア）'!$AF$61","v":"別添4_8_22"},{"$f":"'（別添４）エネルギー消費効率の根拠（要件ア）'!$AF$62","v":"別添4_8_23"},{"$f":"'（別添４）エネルギー消費効率の根拠（要件ア）'!$AF$63","v":"別添4_8_24"},{"$f":"'（別添４）エネルギー消費効率の根拠（要件ア）'!$AJ$40","v":"別添4_9_1"},{"$f":"'（別添４）エネルギー消費効率の根拠（要件ア）'!$AJ$41","v":"別添4_9_2"},{"$f":"'（別添４）エネルギー消費効率の根拠（要件ア）'!$AJ$42","v":"別添4_9_3"},{"$f":"'（別添４）エネルギー消費効率の根拠（要件ア）'!$AJ$43","v":"別添4_9_4"},{"$f":"'（別添４）エネルギー消費効率の根拠（要件ア）'!$AJ$44","v":"別添4_9_5"},{"$f":"'（別添４）エネルギー消費効率の根拠（要件ア）'!$AJ$45","v":"別添4_9_6"},{"$f":"'（別添４）エネルギー消費効率の根拠（要件ア）'!$AJ$46","v":"別添4_9_7"},{"$f":"'（別添４）エネルギー消費効率の根拠（要件ア）'!$AJ$47","v":"別添4_9_8"},{"$f":"'（別添４）エネルギー消費効率の根拠（要件ア）'!$AJ$48","v":"別添4_9_9"},{"$f":"'（別添４）エネルギー消費効率の根拠（要件ア）'!$AJ$49","v":"別添4_9_10"},{"$f":"'（別添４）エネルギー消費効率の根拠（要件ア）'!$AJ$50","v":"別添4_9_11"},{"$f":"'（別添４）エネルギー消費効率の根拠（要件ア）'!$AJ$51","v":"別添4_9_12"},{"$f":"'（別添４）エネルギー消費効率の根拠（要件ア）'!$AJ$52","v":"別添4_9_13"},{"$f":"'（別添４）エネルギー消費効率の根拠（要件ア）'!$AJ$53","v":"別添4_9_14"},{"$f":"'（別添４）エネルギー消費効率の根拠（要件ア）'!$AJ$54","v":"別添4_9_15"},{"$f":"'（別添４）エネルギー消費効率の根拠（要件ア）'!$AJ$55","v":"別添4_9_16"},{"$f":"'（別添４）エネルギー消費効率の根拠（要件ア）'!$AJ$56","v":"別添4_9_17"},{"$f":"'（別添４）エネルギー消費効率の根拠（要件ア）'!$AJ$57","v":"別添4_9_18"},{"$f":"'（別添４）エネルギー消費効率の根拠（要件ア）'!$AJ$58","v":"別添4_9_19"},{"$f":"'（別添４）エネルギー消費効率の根拠（要件ア）'!$AJ$59","v":"別添4_9_20"},{"$f":"'（別添４）エネルギー消費効率の根拠（要件ア）'!$AJ$60","v":"別添4_9_21"},{"$f":"'（別添４）エネルギー消費効率の根拠（要件ア）'!$AJ$61","v":"別添4_9_22"},{"$f":"'（別添４）エネルギー消費効率の根拠（要件ア）'!$AJ$62","v":"別添4_9_23"},{"$f":"'（別添４）エネルギー消費効率の根拠（要件ア）'!$AJ$63","v":"別添4_9_24"},{"$f":"'（別添４）エネルギー消費効率の根拠（要件ア）'!$AN$40","v":"別添4_10_1"},{"$f":"'（別添４）エネルギー消費効率の根拠（要件ア）'!$AN$41","v":"別添4_10_2"},{"$f":"'（別添４）エネルギー消費効率の根拠（要件ア）'!$AN$42","v":"別添4_10_3"},{"$f":"'（別添４）エネルギー消費効率の根拠（要件ア）'!$AN$43","v":"別添4_10_4"},{"$f":"'（別添４）エネルギー消費効率の根拠（要件ア）'!$AN$44","v":"別添4_10_5"},{"$f":"'（別添４）エネルギー消費効率の根拠（要件ア）'!$AN$45","v":"別添4_10_6"},{"$f":"'（別添４）エネルギー消費効率の根拠（要件ア）'!$AN$46","v":"別添4_10_7"},{"$f":"'（別添４）エネルギー消費効率の根拠（要件ア）'!$AN$47","v":"別添4_10_8"},{"$f":"'（別添４）エネルギー消費効率の根拠（要件ア）'!$AN$48","v":"別添4_10_9"},{"$f":"'（別添４）エネルギー消費効率の根拠（要件ア）'!$AN$49","v":"別添4_10_10"},{"$f":"'（別添４）エネルギー消費効率の根拠（要件ア）'!$AN$50","v":"別添4_10_11"},{"$f":"'（別添４）エネルギー消費効率の根拠（要件ア）'!$AN$51","v":"別添4_10_12"},{"$f":"'（別添４）エネルギー消費効率の根拠（要件ア）'!$AN$52","v":"別添4_10_13"},{"$f":"'（別添４）エネルギー消費効率の根拠（要件ア）'!$AN$53","v":"別添4_10_14"},{"$f":"'（別添４）エネルギー消費効率の根拠（要件ア）'!$AN$54","v":"別添4_10_15"},{"$f":"'（別添４）エネルギー消費効率の根拠（要件ア）'!$AN$55","v":"別添4_10_16"},{"$f":"'（別添４）エネルギー消費効率の根拠（要件ア）'!$AN$56","v":"別添4_10_17"},{"$f":"'（別添４）エネルギー消費効率の根拠（要件ア）'!$AN$57","v":"別添4_10_18"},{"$f":"'（別添４）エネルギー消費効率の根拠（要件ア）'!$AN$58","v":"別添4_10_19"},{"$f":"'（別添４）エネルギー消費効率の根拠（要件ア）'!$AN$59","v":"別添4_10_20"},{"$f":"'（別添４）エネルギー消費効率の根拠（要件ア）'!$AN$60","v":"別添4_10_21"},{"$f":"'（別添４）エネルギー消費効率の根拠（要件ア）'!$AN$61","v":"別添4_10_22"},{"$f":"'（別添４）エネルギー消費効率の根拠（要件ア）'!$AN$62","v":"別添4_10_23"},{"$f":"'（別添４）エネルギー消費効率の根拠（要件ア）'!$AN$63","v":"別添4_10_24"},{"$f":"'（別添４）エネルギー消費効率の根拠（要件ア）'!$AR$40","v":"別添4_11_1"},{"$f":"'（別添４）エネルギー消費効率の根拠（要件ア）'!$AR$41","v":"別添4_11_2"},{"$f":"'（別添４）エネルギー消費効率の根拠（要件ア）'!$AR$42","v":"別添4_11_3"},{"$f":"'（別添４）エネルギー消費効率の根拠（要件ア）'!$AR$43","v":"別添4_11_4"},{"$f":"'（別添４）エネルギー消費効率の根拠（要件ア）'!$AR$44","v":"別添4_11_5"},{"$f":"'（別添４）エネルギー消費効率の根拠（要件ア）'!$AR$45","v":"別添4_11_6"},{"$f":"'（別添４）エネルギー消費効率の根拠（要件ア）'!$AR$46","v":"別添4_11_7"},{"$f":"'（別添４）エネルギー消費効率の根拠（要件ア）'!$AR$47","v":"別添4_11_8"},{"$f":"'（別添４）エネルギー消費効率の根拠（要件ア）'!$AR$48","v":"別添4_11_9"},{"$f":"'（別添４）エネルギー消費効率の根拠（要件ア）'!$AR$49","v":"別添4_11_10"},{"$f":"'（別添４）エネルギー消費効率の根拠（要件ア）'!$AR$50","v":"別添4_11_11"},{"$f":"'（別添４）エネルギー消費効率の根拠（要件ア）'!$AR$51","v":"別添4_11_12"},{"$f":"'（別添４）エネルギー消費効率の根拠（要件ア）'!$AR$52","v":"別添4_11_13"},{"$f":"'（別添４）エネルギー消費効率の根拠（要件ア）'!$AR$53","v":"別添4_11_14"},{"$f":"'（別添４）エネルギー消費効率の根拠（要件ア）'!$AR$54","v":"別添4_11_15"},{"$f":"'（別添４）エネルギー消費効率の根拠（要件ア）'!$AR$55","v":"別添4_11_16"},{"$f":"'（別添４）エネルギー消費効率の根拠（要件ア）'!$AR$56","v":"別添4_11_17"},{"$f":"'（別添４）エネルギー消費効率の根拠（要件ア）'!$AR$57","v":"別添4_11_18"},{"$f":"'（別添４）エネルギー消費効率の根拠（要件ア）'!$AR$58","v":"別添4_11_19"},{"$f":"'（別添４）エネルギー消費効率の根拠（要件ア）'!$AR$59","v":"別添4_11_20"},{"$f":"'（別添４）エネルギー消費効率の根拠（要件ア）'!$AR$60","v":"別添4_11_21"},{"$f":"'（別添４）エネルギー消費効率の根拠（要件ア）'!$AR$61","v":"別添4_11_22"},{"$f":"'（別添４）エネルギー消費効率の根拠（要件ア）'!$AR$62","v":"別添4_11_23"},{"$f":"'（別添４）エネルギー消費効率の根拠（要件ア）'!$AR$63","v":"別添4_11_24"},{"$f":"'（別添４）エネルギー消費効率の根拠（要件ア）'!$AV$40","v":"別添4_12_1"},{"$f":"'（別添４）エネルギー消費効率の根拠（要件ア）'!$AV$41","v":"別添4_12_2"},{"$f":"'（別添４）エネルギー消費効率の根拠（要件ア）'!$AV$42","v":"別添4_12_3"},{"$f":"'（別添４）エネルギー消費効率の根拠（要件ア）'!$AV$43","v":"別添4_12_4"},{"$f":"'（別添４）エネルギー消費効率の根拠（要件ア）'!$AV$44","v":"別添4_12_5"},{"$f":"'（別添４）エネルギー消費効率の根拠（要件ア）'!$AV$45","v":"別添4_12_6"},{"$f":"'（別添４）エネルギー消費効率の根拠（要件ア）'!$AV$46","v":"別添4_12_7"},{"$f":"'（別添４）エネルギー消費効率の根拠（要件ア）'!$AV$47","v":"別添4_12_8"},{"$f":"'（別添４）エネルギー消費効率の根拠（要件ア）'!$AV$48","v":"別添4_12_9"},{"$f":"'（別添４）エネルギー消費効率の根拠（要件ア）'!$AV$49","v":"別添4_12_10"},{"$f":"'（別添４）エネルギー消費効率の根拠（要件ア）'!$AV$50","v":"別添4_12_11"},{"$f":"'（別添４）エネルギー消費効率の根拠（要件ア）'!$AV$51","v":"別添4_12_12"},{"$f":"'（別添４）エネルギー消費効率の根拠（要件ア）'!$AV$52","v":"別添4_12_13"},{"$f":"'（別添４）エネルギー消費効率の根拠（要件ア）'!$AV$53","v":"別添4_12_14"},{"$f":"'（別添４）エネルギー消費効率の根拠（要件ア）'!$AV$54","v":"別添4_12_15"},{"$f":"'（別添４）エネルギー消費効率の根拠（要件ア）'!$AV$55","v":"別添4_12_16"},{"$f":"'（別添４）エネルギー消費効率の根拠（要件ア）'!$AV$56","v":"別添4_12_17"},{"$f":"'（別添４）エネルギー消費効率の根拠（要件ア）'!$AV$57","v":"別添4_12_18"},{"$f":"'（別添４）エネルギー消費効率の根拠（要件ア）'!$AV$58","v":"別添4_12_19"},{"$f":"'（別添４）エネルギー消費効率の根拠（要件ア）'!$AV$59","v":"別添4_12_20"},{"$f":"'（別添４）エネルギー消費効率の根拠（要件ア）'!$AV$60","v":"別添4_12_21"},{"$f":"'（別添４）エネルギー消費効率の根拠（要件ア）'!$AV$61","v":"別添4_12_22"},{"$f":"'（別添４）エネルギー消費効率の根拠（要件ア）'!$AV$62","v":"別添4_12_23"},{"$f":"'（別添４）エネルギー消費効率の根拠（要件ア）'!$AV$63","v":"別添4_12_24"},{"$f":"'（別添４）エネルギー消費効率の根拠（要件ア）'!$AZ$40","v":"別添4_13_1"},{"$f":"'（別添４）エネルギー消費効率の根拠（要件ア）'!$AZ$41","v":"別添4_13_2"},{"$f":"'（別添４）エネルギー消費効率の根拠（要件ア）'!$AZ$42","v":"別添4_13_3"},{"$f":"'（別添４）エネルギー消費効率の根拠（要件ア）'!$AZ$43","v":"別添4_13_4"},{"$f":"'（別添４）エネルギー消費効率の根拠（要件ア）'!$AZ$44","v":"別添4_13_5"},{"$f":"'（別添４）エネルギー消費効率の根拠（要件ア）'!$AZ$45","v":"別添4_13_6"},{"$f":"'（別添４）エネルギー消費効率の根拠（要件ア）'!$AZ$46","v":"別添4_13_7"},{"$f":"'（別添４）エネルギー消費効率の根拠（要件ア）'!$AZ$47","v":"別添4_13_8"},{"$f":"'（別添４）エネルギー消費効率の根拠（要件ア）'!$AZ$48","v":"別添4_13_9"},{"$f":"'（別添４）エネルギー消費効率の根拠（要件ア）'!$AZ$49","v":"別添4_13_10"},{"$f":"'（別添４）エネルギー消費効率の根拠（要件ア）'!$AZ$50","v":"別添4_13_11"},{"$f":"'（別添４）エネルギー消費効率の根拠（要件ア）'!$AZ$51","v":"別添4_13_12"},{"$f":"'（別添４）エネルギー消費効率の根拠（要件ア）'!$AZ$52","v":"別添4_13_13"},{"$f":"'（別添４）エネルギー消費効率の根拠（要件ア）'!$AZ$53","v":"別添4_13_14"},{"$f":"'（別添４）エネルギー消費効率の根拠（要件ア）'!$AZ$54","v":"別添4_13_15"},{"$f":"'（別添４）エネルギー消費効率の根拠（要件ア）'!$AZ$55","v":"別添4_13_16"},{"$f":"'（別添４）エネルギー消費効率の根拠（要件ア）'!$AZ$56","v":"別添4_13_17"},{"$f":"'（別添４）エネルギー消費効率の根拠（要件ア）'!$AZ$57","v":"別添4_13_18"},{"$f":"'（別添４）エネルギー消費効率の根拠（要件ア）'!$AZ$58","v":"別添4_13_19"},{"$f":"'（別添４）エネルギー消費効率の根拠（要件ア）'!$AZ$59","v":"別添4_13_20"},{"$f":"'（別添４）エネルギー消費効率の根拠（要件ア）'!$AZ$60","v":"別添4_13_21"},{"$f":"'（別添４）エネルギー消費効率の根拠（要件ア）'!$AZ$61","v":"別添4_13_22"},{"$f":"'（別添４）エネルギー消費効率の根拠（要件ア）'!$AZ$62","v":"別添4_13_23"},{"$f":"'（別添４）エネルギー消費効率の根拠（要件ア）'!$AZ$63","v":"別添4_13_24"},{"$f":"'（別添４）エネルギー消費効率の根拠（要件ア）'!$BD$40","v":"別添4_14_1"},{"$f":"'（別添４）エネルギー消費効率の根拠（要件ア）'!$BD$41","v":"別添4_14_2"},{"$f":"'（別添４）エネルギー消費効率の根拠（要件ア）'!$BD$42","v":"別添4_14_3"},{"$f":"'（別添４）エネルギー消費効率の根拠（要件ア）'!$BD$43","v":"別添4_14_4"},{"$f":"'（別添４）エネルギー消費効率の根拠（要件ア）'!$BD$44","v":"別添4_14_5"},{"$f":"'（別添４）エネルギー消費効率の根拠（要件ア）'!$BD$45","v":"別添4_14_6"},{"$f":"'（別添４）エネルギー消費効率の根拠（要件ア）'!$BD$46","v":"別添4_14_7"},{"$f":"'（別添４）エネルギー消費効率の根拠（要件ア）'!$BD$47","v":"別添4_14_8"},{"$f":"'（別添４）エネルギー消費効率の根拠（要件ア）'!$BD$48","v":"別添4_14_9"},{"$f":"'（別添４）エネルギー消費効率の根拠（要件ア）'!$BD$49","v":"別添4_14_10"},{"$f":"'（別添４）エネルギー消費効率の根拠（要件ア）'!$BD$50","v":"別添4_14_11"},{"$f":"'（別添４）エネルギー消費効率の根拠（要件ア）'!$BD$51","v":"別添4_14_12"},{"$f":"'（別添４）エネルギー消費効率の根拠（要件ア）'!$BD$52","v":"別添4_14_13"},{"$f":"'（別添４）エネルギー消費効率の根拠（要件ア）'!$BD$53","v":"別添4_14_14"},{"$f":"'（別添４）エネルギー消費効率の根拠（要件ア）'!$BD$54","v":"別添4_14_15"},{"$f":"'（別添４）エネルギー消費効率の根拠（要件ア）'!$BD$55","v":"別添4_14_16"},{"$f":"'（別添４）エネルギー消費効率の根拠（要件ア）'!$BD$56","v":"別添4_14_17"},{"$f":"'（別添４）エネルギー消費効率の根拠（要件ア）'!$BD$57","v":"別添4_14_18"},{"$f":"'（別添４）エネルギー消費効率の根拠（要件ア）'!$BD$58","v":"別添4_14_19"},{"$f":"'（別添４）エネルギー消費効率の根拠（要件ア）'!$BD$59","v":"別添4_14_20"},{"$f":"'（別添４）エネルギー消費効率の根拠（要件ア）'!$BD$60","v":"別添4_14_21"},{"$f":"'（別添４）エネルギー消費効率の根拠（要件ア）'!$BD$61","v":"別添4_14_22"},{"$f":"'（別添４）エネルギー消費効率の根拠（要件ア）'!$BD$62","v":"別添4_14_23"},{"$f":"'（別添４）エネルギー消費効率の根拠（要件ア）'!$BD$63","v":"別添4_14_24"},{"$f":"'（別添４）エネルギー消費効率の根拠（要件ア）'!$BH$40","v":"別添4_15_1"},{"$f":"'（別添４）エネルギー消費効率の根拠（要件ア）'!$BH$41","v":"別添4_15_2"},{"$f":"'（別添４）エネルギー消費効率の根拠（要件ア）'!$BH$42","v":"別添4_15_3"},{"$f":"'（別添４）エネルギー消費効率の根拠（要件ア）'!$BH$43","v":"別添4_15_4"},{"$f":"'（別添４）エネルギー消費効率の根拠（要件ア）'!$BH$44","v":"別添4_15_5"},{"$f":"'（別添４）エネルギー消費効率の根拠（要件ア）'!$BH$45","v":"別添4_15_6"},{"$f":"'（別添４）エネルギー消費効率の根拠（要件ア）'!$BH$46","v":"別添4_15_7"},{"$f":"'（別添４）エネルギー消費効率の根拠（要件ア）'!$BH$47","v":"別添4_15_8"},{"$f":"'（別添４）エネルギー消費効率の根拠（要件ア）'!$BH$48","v":"別添4_15_9"},{"$f":"'（別添４）エネルギー消費効率の根拠（要件ア）'!$BH$49","v":"別添4_15_10"},{"$f":"'（別添４）エネルギー消費効率の根拠（要件ア）'!$BH$50","v":"別添4_15_11"},{"$f":"'（別添４）エネルギー消費効率の根拠（要件ア）'!$BH$51","v":"別添4_15_12"},{"$f":"'（別添４）エネルギー消費効率の根拠（要件ア）'!$BH$52","v":"別添4_15_13"},{"$f":"'（別添４）エネルギー消費効率の根拠（要件ア）'!$BH$53","v":"別添4_15_14"},{"$f":"'（別添４）エネルギー消費効率の根拠（要件ア）'!$BH$54","v":"別添4_15_15"},{"$f":"'（別添４）エネルギー消費効率の根拠（要件ア）'!$BH$55","v":"別添4_15_16"},{"$f":"'（別添４）エネルギー消費効率の根拠（要件ア）'!$BH$56","v":"別添4_15_17"},{"$f":"'（別添４）エネルギー消費効率の根拠（要件ア）'!$BH$57","v":"別添4_15_18"},{"$f":"'（別添４）エネルギー消費効率の根拠（要件ア）'!$BH$58","v":"別添4_15_19"},{"$f":"'（別添４）エネルギー消費効率の根拠（要件ア）'!$BH$59","v":"別添4_15_20"},{"$f":"'（別添４）エネルギー消費効率の根拠（要件ア）'!$BH$60","v":"別添4_15_21"},{"$f":"'（別添４）エネルギー消費効率の根拠（要件ア）'!$BH$61","v":"別添4_15_22"},{"$f":"'（別添４）エネルギー消費効率の根拠（要件ア）'!$BH$62","v":"別添4_15_23"},{"$f":"'（別添４）エネルギー消費効率の根拠（要件ア）'!$BH$63","v":"別添4_15_24"},{"$f":"'（別添４）エネルギー消費効率の根拠（要件ア）'!$BL$40","v":"別添4_16_1"},{"$f":"'（別添４）エネルギー消費効率の根拠（要件ア）'!$BL$41","v":"別添4_16_2"},{"$f":"'（別添４）エネルギー消費効率の根拠（要件ア）'!$BL$42","v":"別添4_16_3"},{"$f":"'（別添４）エネルギー消費効率の根拠（要件ア）'!$BL$43","v":"別添4_16_4"},{"$f":"'（別添４）エネルギー消費効率の根拠（要件ア）'!$BL$44","v":"別添4_16_5"},{"$f":"'（別添４）エネルギー消費効率の根拠（要件ア）'!$BL$45","v":"別添4_16_6"},{"$f":"'（別添４）エネルギー消費効率の根拠（要件ア）'!$BL$46","v":"別添4_16_7"},{"$f":"'（別添４）エネルギー消費効率の根拠（要件ア）'!$BL$47","v":"別添4_16_8"},{"$f":"'（別添４）エネルギー消費効率の根拠（要件ア）'!$BL$48","v":"別添4_16_9"},{"$f":"'（別添４）エネルギー消費効率の根拠（要件ア）'!$BL$49","v":"別添4_16_10"},{"$f":"'（別添４）エネルギー消費効率の根拠（要件ア）'!$BL$50","v":"別添4_16_11"},{"$f":"'（別添４）エネルギー消費効率の根拠（要件ア）'!$BL$51","v":"別添4_16_12"},{"$f":"'（別添４）エネルギー消費効率の根拠（要件ア）'!$BL$52","v":"別添4_16_13"},{"$f":"'（別添４）エネルギー消費効率の根拠（要件ア）'!$BL$53","v":"別添4_16_14"},{"$f":"'（別添４）エネルギー消費効率の根拠（要件ア）'!$BL$54","v":"別添4_16_15"},{"$f":"'（別添４）エネルギー消費効率の根拠（要件ア）'!$BL$55","v":"別添4_16_16"},{"$f":"'（別添４）エネルギー消費効率の根拠（要件ア）'!$BL$56","v":"別添4_16_17"},{"$f":"'（別添４）エネルギー消費効率の根拠（要件ア）'!$BL$57","v":"別添4_16_18"},{"$f":"'（別添４）エネルギー消費効率の根拠（要件ア）'!$BL$58","v":"別添4_16_19"},{"$f":"'（別添４）エネルギー消費効率の根拠（要件ア）'!$BL$59","v":"別添4_16_20"},{"$f":"'（別添４）エネルギー消費効率の根拠（要件ア）'!$BL$60","v":"別添4_16_21"},{"$f":"'（別添４）エネルギー消費効率の根拠（要件ア）'!$BL$61","v":"別添4_16_22"},{"$f":"'（別添４）エネルギー消費効率の根拠（要件ア）'!$BL$62","v":"別添4_16_23"},{"$f":"'（別添４）エネルギー消費効率の根拠（要件ア）'!$BL$63","v":"別添4_16_24"},{"$f":"'（別添４）エネルギー消費効率の根拠（要件ア）'!$BP$40","v":"別添4_17_1"},{"$f":"'（別添４）エネルギー消費効率の根拠（要件ア）'!$BP$41","v":"別添4_17_2"},{"$f":"'（別添４）エネルギー消費効率の根拠（要件ア）'!$BP$42","v":"別添4_17_3"},{"$f":"'（別添４）エネルギー消費効率の根拠（要件ア）'!$BP$43","v":"別添4_17_4"},{"$f":"'（別添４）エネルギー消費効率の根拠（要件ア）'!$BP$44","v":"別添4_17_5"},{"$f":"'（別添４）エネルギー消費効率の根拠（要件ア）'!$BP$45","v":"別添4_17_6"},{"$f":"'（別添４）エネルギー消費効率の根拠（要件ア）'!$BP$46","v":"別添4_17_7"},{"$f":"'（別添４）エネルギー消費効率の根拠（要件ア）'!$BP$47","v":"別添4_17_8"},{"$f":"'（別添４）エネルギー消費効率の根拠（要件ア）'!$BP$48","v":"別添4_17_9"},{"$f":"'（別添４）エネルギー消費効率の根拠（要件ア）'!$BP$49","v":"別添4_17_10"},{"$f":"'（別添４）エネルギー消費効率の根拠（要件ア）'!$BP$50","v":"別添4_17_11"},{"$f":"'（別添４）エネルギー消費効率の根拠（要件ア）'!$BP$51","v":"別添4_17_12"},{"$f":"'（別添４）エネルギー消費効率の根拠（要件ア）'!$BP$52","v":"別添4_17_13"},{"$f":"'（別添４）エネルギー消費効率の根拠（要件ア）'!$BP$53","v":"別添4_17_14"},{"$f":"'（別添４）エネルギー消費効率の根拠（要件ア）'!$BP$54","v":"別添4_17_15"},{"$f":"'（別添４）エネルギー消費効率の根拠（要件ア）'!$BP$55","v":"別添4_17_16"},{"$f":"'（別添４）エネルギー消費効率の根拠（要件ア）'!$BP$56","v":"別添4_17_17"},{"$f":"'（別添４）エネルギー消費効率の根拠（要件ア）'!$BP$57","v":"別添4_17_18"},{"$f":"'（別添４）エネルギー消費効率の根拠（要件ア）'!$BP$58","v":"別添4_17_19"},{"$f":"'（別添４）エネルギー消費効率の根拠（要件ア）'!$BP$59","v":"別添4_17_20"},{"$f":"'（別添４）エネルギー消費効率の根拠（要件ア）'!$BP$60","v":"別添4_17_21"},{"$f":"'（別添４）エネルギー消費効率の根拠（要件ア）'!$BP$61","v":"別添4_17_22"},{"$f":"'（別添４）エネルギー消費効率の根拠（要件ア）'!$BP$62","v":"別添4_17_23"},{"$f":"'（別添４）エネルギー消費効率の根拠（要件ア）'!$BP$63","v":"別添4_17_24"},{"$f":"'（別添４）エネルギー消費効率の根拠（要件ア）'!$BT$40","v":"別添4_18_1"},{"$f":"'（別添４）エネルギー消費効率の根拠（要件ア）'!$BT$41","v":"別添4_18_2"},{"$f":"'（別添４）エネルギー消費効率の根拠（要件ア）'!$BT$42","v":"別添4_18_3"},{"$f":"'（別添４）エネルギー消費効率の根拠（要件ア）'!$BT$43","v":"別添4_18_4"},{"$f":"'（別添４）エネルギー消費効率の根拠（要件ア）'!$BT$44","v":"別添4_18_5"},{"$f":"'（別添４）エネルギー消費効率の根拠（要件ア）'!$BT$45","v":"別添4_18_6"},{"$f":"'（別添４）エネルギー消費効率の根拠（要件ア）'!$BT$46","v":"別添4_18_7"},{"$f":"'（別添４）エネルギー消費効率の根拠（要件ア）'!$BT$47","v":"別添4_18_8"},{"$f":"'（別添４）エネルギー消費効率の根拠（要件ア）'!$BT$48","v":"別添4_18_9"},{"$f":"'（別添４）エネルギー消費効率の根拠（要件ア）'!$BT$49","v":"別添4_18_10"},{"$f":"'（別添４）エネルギー消費効率の根拠（要件ア）'!$BT$50","v":"別添4_18_11"},{"$f":"'（別添４）エネルギー消費効率の根拠（要件ア）'!$BT$51","v":"別添4_18_12"},{"$f":"'（別添４）エネルギー消費効率の根拠（要件ア）'!$BT$52","v":"別添4_18_13"},{"$f":"'（別添４）エネルギー消費効率の根拠（要件ア）'!$BT$53","v":"別添4_18_14"},{"$f":"'（別添４）エネルギー消費効率の根拠（要件ア）'!$BT$54","v":"別添4_18_15"},{"$f":"'（別添４）エネルギー消費効率の根拠（要件ア）'!$BT$55","v":"別添4_18_16"},{"$f":"'（別添４）エネルギー消費効率の根拠（要件ア）'!$BT$56","v":"別添4_18_17"},{"$f":"'（別添４）エネルギー消費効率の根拠（要件ア）'!$BT$57","v":"別添4_18_18"},{"$f":"'（別添４）エネルギー消費効率の根拠（要件ア）'!$BT$58","v":"別添4_18_19"},{"$f":"'（別添４）エネルギー消費効率の根拠（要件ア）'!$BT$59","v":"別添4_18_20"},{"$f":"'（別添４）エネルギー消費効率の根拠（要件ア）'!$BT$60","v":"別添4_18_21"},{"$f":"'（別添４）エネルギー消費効率の根拠（要件ア）'!$BT$61","v":"別添4_18_22"},{"$f":"'（別添４）エネルギー消費効率の根拠（要件ア）'!$BT$62","v":"別添4_18_23"},{"$f":"'（別添４）エネルギー消費効率の根拠（要件ア）'!$BT$63","v":"別添4_18_24"},{"$f":"'（別添４）エネルギー消費効率の根拠（要件ア）'!$BX$40","v":"別添4_19_1"},{"$f":"'（別添４）エネルギー消費効率の根拠（要件ア）'!$BX$41","v":"別添4_19_2"},{"$f":"'（別添４）エネルギー消費効率の根拠（要件ア）'!$BX$42","v":"別添4_19_3"},{"$f":"'（別添４）エネルギー消費効率の根拠（要件ア）'!$BX$43","v":"別添4_19_4"},{"$f":"'（別添４）エネルギー消費効率の根拠（要件ア）'!$BX$44","v":"別添4_19_5"},{"$f":"'（別添４）エネルギー消費効率の根拠（要件ア）'!$BX$45","v":"別添4_19_6"},{"$f":"'（別添４）エネルギー消費効率の根拠（要件ア）'!$BX$46","v":"別添4_19_7"},{"$f":"'（別添４）エネルギー消費効率の根拠（要件ア）'!$BX$47","v":"別添4_19_8"},{"$f":"'（別添４）エネルギー消費効率の根拠（要件ア）'!$BX$48","v":"別添4_19_9"},{"$f":"'（別添４）エネルギー消費効率の根拠（要件ア）'!$BX$49","v":"別添4_19_10"},{"$f":"'（別添４）エネルギー消費効率の根拠（要件ア）'!$BX$50","v":"別添4_19_11"},{"$f":"'（別添４）エネルギー消費効率の根拠（要件ア）'!$BX$51","v":"別添4_19_12"},{"$f":"'（別添４）エネルギー消費効率の根拠（要件ア）'!$BX$52","v":"別添4_19_13"},{"$f":"'（別添４）エネルギー消費効率の根拠（要件ア）'!$BX$53","v":"別添4_19_14"},{"$f":"'（別添４）エネルギー消費効率の根拠（要件ア）'!$BX$54","v":"別添4_19_15"},{"$f":"'（別添４）エネルギー消費効率の根拠（要件ア）'!$BX$55","v":"別添4_19_16"},{"$f":"'（別添４）エネルギー消費効率の根拠（要件ア）'!$BX$56","v":"別添4_19_17"},{"$f":"'（別添４）エネルギー消費効率の根拠（要件ア）'!$BX$57","v":"別添4_19_18"},{"$f":"'（別添４）エネルギー消費効率の根拠（要件ア）'!$BX$58","v":"別添4_19_19"},{"$f":"'（別添４）エネルギー消費効率の根拠（要件ア）'!$BX$59","v":"別添4_19_20"},{"$f":"'（別添４）エネルギー消費効率の根拠（要件ア）'!$BX$60","v":"別添4_19_21"},{"$f":"'（別添４）エネルギー消費効率の根拠（要件ア）'!$BX$61","v":"別添4_19_22"},{"$f":"'（別添４）エネルギー消費効率の根拠（要件ア）'!$BX$62","v":"別添4_19_23"},{"$f":"'（別添４）エネルギー消費効率の根拠（要件ア）'!$BX$63","v":"別添4_19_24"},{"$f":"'（別添４）エネルギー消費効率の根拠（要件ア）'!$CB$40","v":"別添4_20_1"},{"$f":"'（別添４）エネルギー消費効率の根拠（要件ア）'!$CB$41","v":"別添4_20_2"},{"$f":"'（別添４）エネルギー消費効率の根拠（要件ア）'!$CB$42","v":"別添4_20_3"},{"$f":"'（別添４）エネルギー消費効率の根拠（要件ア）'!$CB$43","v":"別添4_20_4"},{"$f":"'（別添４）エネルギー消費効率の根拠（要件ア）'!$CB$44","v":"別添4_20_5"},{"$f":"'（別添４）エネルギー消費効率の根拠（要件ア）'!$CB$45","v":"別添4_20_6"},{"$f":"'（別添４）エネルギー消費効率の根拠（要件ア）'!$CB$46","v":"別添4_20_7"},{"$f":"'（別添４）エネルギー消費効率の根拠（要件ア）'!$CB$47","v":"別添4_20_8"},{"$f":"'（別添４）エネルギー消費効率の根拠（要件ア）'!$CB$48","v":"別添4_20_9"},{"$f":"'（別添４）エネルギー消費効率の根拠（要件ア）'!$CB$49","v":"別添4_20_10"},{"$f":"'（別添４）エネルギー消費効率の根拠（要件ア）'!$CB$50","v":"別添4_20_11"},{"$f":"'（別添４）エネルギー消費効率の根拠（要件ア）'!$CB$51","v":"別添4_20_12"},{"$f":"'（別添４）エネルギー消費効率の根拠（要件ア）'!$CB$52","v":"別添4_20_13"},{"$f":"'（別添４）エネルギー消費効率の根拠（要件ア）'!$CB$53","v":"別添4_20_14"},{"$f":"'（別添４）エネルギー消費効率の根拠（要件ア）'!$CB$54","v":"別添4_20_15"},{"$f":"'（別添４）エネルギー消費効率の根拠（要件ア）'!$CB$55","v":"別添4_20_16"},{"$f":"'（別添４）エネルギー消費効率の根拠（要件ア）'!$CB$56","v":"別添4_20_17"},{"$f":"'（別添４）エネルギー消費効率の根拠（要件ア）'!$CB$57","v":"別添4_20_18"},{"$f":"'（別添４）エネルギー消費効率の根拠（要件ア）'!$CB$58","v":"別添4_20_19"},{"$f":"'（別添４）エネルギー消費効率の根拠（要件ア）'!$CB$59","v":"別添4_20_20"},{"$f":"'（別添４）エネルギー消費効率の根拠（要件ア）'!$CB$60","v":"別添4_20_21"},{"$f":"'（別添４）エネルギー消費効率の根拠（要件ア）'!$CB$61","v":"別添4_20_22"},{"$f":"'（別添４）エネルギー消費効率の根拠（要件ア）'!$CB$62","v":"別添4_20_23"},{"$f":"'（別添４）エネルギー消費効率の根拠（要件ア）'!$CB$63","v":"別添4_20_24"},{"$f":"'（別添４）エネルギー消費効率の根拠（要件ア）'!$CF$40","v":"別添4_21_1"},{"$f":"'（別添４）エネルギー消費効率の根拠（要件ア）'!$CF$41","v":"別添4_21_2"},{"$f":"'（別添４）エネルギー消費効率の根拠（要件ア）'!$CF$42","v":"別添4_21_3"},{"$f":"'（別添４）エネルギー消費効率の根拠（要件ア）'!$CF$43","v":"別添4_21_4"},{"$f":"'（別添４）エネルギー消費効率の根拠（要件ア）'!$CF$44","v":"別添4_21_5"},{"$f":"'（別添４）エネルギー消費効率の根拠（要件ア）'!$CF$45","v":"別添4_21_6"},{"$f":"'（別添４）エネルギー消費効率の根拠（要件ア）'!$CF$46","v":"別添4_21_7"},{"$f":"'（別添４）エネルギー消費効率の根拠（要件ア）'!$CF$47","v":"別添4_21_8"},{"$f":"'（別添４）エネルギー消費効率の根拠（要件ア）'!$CF$48","v":"別添4_21_9"},{"$f":"'（別添４）エネルギー消費効率の根拠（要件ア）'!$CF$49","v":"別添4_21_10"},{"$f":"'（別添４）エネルギー消費効率の根拠（要件ア）'!$CF$50","v":"別添4_21_11"},{"$f":"'（別添４）エネルギー消費効率の根拠（要件ア）'!$CF$51","v":"別添4_21_12"},{"$f":"'（別添４）エネルギー消費効率の根拠（要件ア）'!$CF$52","v":"別添4_21_13"},{"$f":"'（別添４）エネルギー消費効率の根拠（要件ア）'!$CF$53","v":"別添4_21_14"},{"$f":"'（別添４）エネルギー消費効率の根拠（要件ア）'!$CF$54","v":"別添4_21_15"},{"$f":"'（別添４）エネルギー消費効率の根拠（要件ア）'!$CF$55","v":"別添4_21_16"},{"$f":"'（別添４）エネルギー消費効率の根拠（要件ア）'!$CF$56","v":"別添4_21_17"},{"$f":"'（別添４）エネルギー消費効率の根拠（要件ア）'!$CF$57","v":"別添4_21_18"},{"$f":"'（別添４）エネルギー消費効率の根拠（要件ア）'!$CF$58","v":"別添4_21_19"},{"$f":"'（別添４）エネルギー消費効率の根拠（要件ア）'!$CF$59","v":"別添4_21_20"},{"$f":"'（別添４）エネルギー消費効率の根拠（要件ア）'!$CF$60","v":"別添4_21_21"},{"$f":"'（別添４）エネルギー消費効率の根拠（要件ア）'!$CF$61","v":"別添4_21_22"},{"$f":"'（別添４）エネルギー消費効率の根拠（要件ア）'!$CF$62","v":"別添4_21_23"},{"$f":"'（別添４）エネルギー消費効率の根拠（要件ア）'!$CF$63","v":"別添4_21_24"},{"$f":"'（別添４）エネルギー消費効率の根拠（要件ア）'!$CJ$40","v":"別添4_22_1"},{"$f":"'（別添４）エネルギー消費効率の根拠（要件ア）'!$CJ$41","v":"別添4_22_2"},{"$f":"'（別添４）エネルギー消費効率の根拠（要件ア）'!$CJ$42","v":"別添4_22_3"},{"$f":"'（別添４）エネルギー消費効率の根拠（要件ア）'!$CJ$43","v":"別添4_22_4"},{"$f":"'（別添４）エネルギー消費効率の根拠（要件ア）'!$CJ$44","v":"別添4_22_5"},{"$f":"'（別添４）エネルギー消費効率の根拠（要件ア）'!$CJ$45","v":"別添4_22_6"},{"$f":"'（別添４）エネルギー消費効率の根拠（要件ア）'!$CJ$46","v":"別添4_22_7"},{"$f":"'（別添４）エネルギー消費効率の根拠（要件ア）'!$CJ$47","v":"別添4_22_8"},{"$f":"'（別添４）エネルギー消費効率の根拠（要件ア）'!$CJ$48","v":"別添4_22_9"},{"$f":"'（別添４）エネルギー消費効率の根拠（要件ア）'!$CJ$49","v":"別添4_22_10"},{"$f":"'（別添４）エネルギー消費効率の根拠（要件ア）'!$CJ$50","v":"別添4_22_11"},{"$f":"'（別添４）エネルギー消費効率の根拠（要件ア）'!$CJ$51","v":"別添4_22_12"},{"$f":"'（別添４）エネルギー消費効率の根拠（要件ア）'!$CJ$52","v":"別添4_22_13"},{"$f":"'（別添４）エネルギー消費効率の根拠（要件ア）'!$CJ$53","v":"別添4_22_14"},{"$f":"'（別添４）エネルギー消費効率の根拠（要件ア）'!$CJ$54","v":"別添4_22_15"},{"$f":"'（別添４）エネルギー消費効率の根拠（要件ア）'!$CJ$55","v":"別添4_22_16"},{"$f":"'（別添４）エネルギー消費効率の根拠（要件ア）'!$CJ$56","v":"別添4_22_17"},{"$f":"'（別添４）エネルギー消費効率の根拠（要件ア）'!$CJ$57","v":"別添4_22_18"},{"$f":"'（別添４）エネルギー消費効率の根拠（要件ア）'!$CJ$58","v":"別添4_22_19"},{"$f":"'（別添４）エネルギー消費効率の根拠（要件ア）'!$CJ$59","v":"別添4_22_20"},{"$f":"'（別添４）エネルギー消費効率の根拠（要件ア）'!$CJ$60","v":"別添4_22_21"},{"$f":"'（別添４）エネルギー消費効率の根拠（要件ア）'!$CJ$61","v":"別添4_22_22"},{"$f":"'（別添４）エネルギー消費効率の根拠（要件ア）'!$CJ$62","v":"別添4_22_23"},{"$f":"'（別添４）エネルギー消費効率の根拠（要件ア）'!$CJ$63","v":"別添4_22_24"},{"$f":"'（別添４）エネルギー消費効率の根拠（要件ア）'!$CN$40","v":"別添4_23_1"},{"$f":"'（別添４）エネルギー消費効率の根拠（要件ア）'!$CN$41","v":"別添4_23_2"},{"$f":"'（別添４）エネルギー消費効率の根拠（要件ア）'!$CN$42","v":"別添4_23_3"},{"$f":"'（別添４）エネルギー消費効率の根拠（要件ア）'!$CN$43","v":"別添4_23_4"},{"$f":"'（別添４）エネルギー消費効率の根拠（要件ア）'!$CN$44","v":"別添4_23_5"},{"$f":"'（別添４）エネルギー消費効率の根拠（要件ア）'!$CN$45","v":"別添4_23_6"},{"$f":"'（別添４）エネルギー消費効率の根拠（要件ア）'!$CN$46","v":"別添4_23_7"},{"$f":"'（別添４）エネルギー消費効率の根拠（要件ア）'!$CN$47","v":"別添4_23_8"},{"$f":"'（別添４）エネルギー消費効率の根拠（要件ア）'!$CN$48","v":"別添4_23_9"},{"$f":"'（別添４）エネルギー消費効率の根拠（要件ア）'!$CN$49","v":"別添4_23_10"},{"$f":"'（別添４）エネルギー消費効率の根拠（要件ア）'!$CN$50","v":"別添4_23_11"},{"$f":"'（別添４）エネルギー消費効率の根拠（要件ア）'!$CN$51","v":"別添4_23_12"},{"$f":"'（別添４）エネルギー消費効率の根拠（要件ア）'!$CN$52","v":"別添4_23_13"},{"$f":"'（別添４）エネルギー消費効率の根拠（要件ア）'!$CN$53","v":"別添4_23_14"},{"$f":"'（別添４）エネルギー消費効率の根拠（要件ア）'!$CN$54","v":"別添4_23_15"},{"$f":"'（別添４）エネルギー消費効率の根拠（要件ア）'!$CN$55","v":"別添4_23_16"},{"$f":"'（別添４）エネルギー消費効率の根拠（要件ア）'!$CN$56","v":"別添4_23_17"},{"$f":"'（別添４）エネルギー消費効率の根拠（要件ア）'!$CN$57","v":"別添4_23_18"},{"$f":"'（別添４）エネルギー消費効率の根拠（要件ア）'!$CN$58","v":"別添4_23_19"},{"$f":"'（別添４）エネルギー消費効率の根拠（要件ア）'!$CN$59","v":"別添4_23_20"},{"$f":"'（別添４）エネルギー消費効率の根拠（要件ア）'!$CN$60","v":"別添4_23_21"},{"$f":"'（別添４）エネルギー消費効率の根拠（要件ア）'!$CN$61","v":"別添4_23_22"},{"$f":"'（別添４）エネルギー消費効率の根拠（要件ア）'!$CN$62","v":"別添4_23_23"},{"$f":"'（別添４）エネルギー消費効率の根拠（要件ア）'!$CN$63","v":"別添4_23_24"},{"$f":"'（別添４）エネルギー消費効率の根拠（要件ア）'!$CR$40","v":"別添4_24_1"},{"$f":"'（別添４）エネルギー消費効率の根拠（要件ア）'!$CR$41","v":"別添4_24_2"},{"$f":"'（別添４）エネルギー消費効率の根拠（要件ア）'!$CR$42","v":"別添4_24_3"},{"$f":"'（別添４）エネルギー消費効率の根拠（要件ア）'!$CR$43","v":"別添4_24_4"},{"$f":"'（別添４）エネルギー消費効率の根拠（要件ア）'!$CR$44","v":"別添4_24_5"},{"$f":"'（別添４）エネルギー消費効率の根拠（要件ア）'!$CR$45","v":"別添4_24_6"},{"$f":"'（別添４）エネルギー消費効率の根拠（要件ア）'!$CR$46","v":"別添4_24_7"},{"$f":"'（別添４）エネルギー消費効率の根拠（要件ア）'!$CR$47","v":"別添4_24_8"},{"$f":"'（別添４）エネルギー消費効率の根拠（要件ア）'!$CR$48","v":"別添4_24_9"},{"$f":"'（別添４）エネルギー消費効率の根拠（要件ア）'!$CR$49","v":"別添4_24_10"},{"$f":"'（別添４）エネルギー消費効率の根拠（要件ア）'!$CR$50","v":"別添4_24_11"},{"$f":"'（別添４）エネルギー消費効率の根拠（要件ア）'!$CR$51","v":"別添4_24_12"},{"$f":"'（別添４）エネルギー消費効率の根拠（要件ア）'!$CR$52","v":"別添4_24_13"},{"$f":"'（別添４）エネルギー消費効率の根拠（要件ア）'!$CR$53","v":"別添4_24_14"},{"$f":"'（別添４）エネルギー消費効率の根拠（要件ア）'!$CR$54","v":"別添4_24_15"},{"$f":"'（別添４）エネルギー消費効率の根拠（要件ア）'!$CR$55","v":"別添4_24_16"},{"$f":"'（別添４）エネルギー消費効率の根拠（要件ア）'!$CR$56","v":"別添4_24_17"},{"$f":"'（別添４）エネルギー消費効率の根拠（要件ア）'!$CR$57","v":"別添4_24_18"},{"$f":"'（別添４）エネルギー消費効率の根拠（要件ア）'!$CR$58","v":"別添4_24_19"},{"$f":"'（別添４）エネルギー消費効率の根拠（要件ア）'!$CR$59","v":"別添4_24_20"},{"$f":"'（別添４）エネルギー消費効率の根拠（要件ア）'!$CR$60","v":"別添4_24_21"},{"$f":"'（別添４）エネルギー消費効率の根拠（要件ア）'!$CR$61","v":"別添4_24_22"},{"$f":"'（別添４）エネルギー消費効率の根拠（要件ア）'!$CR$62","v":"別添4_24_23"},{"$f":"'（別添４）エネルギー消費効率の根拠（要件ア）'!$CR$63","v":"別添4_24_24"},{"$f":"'（別添４）エネルギー消費効率の根拠（要件ア）'!$CV$40","v":"別添4_25_1"},{"$f":"'（別添４）エネルギー消費効率の根拠（要件ア）'!$CV$41","v":"別添4_25_2"},{"$f":"'（別添４）エネルギー消費効率の根拠（要件ア）'!$CV$42","v":"別添4_25_3"},{"$f":"'（別添４）エネルギー消費効率の根拠（要件ア）'!$CV$43","v":"別添4_25_4"},{"$f":"'（別添４）エネルギー消費効率の根拠（要件ア）'!$CV$44","v":"別添4_25_5"},{"$f":"'（別添４）エネルギー消費効率の根拠（要件ア）'!$CV$45","v":"別添4_25_6"},{"$f":"'（別添４）エネルギー消費効率の根拠（要件ア）'!$CV$46","v":"別添4_25_7"},{"$f":"'（別添４）エネルギー消費効率の根拠（要件ア）'!$CV$47","v":"別添4_25_8"},{"$f":"'（別添４）エネルギー消費効率の根拠（要件ア）'!$CV$48","v":"別添4_25_9"},{"$f":"'（別添４）エネルギー消費効率の根拠（要件ア）'!$CV$49","v":"別添4_25_10"},{"$f":"'（別添４）エネルギー消費効率の根拠（要件ア）'!$CV$50","v":"別添4_25_11"},{"$f":"'（別添４）エネルギー消費効率の根拠（要件ア）'!$CV$51","v":"別添4_25_12"},{"$f":"'（別添４）エネルギー消費効率の根拠（要件ア）'!$CV$52","v":"別添4_25_13"},{"$f":"'（別添４）エネルギー消費効率の根拠（要件ア）'!$CV$53","v":"別添4_25_14"},{"$f":"'（別添４）エネルギー消費効率の根拠（要件ア）'!$CV$54","v":"別添4_25_15"},{"$f":"'（別添４）エネルギー消費効率の根拠（要件ア）'!$CV$55","v":"別添4_25_16"},{"$f":"'（別添４）エネルギー消費効率の根拠（要件ア）'!$CV$56","v":"別添4_25_17"},{"$f":"'（別添４）エネルギー消費効率の根拠（要件ア）'!$CV$57","v":"別添4_25_18"},{"$f":"'（別添４）エネルギー消費効率の根拠（要件ア）'!$CV$58","v":"別添4_25_19"},{"$f":"'（別添４）エネルギー消費効率の根拠（要件ア）'!$CV$59","v":"別添4_25_20"},{"$f":"'（別添４）エネルギー消費効率の根拠（要件ア）'!$CV$60","v":"別添4_25_21"},{"$f":"'（別添４）エネルギー消費効率の根拠（要件ア）'!$CV$61","v":"別添4_25_22"},{"$f":"'（別添４）エネルギー消費効率の根拠（要件ア）'!$CV$62","v":"別添4_25_23"},{"$f":"'（別添４）エネルギー消費効率の根拠（要件ア）'!$CV$63","v":"別添4_25_24"},{"$f":"'（別添４）エネルギー消費効率の根拠（要件ア）'!$CZ$40","v":"別添4_26_1"},{"$f":"'（別添４）エネルギー消費効率の根拠（要件ア）'!$CZ$41","v":"別添4_26_2"},{"$f":"'（別添４）エネルギー消費効率の根拠（要件ア）'!$CZ$42","v":"別添4_26_3"},{"$f":"'（別添４）エネルギー消費効率の根拠（要件ア）'!$CZ$43","v":"別添4_26_4"},{"$f":"'（別添４）エネルギー消費効率の根拠（要件ア）'!$CZ$44","v":"別添4_26_5"},{"$f":"'（別添４）エネルギー消費効率の根拠（要件ア）'!$CZ$45","v":"別添4_26_6"},{"$f":"'（別添４）エネルギー消費効率の根拠（要件ア）'!$CZ$46","v":"別添4_26_7"},{"$f":"'（別添４）エネルギー消費効率の根拠（要件ア）'!$CZ$47","v":"別添4_26_8"},{"$f":"'（別添４）エネルギー消費効率の根拠（要件ア）'!$CZ$48","v":"別添4_26_9"},{"$f":"'（別添４）エネルギー消費効率の根拠（要件ア）'!$CZ$49","v":"別添4_26_10"},{"$f":"'（別添４）エネルギー消費効率の根拠（要件ア）'!$CZ$50","v":"別添4_26_11"},{"$f":"'（別添４）エネルギー消費効率の根拠（要件ア）'!$CZ$51","v":"別添4_26_12"},{"$f":"'（別添４）エネルギー消費効率の根拠（要件ア）'!$CZ$52","v":"別添4_26_13"},{"$f":"'（別添４）エネルギー消費効率の根拠（要件ア）'!$CZ$53","v":"別添4_26_14"},{"$f":"'（別添４）エネルギー消費効率の根拠（要件ア）'!$CZ$54","v":"別添4_26_15"},{"$f":"'（別添４）エネルギー消費効率の根拠（要件ア）'!$CZ$55","v":"別添4_26_16"},{"$f":"'（別添４）エネルギー消費効率の根拠（要件ア）'!$CZ$56","v":"別添4_26_17"},{"$f":"'（別添４）エネルギー消費効率の根拠（要件ア）'!$CZ$57","v":"別添4_26_18"},{"$f":"'（別添４）エネルギー消費効率の根拠（要件ア）'!$CZ$58","v":"別添4_26_19"},{"$f":"'（別添４）エネルギー消費効率の根拠（要件ア）'!$CZ$59","v":"別添4_26_20"},{"$f":"'（別添４）エネルギー消費効率の根拠（要件ア）'!$CZ$60","v":"別添4_26_21"},{"$f":"'（別添４）エネルギー消費効率の根拠（要件ア）'!$CZ$61","v":"別添4_26_22"},{"$f":"'（別添４）エネルギー消費効率の根拠（要件ア）'!$CZ$62","v":"別添4_26_23"},{"$f":"'（別添４）エネルギー消費効率の根拠（要件ア）'!$CZ$63","v":"別添4_26_24"},{"$f":"'（別添４）エネルギー消費効率の根拠（要件ア）'!$DD$40","v":"別添4_27_1"},{"$f":"'（別添４）エネルギー消費効率の根拠（要件ア）'!$DD$41","v":"別添4_27_2"},{"$f":"'（別添４）エネルギー消費効率の根拠（要件ア）'!$DD$42","v":"別添4_27_3"},{"$f":"'（別添４）エネルギー消費効率の根拠（要件ア）'!$DD$43","v":"別添4_27_4"},{"$f":"'（別添４）エネルギー消費効率の根拠（要件ア）'!$DD$44","v":"別添4_27_5"},{"$f":"'（別添４）エネルギー消費効率の根拠（要件ア）'!$DD$45","v":"別添4_27_6"},{"$f":"'（別添４）エネルギー消費効率の根拠（要件ア）'!$DD$46","v":"別添4_27_7"},{"$f":"'（別添４）エネルギー消費効率の根拠（要件ア）'!$DD$47","v":"別添4_27_8"},{"$f":"'（別添４）エネルギー消費効率の根拠（要件ア）'!$DD$48","v":"別添4_27_9"},{"$f":"'（別添４）エネルギー消費効率の根拠（要件ア）'!$DD$49","v":"別添4_27_10"},{"$f":"'（別添４）エネルギー消費効率の根拠（要件ア）'!$DD$50","v":"別添4_27_11"},{"$f":"'（別添４）エネルギー消費効率の根拠（要件ア）'!$DD$51","v":"別添4_27_12"},{"$f":"'（別添４）エネルギー消費効率の根拠（要件ア）'!$DD$52","v":"別添4_27_13"},{"$f":"'（別添４）エネルギー消費効率の根拠（要件ア）'!$DD$53","v":"別添4_27_14"},{"$f":"'（別添４）エネルギー消費効率の根拠（要件ア）'!$DD$54","v":"別添4_27_15"},{"$f":"'（別添４）エネルギー消費効率の根拠（要件ア）'!$DD$55","v":"別添4_27_16"},{"$f":"'（別添４）エネルギー消費効率の根拠（要件ア）'!$DD$56","v":"別添4_27_17"},{"$f":"'（別添４）エネルギー消費効率の根拠（要件ア）'!$DD$57","v":"別添4_27_18"},{"$f":"'（別添４）エネルギー消費効率の根拠（要件ア）'!$DD$58","v":"別添4_27_19"},{"$f":"'（別添４）エネルギー消費効率の根拠（要件ア）'!$DD$59","v":"別添4_27_20"},{"$f":"'（別添４）エネルギー消費効率の根拠（要件ア）'!$DD$60","v":"別添4_27_21"},{"$f":"'（別添４）エネルギー消費効率の根拠（要件ア）'!$DD$61","v":"別添4_27_22"},{"$f":"'（別添４）エネルギー消費効率の根拠（要件ア）'!$DD$62","v":"別添4_27_23"},{"$f":"'（別添４）エネルギー消費効率の根拠（要件ア）'!$DD$63","v":"別添4_27_24"},{"$f":"'（別添４）エネルギー消費効率の根拠（要件ア）'!$DH$40","v":"別添4_28_1"},{"$f":"'（別添４）エネルギー消費効率の根拠（要件ア）'!$DH$41","v":"別添4_28_2"},{"$f":"'（別添４）エネルギー消費効率の根拠（要件ア）'!$DH$42","v":"別添4_28_3"},{"$f":"'（別添４）エネルギー消費効率の根拠（要件ア）'!$DH$43","v":"別添4_28_4"},{"$f":"'（別添４）エネルギー消費効率の根拠（要件ア）'!$DH$44","v":"別添4_28_5"},{"$f":"'（別添４）エネルギー消費効率の根拠（要件ア）'!$DH$45","v":"別添4_28_6"},{"$f":"'（別添４）エネルギー消費効率の根拠（要件ア）'!$DH$46","v":"別添4_28_7"},{"$f":"'（別添４）エネルギー消費効率の根拠（要件ア）'!$DH$47","v":"別添4_28_8"},{"$f":"'（別添４）エネルギー消費効率の根拠（要件ア）'!$DH$48","v":"別添4_28_9"},{"$f":"'（別添４）エネルギー消費効率の根拠（要件ア）'!$DH$49","v":"別添4_28_10"},{"$f":"'（別添４）エネルギー消費効率の根拠（要件ア）'!$DH$50","v":"別添4_28_11"},{"$f":"'（別添４）エネルギー消費効率の根拠（要件ア）'!$DH$51","v":"別添4_28_12"},{"$f":"'（別添４）エネルギー消費効率の根拠（要件ア）'!$DH$52","v":"別添4_28_13"},{"$f":"'（別添４）エネルギー消費効率の根拠（要件ア）'!$DH$53","v":"別添4_28_14"},{"$f":"'（別添４）エネルギー消費効率の根拠（要件ア）'!$DH$54","v":"別添4_28_15"},{"$f":"'（別添４）エネルギー消費効率の根拠（要件ア）'!$DH$55","v":"別添4_28_16"},{"$f":"'（別添４）エネルギー消費効率の根拠（要件ア）'!$DH$56","v":"別添4_28_17"},{"$f":"'（別添４）エネルギー消費効率の根拠（要件ア）'!$DH$57","v":"別添4_28_18"},{"$f":"'（別添４）エネルギー消費効率の根拠（要件ア）'!$DH$58","v":"別添4_28_19"},{"$f":"'（別添４）エネルギー消費効率の根拠（要件ア）'!$DH$59","v":"別添4_28_20"},{"$f":"'（別添４）エネルギー消費効率の根拠（要件ア）'!$DH$60","v":"別添4_28_21"},{"$f":"'（別添４）エネルギー消費効率の根拠（要件ア）'!$DH$61","v":"別添4_28_22"},{"$f":"'（別添４）エネルギー消費効率の根拠（要件ア）'!$DH$62","v":"別添4_28_23"},{"$f":"'（別添４）エネルギー消費効率の根拠（要件ア）'!$DH$63","v":"別添4_28_24"},{"$f":"'（別添４）エネルギー消費効率の根拠（要件ア）'!$DL$40","v":"別添4_29_1"},{"$f":"'（別添４）エネルギー消費効率の根拠（要件ア）'!$DL$41","v":"別添4_29_2"},{"$f":"'（別添４）エネルギー消費効率の根拠（要件ア）'!$DL$42","v":"別添4_29_3"},{"$f":"'（別添４）エネルギー消費効率の根拠（要件ア）'!$DL$43","v":"別添4_29_4"},{"$f":"'（別添４）エネルギー消費効率の根拠（要件ア）'!$DL$44","v":"別添4_29_5"},{"$f":"'（別添４）エネルギー消費効率の根拠（要件ア）'!$DL$45","v":"別添4_29_6"},{"$f":"'（別添４）エネルギー消費効率の根拠（要件ア）'!$DL$46","v":"別添4_29_7"},{"$f":"'（別添４）エネルギー消費効率の根拠（要件ア）'!$DL$47","v":"別添4_29_8"},{"$f":"'（別添４）エネルギー消費効率の根拠（要件ア）'!$DL$48","v":"別添4_29_9"},{"$f":"'（別添４）エネルギー消費効率の根拠（要件ア）'!$DL$49","v":"別添4_29_10"},{"$f":"'（別添４）エネルギー消費効率の根拠（要件ア）'!$DL$50","v":"別添4_29_11"},{"$f":"'（別添４）エネルギー消費効率の根拠（要件ア）'!$DL$51","v":"別添4_29_12"},{"$f":"'（別添４）エネルギー消費効率の根拠（要件ア）'!$DL$52","v":"別添4_29_13"},{"$f":"'（別添４）エネルギー消費効率の根拠（要件ア）'!$DL$53","v":"別添4_29_14"},{"$f":"'（別添４）エネルギー消費効率の根拠（要件ア）'!$DL$54","v":"別添4_29_15"},{"$f":"'（別添４）エネルギー消費効率の根拠（要件ア）'!$DL$55","v":"別添4_29_16"},{"$f":"'（別添４）エネルギー消費効率の根拠（要件ア）'!$DL$56","v":"別添4_29_17"},{"$f":"'（別添４）エネルギー消費効率の根拠（要件ア）'!$DL$57","v":"別添4_29_18"},{"$f":"'（別添４）エネルギー消費効率の根拠（要件ア）'!$DL$58","v":"別添4_29_19"},{"$f":"'（別添４）エネルギー消費効率の根拠（要件ア）'!$DL$59","v":"別添4_29_20"},{"$f":"'（別添４）エネルギー消費効率の根拠（要件ア）'!$DL$60","v":"別添4_29_21"},{"$f":"'（別添４）エネルギー消費効率の根拠（要件ア）'!$DL$61","v":"別添4_29_22"},{"$f":"'（別添４）エネルギー消費効率の根拠（要件ア）'!$DL$62","v":"別添4_29_23"},{"$f":"'（別添４）エネルギー消費効率の根拠（要件ア）'!$DL$63","v":"別添4_29_24"},{"$f":"'（別添４）エネルギー消費効率の根拠（要件ア）'!$DP$40","v":"別添4_30_1"},{"$f":"'（別添４）エネルギー消費効率の根拠（要件ア）'!$DP$41","v":"別添4_30_2"},{"$f":"'（別添４）エネルギー消費効率の根拠（要件ア）'!$DP$42","v":"別添4_30_3"},{"$f":"'（別添４）エネルギー消費効率の根拠（要件ア）'!$DP$43","v":"別添4_30_4"},{"$f":"'（別添４）エネルギー消費効率の根拠（要件ア）'!$DP$44","v":"別添4_30_5"},{"$f":"'（別添４）エネルギー消費効率の根拠（要件ア）'!$DP$45","v":"別添4_30_6"},{"$f":"'（別添４）エネルギー消費効率の根拠（要件ア）'!$DP$46","v":"別添4_30_7"},{"$f":"'（別添４）エネルギー消費効率の根拠（要件ア）'!$DP$47","v":"別添4_30_8"},{"$f":"'（別添４）エネルギー消費効率の根拠（要件ア）'!$DP$48","v":"別添4_30_9"},{"$f":"'（別添４）エネルギー消費効率の根拠（要件ア）'!$DP$49","v":"別添4_30_10"},{"$f":"'（別添４）エネルギー消費効率の根拠（要件ア）'!$DP$50","v":"別添4_30_11"},{"$f":"'（別添４）エネルギー消費効率の根拠（要件ア）'!$DP$51","v":"別添4_30_12"},{"$f":"'（別添４）エネルギー消費効率の根拠（要件ア）'!$DP$52","v":"別添4_30_13"},{"$f":"'（別添４）エネルギー消費効率の根拠（要件ア）'!$DP$53","v":"別添4_30_14"},{"$f":"'（別添４）エネルギー消費効率の根拠（要件ア）'!$DP$54","v":"別添4_30_15"},{"$f":"'（別添４）エネルギー消費効率の根拠（要件ア）'!$DP$55","v":"別添4_30_16"},{"$f":"'（別添４）エネルギー消費効率の根拠（要件ア）'!$DP$56","v":"別添4_30_17"},{"$f":"'（別添４）エネルギー消費効率の根拠（要件ア）'!$DP$57","v":"別添4_30_18"},{"$f":"'（別添４）エネルギー消費効率の根拠（要件ア）'!$DP$58","v":"別添4_30_19"},{"$f":"'（別添４）エネルギー消費効率の根拠（要件ア）'!$DP$59","v":"別添4_30_20"},{"$f":"'（別添４）エネルギー消費効率の根拠（要件ア）'!$DP$60","v":"別添4_30_21"},{"$f":"'（別添４）エネルギー消費効率の根拠（要件ア）'!$DP$61","v":"別添4_30_22"},{"$f":"'（別添４）エネルギー消費効率の根拠（要件ア）'!$DP$62","v":"別添4_30_23"},{"$f":"'（別添４）エネルギー消費効率の根拠（要件ア）'!$DP$63","v":"別添4_30_24"},{"$f":"'（別添４）エネルギー消費効率の根拠（要件ア）'!$DT$40","v":"別添4_31_1"},{"$f":"'（別添４）エネルギー消費効率の根拠（要件ア）'!$DT$41","v":"別添4_31_2"},{"$f":"'（別添４）エネルギー消費効率の根拠（要件ア）'!$DT$42","v":"別添4_31_3"},{"$f":"'（別添４）エネルギー消費効率の根拠（要件ア）'!$DT$43","v":"別添4_31_4"},{"$f":"'（別添４）エネルギー消費効率の根拠（要件ア）'!$DT$44","v":"別添4_31_5"},{"$f":"'（別添４）エネルギー消費効率の根拠（要件ア）'!$DT$45","v":"別添4_31_6"},{"$f":"'（別添４）エネルギー消費効率の根拠（要件ア）'!$DT$46","v":"別添4_31_7"},{"$f":"'（別添４）エネルギー消費効率の根拠（要件ア）'!$DT$47","v":"別添4_31_8"},{"$f":"'（別添４）エネルギー消費効率の根拠（要件ア）'!$DT$48","v":"別添4_31_9"},{"$f":"'（別添４）エネルギー消費効率の根拠（要件ア）'!$DT$49","v":"別添4_31_10"},{"$f":"'（別添４）エネルギー消費効率の根拠（要件ア）'!$DT$50","v":"別添4_31_11"},{"$f":"'（別添４）エネルギー消費効率の根拠（要件ア）'!$DT$51","v":"別添4_31_12"},{"$f":"'（別添４）エネルギー消費効率の根拠（要件ア）'!$DT$52","v":"別添4_31_13"},{"$f":"'（別添４）エネルギー消費効率の根拠（要件ア）'!$DT$53","v":"別添4_31_14"},{"$f":"'（別添４）エネルギー消費効率の根拠（要件ア）'!$DT$54","v":"別添4_31_15"},{"$f":"'（別添４）エネルギー消費効率の根拠（要件ア）'!$DT$55","v":"別添4_31_16"},{"$f":"'（別添４）エネルギー消費効率の根拠（要件ア）'!$DT$56","v":"別添4_31_17"},{"$f":"'（別添４）エネルギー消費効率の根拠（要件ア）'!$DT$57","v":"別添4_31_18"},{"$f":"'（別添４）エネルギー消費効率の根拠（要件ア）'!$DT$58","v":"別添4_31_19"},{"$f":"'（別添４）エネルギー消費効率の根拠（要件ア）'!$DT$59","v":"別添4_31_20"},{"$f":"'（別添４）エネルギー消費効率の根拠（要件ア）'!$DT$60","v":"別添4_31_21"},{"$f":"'（別添４）エネルギー消費効率の根拠（要件ア）'!$DT$61","v":"別添4_31_22"},{"$f":"'（別添４）エネルギー消費効率の根拠（要件ア）'!$DT$62","v":"別添4_31_23"},{"$f":"'（別添４）エネルギー消費効率の根拠（要件ア）'!$DT$63","v":"別添4_31_24"},{"$f":"'（別添４）エネルギー消費効率の根拠（要件ア）'!$DX$40","v":"別添4_32_1"},{"$f":"'（別添４）エネルギー消費効率の根拠（要件ア）'!$DX$41","v":"別添4_32_2"},{"$f":"'（別添４）エネルギー消費効率の根拠（要件ア）'!$DX$42","v":"別添4_32_3"},{"$f":"'（別添４）エネルギー消費効率の根拠（要件ア）'!$DX$43","v":"別添4_32_4"},{"$f":"'（別添４）エネルギー消費効率の根拠（要件ア）'!$DX$44","v":"別添4_32_5"},{"$f":"'（別添４）エネルギー消費効率の根拠（要件ア）'!$DX$45","v":"別添4_32_6"},{"$f":"'（別添４）エネルギー消費効率の根拠（要件ア）'!$DX$46","v":"別添4_32_7"},{"$f":"'（別添４）エネルギー消費効率の根拠（要件ア）'!$DX$47","v":"別添4_32_8"},{"$f":"'（別添４）エネルギー消費効率の根拠（要件ア）'!$DX$48","v":"別添4_32_9"},{"$f":"'（別添４）エネルギー消費効率の根拠（要件ア）'!$DX$49","v":"別添4_32_10"},{"$f":"'（別添４）エネルギー消費効率の根拠（要件ア）'!$DX$50","v":"別添4_32_11"},{"$f":"'（別添４）エネルギー消費効率の根拠（要件ア）'!$DX$51","v":"別添4_32_12"},{"$f":"'（別添４）エネルギー消費効率の根拠（要件ア）'!$DX$52","v":"別添4_32_13"},{"$f":"'（別添４）エネルギー消費効率の根拠（要件ア）'!$DX$53","v":"別添4_32_14"},{"$f":"'（別添４）エネルギー消費効率の根拠（要件ア）'!$DX$54","v":"別添4_32_15"},{"$f":"'（別添４）エネルギー消費効率の根拠（要件ア）'!$DX$55","v":"別添4_32_16"},{"$f":"'（別添４）エネルギー消費効率の根拠（要件ア）'!$DX$56","v":"別添4_32_17"},{"$f":"'（別添４）エネルギー消費効率の根拠（要件ア）'!$DX$57","v":"別添4_32_18"},{"$f":"'（別添４）エネルギー消費効率の根拠（要件ア）'!$DX$58","v":"別添4_32_19"},{"$f":"'（別添４）エネルギー消費効率の根拠（要件ア）'!$DX$59","v":"別添4_32_20"},{"$f":"'（別添４）エネルギー消費効率の根拠（要件ア）'!$DX$60","v":"別添4_32_21"},{"$f":"'（別添４）エネルギー消費効率の根拠（要件ア）'!$DX$61","v":"別添4_32_22"},{"$f":"'（別添４）エネルギー消費効率の根拠（要件ア）'!$DX$62","v":"別添4_32_23"},{"$f":"'（別添４）エネルギー消費効率の根拠（要件ア）'!$DX$63","v":"別添4_32_24"},{"$f":"'（別添４）エネルギー消費効率の根拠（要件ア）'!$EB$40","v":"別添4_33_1"},{"$f":"'（別添４）エネルギー消費効率の根拠（要件ア）'!$EB$41","v":"別添4_33_2"},{"$f":"'（別添４）エネルギー消費効率の根拠（要件ア）'!$EB$42","v":"別添4_33_3"},{"$f":"'（別添４）エネルギー消費効率の根拠（要件ア）'!$EB$43","v":"別添4_33_4"},{"$f":"'（別添４）エネルギー消費効率の根拠（要件ア）'!$EB$44","v":"別添4_33_5"},{"$f":"'（別添４）エネルギー消費効率の根拠（要件ア）'!$EB$45","v":"別添4_33_6"},{"$f":"'（別添４）エネルギー消費効率の根拠（要件ア）'!$EB$46","v":"別添4_33_7"},{"$f":"'（別添４）エネルギー消費効率の根拠（要件ア）'!$EB$47","v":"別添4_33_8"},{"$f":"'（別添４）エネルギー消費効率の根拠（要件ア）'!$EB$48","v":"別添4_33_9"},{"$f":"'（別添４）エネルギー消費効率の根拠（要件ア）'!$EB$49","v":"別添4_33_10"},{"$f":"'（別添４）エネルギー消費効率の根拠（要件ア）'!$EB$50","v":"別添4_33_11"},{"$f":"'（別添４）エネルギー消費効率の根拠（要件ア）'!$EB$51","v":"別添4_33_12"},{"$f":"'（別添４）エネルギー消費効率の根拠（要件ア）'!$EB$52","v":"別添4_33_13"},{"$f":"'（別添４）エネルギー消費効率の根拠（要件ア）'!$EB$53","v":"別添4_33_14"},{"$f":"'（別添４）エネルギー消費効率の根拠（要件ア）'!$EB$54","v":"別添4_33_15"},{"$f":"'（別添４）エネルギー消費効率の根拠（要件ア）'!$EB$55","v":"別添4_33_16"},{"$f":"'（別添４）エネルギー消費効率の根拠（要件ア）'!$EB$56","v":"別添4_33_17"},{"$f":"'（別添４）エネルギー消費効率の根拠（要件ア）'!$EB$57","v":"別添4_33_18"},{"$f":"'（別添４）エネルギー消費効率の根拠（要件ア）'!$EB$58","v":"別添4_33_19"},{"$f":"'（別添４）エネルギー消費効率の根拠（要件ア）'!$EB$59","v":"別添4_33_20"},{"$f":"'（別添４）エネルギー消費効率の根拠（要件ア）'!$EB$60","v":"別添4_33_21"},{"$f":"'（別添４）エネルギー消費効率の根拠（要件ア）'!$EB$61","v":"別添4_33_22"},{"$f":"'（別添４）エネルギー消費効率の根拠（要件ア）'!$EB$62","v":"別添4_33_23"},{"$f":"'（別添４）エネルギー消費効率の根拠（要件ア）'!$EB$63","v":"別添4_33_24"},{"$f":"'（別添４）エネルギー消費効率の根拠（要件ア）'!$EF$40","v":"別添4_34_1"},{"$f":"'（別添４）エネルギー消費効率の根拠（要件ア）'!$EF$41","v":"別添4_34_2"},{"$f":"'（別添４）エネルギー消費効率の根拠（要件ア）'!$EF$42","v":"別添4_34_3"},{"$f":"'（別添４）エネルギー消費効率の根拠（要件ア）'!$EF$43","v":"別添4_34_4"},{"$f":"'（別添４）エネルギー消費効率の根拠（要件ア）'!$EF$44","v":"別添4_34_5"},{"$f":"'（別添４）エネルギー消費効率の根拠（要件ア）'!$EF$45","v":"別添4_34_6"},{"$f":"'（別添４）エネルギー消費効率の根拠（要件ア）'!$EF$46","v":"別添4_34_7"},{"$f":"'（別添４）エネルギー消費効率の根拠（要件ア）'!$EF$47","v":"別添4_34_8"},{"$f":"'（別添４）エネルギー消費効率の根拠（要件ア）'!$EF$48","v":"別添4_34_9"},{"$f":"'（別添４）エネルギー消費効率の根拠（要件ア）'!$EF$49","v":"別添4_34_10"},{"$f":"'（別添４）エネルギー消費効率の根拠（要件ア）'!$EF$50","v":"別添4_34_11"},{"$f":"'（別添４）エネルギー消費効率の根拠（要件ア）'!$EF$51","v":"別添4_34_12"},{"$f":"'（別添４）エネルギー消費効率の根拠（要件ア）'!$EF$52","v":"別添4_34_13"},{"$f":"'（別添４）エネルギー消費効率の根拠（要件ア）'!$EF$53","v":"別添4_34_14"},{"$f":"'（別添４）エネルギー消費効率の根拠（要件ア）'!$EF$54","v":"別添4_34_15"},{"$f":"'（別添４）エネルギー消費効率の根拠（要件ア）'!$EF$55","v":"別添4_34_16"},{"$f":"'（別添４）エネルギー消費効率の根拠（要件ア）'!$EF$56","v":"別添4_34_17"},{"$f":"'（別添４）エネルギー消費効率の根拠（要件ア）'!$EF$57","v":"別添4_34_18"},{"$f":"'（別添４）エネルギー消費効率の根拠（要件ア）'!$EF$58","v":"別添4_34_19"},{"$f":"'（別添４）エネルギー消費効率の根拠（要件ア）'!$EF$59","v":"別添4_34_20"},{"$f":"'（別添４）エネルギー消費効率の根拠（要件ア）'!$EF$60","v":"別添4_34_21"},{"$f":"'（別添４）エネルギー消費効率の根拠（要件ア）'!$EF$61","v":"別添4_34_22"},{"$f":"'（別添４）エネルギー消費効率の根拠（要件ア）'!$EF$62","v":"別添4_34_23"},{"$f":"'（別添４）エネルギー消費効率の根拠（要件ア）'!$EF$63","v":"別添4_34_24"},{"$f":"'（別添４）エネルギー消費効率の根拠（要件ア）'!$EJ$40","v":"別添4_35_1"},{"$f":"'（別添４）エネルギー消費効率の根拠（要件ア）'!$EJ$41","v":"別添4_35_2"},{"$f":"'（別添４）エネルギー消費効率の根拠（要件ア）'!$EJ$42","v":"別添4_35_3"},{"$f":"'（別添４）エネルギー消費効率の根拠（要件ア）'!$EJ$43","v":"別添4_35_4"},{"$f":"'（別添４）エネルギー消費効率の根拠（要件ア）'!$EJ$44","v":"別添4_35_5"},{"$f":"'（別添４）エネルギー消費効率の根拠（要件ア）'!$EJ$45","v":"別添4_35_6"},{"$f":"'（別添４）エネルギー消費効率の根拠（要件ア）'!$EJ$46","v":"別添4_35_7"},{"$f":"'（別添４）エネルギー消費効率の根拠（要件ア）'!$EJ$47","v":"別添4_35_8"},{"$f":"'（別添４）エネルギー消費効率の根拠（要件ア）'!$EJ$48","v":"別添4_35_9"},{"$f":"'（別添４）エネルギー消費効率の根拠（要件ア）'!$EJ$49","v":"別添4_35_10"},{"$f":"'（別添４）エネルギー消費効率の根拠（要件ア）'!$EJ$50","v":"別添4_35_11"},{"$f":"'（別添４）エネルギー消費効率の根拠（要件ア）'!$EJ$51","v":"別添4_35_12"},{"$f":"'（別添４）エネルギー消費効率の根拠（要件ア）'!$EJ$52","v":"別添4_35_13"},{"$f":"'（別添４）エネルギー消費効率の根拠（要件ア）'!$EJ$53","v":"別添4_35_14"},{"$f":"'（別添４）エネルギー消費効率の根拠（要件ア）'!$EJ$54","v":"別添4_35_15"},{"$f":"'（別添４）エネルギー消費効率の根拠（要件ア）'!$EJ$55","v":"別添4_35_16"},{"$f":"'（別添４）エネルギー消費効率の根拠（要件ア）'!$EJ$56","v":"別添4_35_17"},{"$f":"'（別添４）エネルギー消費効率の根拠（要件ア）'!$EJ$57","v":"別添4_35_18"},{"$f":"'（別添４）エネルギー消費効率の根拠（要件ア）'!$EJ$58","v":"別添4_35_19"},{"$f":"'（別添４）エネルギー消費効率の根拠（要件ア）'!$EJ$59","v":"別添4_35_20"},{"$f":"'（別添４）エネルギー消費効率の根拠（要件ア）'!$EJ$60","v":"別添4_35_21"},{"$f":"'（別添４）エネルギー消費効率の根拠（要件ア）'!$EJ$61","v":"別添4_35_22"},{"$f":"'（別添４）エネルギー消費効率の根拠（要件ア）'!$EJ$62","v":"別添4_35_23"},{"$f":"'（別添４）エネルギー消費効率の根拠（要件ア）'!$EJ$63","v":"別添4_35_24"},{"$f":"'（別添４）エネルギー消費効率の根拠（要件ア）'!$EN$40","v":"別添4_36_1"},{"$f":"'（別添４）エネルギー消費効率の根拠（要件ア）'!$EN$41","v":"別添4_36_2"},{"$f":"'（別添４）エネルギー消費効率の根拠（要件ア）'!$EN$42","v":"別添4_36_3"},{"$f":"'（別添４）エネルギー消費効率の根拠（要件ア）'!$EN$43","v":"別添4_36_4"},{"$f":"'（別添４）エネルギー消費効率の根拠（要件ア）'!$EN$44","v":"別添4_36_5"},{"$f":"'（別添４）エネルギー消費効率の根拠（要件ア）'!$EN$45","v":"別添4_36_6"},{"$f":"'（別添４）エネルギー消費効率の根拠（要件ア）'!$EN$46","v":"別添4_36_7"},{"$f":"'（別添４）エネルギー消費効率の根拠（要件ア）'!$EN$47","v":"別添4_36_8"},{"$f":"'（別添４）エネルギー消費効率の根拠（要件ア）'!$EN$48","v":"別添4_36_9"},{"$f":"'（別添４）エネルギー消費効率の根拠（要件ア）'!$EN$49","v":"別添4_36_10"},{"$f":"'（別添４）エネルギー消費効率の根拠（要件ア）'!$EN$50","v":"別添4_36_11"},{"$f":"'（別添４）エネルギー消費効率の根拠（要件ア）'!$EN$51","v":"別添4_36_12"},{"$f":"'（別添４）エネルギー消費効率の根拠（要件ア）'!$EN$52","v":"別添4_36_13"},{"$f":"'（別添４）エネルギー消費効率の根拠（要件ア）'!$EN$53","v":"別添4_36_14"},{"$f":"'（別添４）エネルギー消費効率の根拠（要件ア）'!$EN$54","v":"別添4_36_15"},{"$f":"'（別添４）エネルギー消費効率の根拠（要件ア）'!$EN$55","v":"別添4_36_16"},{"$f":"'（別添４）エネルギー消費効率の根拠（要件ア）'!$EN$56","v":"別添4_36_17"},{"$f":"'（別添４）エネルギー消費効率の根拠（要件ア）'!$EN$57","v":"別添4_36_18"},{"$f":"'（別添４）エネルギー消費効率の根拠（要件ア）'!$EN$58","v":"別添4_36_19"},{"$f":"'（別添４）エネルギー消費効率の根拠（要件ア）'!$EN$59","v":"別添4_36_20"},{"$f":"'（別添４）エネルギー消費効率の根拠（要件ア）'!$EN$60","v":"別添4_36_21"},{"$f":"'（別添４）エネルギー消費効率の根拠（要件ア）'!$EN$61","v":"別添4_36_22"},{"$f":"'（別添４）エネルギー消費効率の根拠（要件ア）'!$EN$62","v":"別添4_36_23"},{"$f":"'（別添４）エネルギー消費効率の根拠（要件ア）'!$EN$63","v":"別添4_36_24"},{"$f":"'（別添４）エネルギー消費効率の根拠（要件ア）'!$ER$40","v":"別添4_37_1"},{"$f":"'（別添４）エネルギー消費効率の根拠（要件ア）'!$ER$41","v":"別添4_37_2"},{"$f":"'（別添４）エネルギー消費効率の根拠（要件ア）'!$ER$42","v":"別添4_37_3"},{"$f":"'（別添４）エネルギー消費効率の根拠（要件ア）'!$ER$43","v":"別添4_37_4"},{"$f":"'（別添４）エネルギー消費効率の根拠（要件ア）'!$ER$44","v":"別添4_37_5"},{"$f":"'（別添４）エネルギー消費効率の根拠（要件ア）'!$ER$45","v":"別添4_37_6"},{"$f":"'（別添４）エネルギー消費効率の根拠（要件ア）'!$ER$46","v":"別添4_37_7"},{"$f":"'（別添４）エネルギー消費効率の根拠（要件ア）'!$ER$47","v":"別添4_37_8"},{"$f":"'（別添４）エネルギー消費効率の根拠（要件ア）'!$ER$48","v":"別添4_37_9"},{"$f":"'（別添４）エネルギー消費効率の根拠（要件ア）'!$ER$49","v":"別添4_37_10"},{"$f":"'（別添４）エネルギー消費効率の根拠（要件ア）'!$ER$50","v":"別添4_37_11"},{"$f":"'（別添４）エネルギー消費効率の根拠（要件ア）'!$ER$51","v":"別添4_37_12"},{"$f":"'（別添４）エネルギー消費効率の根拠（要件ア）'!$ER$52","v":"別添4_37_13"},{"$f":"'（別添４）エネルギー消費効率の根拠（要件ア）'!$ER$53","v":"別添4_37_14"},{"$f":"'（別添４）エネルギー消費効率の根拠（要件ア）'!$ER$54","v":"別添4_37_15"},{"$f":"'（別添４）エネルギー消費効率の根拠（要件ア）'!$ER$55","v":"別添4_37_16"},{"$f":"'（別添４）エネルギー消費効率の根拠（要件ア）'!$ER$56","v":"別添4_37_17"},{"$f":"'（別添４）エネルギー消費効率の根拠（要件ア）'!$ER$57","v":"別添4_37_18"},{"$f":"'（別添４）エネルギー消費効率の根拠（要件ア）'!$ER$58","v":"別添4_37_19"},{"$f":"'（別添４）エネルギー消費効率の根拠（要件ア）'!$ER$59","v":"別添4_37_20"},{"$f":"'（別添４）エネルギー消費効率の根拠（要件ア）'!$ER$60","v":"別添4_37_21"},{"$f":"'（別添４）エネルギー消費効率の根拠（要件ア）'!$ER$61","v":"別添4_37_22"},{"$f":"'（別添４）エネルギー消費効率の根拠（要件ア）'!$ER$62","v":"別添4_37_23"},{"$f":"'（別添４）エネルギー消費効率の根拠（要件ア）'!$ER$63","v":"別添4_37_24"},{"$f":"'（別添４）エネルギー消費効率の根拠（要件ア）'!$EV$40","v":"別添4_38_1"},{"$f":"'（別添４）エネルギー消費効率の根拠（要件ア）'!$EV$41","v":"別添4_38_2"},{"$f":"'（別添４）エネルギー消費効率の根拠（要件ア）'!$EV$42","v":"別添4_38_3"},{"$f":"'（別添４）エネルギー消費効率の根拠（要件ア）'!$EV$43","v":"別添4_38_4"},{"$f":"'（別添４）エネルギー消費効率の根拠（要件ア）'!$EV$44","v":"別添4_38_5"},{"$f":"'（別添４）エネルギー消費効率の根拠（要件ア）'!$EV$45","v":"別添4_38_6"},{"$f":"'（別添４）エネルギー消費効率の根拠（要件ア）'!$EV$46","v":"別添4_38_7"},{"$f":"'（別添４）エネルギー消費効率の根拠（要件ア）'!$EV$47","v":"別添4_38_8"},{"$f":"'（別添４）エネルギー消費効率の根拠（要件ア）'!$EV$48","v":"別添4_38_9"},{"$f":"'（別添４）エネルギー消費効率の根拠（要件ア）'!$EV$49","v":"別添4_38_10"},{"$f":"'（別添４）エネルギー消費効率の根拠（要件ア）'!$EV$50","v":"別添4_38_11"},{"$f":"'（別添４）エネルギー消費効率の根拠（要件ア）'!$EV$51","v":"別添4_38_12"},{"$f":"'（別添４）エネルギー消費効率の根拠（要件ア）'!$EV$52","v":"別添4_38_13"},{"$f":"'（別添４）エネルギー消費効率の根拠（要件ア）'!$EV$53","v":"別添4_38_14"},{"$f":"'（別添４）エネルギー消費効率の根拠（要件ア）'!$EV$54","v":"別添4_38_15"},{"$f":"'（別添４）エネルギー消費効率の根拠（要件ア）'!$EV$55","v":"別添4_38_16"},{"$f":"'（別添４）エネルギー消費効率の根拠（要件ア）'!$EV$56","v":"別添4_38_17"},{"$f":"'（別添４）エネルギー消費効率の根拠（要件ア）'!$EV$57","v":"別添4_38_18"},{"$f":"'（別添４）エネルギー消費効率の根拠（要件ア）'!$EV$58","v":"別添4_38_19"},{"$f":"'（別添４）エネルギー消費効率の根拠（要件ア）'!$EV$59","v":"別添4_38_20"},{"$f":"'（別添４）エネルギー消費効率の根拠（要件ア）'!$EV$60","v":"別添4_38_21"},{"$f":"'（別添４）エネルギー消費効率の根拠（要件ア）'!$EV$61","v":"別添4_38_22"},{"$f":"'（別添４）エネルギー消費効率の根拠（要件ア）'!$EV$62","v":"別添4_38_23"},{"$f":"'（別添４）エネルギー消費効率の根拠（要件ア）'!$EV$63","v":"別添4_38_24"},{"$f":"'（別添４）エネルギー消費効率の根拠（要件ア）'!$EZ$40","v":"別添4_39_1"},{"$f":"'（別添４）エネルギー消費効率の根拠（要件ア）'!$EZ$41","v":"別添4_39_2"},{"$f":"'（別添４）エネルギー消費効率の根拠（要件ア）'!$EZ$42","v":"別添4_39_3"},{"$f":"'（別添４）エネルギー消費効率の根拠（要件ア）'!$EZ$43","v":"別添4_39_4"},{"$f":"'（別添４）エネルギー消費効率の根拠（要件ア）'!$EZ$44","v":"別添4_39_5"},{"$f":"'（別添４）エネルギー消費効率の根拠（要件ア）'!$EZ$45","v":"別添4_39_6"},{"$f":"'（別添４）エネルギー消費効率の根拠（要件ア）'!$EZ$46","v":"別添4_39_7"},{"$f":"'（別添４）エネルギー消費効率の根拠（要件ア）'!$EZ$47","v":"別添4_39_8"},{"$f":"'（別添４）エネルギー消費効率の根拠（要件ア）'!$EZ$48","v":"別添4_39_9"},{"$f":"'（別添４）エネルギー消費効率の根拠（要件ア）'!$EZ$49","v":"別添4_39_10"},{"$f":"'（別添４）エネルギー消費効率の根拠（要件ア）'!$EZ$50","v":"別添4_39_11"},{"$f":"'（別添４）エネルギー消費効率の根拠（要件ア）'!$EZ$51","v":"別添4_39_12"},{"$f":"'（別添４）エネルギー消費効率の根拠（要件ア）'!$EZ$52","v":"別添4_39_13"},{"$f":"'（別添４）エネルギー消費効率の根拠（要件ア）'!$EZ$53","v":"別添4_39_14"},{"$f":"'（別添４）エネルギー消費効率の根拠（要件ア）'!$EZ$54","v":"別添4_39_15"},{"$f":"'（別添４）エネルギー消費効率の根拠（要件ア）'!$EZ$55","v":"別添4_39_16"},{"$f":"'（別添４）エネルギー消費効率の根拠（要件ア）'!$EZ$56","v":"別添4_39_17"},{"$f":"'（別添４）エネルギー消費効率の根拠（要件ア）'!$EZ$57","v":"別添4_39_18"},{"$f":"'（別添４）エネルギー消費効率の根拠（要件ア）'!$EZ$58","v":"別添4_39_19"},{"$f":"'（別添４）エネルギー消費効率の根拠（要件ア）'!$EZ$59","v":"別添4_39_20"},{"$f":"'（別添４）エネルギー消費効率の根拠（要件ア）'!$EZ$60","v":"別添4_39_21"},{"$f":"'（別添４）エネルギー消費効率の根拠（要件ア）'!$EZ$61","v":"別添4_39_22"},{"$f":"'（別添４）エネルギー消費効率の根拠（要件ア）'!$EZ$62","v":"別添4_39_23"},{"$f":"'（別添４）エネルギー消費効率の根拠（要件ア）'!$EZ$63","v":"別添4_39_24"},{"$f":"'（別添４）エネルギー消費効率の根拠（要件ア）'!$FD$40","v":"別添4_40_1"},{"$f":"'（別添４）エネルギー消費効率の根拠（要件ア）'!$FD$41","v":"別添4_40_2"},{"$f":"'（別添４）エネルギー消費効率の根拠（要件ア）'!$FD$42","v":"別添4_40_3"},{"$f":"'（別添４）エネルギー消費効率の根拠（要件ア）'!$FD$43","v":"別添4_40_4"},{"$f":"'（別添４）エネルギー消費効率の根拠（要件ア）'!$FD$44","v":"別添4_40_5"},{"$f":"'（別添４）エネルギー消費効率の根拠（要件ア）'!$FD$45","v":"別添4_40_6"},{"$f":"'（別添４）エネルギー消費効率の根拠（要件ア）'!$FD$46","v":"別添4_40_7"},{"$f":"'（別添４）エネルギー消費効率の根拠（要件ア）'!$FD$47","v":"別添4_40_8"},{"$f":"'（別添４）エネルギー消費効率の根拠（要件ア）'!$FD$48","v":"別添4_40_9"},{"$f":"'（別添４）エネルギー消費効率の根拠（要件ア）'!$FD$49","v":"別添4_40_10"},{"$f":"'（別添４）エネルギー消費効率の根拠（要件ア）'!$FD$50","v":"別添4_40_11"},{"$f":"'（別添４）エネルギー消費効率の根拠（要件ア）'!$FD$51","v":"別添4_40_12"},{"$f":"'（別添４）エネルギー消費効率の根拠（要件ア）'!$FD$52","v":"別添4_40_13"},{"$f":"'（別添４）エネルギー消費効率の根拠（要件ア）'!$FD$53","v":"別添4_40_14"},{"$f":"'（別添４）エネルギー消費効率の根拠（要件ア）'!$FD$54","v":"別添4_40_15"},{"$f":"'（別添４）エネルギー消費効率の根拠（要件ア）'!$FD$55","v":"別添4_40_16"},{"$f":"'（別添４）エネルギー消費効率の根拠（要件ア）'!$FD$56","v":"別添4_40_17"},{"$f":"'（別添４）エネルギー消費効率の根拠（要件ア）'!$FD$57","v":"別添4_40_18"},{"$f":"'（別添４）エネルギー消費効率の根拠（要件ア）'!$FD$58","v":"別添4_40_19"},{"$f":"'（別添４）エネルギー消費効率の根拠（要件ア）'!$FD$59","v":"別添4_40_20"},{"$f":"'（別添４）エネルギー消費効率の根拠（要件ア）'!$FD$60","v":"別添4_40_21"},{"$f":"'（別添４）エネルギー消費効率の根拠（要件ア）'!$FD$61","v":"別添4_40_22"},{"$f":"'（別添４）エネルギー消費効率の根拠（要件ア）'!$FD$62","v":"別添4_40_23"},{"$f":"'（別添４）エネルギー消費効率の根拠（要件ア）'!$FD$63","v":"別添4_40_24"},{"$f":"'（別添４）エネルギー消費効率の根拠（要件ア）'!$FH$40","v":"別添4_41_1"},{"$f":"'（別添４）エネルギー消費効率の根拠（要件ア）'!$FH$41","v":"別添4_41_2"},{"$f":"'（別添４）エネルギー消費効率の根拠（要件ア）'!$FH$42","v":"別添4_41_3"},{"$f":"'（別添４）エネルギー消費効率の根拠（要件ア）'!$FH$43","v":"別添4_41_4"},{"$f":"'（別添４）エネルギー消費効率の根拠（要件ア）'!$FH$44","v":"別添4_41_5"},{"$f":"'（別添４）エネルギー消費効率の根拠（要件ア）'!$FH$45","v":"別添4_41_6"},{"$f":"'（別添４）エネルギー消費効率の根拠（要件ア）'!$FH$46","v":"別添4_41_7"},{"$f":"'（別添４）エネルギー消費効率の根拠（要件ア）'!$FH$47","v":"別添4_41_8"},{"$f":"'（別添４）エネルギー消費効率の根拠（要件ア）'!$FH$48","v":"別添4_41_9"},{"$f":"'（別添４）エネルギー消費効率の根拠（要件ア）'!$FH$49","v":"別添4_41_10"},{"$f":"'（別添４）エネルギー消費効率の根拠（要件ア）'!$FH$50","v":"別添4_41_11"},{"$f":"'（別添４）エネルギー消費効率の根拠（要件ア）'!$FH$51","v":"別添4_41_12"},{"$f":"'（別添４）エネルギー消費効率の根拠（要件ア）'!$FH$52","v":"別添4_41_13"},{"$f":"'（別添４）エネルギー消費効率の根拠（要件ア）'!$FH$53","v":"別添4_41_14"},{"$f":"'（別添４）エネルギー消費効率の根拠（要件ア）'!$FH$54","v":"別添4_41_15"},{"$f":"'（別添４）エネルギー消費効率の根拠（要件ア）'!$FH$55","v":"別添4_41_16"},{"$f":"'（別添４）エネルギー消費効率の根拠（要件ア）'!$FH$56","v":"別添4_41_17"},{"$f":"'（別添４）エネルギー消費効率の根拠（要件ア）'!$FH$57","v":"別添4_41_18"},{"$f":"'（別添４）エネルギー消費効率の根拠（要件ア）'!$FH$58","v":"別添4_41_19"},{"$f":"'（別添４）エネルギー消費効率の根拠（要件ア）'!$FH$59","v":"別添4_41_20"},{"$f":"'（別添４）エネルギー消費効率の根拠（要件ア）'!$FH$60","v":"別添4_41_21"},{"$f":"'（別添４）エネルギー消費効率の根拠（要件ア）'!$FH$61","v":"別添4_41_22"},{"$f":"'（別添４）エネルギー消費効率の根拠（要件ア）'!$FH$62","v":"別添4_41_23"},{"$f":"'（別添４）エネルギー消費効率の根拠（要件ア）'!$FH$63","v":"別添4_41_24"},{"$f":"'（別添４）エネルギー消費効率の根拠（要件ア）'!$FL$40","v":"別添4_42_1"},{"$f":"'（別添４）エネルギー消費効率の根拠（要件ア）'!$FL$41","v":"別添4_42_2"},{"$f":"'（別添４）エネルギー消費効率の根拠（要件ア）'!$FL$42","v":"別添4_42_3"},{"$f":"'（別添４）エネルギー消費効率の根拠（要件ア）'!$FL$43","v":"別添4_42_4"},{"$f":"'（別添４）エネルギー消費効率の根拠（要件ア）'!$FL$44","v":"別添4_42_5"},{"$f":"'（別添４）エネルギー消費効率の根拠（要件ア）'!$FL$45","v":"別添4_42_6"},{"$f":"'（別添４）エネルギー消費効率の根拠（要件ア）'!$FL$46","v":"別添4_42_7"},{"$f":"'（別添４）エネルギー消費効率の根拠（要件ア）'!$FL$47","v":"別添4_42_8"},{"$f":"'（別添４）エネルギー消費効率の根拠（要件ア）'!$FL$48","v":"別添4_42_9"},{"$f":"'（別添４）エネルギー消費効率の根拠（要件ア）'!$FL$49","v":"別添4_42_10"},{"$f":"'（別添４）エネルギー消費効率の根拠（要件ア）'!$FL$50","v":"別添4_42_11"},{"$f":"'（別添４）エネルギー消費効率の根拠（要件ア）'!$FL$51","v":"別添4_42_12"},{"$f":"'（別添４）エネルギー消費効率の根拠（要件ア）'!$FL$52","v":"別添4_42_13"},{"$f":"'（別添４）エネルギー消費効率の根拠（要件ア）'!$FL$53","v":"別添4_42_14"},{"$f":"'（別添４）エネルギー消費効率の根拠（要件ア）'!$FL$54","v":"別添4_42_15"},{"$f":"'（別添４）エネルギー消費効率の根拠（要件ア）'!$FL$55","v":"別添4_42_16"},{"$f":"'（別添４）エネルギー消費効率の根拠（要件ア）'!$FL$56","v":"別添4_42_17"},{"$f":"'（別添４）エネルギー消費効率の根拠（要件ア）'!$FL$57","v":"別添4_42_18"},{"$f":"'（別添４）エネルギー消費効率の根拠（要件ア）'!$FL$58","v":"別添4_42_19"},{"$f":"'（別添４）エネルギー消費効率の根拠（要件ア）'!$FL$59","v":"別添4_42_20"},{"$f":"'（別添４）エネルギー消費効率の根拠（要件ア）'!$FL$60","v":"別添4_42_21"},{"$f":"'（別添４）エネルギー消費効率の根拠（要件ア）'!$FL$61","v":"別添4_42_22"},{"$f":"'（別添４）エネルギー消費効率の根拠（要件ア）'!$FL$62","v":"別添4_42_23"},{"$f":"'（別添４）エネルギー消費効率の根拠（要件ア）'!$FL$63","v":"別添4_42_24"},{"$f":"'（別添４）エネルギー消費効率の根拠（要件ア）'!$FP$40","v":"別添4_43_1"},{"$f":"'（別添４）エネルギー消費効率の根拠（要件ア）'!$FP$41","v":"別添4_43_2"},{"$f":"'（別添４）エネルギー消費効率の根拠（要件ア）'!$FP$42","v":"別添4_43_3"},{"$f":"'（別添４）エネルギー消費効率の根拠（要件ア）'!$FP$43","v":"別添4_43_4"},{"$f":"'（別添４）エネルギー消費効率の根拠（要件ア）'!$FP$44","v":"別添4_43_5"},{"$f":"'（別添４）エネルギー消費効率の根拠（要件ア）'!$FP$45","v":"別添4_43_6"},{"$f":"'（別添４）エネルギー消費効率の根拠（要件ア）'!$FP$46","v":"別添4_43_7"},{"$f":"'（別添４）エネルギー消費効率の根拠（要件ア）'!$FP$47","v":"別添4_43_8"},{"$f":"'（別添４）エネルギー消費効率の根拠（要件ア）'!$FP$48","v":"別添4_43_9"},{"$f":"'（別添４）エネルギー消費効率の根拠（要件ア）'!$FP$49","v":"別添4_43_10"},{"$f":"'（別添４）エネルギー消費効率の根拠（要件ア）'!$FP$50","v":"別添4_43_11"},{"$f":"'（別添４）エネルギー消費効率の根拠（要件ア）'!$FP$51","v":"別添4_43_12"},{"$f":"'（別添４）エネルギー消費効率の根拠（要件ア）'!$FP$52","v":"別添4_43_13"},{"$f":"'（別添４）エネルギー消費効率の根拠（要件ア）'!$FP$53","v":"別添4_43_14"},{"$f":"'（別添４）エネルギー消費効率の根拠（要件ア）'!$FP$54","v":"別添4_43_15"},{"$f":"'（別添４）エネルギー消費効率の根拠（要件ア）'!$FP$55","v":"別添4_43_16"},{"$f":"'（別添４）エネルギー消費効率の根拠（要件ア）'!$FP$56","v":"別添4_43_17"},{"$f":"'（別添４）エネルギー消費効率の根拠（要件ア）'!$FP$57","v":"別添4_43_18"},{"$f":"'（別添４）エネルギー消費効率の根拠（要件ア）'!$FP$58","v":"別添4_43_19"},{"$f":"'（別添４）エネルギー消費効率の根拠（要件ア）'!$FP$59","v":"別添4_43_20"},{"$f":"'（別添４）エネルギー消費効率の根拠（要件ア）'!$FP$60","v":"別添4_43_21"},{"$f":"'（別添４）エネルギー消費効率の根拠（要件ア）'!$FP$61","v":"別添4_43_22"},{"$f":"'（別添４）エネルギー消費効率の根拠（要件ア）'!$FP$62","v":"別添4_43_23"},{"$f":"'（別添４）エネルギー消費効率の根拠（要件ア）'!$FP$63","v":"別添4_43_24"},{"$f":"'（別添４）エネルギー消費効率の根拠（要件ア）'!$FT$40","v":"別添4_44_1"},{"$f":"'（別添４）エネルギー消費効率の根拠（要件ア）'!$FT$41","v":"別添4_44_2"},{"$f":"'（別添４）エネルギー消費効率の根拠（要件ア）'!$FT$42","v":"別添4_44_3"},{"$f":"'（別添４）エネルギー消費効率の根拠（要件ア）'!$FT$43","v":"別添4_44_4"},{"$f":"'（別添４）エネルギー消費効率の根拠（要件ア）'!$FT$44","v":"別添4_44_5"},{"$f":"'（別添４）エネルギー消費効率の根拠（要件ア）'!$FT$45","v":"別添4_44_6"},{"$f":"'（別添４）エネルギー消費効率の根拠（要件ア）'!$FT$46","v":"別添4_44_7"},{"$f":"'（別添４）エネルギー消費効率の根拠（要件ア）'!$FT$47","v":"別添4_44_8"},{"$f":"'（別添４）エネルギー消費効率の根拠（要件ア）'!$FT$48","v":"別添4_44_9"},{"$f":"'（別添４）エネルギー消費効率の根拠（要件ア）'!$FT$49","v":"別添4_44_10"},{"$f":"'（別添４）エネルギー消費効率の根拠（要件ア）'!$FT$50","v":"別添4_44_11"},{"$f":"'（別添４）エネルギー消費効率の根拠（要件ア）'!$FT$51","v":"別添4_44_12"},{"$f":"'（別添４）エネルギー消費効率の根拠（要件ア）'!$FT$52","v":"別添4_44_13"},{"$f":"'（別添４）エネルギー消費効率の根拠（要件ア）'!$FT$53","v":"別添4_44_14"},{"$f":"'（別添４）エネルギー消費効率の根拠（要件ア）'!$FT$54","v":"別添4_44_15"},{"$f":"'（別添４）エネルギー消費効率の根拠（要件ア）'!$FT$55","v":"別添4_44_16"},{"$f":"'（別添４）エネルギー消費効率の根拠（要件ア）'!$FT$56","v":"別添4_44_17"},{"$f":"'（別添４）エネルギー消費効率の根拠（要件ア）'!$FT$57","v":"別添4_44_18"},{"$f":"'（別添４）エネルギー消費効率の根拠（要件ア）'!$FT$58","v":"別添4_44_19"},{"$f":"'（別添４）エネルギー消費効率の根拠（要件ア）'!$FT$59","v":"別添4_44_20"},{"$f":"'（別添４）エネルギー消費効率の根拠（要件ア）'!$FT$60","v":"別添4_44_21"},{"$f":"'（別添４）エネルギー消費効率の根拠（要件ア）'!$FT$61","v":"別添4_44_22"},{"$f":"'（別添４）エネルギー消費効率の根拠（要件ア）'!$FT$62","v":"別添4_44_23"},{"$f":"'（別添４）エネルギー消費効率の根拠（要件ア）'!$FT$63","v":"別添4_44_24"},{"$f":"'（別添４）エネルギー消費効率の根拠（要件ア）'!$FX$40","v":"別添4_45_1"},{"$f":"'（別添４）エネルギー消費効率の根拠（要件ア）'!$FX$41","v":"別添4_45_2"},{"$f":"'（別添４）エネルギー消費効率の根拠（要件ア）'!$FX$42","v":"別添4_45_3"},{"$f":"'（別添４）エネルギー消費効率の根拠（要件ア）'!$FX$43","v":"別添4_45_4"},{"$f":"'（別添４）エネルギー消費効率の根拠（要件ア）'!$FX$44","v":"別添4_45_5"},{"$f":"'（別添４）エネルギー消費効率の根拠（要件ア）'!$FX$45","v":"別添4_45_6"},{"$f":"'（別添４）エネルギー消費効率の根拠（要件ア）'!$FX$46","v":"別添4_45_7"},{"$f":"'（別添４）エネルギー消費効率の根拠（要件ア）'!$FX$47","v":"別添4_45_8"},{"$f":"'（別添４）エネルギー消費効率の根拠（要件ア）'!$FX$48","v":"別添4_45_9"},{"$f":"'（別添４）エネルギー消費効率の根拠（要件ア）'!$FX$49","v":"別添4_45_10"},{"$f":"'（別添４）エネルギー消費効率の根拠（要件ア）'!$FX$50","v":"別添4_45_11"},{"$f":"'（別添４）エネルギー消費効率の根拠（要件ア）'!$FX$51","v":"別添4_45_12"},{"$f":"'（別添４）エネルギー消費効率の根拠（要件ア）'!$FX$52","v":"別添4_45_13"},{"$f":"'（別添４）エネルギー消費効率の根拠（要件ア）'!$FX$53","v":"別添4_45_14"},{"$f":"'（別添４）エネルギー消費効率の根拠（要件ア）'!$FX$54","v":"別添4_45_15"},{"$f":"'（別添４）エネルギー消費効率の根拠（要件ア）'!$FX$55","v":"別添4_45_16"},{"$f":"'（別添４）エネルギー消費効率の根拠（要件ア）'!$FX$56","v":"別添4_45_17"},{"$f":"'（別添４）エネルギー消費効率の根拠（要件ア）'!$FX$57","v":"別添4_45_18"},{"$f":"'（別添４）エネルギー消費効率の根拠（要件ア）'!$FX$58","v":"別添4_45_19"},{"$f":"'（別添４）エネルギー消費効率の根拠（要件ア）'!$FX$59","v":"別添4_45_20"},{"$f":"'（別添４）エネルギー消費効率の根拠（要件ア）'!$FX$60","v":"別添4_45_21"},{"$f":"'（別添４）エネルギー消費効率の根拠（要件ア）'!$FX$61","v":"別添4_45_22"},{"$f":"'（別添４）エネルギー消費効率の根拠（要件ア）'!$FX$62","v":"別添4_45_23"},{"$f":"'（別添４）エネルギー消費効率の根拠（要件ア）'!$FX$63","v":"別添4_45_24"},{"$f":"'（別添４）エネルギー消費効率の根拠（要件ア）'!$GB$40","v":"別添4_46_1"},{"$f":"'（別添４）エネルギー消費効率の根拠（要件ア）'!$GB$41","v":"別添4_46_2"},{"$f":"'（別添４）エネルギー消費効率の根拠（要件ア）'!$GB$42","v":"別添4_46_3"},{"$f":"'（別添４）エネルギー消費効率の根拠（要件ア）'!$GB$43","v":"別添4_46_4"},{"$f":"'（別添４）エネルギー消費効率の根拠（要件ア）'!$GB$44","v":"別添4_46_5"},{"$f":"'（別添４）エネルギー消費効率の根拠（要件ア）'!$GB$45","v":"別添4_46_6"},{"$f":"'（別添４）エネルギー消費効率の根拠（要件ア）'!$GB$46","v":"別添4_46_7"},{"$f":"'（別添４）エネルギー消費効率の根拠（要件ア）'!$GB$47","v":"別添4_46_8"},{"$f":"'（別添４）エネルギー消費効率の根拠（要件ア）'!$GB$48","v":"別添4_46_9"},{"$f":"'（別添４）エネルギー消費効率の根拠（要件ア）'!$GB$49","v":"別添4_46_10"},{"$f":"'（別添４）エネルギー消費効率の根拠（要件ア）'!$GB$50","v":"別添4_46_11"},{"$f":"'（別添４）エネルギー消費効率の根拠（要件ア）'!$GB$51","v":"別添4_46_12"},{"$f":"'（別添４）エネルギー消費効率の根拠（要件ア）'!$GB$52","v":"別添4_46_13"},{"$f":"'（別添４）エネルギー消費効率の根拠（要件ア）'!$GB$53","v":"別添4_46_14"},{"$f":"'（別添４）エネルギー消費効率の根拠（要件ア）'!$GB$54","v":"別添4_46_15"},{"$f":"'（別添４）エネルギー消費効率の根拠（要件ア）'!$GB$55","v":"別添4_46_16"},{"$f":"'（別添４）エネルギー消費効率の根拠（要件ア）'!$GB$56","v":"別添4_46_17"},{"$f":"'（別添４）エネルギー消費効率の根拠（要件ア）'!$GB$57","v":"別添4_46_18"},{"$f":"'（別添４）エネルギー消費効率の根拠（要件ア）'!$GB$58","v":"別添4_46_19"},{"$f":"'（別添４）エネルギー消費効率の根拠（要件ア）'!$GB$59","v":"別添4_46_20"},{"$f":"'（別添４）エネルギー消費効率の根拠（要件ア）'!$GB$60","v":"別添4_46_21"},{"$f":"'（別添４）エネルギー消費効率の根拠（要件ア）'!$GB$61","v":"別添4_46_22"},{"$f":"'（別添４）エネルギー消費効率の根拠（要件ア）'!$GB$62","v":"別添4_46_23"},{"$f":"'（別添４）エネルギー消費効率の根拠（要件ア）'!$GB$63","v":"別添4_46_24"},{"$f":"'（別添４）エネルギー消費効率の根拠（要件ア）'!$GF$40","v":"別添4_47_1"},{"$f":"'（別添４）エネルギー消費効率の根拠（要件ア）'!$GF$41","v":"別添4_47_2"},{"$f":"'（別添４）エネルギー消費効率の根拠（要件ア）'!$GF$42","v":"別添4_47_3"},{"$f":"'（別添４）エネルギー消費効率の根拠（要件ア）'!$GF$43","v":"別添4_47_4"},{"$f":"'（別添４）エネルギー消費効率の根拠（要件ア）'!$GF$44","v":"別添4_47_5"},{"$f":"'（別添４）エネルギー消費効率の根拠（要件ア）'!$GF$45","v":"別添4_47_6"},{"$f":"'（別添４）エネルギー消費効率の根拠（要件ア）'!$GF$46","v":"別添4_47_7"},{"$f":"'（別添４）エネルギー消費効率の根拠（要件ア）'!$GF$47","v":"別添4_47_8"},{"$f":"'（別添４）エネルギー消費効率の根拠（要件ア）'!$GF$48","v":"別添4_47_9"},{"$f":"'（別添４）エネルギー消費効率の根拠（要件ア）'!$GF$49","v":"別添4_47_10"},{"$f":"'（別添４）エネルギー消費効率の根拠（要件ア）'!$GF$50","v":"別添4_47_11"},{"$f":"'（別添４）エネルギー消費効率の根拠（要件ア）'!$GF$51","v":"別添4_47_12"},{"$f":"'（別添４）エネルギー消費効率の根拠（要件ア）'!$GF$52","v":"別添4_47_13"},{"$f":"'（別添４）エネルギー消費効率の根拠（要件ア）'!$GF$53","v":"別添4_47_14"},{"$f":"'（別添４）エネルギー消費効率の根拠（要件ア）'!$GF$54","v":"別添4_47_15"},{"$f":"'（別添４）エネルギー消費効率の根拠（要件ア）'!$GF$55","v":"別添4_47_16"},{"$f":"'（別添４）エネルギー消費効率の根拠（要件ア）'!$GF$56","v":"別添4_47_17"},{"$f":"'（別添４）エネルギー消費効率の根拠（要件ア）'!$GF$57","v":"別添4_47_18"},{"$f":"'（別添４）エネルギー消費効率の根拠（要件ア）'!$GF$58","v":"別添4_47_19"},{"$f":"'（別添４）エネルギー消費効率の根拠（要件ア）'!$GF$59","v":"別添4_47_20"},{"$f":"'（別添４）エネルギー消費効率の根拠（要件ア）'!$GF$60","v":"別添4_47_21"},{"$f":"'（別添４）エネルギー消費効率の根拠（要件ア）'!$GF$61","v":"別添4_47_22"},{"$f":"'（別添４）エネルギー消費効率の根拠（要件ア）'!$GF$62","v":"別添4_47_23"},{"$f":"'（別添４）エネルギー消費効率の根拠（要件ア）'!$GF$63","v":"別添4_47_24"},{"$f":"'（別添４）エネルギー消費効率の根拠（要件ア）'!$GJ$40","v":"別添4_48_1"},{"$f":"'（別添４）エネルギー消費効率の根拠（要件ア）'!$GJ$41","v":"別添4_48_2"},{"$f":"'（別添４）エネルギー消費効率の根拠（要件ア）'!$GJ$42","v":"別添4_48_3"},{"$f":"'（別添４）エネルギー消費効率の根拠（要件ア）'!$GJ$43","v":"別添4_48_4"},{"$f":"'（別添４）エネルギー消費効率の根拠（要件ア）'!$GJ$44","v":"別添4_48_5"},{"$f":"'（別添４）エネルギー消費効率の根拠（要件ア）'!$GJ$45","v":"別添4_48_6"},{"$f":"'（別添４）エネルギー消費効率の根拠（要件ア）'!$GJ$46","v":"別添4_48_7"},{"$f":"'（別添４）エネルギー消費効率の根拠（要件ア）'!$GJ$47","v":"別添4_48_8"},{"$f":"'（別添４）エネルギー消費効率の根拠（要件ア）'!$GJ$48","v":"別添4_48_9"},{"$f":"'（別添４）エネルギー消費効率の根拠（要件ア）'!$GJ$49","v":"別添4_48_10"},{"$f":"'（別添４）エネルギー消費効率の根拠（要件ア）'!$GJ$50","v":"別添4_48_11"},{"$f":"'（別添４）エネルギー消費効率の根拠（要件ア）'!$GJ$51","v":"別添4_48_12"},{"$f":"'（別添４）エネルギー消費効率の根拠（要件ア）'!$GJ$52","v":"別添4_48_13"},{"$f":"'（別添４）エネルギー消費効率の根拠（要件ア）'!$GJ$53","v":"別添4_48_14"},{"$f":"'（別添４）エネルギー消費効率の根拠（要件ア）'!$GJ$54","v":"別添4_48_15"},{"$f":"'（別添４）エネルギー消費効率の根拠（要件ア）'!$GJ$55","v":"別添4_48_16"},{"$f":"'（別添４）エネルギー消費効率の根拠（要件ア）'!$GJ$56","v":"別添4_48_17"},{"$f":"'（別添４）エネルギー消費効率の根拠（要件ア）'!$GJ$57","v":"別添4_48_18"},{"$f":"'（別添４）エネルギー消費効率の根拠（要件ア）'!$GJ$58","v":"別添4_48_19"},{"$f":"'（別添４）エネルギー消費効率の根拠（要件ア）'!$GJ$59","v":"別添4_48_20"},{"$f":"'（別添４）エネルギー消費効率の根拠（要件ア）'!$GJ$60","v":"別添4_48_21"},{"$f":"'（別添４）エネルギー消費効率の根拠（要件ア）'!$GJ$61","v":"別添4_48_22"},{"$f":"'（別添４）エネルギー消費効率の根拠（要件ア）'!$GJ$62","v":"別添4_48_23"},{"$f":"'（別添４）エネルギー消費効率の根拠（要件ア）'!$GJ$63","v":"別添4_48_24"},{"$f":"'（別添４）エネルギー消費効率の根拠（要件ア）'!$GN$40","v":"別添4_49_1"},{"$f":"'（別添４）エネルギー消費効率の根拠（要件ア）'!$GN$41","v":"別添4_49_2"},{"$f":"'（別添４）エネルギー消費効率の根拠（要件ア）'!$GN$42","v":"別添4_49_3"},{"$f":"'（別添４）エネルギー消費効率の根拠（要件ア）'!$GN$43","v":"別添4_49_4"},{"$f":"'（別添４）エネルギー消費効率の根拠（要件ア）'!$GN$44","v":"別添4_49_5"},{"$f":"'（別添４）エネルギー消費効率の根拠（要件ア）'!$GN$45","v":"別添4_49_6"},{"$f":"'（別添４）エネルギー消費効率の根拠（要件ア）'!$GN$46","v":"別添4_49_7"},{"$f":"'（別添４）エネルギー消費効率の根拠（要件ア）'!$GN$47","v":"別添4_49_8"},{"$f":"'（別添４）エネルギー消費効率の根拠（要件ア）'!$GN$48","v":"別添4_49_9"},{"$f":"'（別添４）エネルギー消費効率の根拠（要件ア）'!$GN$49","v":"別添4_49_10"},{"$f":"'（別添４）エネルギー消費効率の根拠（要件ア）'!$GN$50","v":"別添4_49_11"},{"$f":"'（別添４）エネルギー消費効率の根拠（要件ア）'!$GN$51","v":"別添4_49_12"},{"$f":"'（別添４）エネルギー消費効率の根拠（要件ア）'!$GN$52","v":"別添4_49_13"},{"$f":"'（別添４）エネルギー消費効率の根拠（要件ア）'!$GN$53","v":"別添4_49_14"},{"$f":"'（別添４）エネルギー消費効率の根拠（要件ア）'!$GN$54","v":"別添4_49_15"},{"$f":"'（別添４）エネルギー消費効率の根拠（要件ア）'!$GN$55","v":"別添4_49_16"},{"$f":"'（別添４）エネルギー消費効率の根拠（要件ア）'!$GN$56","v":"別添4_49_17"},{"$f":"'（別添４）エネルギー消費効率の根拠（要件ア）'!$GN$57","v":"別添4_49_18"},{"$f":"'（別添４）エネルギー消費効率の根拠（要件ア）'!$GN$58","v":"別添4_49_19"},{"$f":"'（別添４）エネルギー消費効率の根拠（要件ア）'!$GN$59","v":"別添4_49_20"},{"$f":"'（別添４）エネルギー消費効率の根拠（要件ア）'!$GN$60","v":"別添4_49_21"},{"$f":"'（別添４）エネルギー消費効率の根拠（要件ア）'!$GN$61","v":"別添4_49_22"},{"$f":"'（別添４）エネルギー消費効率の根拠（要件ア）'!$GN$62","v":"別添4_49_23"},{"$f":"'（別添４）エネルギー消費効率の根拠（要件ア）'!$GN$63","v":"別添4_49_24"},{"$f":"'（別添４）エネルギー消費効率の根拠（要件ア）'!$GR$40","v":"別添4_50_1"},{"$f":"'（別添４）エネルギー消費効率の根拠（要件ア）'!$GR$41","v":"別添4_50_2"},{"$f":"'（別添４）エネルギー消費効率の根拠（要件ア）'!$GR$42","v":"別添4_50_3"},{"$f":"'（別添４）エネルギー消費効率の根拠（要件ア）'!$GR$43","v":"別添4_50_4"},{"$f":"'（別添４）エネルギー消費効率の根拠（要件ア）'!$GR$44","v":"別添4_50_5"},{"$f":"'（別添４）エネルギー消費効率の根拠（要件ア）'!$GR$45","v":"別添4_50_6"},{"$f":"'（別添４）エネルギー消費効率の根拠（要件ア）'!$GR$46","v":"別添4_50_7"},{"$f":"'（別添４）エネルギー消費効率の根拠（要件ア）'!$GR$47","v":"別添4_50_8"},{"$f":"'（別添４）エネルギー消費効率の根拠（要件ア）'!$GR$48","v":"別添4_50_9"},{"$f":"'（別添４）エネルギー消費効率の根拠（要件ア）'!$GR$49","v":"別添4_50_10"},{"$f":"'（別添４）エネルギー消費効率の根拠（要件ア）'!$GR$50","v":"別添4_50_11"},{"$f":"'（別添４）エネルギー消費効率の根拠（要件ア）'!$GR$51","v":"別添4_50_12"},{"$f":"'（別添４）エネルギー消費効率の根拠（要件ア）'!$GR$52","v":"別添4_50_13"},{"$f":"'（別添４）エネルギー消費効率の根拠（要件ア）'!$GR$53","v":"別添4_50_14"},{"$f":"'（別添４）エネルギー消費効率の根拠（要件ア）'!$GR$54","v":"別添4_50_15"},{"$f":"'（別添４）エネルギー消費効率の根拠（要件ア）'!$GR$55","v":"別添4_50_16"},{"$f":"'（別添４）エネルギー消費効率の根拠（要件ア）'!$GR$56","v":"別添4_50_17"},{"$f":"'（別添４）エネルギー消費効率の根拠（要件ア）'!$GR$57","v":"別添4_50_18"},{"$f":"'（別添４）エネルギー消費効率の根拠（要件ア）'!$GR$58","v":"別添4_50_19"},{"$f":"'（別添４）エネルギー消費効率の根拠（要件ア）'!$GR$59","v":"別添4_50_20"},{"$f":"'（別添４）エネルギー消費効率の根拠（要件ア）'!$GR$60","v":"別添4_50_21"},{"$f":"'（別添４）エネルギー消費効率の根拠（要件ア）'!$GR$61","v":"別添4_50_22"},{"$f":"'（別添４）エネルギー消費効率の根拠（要件ア）'!$GR$62","v":"別添4_50_23"},{"$f":"'（別添４）エネルギー消費効率の根拠（要件ア）'!$GR$63","v":"別添4_50_24"},{"$f":"'（別添４）エネルギー消費効率の根拠（要件ア）'!$GV$40","v":"別添4_51_1"},{"$f":"'（別添４）エネルギー消費効率の根拠（要件ア）'!$GV$41","v":"別添4_51_2"},{"$f":"'（別添４）エネルギー消費効率の根拠（要件ア）'!$GV$42","v":"別添4_51_3"},{"$f":"'（別添４）エネルギー消費効率の根拠（要件ア）'!$GV$43","v":"別添4_51_4"},{"$f":"'（別添４）エネルギー消費効率の根拠（要件ア）'!$GV$44","v":"別添4_51_5"},{"$f":"'（別添４）エネルギー消費効率の根拠（要件ア）'!$GV$45","v":"別添4_51_6"},{"$f":"'（別添４）エネルギー消費効率の根拠（要件ア）'!$GV$46","v":"別添4_51_7"},{"$f":"'（別添４）エネルギー消費効率の根拠（要件ア）'!$GV$47","v":"別添4_51_8"},{"$f":"'（別添４）エネルギー消費効率の根拠（要件ア）'!$GV$48","v":"別添4_51_9"},{"$f":"'（別添４）エネルギー消費効率の根拠（要件ア）'!$GV$49","v":"別添4_51_10"},{"$f":"'（別添４）エネルギー消費効率の根拠（要件ア）'!$GV$50","v":"別添4_51_11"},{"$f":"'（別添４）エネルギー消費効率の根拠（要件ア）'!$GV$51","v":"別添4_51_12"},{"$f":"'（別添４）エネルギー消費効率の根拠（要件ア）'!$GV$52","v":"別添4_51_13"},{"$f":"'（別添４）エネルギー消費効率の根拠（要件ア）'!$GV$53","v":"別添4_51_14"},{"$f":"'（別添４）エネルギー消費効率の根拠（要件ア）'!$GV$54","v":"別添4_51_15"},{"$f":"'（別添４）エネルギー消費効率の根拠（要件ア）'!$GV$55","v":"別添4_51_16"},{"$f":"'（別添４）エネルギー消費効率の根拠（要件ア）'!$GV$56","v":"別添4_51_17"},{"$f":"'（別添４）エネルギー消費効率の根拠（要件ア）'!$GV$57","v":"別添4_51_18"},{"$f":"'（別添４）エネルギー消費効率の根拠（要件ア）'!$GV$58","v":"別添4_51_19"},{"$f":"'（別添４）エネルギー消費効率の根拠（要件ア）'!$GV$59","v":"別添4_51_20"},{"$f":"'（別添４）エネルギー消費効率の根拠（要件ア）'!$GV$60","v":"別添4_51_21"},{"$f":"'（別添４）エネルギー消費効率の根拠（要件ア）'!$GV$61","v":"別添4_51_22"},{"$f":"'（別添４）エネルギー消費効率の根拠（要件ア）'!$GV$62","v":"別添4_51_23"},{"$f":"'（別添４）エネルギー消費効率の根拠（要件ア）'!$GV$63","v":"別添4_51_24"},{"$f":"'（別添４）エネルギー消費効率の根拠（要件ア）'!$GZ$40","v":"別添4_52_1"},{"$f":"'（別添４）エネルギー消費効率の根拠（要件ア）'!$GZ$41","v":"別添4_52_2"},{"$f":"'（別添４）エネルギー消費効率の根拠（要件ア）'!$GZ$42","v":"別添4_52_3"},{"$f":"'（別添４）エネルギー消費効率の根拠（要件ア）'!$GZ$43","v":"別添4_52_4"},{"$f":"'（別添４）エネルギー消費効率の根拠（要件ア）'!$GZ$44","v":"別添4_52_5"},{"$f":"'（別添４）エネルギー消費効率の根拠（要件ア）'!$GZ$45","v":"別添4_52_6"},{"$f":"'（別添４）エネルギー消費効率の根拠（要件ア）'!$GZ$46","v":"別添4_52_7"},{"$f":"'（別添４）エネルギー消費効率の根拠（要件ア）'!$GZ$47","v":"別添4_52_8"},{"$f":"'（別添４）エネルギー消費効率の根拠（要件ア）'!$GZ$48","v":"別添4_52_9"},{"$f":"'（別添４）エネルギー消費効率の根拠（要件ア）'!$GZ$49","v":"別添4_52_10"},{"$f":"'（別添４）エネルギー消費効率の根拠（要件ア）'!$GZ$50","v":"別添4_52_11"},{"$f":"'（別添４）エネルギー消費効率の根拠（要件ア）'!$GZ$51","v":"別添4_52_12"},{"$f":"'（別添４）エネルギー消費効率の根拠（要件ア）'!$GZ$52","v":"別添4_52_13"},{"$f":"'（別添４）エネルギー消費効率の根拠（要件ア）'!$GZ$53","v":"別添4_52_14"},{"$f":"'（別添４）エネルギー消費効率の根拠（要件ア）'!$GZ$54","v":"別添4_52_15"},{"$f":"'（別添４）エネルギー消費効率の根拠（要件ア）'!$GZ$55","v":"別添4_52_16"},{"$f":"'（別添４）エネルギー消費効率の根拠（要件ア）'!$GZ$56","v":"別添4_52_17"},{"$f":"'（別添４）エネルギー消費効率の根拠（要件ア）'!$GZ$57","v":"別添4_52_18"},{"$f":"'（別添４）エネルギー消費効率の根拠（要件ア）'!$GZ$58","v":"別添4_52_19"},{"$f":"'（別添４）エネルギー消費効率の根拠（要件ア）'!$GZ$59","v":"別添4_52_20"},{"$f":"'（別添４）エネルギー消費効率の根拠（要件ア）'!$GZ$60","v":"別添4_52_21"},{"$f":"'（別添４）エネルギー消費効率の根拠（要件ア）'!$GZ$61","v":"別添4_52_22"},{"$f":"'（別添４）エネルギー消費効率の根拠（要件ア）'!$GZ$62","v":"別添4_52_23"},{"$f":"'（別添４）エネルギー消費効率の根拠（要件ア）'!$GZ$63","v":"別添4_52_24"},{"$f":"'（別添４）エネルギー消費効率の根拠（要件ア）'!$HD$40","v":"別添4_53_1"},{"$f":"'（別添４）エネルギー消費効率の根拠（要件ア）'!$HD$41","v":"別添4_53_2"},{"$f":"'（別添４）エネルギー消費効率の根拠（要件ア）'!$HD$42","v":"別添4_53_3"},{"$f":"'（別添４）エネルギー消費効率の根拠（要件ア）'!$HD$43","v":"別添4_53_4"},{"$f":"'（別添４）エネルギー消費効率の根拠（要件ア）'!$HD$44","v":"別添4_53_5"},{"$f":"'（別添４）エネルギー消費効率の根拠（要件ア）'!$HD$45","v":"別添4_53_6"},{"$f":"'（別添４）エネルギー消費効率の根拠（要件ア）'!$HD$46","v":"別添4_53_7"},{"$f":"'（別添４）エネルギー消費効率の根拠（要件ア）'!$HD$47","v":"別添4_53_8"},{"$f":"'（別添４）エネルギー消費効率の根拠（要件ア）'!$HD$48","v":"別添4_53_9"},{"$f":"'（別添４）エネルギー消費効率の根拠（要件ア）'!$HD$49","v":"別添4_53_10"},{"$f":"'（別添４）エネルギー消費効率の根拠（要件ア）'!$HD$50","v":"別添4_53_11"},{"$f":"'（別添４）エネルギー消費効率の根拠（要件ア）'!$HD$51","v":"別添4_53_12"},{"$f":"'（別添４）エネルギー消費効率の根拠（要件ア）'!$HD$52","v":"別添4_53_13"},{"$f":"'（別添４）エネルギー消費効率の根拠（要件ア）'!$HD$53","v":"別添4_53_14"},{"$f":"'（別添４）エネルギー消費効率の根拠（要件ア）'!$HD$54","v":"別添4_53_15"},{"$f":"'（別添４）エネルギー消費効率の根拠（要件ア）'!$HD$55","v":"別添4_53_16"},{"$f":"'（別添４）エネルギー消費効率の根拠（要件ア）'!$HD$56","v":"別添4_53_17"},{"$f":"'（別添４）エネルギー消費効率の根拠（要件ア）'!$HD$57","v":"別添4_53_18"},{"$f":"'（別添４）エネルギー消費効率の根拠（要件ア）'!$HD$58","v":"別添4_53_19"},{"$f":"'（別添４）エネルギー消費効率の根拠（要件ア）'!$HD$59","v":"別添4_53_20"},{"$f":"'（別添４）エネルギー消費効率の根拠（要件ア）'!$HD$60","v":"別添4_53_21"},{"$f":"'（別添４）エネルギー消費効率の根拠（要件ア）'!$HD$61","v":"別添4_53_22"},{"$f":"'（別添４）エネルギー消費効率の根拠（要件ア）'!$HD$62","v":"別添4_53_23"},{"$f":"'（別添４）エネルギー消費効率の根拠（要件ア）'!$HD$63","v":"別添4_53_24"},{"$f":"'（別添４）エネルギー消費効率の根拠（要件ア）'!$HH$40","v":"別添4_54_1"},{"$f":"'（別添４）エネルギー消費効率の根拠（要件ア）'!$HH$41","v":"別添4_54_2"},{"$f":"'（別添４）エネルギー消費効率の根拠（要件ア）'!$HH$42","v":"別添4_54_3"},{"$f":"'（別添４）エネルギー消費効率の根拠（要件ア）'!$HH$43","v":"別添4_54_4"},{"$f":"'（別添４）エネルギー消費効率の根拠（要件ア）'!$HH$44","v":"別添4_54_5"},{"$f":"'（別添４）エネルギー消費効率の根拠（要件ア）'!$HH$45","v":"別添4_54_6"},{"$f":"'（別添４）エネルギー消費効率の根拠（要件ア）'!$HH$46","v":"別添4_54_7"},{"$f":"'（別添４）エネルギー消費効率の根拠（要件ア）'!$HH$47","v":"別添4_54_8"},{"$f":"'（別添４）エネルギー消費効率の根拠（要件ア）'!$HH$48","v":"別添4_54_9"},{"$f":"'（別添４）エネルギー消費効率の根拠（要件ア）'!$HH$49","v":"別添4_54_10"},{"$f":"'（別添４）エネルギー消費効率の根拠（要件ア）'!$HH$50","v":"別添4_54_11"},{"$f":"'（別添４）エネルギー消費効率の根拠（要件ア）'!$HH$51","v":"別添4_54_12"},{"$f":"'（別添４）エネルギー消費効率の根拠（要件ア）'!$HH$52","v":"別添4_54_13"},{"$f":"'（別添４）エネルギー消費効率の根拠（要件ア）'!$HH$53","v":"別添4_54_14"},{"$f":"'（別添４）エネルギー消費効率の根拠（要件ア）'!$HH$54","v":"別添4_54_15"},{"$f":"'（別添４）エネルギー消費効率の根拠（要件ア）'!$HH$55","v":"別添4_54_16"},{"$f":"'（別添４）エネルギー消費効率の根拠（要件ア）'!$HH$56","v":"別添4_54_17"},{"$f":"'（別添４）エネルギー消費効率の根拠（要件ア）'!$HH$57","v":"別添4_54_18"},{"$f":"'（別添４）エネルギー消費効率の根拠（要件ア）'!$HH$58","v":"別添4_54_19"},{"$f":"'（別添４）エネルギー消費効率の根拠（要件ア）'!$HH$59","v":"別添4_54_20"},{"$f":"'（別添４）エネルギー消費効率の根拠（要件ア）'!$HH$60","v":"別添4_54_21"},{"$f":"'（別添４）エネルギー消費効率の根拠（要件ア）'!$HH$61","v":"別添4_54_22"},{"$f":"'（別添４）エネルギー消費効率の根拠（要件ア）'!$HH$62","v":"別添4_54_23"},{"$f":"'（別添４）エネルギー消費効率の根拠（要件ア）'!$HH$63","v":"別添4_54_24"},{"$f":"'（別添４）エネルギー消費効率の根拠（要件ア）'!$HL$40","v":"別添4_55_1"},{"$f":"'（別添４）エネルギー消費効率の根拠（要件ア）'!$HL$41","v":"別添4_55_2"},{"$f":"'（別添４）エネルギー消費効率の根拠（要件ア）'!$HL$42","v":"別添4_55_3"},{"$f":"'（別添４）エネルギー消費効率の根拠（要件ア）'!$HL$43","v":"別添4_55_4"},{"$f":"'（別添４）エネルギー消費効率の根拠（要件ア）'!$HL$44","v":"別添4_55_5"},{"$f":"'（別添４）エネルギー消費効率の根拠（要件ア）'!$HL$45","v":"別添4_55_6"},{"$f":"'（別添４）エネルギー消費効率の根拠（要件ア）'!$HL$46","v":"別添4_55_7"},{"$f":"'（別添４）エネルギー消費効率の根拠（要件ア）'!$HL$47","v":"別添4_55_8"},{"$f":"'（別添４）エネルギー消費効率の根拠（要件ア）'!$HL$48","v":"別添4_55_9"},{"$f":"'（別添４）エネルギー消費効率の根拠（要件ア）'!$HL$49","v":"別添4_55_10"},{"$f":"'（別添４）エネルギー消費効率の根拠（要件ア）'!$HL$50","v":"別添4_55_11"},{"$f":"'（別添４）エネルギー消費効率の根拠（要件ア）'!$HL$51","v":"別添4_55_12"},{"$f":"'（別添４）エネルギー消費効率の根拠（要件ア）'!$HL$52","v":"別添4_55_13"},{"$f":"'（別添４）エネルギー消費効率の根拠（要件ア）'!$HL$53","v":"別添4_55_14"},{"$f":"'（別添４）エネルギー消費効率の根拠（要件ア）'!$HL$54","v":"別添4_55_15"},{"$f":"'（別添４）エネルギー消費効率の根拠（要件ア）'!$HL$55","v":"別添4_55_16"},{"$f":"'（別添４）エネルギー消費効率の根拠（要件ア）'!$HL$56","v":"別添4_55_17"},{"$f":"'（別添４）エネルギー消費効率の根拠（要件ア）'!$HL$57","v":"別添4_55_18"},{"$f":"'（別添４）エネルギー消費効率の根拠（要件ア）'!$HL$58","v":"別添4_55_19"},{"$f":"'（別添４）エネルギー消費効率の根拠（要件ア）'!$HL$59","v":"別添4_55_20"},{"$f":"'（別添４）エネルギー消費効率の根拠（要件ア）'!$HL$60","v":"別添4_55_21"},{"$f":"'（別添４）エネルギー消費効率の根拠（要件ア）'!$HL$61","v":"別添4_55_22"},{"$f":"'（別添４）エネルギー消費効率の根拠（要件ア）'!$HL$62","v":"別添4_55_23"},{"$f":"'（別添４）エネルギー消費効率の根拠（要件ア）'!$HL$63","v":"別添4_55_24"},{"$f":"'（別添４）エネルギー消費効率の根拠（要件ア）'!$HP$40","v":"別添4_56_1"},{"$f":"'（別添４）エネルギー消費効率の根拠（要件ア）'!$HP$41","v":"別添4_56_2"},{"$f":"'（別添４）エネルギー消費効率の根拠（要件ア）'!$HP$42","v":"別添4_56_3"},{"$f":"'（別添４）エネルギー消費効率の根拠（要件ア）'!$HP$43","v":"別添4_56_4"},{"$f":"'（別添４）エネルギー消費効率の根拠（要件ア）'!$HP$44","v":"別添4_56_5"},{"$f":"'（別添４）エネルギー消費効率の根拠（要件ア）'!$HP$45","v":"別添4_56_6"},{"$f":"'（別添４）エネルギー消費効率の根拠（要件ア）'!$HP$46","v":"別添4_56_7"},{"$f":"'（別添４）エネルギー消費効率の根拠（要件ア）'!$HP$47","v":"別添4_56_8"},{"$f":"'（別添４）エネルギー消費効率の根拠（要件ア）'!$HP$48","v":"別添4_56_9"},{"$f":"'（別添４）エネルギー消費効率の根拠（要件ア）'!$HP$49","v":"別添4_56_10"},{"$f":"'（別添４）エネルギー消費効率の根拠（要件ア）'!$HP$50","v":"別添4_56_11"},{"$f":"'（別添４）エネルギー消費効率の根拠（要件ア）'!$HP$51","v":"別添4_56_12"},{"$f":"'（別添４）エネルギー消費効率の根拠（要件ア）'!$HP$52","v":"別添4_56_13"},{"$f":"'（別添４）エネルギー消費効率の根拠（要件ア）'!$HP$53","v":"別添4_56_14"},{"$f":"'（別添４）エネルギー消費効率の根拠（要件ア）'!$HP$54","v":"別添4_56_15"},{"$f":"'（別添４）エネルギー消費効率の根拠（要件ア）'!$HP$55","v":"別添4_56_16"},{"$f":"'（別添４）エネルギー消費効率の根拠（要件ア）'!$HP$56","v":"別添4_56_17"},{"$f":"'（別添４）エネルギー消費効率の根拠（要件ア）'!$HP$57","v":"別添4_56_18"},{"$f":"'（別添４）エネルギー消費効率の根拠（要件ア）'!$HP$58","v":"別添4_56_19"},{"$f":"'（別添４）エネルギー消費効率の根拠（要件ア）'!$HP$59","v":"別添4_56_20"},{"$f":"'（別添４）エネルギー消費効率の根拠（要件ア）'!$HP$60","v":"別添4_56_21"},{"$f":"'（別添４）エネルギー消費効率の根拠（要件ア）'!$HP$61","v":"別添4_56_22"},{"$f":"'（別添４）エネルギー消費効率の根拠（要件ア）'!$HP$62","v":"別添4_56_23"},{"$f":"'（別添４）エネルギー消費効率の根拠（要件ア）'!$HP$63","v":"別添4_56_24"},{"$f":"'（別添４）エネルギー消費効率の根拠（要件ア）'!$HT$40","v":"別添4_57_1"},{"$f":"'（別添４）エネルギー消費効率の根拠（要件ア）'!$HT$41","v":"別添4_57_2"},{"$f":"'（別添４）エネルギー消費効率の根拠（要件ア）'!$HT$42","v":"別添4_57_3"},{"$f":"'（別添４）エネルギー消費効率の根拠（要件ア）'!$HT$43","v":"別添4_57_4"},{"$f":"'（別添４）エネルギー消費効率の根拠（要件ア）'!$HT$44","v":"別添4_57_5"},{"$f":"'（別添４）エネルギー消費効率の根拠（要件ア）'!$HT$45","v":"別添4_57_6"},{"$f":"'（別添４）エネルギー消費効率の根拠（要件ア）'!$HT$46","v":"別添4_57_7"},{"$f":"'（別添４）エネルギー消費効率の根拠（要件ア）'!$HT$47","v":"別添4_57_8"},{"$f":"'（別添４）エネルギー消費効率の根拠（要件ア）'!$HT$48","v":"別添4_57_9"},{"$f":"'（別添４）エネルギー消費効率の根拠（要件ア）'!$HT$49","v":"別添4_57_10"},{"$f":"'（別添４）エネルギー消費効率の根拠（要件ア）'!$HT$50","v":"別添4_57_11"},{"$f":"'（別添４）エネルギー消費効率の根拠（要件ア）'!$HT$51","v":"別添4_57_12"},{"$f":"'（別添４）エネルギー消費効率の根拠（要件ア）'!$HT$52","v":"別添4_57_13"},{"$f":"'（別添４）エネルギー消費効率の根拠（要件ア）'!$HT$53","v":"別添4_57_14"},{"$f":"'（別添４）エネルギー消費効率の根拠（要件ア）'!$HT$54","v":"別添4_57_15"},{"$f":"'（別添４）エネルギー消費効率の根拠（要件ア）'!$HT$55","v":"別添4_57_16"},{"$f":"'（別添４）エネルギー消費効率の根拠（要件ア）'!$HT$56","v":"別添4_57_17"},{"$f":"'（別添４）エネルギー消費効率の根拠（要件ア）'!$HT$57","v":"別添4_57_18"},{"$f":"'（別添４）エネルギー消費効率の根拠（要件ア）'!$HT$58","v":"別添4_57_19"},{"$f":"'（別添４）エネルギー消費効率の根拠（要件ア）'!$HT$59","v":"別添4_57_20"},{"$f":"'（別添４）エネルギー消費効率の根拠（要件ア）'!$HT$60","v":"別添4_57_21"},{"$f":"'（別添４）エネルギー消費効率の根拠（要件ア）'!$HT$61","v":"別添4_57_22"},{"$f":"'（別添４）エネルギー消費効率の根拠（要件ア）'!$HT$62","v":"別添4_57_23"},{"$f":"'（別添４）エネルギー消費効率の根拠（要件ア）'!$HT$63","v":"別添4_57_24"},{"$f":"'（別添４）エネルギー消費効率の根拠（要件ア）'!$HX$40","v":"別添4_58_1"},{"$f":"'（別添４）エネルギー消費効率の根拠（要件ア）'!$HX$41","v":"別添4_58_2"},{"$f":"'（別添４）エネルギー消費効率の根拠（要件ア）'!$HX$42","v":"別添4_58_3"},{"$f":"'（別添４）エネルギー消費効率の根拠（要件ア）'!$HX$43","v":"別添4_58_4"},{"$f":"'（別添４）エネルギー消費効率の根拠（要件ア）'!$HX$44","v":"別添4_58_5"},{"$f":"'（別添４）エネルギー消費効率の根拠（要件ア）'!$HX$45","v":"別添4_58_6"},{"$f":"'（別添４）エネルギー消費効率の根拠（要件ア）'!$HX$46","v":"別添4_58_7"},{"$f":"'（別添４）エネルギー消費効率の根拠（要件ア）'!$HX$47","v":"別添4_58_8"},{"$f":"'（別添４）エネルギー消費効率の根拠（要件ア）'!$HX$48","v":"別添4_58_9"},{"$f":"'（別添４）エネルギー消費効率の根拠（要件ア）'!$HX$49","v":"別添4_58_10"},{"$f":"'（別添４）エネルギー消費効率の根拠（要件ア）'!$HX$50","v":"別添4_58_11"},{"$f":"'（別添４）エネルギー消費効率の根拠（要件ア）'!$HX$51","v":"別添4_58_12"},{"$f":"'（別添４）エネルギー消費効率の根拠（要件ア）'!$HX$52","v":"別添4_58_13"},{"$f":"'（別添４）エネルギー消費効率の根拠（要件ア）'!$HX$53","v":"別添4_58_14"},{"$f":"'（別添４）エネルギー消費効率の根拠（要件ア）'!$HX$54","v":"別添4_58_15"},{"$f":"'（別添４）エネルギー消費効率の根拠（要件ア）'!$HX$55","v":"別添4_58_16"},{"$f":"'（別添４）エネルギー消費効率の根拠（要件ア）'!$HX$56","v":"別添4_58_17"},{"$f":"'（別添４）エネルギー消費効率の根拠（要件ア）'!$HX$57","v":"別添4_58_18"},{"$f":"'（別添４）エネルギー消費効率の根拠（要件ア）'!$HX$58","v":"別添4_58_19"},{"$f":"'（別添４）エネルギー消費効率の根拠（要件ア）'!$HX$59","v":"別添4_58_20"},{"$f":"'（別添４）エネルギー消費効率の根拠（要件ア）'!$HX$60","v":"別添4_58_21"},{"$f":"'（別添４）エネルギー消費効率の根拠（要件ア）'!$HX$61","v":"別添4_58_22"},{"$f":"'（別添４）エネルギー消費効率の根拠（要件ア）'!$HX$62","v":"別添4_58_23"},{"$f":"'（別添４）エネルギー消費効率の根拠（要件ア）'!$HX$63","v":"別添4_58_24"},{"$f":"'（別添４）エネルギー消費効率の根拠（要件ア）'!$IB$40","v":"別添4_59_1"},{"$f":"'（別添４）エネルギー消費効率の根拠（要件ア）'!$IB$41","v":"別添4_59_2"},{"$f":"'（別添４）エネルギー消費効率の根拠（要件ア）'!$IB$42","v":"別添4_59_3"},{"$f":"'（別添４）エネルギー消費効率の根拠（要件ア）'!$IB$43","v":"別添4_59_4"},{"$f":"'（別添４）エネルギー消費効率の根拠（要件ア）'!$IB$44","v":"別添4_59_5"},{"$f":"'（別添４）エネルギー消費効率の根拠（要件ア）'!$IB$45","v":"別添4_59_6"},{"$f":"'（別添４）エネルギー消費効率の根拠（要件ア）'!$IB$46","v":"別添4_59_7"},{"$f":"'（別添４）エネルギー消費効率の根拠（要件ア）'!$IB$47","v":"別添4_59_8"},{"$f":"'（別添４）エネルギー消費効率の根拠（要件ア）'!$IB$48","v":"別添4_59_9"},{"$f":"'（別添４）エネルギー消費効率の根拠（要件ア）'!$IB$49","v":"別添4_59_10"},{"$f":"'（別添４）エネルギー消費効率の根拠（要件ア）'!$IB$50","v":"別添4_59_11"},{"$f":"'（別添４）エネルギー消費効率の根拠（要件ア）'!$IB$51","v":"別添4_59_12"},{"$f":"'（別添４）エネルギー消費効率の根拠（要件ア）'!$IB$52","v":"別添4_59_13"},{"$f":"'（別添４）エネルギー消費効率の根拠（要件ア）'!$IB$53","v":"別添4_59_14"},{"$f":"'（別添４）エネルギー消費効率の根拠（要件ア）'!$IB$54","v":"別添4_59_15"},{"$f":"'（別添４）エネルギー消費効率の根拠（要件ア）'!$IB$55","v":"別添4_59_16"},{"$f":"'（別添４）エネルギー消費効率の根拠（要件ア）'!$IB$56","v":"別添4_59_17"},{"$f":"'（別添４）エネルギー消費効率の根拠（要件ア）'!$IB$57","v":"別添4_59_18"},{"$f":"'（別添４）エネルギー消費効率の根拠（要件ア）'!$IB$58","v":"別添4_59_19"},{"$f":"'（別添４）エネルギー消費効率の根拠（要件ア）'!$IB$59","v":"別添4_59_20"},{"$f":"'（別添４）エネルギー消費効率の根拠（要件ア）'!$IB$60","v":"別添4_59_21"},{"$f":"'（別添４）エネルギー消費効率の根拠（要件ア）'!$IB$61","v":"別添4_59_22"},{"$f":"'（別添４）エネルギー消費効率の根拠（要件ア）'!$IB$62","v":"別添4_59_23"},{"$f":"'（別添４）エネルギー消費効率の根拠（要件ア）'!$IB$63","v":"別添4_59_24"},{"$f":"'（別添４）エネルギー消費効率の根拠（要件ア）'!$IF$40","v":"別添4_60_1"},{"$f":"'（別添４）エネルギー消費効率の根拠（要件ア）'!$IF$41","v":"別添4_60_2"},{"$f":"'（別添４）エネルギー消費効率の根拠（要件ア）'!$IF$42","v":"別添4_60_3"},{"$f":"'（別添４）エネルギー消費効率の根拠（要件ア）'!$IF$43","v":"別添4_60_4"},{"$f":"'（別添４）エネルギー消費効率の根拠（要件ア）'!$IF$44","v":"別添4_60_5"},{"$f":"'（別添４）エネルギー消費効率の根拠（要件ア）'!$IF$45","v":"別添4_60_6"},{"$f":"'（別添４）エネルギー消費効率の根拠（要件ア）'!$IF$46","v":"別添4_60_7"},{"$f":"'（別添４）エネルギー消費効率の根拠（要件ア）'!$IF$47","v":"別添4_60_8"},{"$f":"'（別添４）エネルギー消費効率の根拠（要件ア）'!$IF$48","v":"別添4_60_9"},{"$f":"'（別添４）エネルギー消費効率の根拠（要件ア）'!$IF$49","v":"別添4_60_10"},{"$f":"'（別添４）エネルギー消費効率の根拠（要件ア）'!$IF$50","v":"別添4_60_11"},{"$f":"'（別添４）エネルギー消費効率の根拠（要件ア）'!$IF$51","v":"別添4_60_12"},{"$f":"'（別添４）エネルギー消費効率の根拠（要件ア）'!$IF$52","v":"別添4_60_13"},{"$f":"'（別添４）エネルギー消費効率の根拠（要件ア）'!$IF$53","v":"別添4_60_14"},{"$f":"'（別添４）エネルギー消費効率の根拠（要件ア）'!$IF$54","v":"別添4_60_15"},{"$f":"'（別添４）エネルギー消費効率の根拠（要件ア）'!$IF$55","v":"別添4_60_16"},{"$f":"'（別添４）エネルギー消費効率の根拠（要件ア）'!$IF$56","v":"別添4_60_17"},{"$f":"'（別添４）エネルギー消費効率の根拠（要件ア）'!$IF$57","v":"別添4_60_18"},{"$f":"'（別添４）エネルギー消費効率の根拠（要件ア）'!$IF$58","v":"別添4_60_19"},{"$f":"'（別添４）エネルギー消費効率の根拠（要件ア）'!$IF$59","v":"別添4_60_20"},{"$f":"'（別添４）エネルギー消費効率の根拠（要件ア）'!$IF$60","v":"別添4_60_21"},{"$f":"'（別添４）エネルギー消費効率の根拠（要件ア）'!$IF$61","v":"別添4_60_22"},{"$f":"'（別添４）エネルギー消費効率の根拠（要件ア）'!$IF$62","v":"別添4_60_23"},{"$f":"'（別添４）エネルギー消費効率の根拠（要件ア）'!$IF$63","v":"別添4_60_24"},{"$f":"'（別添５）エネルギー消費原単位の改善根拠（要件イ）'!$CA$4","v":"別添5_G8"},{"$f":"'（別添５）エネルギー消費原単位の改善根拠（要件イ）'!$CA$5","v":"別添5_G19"},{"$f":"'（別添５）エネルギー消費原単位の改善根拠（要件イ）'!$CA$6","v":"別添5_O35"},{"$f":"'（別添５）エネルギー消費原単位の改善根拠（要件イ）'!$CA$7","v":"別添5_O32"},{"$f":"'（別添５）エネルギー消費原単位の改善根拠（要件イ）'!$CA$8","v":"別添5_H31"},{"$f":"'（別添５）エネルギー消費原単位の改善根拠（要件イ）'!$CA$9","v":"別添5_G40"},{"$f":"'（別添５）エネルギー消費原単位の改善根拠（要件イ）'!$CA$10","v":"別添5_G51"},{"$f":"'（別添５）エネルギー消費原単位の改善根拠（要件イ）'!$CA$11","v":"別添5_O67"},{"$f":"'（別添５）エネルギー消費原単位の改善根拠（要件イ）'!$CA$12","v":"別添5_O64"},{"$f":"'（別添５）エネルギー消費原単位の改善根拠（要件イ）'!$CA$13","v":"別添5_H63"},{"$f":"'（別添５）エネルギー消費原単位の改善根拠（要件イ）'!$CA$14","v":"別添5_H71"},{"$f":"'（別添５）エネルギー消費原単位の改善根拠（要件イ）'!$CA$15","v":"別添5_H79"},{"$f":"'（別添６）省エネルギー取組の根拠（要件ウ）'!$CS$3","v":"別添6_G8"},{"$f":"'（別添６）省エネルギー取組の根拠（要件ウ）'!$CS$4","v":"別添6_G14"},{"$f":"'（別添６）省エネルギー取組の根拠（要件ウ）'!$CS$5","v":"別添6_G18"},{"$f":"'（別添６）省エネルギー取組の根拠（要件ウ）'!$CS$6","v":"別添6_G22"},{"$f":"'（別添６）省エネルギー取組の根拠（要件ウ）'!$CS$7","v":"別添6_G28"},{"$f":"'（別添６）省エネルギー取組の根拠（要件ウ）'!$CS$8","v":"別添6_G32"},{"$f":"'（別添６）省エネルギー取組の根拠（要件ウ）'!$CS$9","v":"別添6_G36"},{"$f":"'（別添６）省エネルギー取組の根拠（要件ウ）'!$CS$10","v":"別添6_Y42"},{"$f":"'（別添６）省エネルギー取組の根拠（要件ウ）'!$CS$11","v":"別添6_Y43"}]
[{"$f":"ROW()-1","v":2},{"$f":"'（様式第１）融資計画書'!$BA$4","v":"様式第1_N6"},{"$f":"'（様式第１）融資計画書'!$BB$4","v":"月"},{"$f":"'（様式第１）融資計画書'!$BC$4","v":""},null,null,null,null,"項目",{"$f":"'（様式第１）融資計画書'!$BB$3","v":"年"},{"$f":"'（様式第１）融資計画書'!$BB$4","v":"月"},{"$f":"'（様式第１）融資計画書'!$BB$5","v":"日"},{"$f":"'（様式第１）融資計画書'!$BB$6","v":"指定金融機関_住所"},{"$f":"'（様式第１）融資計画書'!$BB$7","v":"指定金融機関_名称"},{"$f":"'（様式第１）融資計画書'!$BB$8","v":"指定金融機関_役職名"},{"$f":"'（様式第１）融資計画書'!$BB$9","v":"指定金融機関_代表者名"},{"$f":"'（様式第１）融資計画書'!$BB$10","v":"利子補給対象事業者_住所"},{"$f":"'（様式第１）融資計画書'!$BB$11","v":"利子補給対象事業者_名称"},{"$f":"'（様式第１）融資計画書'!$BB$12","v":"利子補給対象事業者_役職名"},{"$f":"'（様式第１）融資計画書'!$BB$13","v":"利子補給対象事業者_代表者名"},{"$f":"'（様式第１）融資計画書'!$BB$14","v":"融資名称"},{"$f":"'（様式第１）融資計画書'!$BB$15","v":"融資計画の内容"},"融資額","元金均等返済額","最終弁済額","融資期間_自：","融資期間_至：","融資利率","内　交付対象融資額","元金均等返済額","最終弁済額","交付対象融資期間_自：","交付対象融資期間_至：","利子補給率","利子補給金交付申請額（円）合計_単位期間Ⅰ","利子補給金交付申請額（円）合計_単位期間Ⅱ","利子補給金交付申請額合計（円）","融資備考欄","協調融資","シンジケートローン","事業者名","設備等利用者名","都道府県","市区町村","丁目・番地","業種大分類","業種分類項目名","資本金","従業員数","企業の内容","企業の規模","都道府県","市区町村","丁目・番地","対象要件１","対象要件２","設備導入区分１","設備導入区分2","導入設備の概要","対象事業の概要","経営革新計画の承認有無","経営革新計画の承認取得年",{"$f":"'（別添１）融資計画詳細３'!$BC$3","v":"指定金融機関_担当部署等"},{"$f":"'（別添１）融資計画詳細３'!$BC$4","v":"指定金融機関_担当者名"},{"$f":"'（別添１）融資計画詳細３'!$BC$5","v":"指定金融機関_連絡先電話番号"},{"$f":"'（別添１）融資計画詳細３'!$BC$6","v":"指定金融機関_連絡先E-MAIL"},{"$f":"'（別添１）融資計画詳細３'!$BC$7","v":"利子補給対象事業者_担当部署等"},{"$f":"'（別添１）融資計画詳細３'!$BC$8","v":"利子補給対象事業者_担当者名"},{"$f":"'（別添１）融資計画詳細３'!$BC$9","v":"利子補給対象事業者_連絡先電話番号"},{"$f":"'（別添１）融資計画詳細３'!$BC$10","v":"利子補給対象事業者_連絡先E-MAIL"},"受付番号","年","月","日","指定金融機関_住所","指定金融機関_名称","指定金融機関_役職","指定金融機関_代表者名","交付方針決定日","交付方針決定通知番号","利子補給対象事業者名","融資名称","利子補給金交付申請額","交付対象融資の内容","融資額","元金均等返済額","最終弁済額","融資期間_自：","融資期間_至：","融資利率","内　交付対象融資額","元金均等返済額","最終弁済額","交付対象融資期間_自：","交付対象融資期間_至：","利子補給率","利子補給金交付申請額（円）合計_単位期間Ⅰ","利子補給金交付申請額（円）合計_単位期間Ⅱ","利子補給金交付申請額合計（円）","融資備考欄","協調融資","シンジケートローン","事業者名","設備等利用者名","都道府県","市区町村","丁目・番地","業種大分類","業種分類項目名","資本金","従業員数","企業の内容","企業の規模","都道府県","市区町村","丁目・番地","対象要件１","対象要件２","設備導入区分１","設備導入区分2","導入設備の概要","対象事業の概要","年","月","日","指定金融機関_住所","指定金融機関_名称","指定金融機関_役職","指定金融機関_代表者名","交付決定日","交付決定番号","利子補給対象事業者名","融資名称","利子補給金額","交付対象融資の内容","融資額","元金均等返済額","最終弁済額","融資期間_自：","融資期間_至：","融資利率","内　交付対象融資額","元金均等返済額","最終弁済額","交付対象融資期間_自：","交付対象融資期間_至：","利子補給率","利子補給金交付申請額（円）合計_単位期間Ⅰ","利子補給金交付申請額（円）合計_単位期間Ⅱ","利子補給金交付申請額合計（円）","融資備考欄","協調融資","シンジケートローン","事業者名","設備等利用者名","都道府県","市区町村","丁目・番地","業種大分類","業種分類項目名","資本金","従業員数","企業の内容","企業の規模","都道府県","市区町村","丁目・番地","対象要件１","対象要件２","設備導入区分１","設備導入区分2","導入設備の概要","対象事業の概要","給与支給総額の伸び率が年平均1.5%を達成できているか","未達成の事由","未達成の事由（その他）","年","月","日","指定金融機関_住所","指定金融機関_名称","指定金融機関_役職","指定金融機関_代表者名","交付決定日","交付決定番号","利子補給対象事業者名","融資名称","利子補給金概算払請求金額","金融機関名","銀行コード\n（4桁）","支店名","支店コード\n（3桁）","預金の種別","口座番号\n（7桁）","預金の名義","預金の名義\n（ｶﾅ）","年","月","日","指定金融機関_住所","指定金融機関_名称","指定金融機関_役職","指定金融機関_代表者名","交付決定日","交付決定番号","利子補給対象事業者名","融資名称","利子補給金概算払請求金額","金融機関名","銀行コード\n（4桁）","支店名","支店コード\n（3桁）","預金の種別","口座番号\n（7桁）","預金の名義","預金の名義\n（ｶﾅ）","年間見込み省エネルギー率[%]","年間見込み省エネルギー量[kl]",{"$f":"'（別添４）エネルギー消費効率の根拠（要件ア）'!$E$40","v":"トップランナー基準"},{"$f":"'（別添４）エネルギー消費効率の根拠（要件ア）'!$E$41","v":"トップランナー基準の区分名又は数値"},{"$f":"'（別添４）エネルギー消費効率の根拠（要件ア）'!$E$42","v":"トップランナー基準の数値（導入設備）"},{"$f":"'（別添４）エネルギー消費効率の根拠（要件ア）'!$E$43","v":"比較指標/トップランナー基準"},{"$f":"'（別添４）エネルギー消費効率の根拠（要件ア）'!$E$44","v":"添付資料の根拠記載箇所"},{"$f":"'（別添４）エネルギー消費効率の根拠（要件ア）'!$E$45","v":"省エネ要因"},{"$f":"'（別添４）エネルギー消費効率の根拠（要件ア）'!$E$46","v":"導入設備_製品名"},{"$f":"'（別添４）エネルギー消費効率の根拠（要件ア）'!$E$47","v":"導入設備_製造メーカー"},{"$f":"'（別添４）エネルギー消費効率の根拠（要件ア）'!$E$48","v":"導入設備_型番"},{"$f":"'（別添４）エネルギー消費効率の根拠（要件ア）'!$E$49","v":"導入設備_導入台数"},{"$f":"'（別添４）エネルギー消費効率の根拠（要件ア）'!$E$50","v":"導入設備_1台あたりの使用エネルギー"},{"$f":"'（別添４）エネルギー消費効率の根拠（要件ア）'!$E$51","v":"導入設備_年間エネルギー使用量計算式"},{"$f":"'（別添４）エネルギー消費効率の根拠（要件ア）'!$E$52","v":"導入設備_計算結果"},{"$f":"'（別添４）エネルギー消費効率の根拠（要件ア）'!$E$53","v":"一代前モデル_製品名"},{"$f":"'（別添４）エネルギー消費効率の根拠（要件ア）'!$E$54","v":"一代前モデル_製造メーカー"},{"$f":"'（別添４）エネルギー消費効率の根拠（要件ア）'!$E$55","v":"一代前モデル_型番"},{"$f":"'（別添４）エネルギー消費効率の根拠（要件ア）'!$E$56","v":"一代前モデル_導入台数"},{"$f":"'（別添４）エネルギー消費効率の根拠（要件ア）'!$E$57","v":"一代前モデル_1台あたりの使用エネルギー"},{"$f":"'（別添４）エネルギー消費効率の根拠（要件ア）'!$E$58","v":"一代前モデル_年間エネルギー使用量計算式"},{"$f":"'（別添４）エネルギー消費効率の根拠（要件ア）'!$E$59","v":"一代前モデル_計算結果"},{"$f":"'（別添４）エネルギー消費効率の根拠（要件ア）'!$E$60","v":"年間見込み省エネルギー量__計算結果"},{"$f":"'（別添４）エネルギー消費効率の根拠（要件ア）'!$E$61","v":"年間見込み省エネルギー量_原油換算計算式"},{"$f":"'（別添４）エネルギー消費効率の根拠（要件ア）'!$E$62","v":"年間見込み省エネルギー量原油換算計算結果"},{"$f":"'（別添４）エネルギー消費効率の根拠（要件ア）'!$E$63","v":"年間見込み省エネルギー率_自動計算"},{"$f":"'（別添４）エネルギー消費効率の根拠（要件ア）'!$I$40","v":"トップランナー基準"},{"$f":"'（別添４）エネルギー消費効率の根拠（要件ア）'!$I$41","v":"トップランナー基準の区分名又は数値"},{"$f":"'（別添４）エネルギー消費効率の根拠（要件ア）'!$I$42","v":"トップランナー基準の数値（導入設備）"},{"$f":"'（別添４）エネルギー消費効率の根拠（要件ア）'!$I$43","v":"比較指標/トップランナー基準"},{"$f":"'（別添４）エネルギー消費効率の根拠（要件ア）'!$I$44","v":"添付資料の根拠記載箇所"},{"$f":"'（別添４）エネルギー消費効率の根拠（要件ア）'!$I$45","v":"省エネ要因"},{"$f":"'（別添４）エネルギー消費効率の根拠（要件ア）'!$I$46","v":"導入設備_製品名"},{"$f":"'（別添４）エネルギー消費効率の根拠（要件ア）'!$I$47","v":"導入設備_製造メーカー"},{"$f":"'（別添４）エネルギー消費効率の根拠（要件ア）'!$I$48","v":"導入設備_型番"},{"$f":"'（別添４）エネルギー消費効率の根拠（要件ア）'!$I$49","v":"導入設備_導入台数"},{"$f":"'（別添４）エネルギー消費効率の根拠（要件ア）'!$I$50","v":"導入設備_1台あたりの使用エネルギー"},{"$f":"'（別添４）エネルギー消費効率の根拠（要件ア）'!$I$51","v":"導入設備_年間エネルギー使用量計算式"},{"$f":"'（別添４）エネルギー消費効率の根拠（要件ア）'!$I$52","v":"導入設備_計算結果"},{"$f":"'（別添４）エネルギー消費効率の根拠（要件ア）'!$I$53","v":"一代前モデル_製品名"},{"$f":"'（別添４）エネルギー消費効率の根拠（要件ア）'!$I$54","v":"一代前モデル_製造メーカー"},{"$f":"'（別添４）エネルギー消費効率の根拠（要件ア）'!$I$55","v":"一代前モデル_型番"},{"$f":"'（別添４）エネルギー消費効率の根拠（要件ア）'!$I$56","v":"一代前モデル_導入台数"},{"$f":"'（別添４）エネルギー消費効率の根拠（要件ア）'!$I$57","v":"一代前モデル_1台あたりの使用エネルギー"},{"$f":"'（別添４）エネルギー消費効率の根拠（要件ア）'!$I$58","v":"一代前モデル_年間エネルギー使用量計算式"},{"$f":"'（別添４）エネルギー消費効率の根拠（要件ア）'!$I$59","v":"一代前モデル_計算結果"},{"$f":"'（別添４）エネルギー消費効率の根拠（要件ア）'!$I$60","v":"年間見込み省エネルギー量__計算結果"},{"$f":"'（別添４）エネルギー消費効率の根拠（要件ア）'!$I$61","v":"年間見込み省エネルギー量_原油換算計算式"},{"$f":"'（別添４）エネルギー消費効率の根拠（要件ア）'!$I$62","v":"年間見込み省エネルギー量原油換算計算結果"},{"$f":"'（別添４）エネルギー消費効率の根拠（要件ア）'!$I$63","v":"年間見込み省エネルギー率_自動計算"},{"$f":"'（別添４）エネルギー消費効率の根拠（要件ア）'!$M$40","v":"トップランナー基準"},{"$f":"'（別添４）エネルギー消費効率の根拠（要件ア）'!$M$41","v":"トップランナー基準の区分名又は数値"},{"$f":"'（別添４）エネルギー消費効率の根拠（要件ア）'!$M$42","v":"トップランナー基準の数値（導入設備）"},{"$f":"'（別添４）エネルギー消費効率の根拠（要件ア）'!$M$43","v":"比較指標/トップランナー基準"},{"$f":"'（別添４）エネルギー消費効率の根拠（要件ア）'!$M$44","v":"添付資料の根拠記載箇所"},{"$f":"'（別添４）エネルギー消費効率の根拠（要件ア）'!$M$45","v":"省エネ要因"},{"$f":"'（別添４）エネルギー消費効率の根拠（要件ア）'!$M$46","v":"導入設備_製品名"},{"$f":"'（別添４）エネルギー消費効率の根拠（要件ア）'!$M$47","v":"導入設備_製造メーカー"},{"$f":"'（別添４）エネルギー消費効率の根拠（要件ア）'!$M$48","v":"導入設備_型番"},{"$f":"'（別添４）エネルギー消費効率の根拠（要件ア）'!$M$49","v":"導入設備_導入台数"},{"$f":"'（別添４）エネルギー消費効率の根拠（要件ア）'!$M$50","v":"導入設備_1台あたりの使用エネルギー"},{"$f":"'（別添４）エネルギー消費効率の根拠（要件ア）'!$M$51","v":"導入設備_年間エネルギー使用量計算式"},{"$f":"'（別添４）エネルギー消費効率の根拠（要件ア）'!$M$52","v":"導入設備_計算結果"},{"$f":"'（別添４）エネルギー消費効率の根拠（要件ア）'!$M$53","v":"一代前モデル_製品名"},{"$f":"'（別添４）エネルギー消費効率の根拠（要件ア）'!$M$54","v":"一代前モデル_製造メーカー"},{"$f":"'（別添４）エネルギー消費効率の根拠（要件ア）'!$M$55","v":"一代前モデル_型番"},{"$f":"'（別添４）エネルギー消費効率の根拠（要件ア）'!$M$56","v":"一代前モデル_導入台数"},{"$f":"'（別添４）エネルギー消費効率の根拠（要件ア）'!$M$57","v":"一代前モデル_1台あたりの使用エネルギー"},{"$f":"'（別添４）エネルギー消費効率の根拠（要件ア）'!$M$58","v":"一代前モデル_年間エネルギー使用量計算式"},{"$f":"'（別添４）エネルギー消費効率の根拠（要件ア）'!$M$59","v":"一代前モデル_計算結果"},{"$f":"'（別添４）エネルギー消費効率の根拠（要件ア）'!$M$60","v":"年間見込み省エネルギー量__計算結果"},{"$f":"'（別添４）エネルギー消費効率の根拠（要件ア）'!$M$61","v":"年間見込み省エネルギー量_原油換算計算式"},{"$f":"'（別添４）エネルギー消費効率の根拠（要件ア）'!$M$62","v":"年間見込み省エネルギー量原油換算計算結果"},{"$f":"'（別添４）エネルギー消費効率の根拠（要件ア）'!$M$63","v":"年間見込み省エネルギー率_自動計算"},{"$f":"'（別添４）エネルギー消費効率の根拠（要件ア）'!$Q$40","v":"トップランナー基準"},{"$f":"'（別添４）エネルギー消費効率の根拠（要件ア）'!$Q$41","v":"トップランナー基準の区分名又は数値"},{"$f":"'（別添４）エネルギー消費効率の根拠（要件ア）'!$Q$42","v":"トップランナー基準の数値（導入設備）"},{"$f":"'（別添４）エネルギー消費効率の根拠（要件ア）'!$Q$43","v":"比較指標/トップランナー基準"},{"$f":"'（別添４）エネルギー消費効率の根拠（要件ア）'!$Q$44","v":"添付資料の根拠記載箇所"},{"$f":"'（別添４）エネルギー消費効率の根拠（要件ア）'!$Q$45","v":"省エネ要因"},{"$f":"'（別添４）エネルギー消費効率の根拠（要件ア）'!$Q$46","v":"導入設備_製品名"},{"$f":"'（別添４）エネルギー消費効率の根拠（要件ア）'!$Q$47","v":"導入設備_製造メーカー"},{"$f":"'（別添４）エネルギー消費効率の根拠（要件ア）'!$Q$48","v":"導入設備_型番"},{"$f":"'（別添４）エネルギー消費効率の根拠（要件ア）'!$Q$49","v":"導入設備_導入台数"},{"$f":"'（別添４）エネルギー消費効率の根拠（要件ア）'!$Q$50","v":"導入設備_1台あたりの使用エネルギー"},{"$f":"'（別添４）エネルギー消費効率の根拠（要件ア）'!$Q$51","v":"導入設備_年間エネルギー使用量計算式"},{"$f":"'（別添４）エネルギー消費効率の根拠（要件ア）'!$Q$52","v":"導入設備_計算結果"},{"$f":"'（別添４）エネルギー消費効率の根拠（要件ア）'!$Q$53","v":"一代前モデル_製品名"},{"$f":"'（別添４）エネルギー消費効率の根拠（要件ア）'!$Q$54","v":"一代前モデル_製造メーカー"},{"$f":"'（別添４）エネルギー消費効率の根拠（要件ア）'!$Q$55","v":"一代前モデル_型番"},{"$f":"'（別添４）エネルギー消費効率の根拠（要件ア）'!$Q$56","v":"一代前モデル_導入台数"},{"$f":"'（別添４）エネルギー消費効率の根拠（要件ア）'!$Q$57","v":"一代前モデル_1台あたりの使用エネルギー"},{"$f":"'（別添４）エネルギー消費効率の根拠（要件ア）'!$Q$58","v":"一代前モデル_年間エネルギー使用量計算式"},{"$f":"'（別添４）エネルギー消費効率の根拠（要件ア）'!$Q$59","v":"一代前モデル_計算結果"},{"$f":"'（別添４）エネルギー消費効率の根拠（要件ア）'!$Q$60","v":"年間見込み省エネルギー量__計算結果"},{"$f":"'（別添４）エネルギー消費効率の根拠（要件ア）'!$Q$61","v":"年間見込み省エネルギー量_原油換算計算式"},{"$f":"'（別添４）エネルギー消費効率の根拠（要件ア）'!$Q$62","v":"年間見込み省エネルギー量原油換算計算結果"},{"$f":"'（別添４）エネルギー消費効率の根拠（要件ア）'!$Q$63","v":"年間見込み省エネルギー率_自動計算"},{"$f":"'（別添４）エネルギー消費効率の根拠（要件ア）'!$U$40","v":"トップランナー基準"},{"$f":"'（別添４）エネルギー消費効率の根拠（要件ア）'!$U$41","v":"トップランナー基準の区分名又は数値"},{"$f":"'（別添４）エネルギー消費効率の根拠（要件ア）'!$U$42","v":"トップランナー基準の数値（導入設備）"},{"$f":"'（別添４）エネルギー消費効率の根拠（要件ア）'!$U$43","v":"比較指標/トップランナー基準"},{"$f":"'（別添４）エネルギー消費効率の根拠（要件ア）'!$U$44","v":"添付資料の根拠記載箇所"},{"$f":"'（別添４）エネルギー消費効率の根拠（要件ア）'!$U$45","v":"省エネ要因"},{"$f":"'（別添４）エネルギー消費効率の根拠（要件ア）'!$U$46","v":"導入設備_製品名"},{"$f":"'（別添４）エネルギー消費効率の根拠（要件ア）'!$U$47","v":"導入設備_製造メーカー"},{"$f":"'（別添４）エネルギー消費効率の根拠（要件ア）'!$U$48","v":"導入設備_型番"},{"$f":"'（別添４）エネルギー消費効率の根拠（要件ア）'!$U$49","v":"導入設備_導入台数"},{"$f":"'（別添４）エネルギー消費効率の根拠（要件ア）'!$U$50","v":"導入設備_1台あたりの使用エネルギー"},{"$f":"'（別添４）エネルギー消費効率の根拠（要件ア）'!$U$51","v":"導入設備_年間エネルギー使用量計算式"},{"$f":"'（別添４）エネルギー消費効率の根拠（要件ア）'!$U$52","v":"導入設備_計算結果"},{"$f":"'（別添４）エネルギー消費効率の根拠（要件ア）'!$U$53","v":"一代前モデル_製品名"},{"$f":"'（別添４）エネルギー消費効率の根拠（要件ア）'!$U$54","v":"一代前モデル_製造メーカー"},{"$f":"'（別添４）エネルギー消費効率の根拠（要件ア）'!$U$55","v":"一代前モデル_型番"},{"$f":"'（別添４）エネルギー消費効率の根拠（要件ア）'!$U$56","v":"一代前モデル_導入台数"},{"$f":"'（別添４）エネルギー消費効率の根拠（要件ア）'!$U$57","v":"一代前モデル_1台あたりの使用エネルギー"},{"$f":"'（別添４）エネルギー消費効率の根拠（要件ア）'!$U$58","v":"一代前モデル_年間エネルギー使用量計算式"},{"$f":"'（別添４）エネルギー消費効率の根拠（要件ア）'!$U$59","v":"一代前モデル_計算結果"},{"$f":"'（別添４）エネルギー消費効率の根拠（要件ア）'!$U$60","v":"年間見込み省エネルギー量__計算結果"},{"$f":"'（別添４）エネルギー消費効率の根拠（要件ア）'!$U$61","v":"年間見込み省エネルギー量_原油換算計算式"},{"$f":"'（別添４）エネルギー消費効率の根拠（要件ア）'!$U$62","v":"年間見込み省エネルギー量原油換算計算結果"},{"$f":"'（別添４）エネルギー消費効率の根拠（要件ア）'!$U$63","v":"年間見込み省エネルギー率_自動計算"},{"$f":"'（別添４）エネルギー消費効率の根拠（要件ア）'!$Y$40","v":"トップランナー基準"},{"$f":"'（別添４）エネルギー消費効率の根拠（要件ア）'!$Y$41","v":"トップランナー基準の区分名又は数値"},{"$f":"'（別添４）エネルギー消費効率の根拠（要件ア）'!$Y$42","v":"トップランナー基準の数値（導入設備）"},{"$f":"'（別添４）エネルギー消費効率の根拠（要件ア）'!$Y$43","v":"比較指標/トップランナー基準"},{"$f":"'（別添４）エネルギー消費効率の根拠（要件ア）'!$Y$44","v":"添付資料の根拠記載箇所"},{"$f":"'（別添４）エネルギー消費効率の根拠（要件ア）'!$Y$45","v":"省エネ要因"},{"$f":"'（別添４）エネルギー消費効率の根拠（要件ア）'!$Y$46","v":"導入設備_製品名"},{"$f":"'（別添４）エネルギー消費効率の根拠（要件ア）'!$Y$47","v":"導入設備_製造メーカー"},{"$f":"'（別添４）エネルギー消費効率の根拠（要件ア）'!$Y$48","v":"導入設備_型番"},{"$f":"'（別添４）エネルギー消費効率の根拠（要件ア）'!$Y$49","v":"導入設備_導入台数"},{"$f":"'（別添４）エネルギー消費効率の根拠（要件ア）'!$Y$50","v":"導入設備_1台あたりの使用エネルギー"},{"$f":"'（別添４）エネルギー消費効率の根拠（要件ア）'!$Y$51","v":"導入設備_年間エネルギー使用量計算式"},{"$f":"'（別添４）エネルギー消費効率の根拠（要件ア）'!$Y$52","v":"導入設備_計算結果"},{"$f":"'（別添４）エネルギー消費効率の根拠（要件ア）'!$Y$53","v":"一代前モデル_製品名"},{"$f":"'（別添４）エネルギー消費効率の根拠（要件ア）'!$Y$54","v":"一代前モデル_製造メーカー"},{"$f":"'（別添４）エネルギー消費効率の根拠（要件ア）'!$Y$55","v":"一代前モデル_型番"},{"$f":"'（別添４）エネルギー消費効率の根拠（要件ア）'!$Y$56","v":"一代前モデル_導入台数"},{"$f":"'（別添４）エネルギー消費効率の根拠（要件ア）'!$Y$57","v":"一代前モデル_1台あたりの使用エネルギー"},{"$f":"'（別添４）エネルギー消費効率の根拠（要件ア）'!$Y$58","v":"一代前モデル_年間エネルギー使用量計算式"},{"$f":"'（別添４）エネルギー消費効率の根拠（要件ア）'!$Y$59","v":"一代前モデル_計算結果"},{"$f":"'（別添４）エネルギー消費効率の根拠（要件ア）'!$Y$60","v":"年間見込み省エネルギー量__計算結果"},{"$f":"'（別添４）エネルギー消費効率の根拠（要件ア）'!$Y$61","v":"年間見込み省エネルギー量_原油換算計算式"},{"$f":"'（別添４）エネルギー消費効率の根拠（要件ア）'!$Y$62","v":"年間見込み省エネルギー量原油換算計算結果"},{"$f":"'（別添４）エネルギー消費効率の根拠（要件ア）'!$Y$63","v":"年間見込み省エネルギー率_自動計算"},{"$f":"'（別添４）エネルギー消費効率の根拠（要件ア）'!$AC$40","v":"トップランナー基準"},{"$f":"'（別添４）エネルギー消費効率の根拠（要件ア）'!$AC$41","v":"トップランナー基準の区分名又は数値"},{"$f":"'（別添４）エネルギー消費効率の根拠（要件ア）'!$AC$42","v":"トップランナー基準の数値（導入設備）"},{"$f":"'（別添４）エネルギー消費効率の根拠（要件ア）'!$AC$43","v":"比較指標/トップランナー基準"},{"$f":"'（別添４）エネルギー消費効率の根拠（要件ア）'!$AC$44","v":"添付資料の根拠記載箇所"},{"$f":"'（別添４）エネルギー消費効率の根拠（要件ア）'!$AC$45","v":"省エネ要因"},{"$f":"'（別添４）エネルギー消費効率の根拠（要件ア）'!$AC$46","v":"導入設備_製品名"},{"$f":"'（別添４）エネルギー消費効率の根拠（要件ア）'!$AC$47","v":"導入設備_製造メーカー"},{"$f":"'（別添４）エネルギー消費効率の根拠（要件ア）'!$AC$48","v":"導入設備_型番"},{"$f":"'（別添４）エネルギー消費効率の根拠（要件ア）'!$AC$49","v":"導入設備_導入台数"},{"$f":"'（別添４）エネルギー消費効率の根拠（要件ア）'!$AC$50","v":"導入設備_1台あたりの使用エネルギー"},{"$f":"'（別添４）エネルギー消費効率の根拠（要件ア）'!$AC$51","v":"導入設備_年間エネルギー使用量計算式"},{"$f":"'（別添４）エネルギー消費効率の根拠（要件ア）'!$AC$52","v":"導入設備_計算結果"},{"$f":"'（別添４）エネルギー消費効率の根拠（要件ア）'!$AC$53","v":"一代前モデル_製品名"},{"$f":"'（別添４）エネルギー消費効率の根拠（要件ア）'!$AC$54","v":"一代前モデル_製造メーカー"},{"$f":"'（別添４）エネルギー消費効率の根拠（要件ア）'!$AC$55","v":"一代前モデル_型番"},{"$f":"'（別添４）エネルギー消費効率の根拠（要件ア）'!$AC$56","v":"一代前モデル_導入台数"},{"$f":"'（別添４）エネルギー消費効率の根拠（要件ア）'!$AC$57","v":"一代前モデル_1台あたりの使用エネルギー"},{"$f":"'（別添４）エネルギー消費効率の根拠（要件ア）'!$AC$58","v":"一代前モデル_年間エネルギー使用量計算式"},{"$f":"'（別添４）エネルギー消費効率の根拠（要件ア）'!$AC$59","v":"一代前モデル_計算結果"},{"$f":"'（別添４）エネルギー消費効率の根拠（要件ア）'!$AC$60","v":"年間見込み省エネルギー量__計算結果"},{"$f":"'（別添４）エネルギー消費効率の根拠（要件ア）'!$AC$61","v":"年間見込み省エネルギー量_原油換算計算式"},{"$f":"'（別添４）エネルギー消費効率の根拠（要件ア）'!$AC$62","v":"年間見込み省エネルギー量原油換算計算結果"},{"$f":"'（別添４）エネルギー消費効率の根拠（要件ア）'!$AC$63","v":"年間見込み省エネルギー率_自動計算"},{"$f":"'（別添４）エネルギー消費効率の根拠（要件ア）'!$AG$40","v":"トップランナー基準"},{"$f":"'（別添４）エネルギー消費効率の根拠（要件ア）'!$AG$41","v":"トップランナー基準の区分名又は数値"},{"$f":"'（別添４）エネルギー消費効率の根拠（要件ア）'!$AG$42","v":"トップランナー基準の数値（導入設備）"},{"$f":"'（別添４）エネルギー消費効率の根拠（要件ア）'!$AG$43","v":"比較指標/トップランナー基準"},{"$f":"'（別添４）エネルギー消費効率の根拠（要件ア）'!$AG$44","v":"添付資料の根拠記載箇所"},{"$f":"'（別添４）エネルギー消費効率の根拠（要件ア）'!$AG$45","v":"省エネ要因"},{"$f":"'（別添４）エネルギー消費効率の根拠（要件ア）'!$AG$46","v":"導入設備_製品名"},{"$f":"'（別添４）エネルギー消費効率の根拠（要件ア）'!$AG$47","v":"導入設備_製造メーカー"},{"$f":"'（別添４）エネルギー消費効率の根拠（要件ア）'!$AG$48","v":"導入設備_型番"},{"$f":"'（別添４）エネルギー消費効率の根拠（要件ア）'!$AG$49","v":"導入設備_導入台数"},{"$f":"'（別添４）エネルギー消費効率の根拠（要件ア）'!$AG$50","v":"導入設備_1台あたりの使用エネルギー"},{"$f":"'（別添４）エネルギー消費効率の根拠（要件ア）'!$AG$51","v":"導入設備_年間エネルギー使用量計算式"},{"$f":"'（別添４）エネルギー消費効率の根拠（要件ア）'!$AG$52","v":"導入設備_計算結果"},{"$f":"'（別添４）エネルギー消費効率の根拠（要件ア）'!$AG$53","v":"一代前モデル_製品名"},{"$f":"'（別添４）エネルギー消費効率の根拠（要件ア）'!$AG$54","v":"一代前モデル_製造メーカー"},{"$f":"'（別添４）エネルギー消費効率の根拠（要件ア）'!$AG$55","v":"一代前モデル_型番"},{"$f":"'（別添４）エネルギー消費効率の根拠（要件ア）'!$AG$56","v":"一代前モデル_導入台数"},{"$f":"'（別添４）エネルギー消費効率の根拠（要件ア）'!$AG$57","v":"一代前モデル_1台あたりの使用エネルギー"},{"$f":"'（別添４）エネルギー消費効率の根拠（要件ア）'!$AG$58","v":"一代前モデル_年間エネルギー使用量計算式"},{"$f":"'（別添４）エネルギー消費効率の根拠（要件ア）'!$AG$59","v":"一代前モデル_計算結果"},{"$f":"'（別添４）エネルギー消費効率の根拠（要件ア）'!$AG$60","v":"年間見込み省エネルギー量__計算結果"},{"$f":"'（別添４）エネルギー消費効率の根拠（要件ア）'!$AG$61","v":"年間見込み省エネルギー量_原油換算計算式"},{"$f":"'（別添４）エネルギー消費効率の根拠（要件ア）'!$AG$62","v":"年間見込み省エネルギー量原油換算計算結果"},{"$f":"'（別添４）エネルギー消費効率の根拠（要件ア）'!$AG$63","v":"年間見込み省エネルギー率_自動計算"},{"$f":"'（別添４）エネルギー消費効率の根拠（要件ア）'!$AK$40","v":"トップランナー基準"},{"$f":"'（別添４）エネルギー消費効率の根拠（要件ア）'!$AK$41","v":"トップランナー基準の区分名又は数値"},{"$f":"'（別添４）エネルギー消費効率の根拠（要件ア）'!$AK$42","v":"トップランナー基準の数値（導入設備）"},{"$f":"'（別添４）エネルギー消費効率の根拠（要件ア）'!$AK$43","v":"比較指標/トップランナー基準"},{"$f":"'（別添４）エネルギー消費効率の根拠（要件ア）'!$AK$44","v":"添付資料の根拠記載箇所"},{"$f":"'（別添４）エネルギー消費効率の根拠（要件ア）'!$AK$45","v":"省エネ要因"},{"$f":"'（別添４）エネルギー消費効率の根拠（要件ア）'!$AK$46","v":"導入設備_製品名"},{"$f":"'（別添４）エネルギー消費効率の根拠（要件ア）'!$AK$47","v":"導入設備_製造メーカー"},{"$f":"'（別添４）エネルギー消費効率の根拠（要件ア）'!$AK$48","v":"導入設備_型番"},{"$f":"'（別添４）エネルギー消費効率の根拠（要件ア）'!$AK$49","v":"導入設備_導入台数"},{"$f":"'（別添４）エネルギー消費効率の根拠（要件ア）'!$AK$50","v":"導入設備_1台あたりの使用エネルギー"},{"$f":"'（別添４）エネルギー消費効率の根拠（要件ア）'!$AK$51","v":"導入設備_年間エネルギー使用量計算式"},{"$f":"'（別添４）エネルギー消費効率の根拠（要件ア）'!$AK$52","v":"導入設備_計算結果"},{"$f":"'（別添４）エネルギー消費効率の根拠（要件ア）'!$AK$53","v":"一代前モデル_製品名"},{"$f":"'（別添４）エネルギー消費効率の根拠（要件ア）'!$AK$54","v":"一代前モデル_製造メーカー"},{"$f":"'（別添４）エネルギー消費効率の根拠（要件ア）'!$AK$55","v":"一代前モデル_型番"},{"$f":"'（別添４）エネルギー消費効率の根拠（要件ア）'!$AK$56","v":"一代前モデル_導入台数"},{"$f":"'（別添４）エネルギー消費効率の根拠（要件ア）'!$AK$57","v":"一代前モデル_1台あたりの使用エネルギー"},{"$f":"'（別添４）エネルギー消費効率の根拠（要件ア）'!$AK$58","v":"一代前モデル_年間エネルギー使用量計算式"},{"$f":"'（別添４）エネルギー消費効率の根拠（要件ア）'!$AK$59","v":"一代前モデル_計算結果"},{"$f":"'（別添４）エネルギー消費効率の根拠（要件ア）'!$AK$60","v":"年間見込み省エネルギー量__計算結果"},{"$f":"'（別添４）エネルギー消費効率の根拠（要件ア）'!$AK$61","v":"年間見込み省エネルギー量_原油換算計算式"},{"$f":"'（別添４）エネルギー消費効率の根拠（要件ア）'!$AK$62","v":"年間見込み省エネルギー量原油換算計算結果"},{"$f":"'（別添４）エネルギー消費効率の根拠（要件ア）'!$AK$63","v":"年間見込み省エネルギー率_自動計算"},{"$f":"'（別添４）エネルギー消費効率の根拠（要件ア）'!$AO$40","v":"トップランナー基準"},{"$f":"'（別添４）エネルギー消費効率の根拠（要件ア）'!$AO$41","v":"トップランナー基準の区分名又は数値"},{"$f":"'（別添４）エネルギー消費効率の根拠（要件ア）'!$AO$42","v":"トップランナー基準の数値（導入設備）"},{"$f":"'（別添４）エネルギー消費効率の根拠（要件ア）'!$AO$43","v":"比較指標/トップランナー基準"},{"$f":"'（別添４）エネルギー消費効率の根拠（要件ア）'!$AO$44","v":"添付資料の根拠記載箇所"},{"$f":"'（別添４）エネルギー消費効率の根拠（要件ア）'!$AO$45","v":"省エネ要因"},{"$f":"'（別添４）エネルギー消費効率の根拠（要件ア）'!$AO$46","v":"導入設備_製品名"},{"$f":"'（別添４）エネルギー消費効率の根拠（要件ア）'!$AO$47","v":"導入設備_製造メーカー"},{"$f":"'（別添４）エネルギー消費効率の根拠（要件ア）'!$AO$48","v":"導入設備_型番"},{"$f":"'（別添４）エネルギー消費効率の根拠（要件ア）'!$AO$49","v":"導入設備_導入台数"},{"$f":"'（別添４）エネルギー消費効率の根拠（要件ア）'!$AO$50","v":"導入設備_1台あたりの使用エネルギー"},{"$f":"'（別添４）エネルギー消費効率の根拠（要件ア）'!$AO$51","v":"導入設備_年間エネルギー使用量計算式"},{"$f":"'（別添４）エネルギー消費効率の根拠（要件ア）'!$AO$52","v":"導入設備_計算結果"},{"$f":"'（別添４）エネルギー消費効率の根拠（要件ア）'!$AO$53","v":"一代前モデル_製品名"},{"$f":"'（別添４）エネルギー消費効率の根拠（要件ア）'!$AO$54","v":"一代前モデル_製造メーカー"},{"$f":"'（別添４）エネルギー消費効率の根拠（要件ア）'!$AO$55","v":"一代前モデル_型番"},{"$f":"'（別添４）エネルギー消費効率の根拠（要件ア）'!$AO$56","v":"一代前モデル_導入台数"},{"$f":"'（別添４）エネルギー消費効率の根拠（要件ア）'!$AO$57","v":"一代前モデル_1台あたりの使用エネルギー"},{"$f":"'（別添４）エネルギー消費効率の根拠（要件ア）'!$AO$58","v":"一代前モデル_年間エネルギー使用量計算式"},{"$f":"'（別添４）エネルギー消費効率の根拠（要件ア）'!$AO$59","v":"一代前モデル_計算結果"},{"$f":"'（別添４）エネルギー消費効率の根拠（要件ア）'!$AO$60","v":"年間見込み省エネルギー量__計算結果"},{"$f":"'（別添４）エネルギー消費効率の根拠（要件ア）'!$AO$61","v":"年間見込み省エネルギー量_原油換算計算式"},{"$f":"'（別添４）エネルギー消費効率の根拠（要件ア）'!$AO$62","v":"年間見込み省エネルギー量原油換算計算結果"},{"$f":"'（別添４）エネルギー消費効率の根拠（要件ア）'!$AO$63","v":"年間見込み省エネルギー率_自動計算"},{"$f":"'（別添４）エネルギー消費効率の根拠（要件ア）'!$AS$40","v":"トップランナー基準"},{"$f":"'（別添４）エネルギー消費効率の根拠（要件ア）'!$AS$41","v":"トップランナー基準の区分名又は数値"},{"$f":"'（別添４）エネルギー消費効率の根拠（要件ア）'!$AS$42","v":"トップランナー基準の数値（導入設備）"},{"$f":"'（別添４）エネルギー消費効率の根拠（要件ア）'!$AS$43","v":"比較指標/トップランナー基準"},{"$f":"'（別添４）エネルギー消費効率の根拠（要件ア）'!$AS$44","v":"添付資料の根拠記載箇所"},{"$f":"'（別添４）エネルギー消費効率の根拠（要件ア）'!$AS$45","v":"省エネ要因"},{"$f":"'（別添４）エネルギー消費効率の根拠（要件ア）'!$AS$46","v":"導入設備_製品名"},{"$f":"'（別添４）エネルギー消費効率の根拠（要件ア）'!$AS$47","v":"導入設備_製造メーカー"},{"$f":"'（別添４）エネルギー消費効率の根拠（要件ア）'!$AS$48","v":"導入設備_型番"},{"$f":"'（別添４）エネルギー消費効率の根拠（要件ア）'!$AS$49","v":"導入設備_導入台数"},{"$f":"'（別添４）エネルギー消費効率の根拠（要件ア）'!$AS$50","v":"導入設備_1台あたりの使用エネルギー"},{"$f":"'（別添４）エネルギー消費効率の根拠（要件ア）'!$AS$51","v":"導入設備_年間エネルギー使用量計算式"},{"$f":"'（別添４）エネルギー消費効率の根拠（要件ア）'!$AS$52","v":"導入設備_計算結果"},{"$f":"'（別添４）エネルギー消費効率の根拠（要件ア）'!$AS$53","v":"一代前モデル_製品名"},{"$f":"'（別添４）エネルギー消費効率の根拠（要件ア）'!$AS$54","v":"一代前モデル_製造メーカー"},{"$f":"'（別添４）エネルギー消費効率の根拠（要件ア）'!$AS$55","v":"一代前モデル_型番"},{"$f":"'（別添４）エネルギー消費効率の根拠（要件ア）'!$AS$56","v":"一代前モデル_導入台数"},{"$f":"'（別添４）エネルギー消費効率の根拠（要件ア）'!$AS$57","v":"一代前モデル_1台あたりの使用エネルギー"},{"$f":"'（別添４）エネルギー消費効率の根拠（要件ア）'!$AS$58","v":"一代前モデル_年間エネルギー使用量計算式"},{"$f":"'（別添４）エネルギー消費効率の根拠（要件ア）'!$AS$59","v":"一代前モデル_計算結果"},{"$f":"'（別添４）エネルギー消費効率の根拠（要件ア）'!$AS$60","v":"年間見込み省エネルギー量__計算結果"},{"$f":"'（別添４）エネルギー消費効率の根拠（要件ア）'!$AS$61","v":"年間見込み省エネルギー量_原油換算計算式"},{"$f":"'（別添４）エネルギー消費効率の根拠（要件ア）'!$AS$62","v":"年間見込み省エネルギー量原油換算計算結果"},{"$f":"'（別添４）エネルギー消費効率の根拠（要件ア）'!$AS$63","v":"年間見込み省エネルギー率_自動計算"},{"$f":"'（別添４）エネルギー消費効率の根拠（要件ア）'!$AW$40","v":"トップランナー基準"},{"$f":"'（別添４）エネルギー消費効率の根拠（要件ア）'!$AW$41","v":"トップランナー基準の区分名又は数値"},{"$f":"'（別添４）エネルギー消費効率の根拠（要件ア）'!$AW$42","v":"トップランナー基準の数値（導入設備）"},{"$f":"'（別添４）エネルギー消費効率の根拠（要件ア）'!$AW$43","v":"比較指標/トップランナー基準"},{"$f":"'（別添４）エネルギー消費効率の根拠（要件ア）'!$AW$44","v":"添付資料の根拠記載箇所"},{"$f":"'（別添４）エネルギー消費効率の根拠（要件ア）'!$AW$45","v":"省エネ要因"},{"$f":"'（別添４）エネルギー消費効率の根拠（要件ア）'!$AW$46","v":"導入設備_製品名"},{"$f":"'（別添４）エネルギー消費効率の根拠（要件ア）'!$AW$47","v":"導入設備_製造メーカー"},{"$f":"'（別添４）エネルギー消費効率の根拠（要件ア）'!$AW$48","v":"導入設備_型番"},{"$f":"'（別添４）エネルギー消費効率の根拠（要件ア）'!$AW$49","v":"導入設備_導入台数"},{"$f":"'（別添４）エネルギー消費効率の根拠（要件ア）'!$AW$50","v":"導入設備_1台あたりの使用エネルギー"},{"$f":"'（別添４）エネルギー消費効率の根拠（要件ア）'!$AW$51","v":"導入設備_年間エネルギー使用量計算式"},{"$f":"'（別添４）エネルギー消費効率の根拠（要件ア）'!$AW$52","v":"導入設備_計算結果"},{"$f":"'（別添４）エネルギー消費効率の根拠（要件ア）'!$AW$53","v":"一代前モデル_製品名"},{"$f":"'（別添４）エネルギー消費効率の根拠（要件ア）'!$AW$54","v":"一代前モデル_製造メーカー"},{"$f":"'（別添４）エネルギー消費効率の根拠（要件ア）'!$AW$55","v":"一代前モデル_型番"},{"$f":"'（別添４）エネルギー消費効率の根拠（要件ア）'!$AW$56","v":"一代前モデル_導入台数"},{"$f":"'（別添４）エネルギー消費効率の根拠（要件ア）'!$AW$57","v":"一代前モデル_1台あたりの使用エネルギー"},{"$f":"'（別添４）エネルギー消費効率の根拠（要件ア）'!$AW$58","v":"一代前モデル_年間エネルギー使用量計算式"},{"$f":"'（別添４）エネルギー消費効率の根拠（要件ア）'!$AW$59","v":"一代前モデル_計算結果"},{"$f":"'（別添４）エネルギー消費効率の根拠（要件ア）'!$AW$60","v":"年間見込み省エネルギー量__計算結果"},{"$f":"'（別添４）エネルギー消費効率の根拠（要件ア）'!$AW$61","v":"年間見込み省エネルギー量_原油換算計算式"},{"$f":"'（別添４）エネルギー消費効率の根拠（要件ア）'!$AW$62","v":"年間見込み省エネルギー量原油換算計算結果"},{"$f":"'（別添４）エネルギー消費効率の根拠（要件ア）'!$AW$63","v":"年間見込み省エネルギー率_自動計算"},{"$f":"'（別添４）エネルギー消費効率の根拠（要件ア）'!$BA$40","v":"トップランナー基準"},{"$f":"'（別添４）エネルギー消費効率の根拠（要件ア）'!$BA$41","v":"トップランナー基準の区分名又は数値"},{"$f":"'（別添４）エネルギー消費効率の根拠（要件ア）'!$BA$42","v":"トップランナー基準の数値（導入設備）"},{"$f":"'（別添４）エネルギー消費効率の根拠（要件ア）'!$BA$43","v":"比較指標/トップランナー基準"},{"$f":"'（別添４）エネルギー消費効率の根拠（要件ア）'!$BA$44","v":"添付資料の根拠記載箇所"},{"$f":"'（別添４）エネルギー消費効率の根拠（要件ア）'!$BA$45","v":"省エネ要因"},{"$f":"'（別添４）エネルギー消費効率の根拠（要件ア）'!$BA$46","v":"導入設備_製品名"},{"$f":"'（別添４）エネルギー消費効率の根拠（要件ア）'!$BA$47","v":"導入設備_製造メーカー"},{"$f":"'（別添４）エネルギー消費効率の根拠（要件ア）'!$BA$48","v":"導入設備_型番"},{"$f":"'（別添４）エネルギー消費効率の根拠（要件ア）'!$BA$49","v":"導入設備_導入台数"},{"$f":"'（別添４）エネルギー消費効率の根拠（要件ア）'!$BA$50","v":"導入設備_1台あたりの使用エネルギー"},{"$f":"'（別添４）エネルギー消費効率の根拠（要件ア）'!$BA$51","v":"導入設備_年間エネルギー使用量計算式"},{"$f":"'（別添４）エネルギー消費効率の根拠（要件ア）'!$BA$52","v":"導入設備_計算結果"},{"$f":"'（別添４）エネルギー消費効率の根拠（要件ア）'!$BA$53","v":"一代前モデル_製品名"},{"$f":"'（別添４）エネルギー消費効率の根拠（要件ア）'!$BA$54","v":"一代前モデル_製造メーカー"},{"$f":"'（別添４）エネルギー消費効率の根拠（要件ア）'!$BA$55","v":"一代前モデル_型番"},{"$f":"'（別添４）エネルギー消費効率の根拠（要件ア）'!$BA$56","v":"一代前モデル_導入台数"},{"$f":"'（別添４）エネルギー消費効率の根拠（要件ア）'!$BA$57","v":"一代前モデル_1台あたりの使用エネルギー"},{"$f":"'（別添４）エネルギー消費効率の根拠（要件ア）'!$BA$58","v":"一代前モデル_年間エネルギー使用量計算式"},{"$f":"'（別添４）エネルギー消費効率の根拠（要件ア）'!$BA$59","v":"一代前モデル_計算結果"},{"$f":"'（別添４）エネルギー消費効率の根拠（要件ア）'!$BA$60","v":"年間見込み省エネルギー量__計算結果"},{"$f":"'（別添４）エネルギー消費効率の根拠（要件ア）'!$BA$61","v":"年間見込み省エネルギー量_原油換算計算式"},{"$f":"'（別添４）エネルギー消費効率の根拠（要件ア）'!$BA$62","v":"年間見込み省エネルギー量原油換算計算結果"},{"$f":"'（別添４）エネルギー消費効率の根拠（要件ア）'!$BA$63","v":"年間見込み省エネルギー率_自動計算"},{"$f":"'（別添４）エネルギー消費効率の根拠（要件ア）'!$BE$40","v":"トップランナー基準"},{"$f":"'（別添４）エネルギー消費効率の根拠（要件ア）'!$BE$41","v":"トップランナー基準の区分名又は数値"},{"$f":"'（別添４）エネルギー消費効率の根拠（要件ア）'!$BE$42","v":"トップランナー基準の数値（導入設備）"},{"$f":"'（別添４）エネルギー消費効率の根拠（要件ア）'!$BE$43","v":"比較指標/トップランナー基準"},{"$f":"'（別添４）エネルギー消費効率の根拠（要件ア）'!$BE$44","v":"添付資料の根拠記載箇所"},{"$f":"'（別添４）エネルギー消費効率の根拠（要件ア）'!$BE$45","v":"省エネ要因"},{"$f":"'（別添４）エネルギー消費効率の根拠（要件ア）'!$BE$46","v":"導入設備_製品名"},{"$f":"'（別添４）エネルギー消費効率の根拠（要件ア）'!$BE$47","v":"導入設備_製造メーカー"},{"$f":"'（別添４）エネルギー消費効率の根拠（要件ア）'!$BE$48","v":"導入設備_型番"},{"$f":"'（別添４）エネルギー消費効率の根拠（要件ア）'!$BE$49","v":"導入設備_導入台数"},{"$f":"'（別添４）エネルギー消費効率の根拠（要件ア）'!$BE$50","v":"導入設備_1台あたりの使用エネルギー"},{"$f":"'（別添４）エネルギー消費効率の根拠（要件ア）'!$BE$51","v":"導入設備_年間エネルギー使用量計算式"},{"$f":"'（別添４）エネルギー消費効率の根拠（要件ア）'!$BE$52","v":"導入設備_計算結果"},{"$f":"'（別添４）エネルギー消費効率の根拠（要件ア）'!$BE$53","v":"一代前モデル_製品名"},{"$f":"'（別添４）エネルギー消費効率の根拠（要件ア）'!$BE$54","v":"一代前モデル_製造メーカー"},{"$f":"'（別添４）エネルギー消費効率の根拠（要件ア）'!$BE$55","v":"一代前モデル_型番"},{"$f":"'（別添４）エネルギー消費効率の根拠（要件ア）'!$BE$56","v":"一代前モデル_導入台数"},{"$f":"'（別添４）エネルギー消費効率の根拠（要件ア）'!$BE$57","v":"一代前モデル_1台あたりの使用エネルギー"},{"$f":"'（別添４）エネルギー消費効率の根拠（要件ア）'!$BE$58","v":"一代前モデル_年間エネルギー使用量計算式"},{"$f":"'（別添４）エネルギー消費効率の根拠（要件ア）'!$BE$59","v":"一代前モデル_計算結果"},{"$f":"'（別添４）エネルギー消費効率の根拠（要件ア）'!$BE$60","v":"年間見込み省エネルギー量__計算結果"},{"$f":"'（別添４）エネルギー消費効率の根拠（要件ア）'!$BE$61","v":"年間見込み省エネルギー量_原油換算計算式"},{"$f":"'（別添４）エネルギー消費効率の根拠（要件ア）'!$BE$62","v":"年間見込み省エネルギー量原油換算計算結果"},{"$f":"'（別添４）エネルギー消費効率の根拠（要件ア）'!$BE$63","v":"年間見込み省エネルギー率_自動計算"},{"$f":"'（別添４）エネルギー消費効率の根拠（要件ア）'!$BI$40","v":"トップランナー基準"},{"$f":"'（別添４）エネルギー消費効率の根拠（要件ア）'!$BI$41","v":"トップランナー基準の区分名又は数値"},{"$f":"'（別添４）エネルギー消費効率の根拠（要件ア）'!$BI$42","v":"トップランナー基準の数値（導入設備）"},{"$f":"'（別添４）エネルギー消費効率の根拠（要件ア）'!$BI$43","v":"比較指標/トップランナー基準"},{"$f":"'（別添４）エネルギー消費効率の根拠（要件ア）'!$BI$44","v":"添付資料の根拠記載箇所"},{"$f":"'（別添４）エネルギー消費効率の根拠（要件ア）'!$BI$45","v":"省エネ要因"},{"$f":"'（別添４）エネルギー消費効率の根拠（要件ア）'!$BI$46","v":"導入設備_製品名"},{"$f":"'（別添４）エネルギー消費効率の根拠（要件ア）'!$BI$47","v":"導入設備_製造メーカー"},{"$f":"'（別添４）エネルギー消費効率の根拠（要件ア）'!$BI$48","v":"導入設備_型番"},{"$f":"'（別添４）エネルギー消費効率の根拠（要件ア）'!$BI$49","v":"導入設備_導入台数"},{"$f":"'（別添４）エネルギー消費効率の根拠（要件ア）'!$BI$50","v":"導入設備_1台あたりの使用エネルギー"},{"$f":"'（別添４）エネルギー消費効率の根拠（要件ア）'!$BI$51","v":"導入設備_年間エネルギー使用量計算式"},{"$f":"'（別添４）エネルギー消費効率の根拠（要件ア）'!$BI$52","v":"導入設備_計算結果"},{"$f":"'（別添４）エネルギー消費効率の根拠（要件ア）'!$BI$53","v":"一代前モデル_製品名"},{"$f":"'（別添４）エネルギー消費効率の根拠（要件ア）'!$BI$54","v":"一代前モデル_製造メーカー"},{"$f":"'（別添４）エネルギー消費効率の根拠（要件ア）'!$BI$55","v":"一代前モデル_型番"},{"$f":"'（別添４）エネルギー消費効率の根拠（要件ア）'!$BI$56","v":"一代前モデル_導入台数"},{"$f":"'（別添４）エネルギー消費効率の根拠（要件ア）'!$BI$57","v":"一代前モデル_1台あたりの使用エネルギー"},{"$f":"'（別添４）エネルギー消費効率の根拠（要件ア）'!$BI$58","v":"一代前モデル_年間エネルギー使用量計算式"},{"$f":"'（別添４）エネルギー消費効率の根拠（要件ア）'!$BI$59","v":"一代前モデル_計算結果"},{"$f":"'（別添４）エネルギー消費効率の根拠（要件ア）'!$BI$60","v":"年間見込み省エネルギー量__計算結果"},{"$f":"'（別添４）エネルギー消費効率の根拠（要件ア）'!$BI$61","v":"年間見込み省エネルギー量_原油換算計算式"},{"$f":"'（別添４）エネルギー消費効率の根拠（要件ア）'!$BI$62","v":"年間見込み省エネルギー量原油換算計算結果"},{"$f":"'（別添４）エネルギー消費効率の根拠（要件ア）'!$BI$63","v":"年間見込み省エネルギー率_自動計算"},{"$f":"'（別添４）エネルギー消費効率の根拠（要件ア）'!$BM$40","v":"トップランナー基準"},{"$f":"'（別添４）エネルギー消費効率の根拠（要件ア）'!$BM$41","v":"トップランナー基準の区分名又は数値"},{"$f":"'（別添４）エネルギー消費効率の根拠（要件ア）'!$BM$42","v":"トップランナー基準の数値（導入設備）"},{"$f":"'（別添４）エネルギー消費効率の根拠（要件ア）'!$BM$43","v":"比較指標/トップランナー基準"},{"$f":"'（別添４）エネルギー消費効率の根拠（要件ア）'!$BM$44","v":"添付資料の根拠記載箇所"},{"$f":"'（別添４）エネルギー消費効率の根拠（要件ア）'!$BM$45","v":"省エネ要因"},{"$f":"'（別添４）エネルギー消費効率の根拠（要件ア）'!$BM$46","v":"導入設備_製品名"},{"$f":"'（別添４）エネルギー消費効率の根拠（要件ア）'!$BM$47","v":"導入設備_製造メーカー"},{"$f":"'（別添４）エネルギー消費効率の根拠（要件ア）'!$BM$48","v":"導入設備_型番"},{"$f":"'（別添４）エネルギー消費効率の根拠（要件ア）'!$BM$49","v":"導入設備_導入台数"},{"$f":"'（別添４）エネルギー消費効率の根拠（要件ア）'!$BM$50","v":"導入設備_1台あたりの使用エネルギー"},{"$f":"'（別添４）エネルギー消費効率の根拠（要件ア）'!$BM$51","v":"導入設備_年間エネルギー使用量計算式"},{"$f":"'（別添４）エネルギー消費効率の根拠（要件ア）'!$BM$52","v":"導入設備_計算結果"},{"$f":"'（別添４）エネルギー消費効率の根拠（要件ア）'!$BM$53","v":"一代前モデル_製品名"},{"$f":"'（別添４）エネルギー消費効率の根拠（要件ア）'!$BM$54","v":"一代前モデル_製造メーカー"},{"$f":"'（別添４）エネルギー消費効率の根拠（要件ア）'!$BM$55","v":"一代前モデル_型番"},{"$f":"'（別添４）エネルギー消費効率の根拠（要件ア）'!$BM$56","v":"一代前モデル_導入台数"},{"$f":"'（別添４）エネルギー消費効率の根拠（要件ア）'!$BM$57","v":"一代前モデル_1台あたりの使用エネルギー"},{"$f":"'（別添４）エネルギー消費効率の根拠（要件ア）'!$BM$58","v":"一代前モデル_年間エネルギー使用量計算式"},{"$f":"'（別添４）エネルギー消費効率の根拠（要件ア）'!$BM$59","v":"一代前モデル_計算結果"},{"$f":"'（別添４）エネルギー消費効率の根拠（要件ア）'!$BM$60","v":"年間見込み省エネルギー量__計算結果"},{"$f":"'（別添４）エネルギー消費効率の根拠（要件ア）'!$BM$61","v":"年間見込み省エネルギー量_原油換算計算式"},{"$f":"'（別添４）エネルギー消費効率の根拠（要件ア）'!$BM$62","v":"年間見込み省エネルギー量原油換算計算結果"},{"$f":"'（別添４）エネルギー消費効率の根拠（要件ア）'!$BM$63","v":"年間見込み省エネルギー率_自動計算"},{"$f":"'（別添４）エネルギー消費効率の根拠（要件ア）'!$BQ$40","v":"トップランナー基準"},{"$f":"'（別添４）エネルギー消費効率の根拠（要件ア）'!$BQ$41","v":"トップランナー基準の区分名又は数値"},{"$f":"'（別添４）エネルギー消費効率の根拠（要件ア）'!$BQ$42","v":"トップランナー基準の数値（導入設備）"},{"$f":"'（別添４）エネルギー消費効率の根拠（要件ア）'!$BQ$43","v":"比較指標/トップランナー基準"},{"$f":"'（別添４）エネルギー消費効率の根拠（要件ア）'!$BQ$44","v":"添付資料の根拠記載箇所"},{"$f":"'（別添４）エネルギー消費効率の根拠（要件ア）'!$BQ$45","v":"省エネ要因"},{"$f":"'（別添４）エネルギー消費効率の根拠（要件ア）'!$BQ$46","v":"導入設備_製品名"},{"$f":"'（別添４）エネルギー消費効率の根拠（要件ア）'!$BQ$47","v":"導入設備_製造メーカー"},{"$f":"'（別添４）エネルギー消費効率の根拠（要件ア）'!$BQ$48","v":"導入設備_型番"},{"$f":"'（別添４）エネルギー消費効率の根拠（要件ア）'!$BQ$49","v":"導入設備_導入台数"},{"$f":"'（別添４）エネルギー消費効率の根拠（要件ア）'!$BQ$50","v":"導入設備_1台あたりの使用エネルギー"},{"$f":"'（別添４）エネルギー消費効率の根拠（要件ア）'!$BQ$51","v":"導入設備_年間エネルギー使用量計算式"},{"$f":"'（別添４）エネルギー消費効率の根拠（要件ア）'!$BQ$52","v":"導入設備_計算結果"},{"$f":"'（別添４）エネルギー消費効率の根拠（要件ア）'!$BQ$53","v":"一代前モデル_製品名"},{"$f":"'（別添４）エネルギー消費効率の根拠（要件ア）'!$BQ$54","v":"一代前モデル_製造メーカー"},{"$f":"'（別添４）エネルギー消費効率の根拠（要件ア）'!$BQ$55","v":"一代前モデル_型番"},{"$f":"'（別添４）エネルギー消費効率の根拠（要件ア）'!$BQ$56","v":"一代前モデル_導入台数"},{"$f":"'（別添４）エネルギー消費効率の根拠（要件ア）'!$BQ$57","v":"一代前モデル_1台あたりの使用エネルギー"},{"$f":"'（別添４）エネルギー消費効率の根拠（要件ア）'!$BQ$58","v":"一代前モデル_年間エネルギー使用量計算式"},{"$f":"'（別添４）エネルギー消費効率の根拠（要件ア）'!$BQ$59","v":"一代前モデル_計算結果"},{"$f":"'（別添４）エネルギー消費効率の根拠（要件ア）'!$BQ$60","v":"年間見込み省エネルギー量__計算結果"},{"$f":"'（別添４）エネルギー消費効率の根拠（要件ア）'!$BQ$61","v":"年間見込み省エネルギー量_原油換算計算式"},{"$f":"'（別添４）エネルギー消費効率の根拠（要件ア）'!$BQ$62","v":"年間見込み省エネルギー量原油換算計算結果"},{"$f":"'（別添４）エネルギー消費効率の根拠（要件ア）'!$BQ$63","v":"年間見込み省エネルギー率_自動計算"},{"$f":"'（別添４）エネルギー消費効率の根拠（要件ア）'!$BU$40","v":"トップランナー基準"},{"$f":"'（別添４）エネルギー消費効率の根拠（要件ア）'!$BU$41","v":"トップランナー基準の区分名又は数値"},{"$f":"'（別添４）エネルギー消費効率の根拠（要件ア）'!$BU$42","v":"トップランナー基準の数値（導入設備）"},{"$f":"'（別添４）エネルギー消費効率の根拠（要件ア）'!$BU$43","v":"比較指標/トップランナー基準"},{"$f":"'（別添４）エネルギー消費効率の根拠（要件ア）'!$BU$44","v":"添付資料の根拠記載箇所"},{"$f":"'（別添４）エネルギー消費効率の根拠（要件ア）'!$BU$45","v":"省エネ要因"},{"$f":"'（別添４）エネルギー消費効率の根拠（要件ア）'!$BU$46","v":"導入設備_製品名"},{"$f":"'（別添４）エネルギー消費効率の根拠（要件ア）'!$BU$47","v":"導入設備_製造メーカー"},{"$f":"'（別添４）エネルギー消費効率の根拠（要件ア）'!$BU$48","v":"導入設備_型番"},{"$f":"'（別添４）エネルギー消費効率の根拠（要件ア）'!$BU$49","v":"導入設備_導入台数"},{"$f":"'（別添４）エネルギー消費効率の根拠（要件ア）'!$BU$50","v":"導入設備_1台あたりの使用エネルギー"},{"$f":"'（別添４）エネルギー消費効率の根拠（要件ア）'!$BU$51","v":"導入設備_年間エネルギー使用量計算式"},{"$f":"'（別添４）エネルギー消費効率の根拠（要件ア）'!$BU$52","v":"導入設備_計算結果"},{"$f":"'（別添４）エネルギー消費効率の根拠（要件ア）'!$BU$53","v":"一代前モデル_製品名"},{"$f":"'（別添４）エネルギー消費効率の根拠（要件ア）'!$BU$54","v":"一代前モデル_製造メーカー"},{"$f":"'（別添４）エネルギー消費効率の根拠（要件ア）'!$BU$55","v":"一代前モデル_型番"},{"$f":"'（別添４）エネルギー消費効率の根拠（要件ア）'!$BU$56","v":"一代前モデル_導入台数"},{"$f":"'（別添４）エネルギー消費効率の根拠（要件ア）'!$BU$57","v":"一代前モデル_1台あたりの使用エネルギー"},{"$f":"'（別添４）エネルギー消費効率の根拠（要件ア）'!$BU$58","v":"一代前モデル_年間エネルギー使用量計算式"},{"$f":"'（別添４）エネルギー消費効率の根拠（要件ア）'!$BU$59","v":"一代前モデル_計算結果"},{"$f":"'（別添４）エネルギー消費効率の根拠（要件ア）'!$BU$60","v":"年間見込み省エネルギー量__計算結果"},{"$f":"'（別添４）エネルギー消費効率の根拠（要件ア）'!$BU$61","v":"年間見込み省エネルギー量_原油換算計算式"},{"$f":"'（別添４）エネルギー消費効率の根拠（要件ア）'!$BU$62","v":"年間見込み省エネルギー量原油換算計算結果"},{"$f":"'（別添４）エネルギー消費効率の根拠（要件ア）'!$BU$63","v":"年間見込み省エネルギー率_自動計算"},{"$f":"'（別添４）エネルギー消費効率の根拠（要件ア）'!$BY$40","v":"トップランナー基準"},{"$f":"'（別添４）エネルギー消費効率の根拠（要件ア）'!$BY$41","v":"トップランナー基準の区分名又は数値"},{"$f":"'（別添４）エネルギー消費効率の根拠（要件ア）'!$BY$42","v":"トップランナー基準の数値（導入設備）"},{"$f":"'（別添４）エネルギー消費効率の根拠（要件ア）'!$BY$43","v":"比較指標/トップランナー基準"},{"$f":"'（別添４）エネルギー消費効率の根拠（要件ア）'!$BY$44","v":"添付資料の根拠記載箇所"},{"$f":"'（別添４）エネルギー消費効率の根拠（要件ア）'!$BY$45","v":"省エネ要因"},{"$f":"'（別添４）エネルギー消費効率の根拠（要件ア）'!$BY$46","v":"導入設備_製品名"},{"$f":"'（別添４）エネルギー消費効率の根拠（要件ア）'!$BY$47","v":"導入設備_製造メーカー"},{"$f":"'（別添４）エネルギー消費効率の根拠（要件ア）'!$BY$48","v":"導入設備_型番"},{"$f":"'（別添４）エネルギー消費効率の根拠（要件ア）'!$BY$49","v":"導入設備_導入台数"},{"$f":"'（別添４）エネルギー消費効率の根拠（要件ア）'!$BY$50","v":"導入設備_1台あたりの使用エネルギー"},{"$f":"'（別添４）エネルギー消費効率の根拠（要件ア）'!$BY$51","v":"導入設備_年間エネルギー使用量計算式"},{"$f":"'（別添４）エネルギー消費効率の根拠（要件ア）'!$BY$52","v":"導入設備_計算結果"},{"$f":"'（別添４）エネルギー消費効率の根拠（要件ア）'!$BY$53","v":"一代前モデル_製品名"},{"$f":"'（別添４）エネルギー消費効率の根拠（要件ア）'!$BY$54","v":"一代前モデル_製造メーカー"},{"$f":"'（別添４）エネルギー消費効率の根拠（要件ア）'!$BY$55","v":"一代前モデル_型番"},{"$f":"'（別添４）エネルギー消費効率の根拠（要件ア）'!$BY$56","v":"一代前モデル_導入台数"},{"$f":"'（別添４）エネルギー消費効率の根拠（要件ア）'!$BY$57","v":"一代前モデル_1台あたりの使用エネルギー"},{"$f":"'（別添４）エネルギー消費効率の根拠（要件ア）'!$BY$58","v":"一代前モデル_年間エネルギー使用量計算式"},{"$f":"'（別添４）エネルギー消費効率の根拠（要件ア）'!$BY$59","v":"一代前モデル_計算結果"},{"$f":"'（別添４）エネルギー消費効率の根拠（要件ア）'!$BY$60","v":"年間見込み省エネルギー量__計算結果"},{"$f":"'（別添４）エネルギー消費効率の根拠（要件ア）'!$BY$61","v":"年間見込み省エネルギー量_原油換算計算式"},{"$f":"'（別添４）エネルギー消費効率の根拠（要件ア）'!$BY$62","v":"年間見込み省エネルギー量原油換算計算結果"},{"$f":"'（別添４）エネルギー消費効率の根拠（要件ア）'!$BY$63","v":"年間見込み省エネルギー率_自動計算"},{"$f":"'（別添４）エネルギー消費効率の根拠（要件ア）'!$CC$40","v":"トップランナー基準"},{"$f":"'（別添４）エネルギー消費効率の根拠（要件ア）'!$CC$41","v":"トップランナー基準の区分名又は数値"},{"$f":"'（別添４）エネルギー消費効率の根拠（要件ア）'!$CC$42","v":"トップランナー基準の数値（導入設備）"},{"$f":"'（別添４）エネルギー消費効率の根拠（要件ア）'!$CC$43","v":"比較指標/トップランナー基準"},{"$f":"'（別添４）エネルギー消費効率の根拠（要件ア）'!$CC$44","v":"添付資料の根拠記載箇所"},{"$f":"'（別添４）エネルギー消費効率の根拠（要件ア）'!$CC$45","v":"省エネ要因"},{"$f":"'（別添４）エネルギー消費効率の根拠（要件ア）'!$CC$46","v":"導入設備_製品名"},{"$f":"'（別添４）エネルギー消費効率の根拠（要件ア）'!$CC$47","v":"導入設備_製造メーカー"},{"$f":"'（別添４）エネルギー消費効率の根拠（要件ア）'!$CC$48","v":"導入設備_型番"},{"$f":"'（別添４）エネルギー消費効率の根拠（要件ア）'!$CC$49","v":"導入設備_導入台数"},{"$f":"'（別添４）エネルギー消費効率の根拠（要件ア）'!$CC$50","v":"導入設備_1台あたりの使用エネルギー"},{"$f":"'（別添４）エネルギー消費効率の根拠（要件ア）'!$CC$51","v":"導入設備_年間エネルギー使用量計算式"},{"$f":"'（別添４）エネルギー消費効率の根拠（要件ア）'!$CC$52","v":"導入設備_計算結果"},{"$f":"'（別添４）エネルギー消費効率の根拠（要件ア）'!$CC$53","v":"一代前モデル_製品名"},{"$f":"'（別添４）エネルギー消費効率の根拠（要件ア）'!$CC$54","v":"一代前モデル_製造メーカー"},{"$f":"'（別添４）エネルギー消費効率の根拠（要件ア）'!$CC$55","v":"一代前モデル_型番"},{"$f":"'（別添４）エネルギー消費効率の根拠（要件ア）'!$CC$56","v":"一代前モデル_導入台数"},{"$f":"'（別添４）エネルギー消費効率の根拠（要件ア）'!$CC$57","v":"一代前モデル_1台あたりの使用エネルギー"},{"$f":"'（別添４）エネルギー消費効率の根拠（要件ア）'!$CC$58","v":"一代前モデル_年間エネルギー使用量計算式"},{"$f":"'（別添４）エネルギー消費効率の根拠（要件ア）'!$CC$59","v":"一代前モデル_計算結果"},{"$f":"'（別添４）エネルギー消費効率の根拠（要件ア）'!$CC$60","v":"年間見込み省エネルギー量__計算結果"},{"$f":"'（別添４）エネルギー消費効率の根拠（要件ア）'!$CC$61","v":"年間見込み省エネルギー量_原油換算計算式"},{"$f":"'（別添４）エネルギー消費効率の根拠（要件ア）'!$CC$62","v":"年間見込み省エネルギー量原油換算計算結果"},{"$f":"'（別添４）エネルギー消費効率の根拠（要件ア）'!$CC$63","v":"年間見込み省エネルギー率_自動計算"},{"$f":"'（別添４）エネルギー消費効率の根拠（要件ア）'!$CG$40","v":"トップランナー基準"},{"$f":"'（別添４）エネルギー消費効率の根拠（要件ア）'!$CG$41","v":"トップランナー基準の区分名又は数値"},{"$f":"'（別添４）エネルギー消費効率の根拠（要件ア）'!$CG$42","v":"トップランナー基準の数値（導入設備）"},{"$f":"'（別添４）エネルギー消費効率の根拠（要件ア）'!$CG$43","v":"比較指標/トップランナー基準"},{"$f":"'（別添４）エネルギー消費効率の根拠（要件ア）'!$CG$44","v":"添付資料の根拠記載箇所"},{"$f":"'（別添４）エネルギー消費効率の根拠（要件ア）'!$CG$45","v":"省エネ要因"},{"$f":"'（別添４）エネルギー消費効率の根拠（要件ア）'!$CG$46","v":"導入設備_製品名"},{"$f":"'（別添４）エネルギー消費効率の根拠（要件ア）'!$CG$47","v":"導入設備_製造メーカー"},{"$f":"'（別添４）エネルギー消費効率の根拠（要件ア）'!$CG$48","v":"導入設備_型番"},{"$f":"'（別添４）エネルギー消費効率の根拠（要件ア）'!$CG$49","v":"導入設備_導入台数"},{"$f":"'（別添４）エネルギー消費効率の根拠（要件ア）'!$CG$50","v":"導入設備_1台あたりの使用エネルギー"},{"$f":"'（別添４）エネルギー消費効率の根拠（要件ア）'!$CG$51","v":"導入設備_年間エネルギー使用量計算式"},{"$f":"'（別添４）エネルギー消費効率の根拠（要件ア）'!$CG$52","v":"導入設備_計算結果"},{"$f":"'（別添４）エネルギー消費効率の根拠（要件ア）'!$CG$53","v":"一代前モデル_製品名"},{"$f":"'（別添４）エネルギー消費効率の根拠（要件ア）'!$CG$54","v":"一代前モデル_製造メーカー"},{"$f":"'（別添４）エネルギー消費効率の根拠（要件ア）'!$CG$55","v":"一代前モデル_型番"},{"$f":"'（別添４）エネルギー消費効率の根拠（要件ア）'!$CG$56","v":"一代前モデル_導入台数"},{"$f":"'（別添４）エネルギー消費効率の根拠（要件ア）'!$CG$57","v":"一代前モデル_1台あたりの使用エネルギー"},{"$f":"'（別添４）エネルギー消費効率の根拠（要件ア）'!$CG$58","v":"一代前モデル_年間エネルギー使用量計算式"},{"$f":"'（別添４）エネルギー消費効率の根拠（要件ア）'!$CG$59","v":"一代前モデル_計算結果"},{"$f":"'（別添４）エネルギー消費効率の根拠（要件ア）'!$CG$60","v":"年間見込み省エネルギー量__計算結果"},{"$f":"'（別添４）エネルギー消費効率の根拠（要件ア）'!$CG$61","v":"年間見込み省エネルギー量_原油換算計算式"},{"$f":"'（別添４）エネルギー消費効率の根拠（要件ア）'!$CG$62","v":"年間見込み省エネルギー量原油換算計算結果"},{"$f":"'（別添４）エネルギー消費効率の根拠（要件ア）'!$CG$63","v":"年間見込み省エネルギー率_自動計算"},{"$f":"'（別添４）エネルギー消費効率の根拠（要件ア）'!$CK$40","v":"トップランナー基準"},{"$f":"'（別添４）エネルギー消費効率の根拠（要件ア）'!$CK$41","v":"トップランナー基準の区分名又は数値"},{"$f":"'（別添４）エネルギー消費効率の根拠（要件ア）'!$CK$42","v":"トップランナー基準の数値（導入設備）"},{"$f":"'（別添４）エネルギー消費効率の根拠（要件ア）'!$CK$43","v":"比較指標/トップランナー基準"},{"$f":"'（別添４）エネルギー消費効率の根拠（要件ア）'!$CK$44","v":"添付資料の根拠記載箇所"},{"$f":"'（別添４）エネルギー消費効率の根拠（要件ア）'!$CK$45","v":"省エネ要因"},{"$f":"'（別添４）エネルギー消費効率の根拠（要件ア）'!$CK$46","v":"導入設備_製品名"},{"$f":"'（別添４）エネルギー消費効率の根拠（要件ア）'!$CK$47","v":"導入設備_製造メーカー"},{"$f":"'（別添４）エネルギー消費効率の根拠（要件ア）'!$CK$48","v":"導入設備_型番"},{"$f":"'（別添４）エネルギー消費効率の根拠（要件ア）'!$CK$49","v":"導入設備_導入台数"},{"$f":"'（別添４）エネルギー消費効率の根拠（要件ア）'!$CK$50","v":"導入設備_1台あたりの使用エネルギー"},{"$f":"'（別添４）エネルギー消費効率の根拠（要件ア）'!$CK$51","v":"導入設備_年間エネルギー使用量計算式"},{"$f":"'（別添４）エネルギー消費効率の根拠（要件ア）'!$CK$52","v":"導入設備_計算結果"},{"$f":"'（別添４）エネルギー消費効率の根拠（要件ア）'!$CK$53","v":"一代前モデル_製品名"},{"$f":"'（別添４）エネルギー消費効率の根拠（要件ア）'!$CK$54","v":"一代前モデル_製造メーカー"},{"$f":"'（別添４）エネルギー消費効率の根拠（要件ア）'!$CK$55","v":"一代前モデル_型番"},{"$f":"'（別添４）エネルギー消費効率の根拠（要件ア）'!$CK$56","v":"一代前モデル_導入台数"},{"$f":"'（別添４）エネルギー消費効率の根拠（要件ア）'!$CK$57","v":"一代前モデル_1台あたりの使用エネルギー"},{"$f":"'（別添４）エネルギー消費効率の根拠（要件ア）'!$CK$58","v":"一代前モデル_年間エネルギー使用量計算式"},{"$f":"'（別添４）エネルギー消費効率の根拠（要件ア）'!$CK$59","v":"一代前モデル_計算結果"},{"$f":"'（別添４）エネルギー消費効率の根拠（要件ア）'!$CK$60","v":"年間見込み省エネルギー量__計算結果"},{"$f":"'（別添４）エネルギー消費効率の根拠（要件ア）'!$CK$61","v":"年間見込み省エネルギー量_原油換算計算式"},{"$f":"'（別添４）エネルギー消費効率の根拠（要件ア）'!$CK$62","v":"年間見込み省エネルギー量原油換算計算結果"},{"$f":"'（別添４）エネルギー消費効率の根拠（要件ア）'!$CK$63","v":"年間見込み省エネルギー率_自動計算"},{"$f":"'（別添４）エネルギー消費効率の根拠（要件ア）'!$CO$40","v":"トップランナー基準"},{"$f":"'（別添４）エネルギー消費効率の根拠（要件ア）'!$CO$41","v":"トップランナー基準の区分名又は数値"},{"$f":"'（別添４）エネルギー消費効率の根拠（要件ア）'!$CO$42","v":"トップランナー基準の数値（導入設備）"},{"$f":"'（別添４）エネルギー消費効率の根拠（要件ア）'!$CO$43","v":"比較指標/トップランナー基準"},{"$f":"'（別添４）エネルギー消費効率の根拠（要件ア）'!$CO$44","v":"添付資料の根拠記載箇所"},{"$f":"'（別添４）エネルギー消費効率の根拠（要件ア）'!$CO$45","v":"省エネ要因"},{"$f":"'（別添４）エネルギー消費効率の根拠（要件ア）'!$CO$46","v":"導入設備_製品名"},{"$f":"'（別添４）エネルギー消費効率の根拠（要件ア）'!$CO$47","v":"導入設備_製造メーカー"},{"$f":"'（別添４）エネルギー消費効率の根拠（要件ア）'!$CO$48","v":"導入設備_型番"},{"$f":"'（別添４）エネルギー消費効率の根拠（要件ア）'!$CO$49","v":"導入設備_導入台数"},{"$f":"'（別添４）エネルギー消費効率の根拠（要件ア）'!$CO$50","v":"導入設備_1台あたりの使用エネルギー"},{"$f":"'（別添４）エネルギー消費効率の根拠（要件ア）'!$CO$51","v":"導入設備_年間エネルギー使用量計算式"},{"$f":"'（別添４）エネルギー消費効率の根拠（要件ア）'!$CO$52","v":"導入設備_計算結果"},{"$f":"'（別添４）エネルギー消費効率の根拠（要件ア）'!$CO$53","v":"一代前モデル_製品名"},{"$f":"'（別添４）エネルギー消費効率の根拠（要件ア）'!$CO$54","v":"一代前モデル_製造メーカー"},{"$f":"'（別添４）エネルギー消費効率の根拠（要件ア）'!$CO$55","v":"一代前モデル_型番"},{"$f":"'（別添４）エネルギー消費効率の根拠（要件ア）'!$CO$56","v":"一代前モデル_導入台数"},{"$f":"'（別添４）エネルギー消費効率の根拠（要件ア）'!$CO$57","v":"一代前モデル_1台あたりの使用エネルギー"},{"$f":"'（別添４）エネルギー消費効率の根拠（要件ア）'!$CO$58","v":"一代前モデル_年間エネルギー使用量計算式"},{"$f":"'（別添４）エネルギー消費効率の根拠（要件ア）'!$CO$59","v":"一代前モデル_計算結果"},{"$f":"'（別添４）エネルギー消費効率の根拠（要件ア）'!$CO$60","v":"年間見込み省エネルギー量__計算結果"},{"$f":"'（別添４）エネルギー消費効率の根拠（要件ア）'!$CO$61","v":"年間見込み省エネルギー量_原油換算計算式"},{"$f":"'（別添４）エネルギー消費効率の根拠（要件ア）'!$CO$62","v":"年間見込み省エネルギー量原油換算計算結果"},{"$f":"'（別添４）エネルギー消費効率の根拠（要件ア）'!$CO$63","v":"年間見込み省エネルギー率_自動計算"},{"$f":"'（別添４）エネルギー消費効率の根拠（要件ア）'!$CS$40","v":"トップランナー基準"},{"$f":"'（別添４）エネルギー消費効率の根拠（要件ア）'!$CS$41","v":"トップランナー基準の区分名又は数値"},{"$f":"'（別添４）エネルギー消費効率の根拠（要件ア）'!$CS$42","v":"トップランナー基準の数値（導入設備）"},{"$f":"'（別添４）エネルギー消費効率の根拠（要件ア）'!$CS$43","v":"比較指標/トップランナー基準"},{"$f":"'（別添４）エネルギー消費効率の根拠（要件ア）'!$CS$44","v":"添付資料の根拠記載箇所"},{"$f":"'（別添４）エネルギー消費効率の根拠（要件ア）'!$CS$45","v":"省エネ要因"},{"$f":"'（別添４）エネルギー消費効率の根拠（要件ア）'!$CS$46","v":"導入設備_製品名"},{"$f":"'（別添４）エネルギー消費効率の根拠（要件ア）'!$CS$47","v":"導入設備_製造メーカー"},{"$f":"'（別添４）エネルギー消費効率の根拠（要件ア）'!$CS$48","v":"導入設備_型番"},{"$f":"'（別添４）エネルギー消費効率の根拠（要件ア）'!$CS$49","v":"導入設備_導入台数"},{"$f":"'（別添４）エネルギー消費効率の根拠（要件ア）'!$CS$50","v":"導入設備_1台あたりの使用エネルギー"},{"$f":"'（別添４）エネルギー消費効率の根拠（要件ア）'!$CS$51","v":"導入設備_年間エネルギー使用量計算式"},{"$f":"'（別添４）エネルギー消費効率の根拠（要件ア）'!$CS$52","v":"導入設備_計算結果"},{"$f":"'（別添４）エネルギー消費効率の根拠（要件ア）'!$CS$53","v":"一代前モデル_製品名"},{"$f":"'（別添４）エネルギー消費効率の根拠（要件ア）'!$CS$54","v":"一代前モデル_製造メーカー"},{"$f":"'（別添４）エネルギー消費効率の根拠（要件ア）'!$CS$55","v":"一代前モデル_型番"},{"$f":"'（別添４）エネルギー消費効率の根拠（要件ア）'!$CS$56","v":"一代前モデル_導入台数"},{"$f":"'（別添４）エネルギー消費効率の根拠（要件ア）'!$CS$57","v":"一代前モデル_1台あたりの使用エネルギー"},{"$f":"'（別添４）エネルギー消費効率の根拠（要件ア）'!$CS$58","v":"一代前モデル_年間エネルギー使用量計算式"},{"$f":"'（別添４）エネルギー消費効率の根拠（要件ア）'!$CS$59","v":"一代前モデル_計算結果"},{"$f":"'（別添４）エネルギー消費効率の根拠（要件ア）'!$CS$60","v":"年間見込み省エネルギー量__計算結果"},{"$f":"'（別添４）エネルギー消費効率の根拠（要件ア）'!$CS$61","v":"年間見込み省エネルギー量_原油換算計算式"},{"$f":"'（別添４）エネルギー消費効率の根拠（要件ア）'!$CS$62","v":"年間見込み省エネルギー量原油換算計算結果"},{"$f":"'（別添４）エネルギー消費効率の根拠（要件ア）'!$CS$63","v":"年間見込み省エネルギー率_自動計算"},{"$f":"'（別添４）エネルギー消費効率の根拠（要件ア）'!$CW$40","v":"トップランナー基準"},{"$f":"'（別添４）エネルギー消費効率の根拠（要件ア）'!$CW$41","v":"トップランナー基準の区分名又は数値"},{"$f":"'（別添４）エネルギー消費効率の根拠（要件ア）'!$CW$42","v":"トップランナー基準の数値（導入設備）"},{"$f":"'（別添４）エネルギー消費効率の根拠（要件ア）'!$CW$43","v":"比較指標/トップランナー基準"},{"$f":"'（別添４）エネルギー消費効率の根拠（要件ア）'!$CW$44","v":"添付資料の根拠記載箇所"},{"$f":"'（別添４）エネルギー消費効率の根拠（要件ア）'!$CW$45","v":"省エネ要因"},{"$f":"'（別添４）エネルギー消費効率の根拠（要件ア）'!$CW$46","v":"導入設備_製品名"},{"$f":"'（別添４）エネルギー消費効率の根拠（要件ア）'!$CW$47","v":"導入設備_製造メーカー"},{"$f":"'（別添４）エネルギー消費効率の根拠（要件ア）'!$CW$48","v":"導入設備_型番"},{"$f":"'（別添４）エネルギー消費効率の根拠（要件ア）'!$CW$49","v":"導入設備_導入台数"},{"$f":"'（別添４）エネルギー消費効率の根拠（要件ア）'!$CW$50","v":"導入設備_1台あたりの使用エネルギー"},{"$f":"'（別添４）エネルギー消費効率の根拠（要件ア）'!$CW$51","v":"導入設備_年間エネルギー使用量計算式"},{"$f":"'（別添４）エネルギー消費効率の根拠（要件ア）'!$CW$52","v":"導入設備_計算結果"},{"$f":"'（別添４）エネルギー消費効率の根拠（要件ア）'!$CW$53","v":"一代前モデル_製品名"},{"$f":"'（別添４）エネルギー消費効率の根拠（要件ア）'!$CW$54","v":"一代前モデル_製造メーカー"},{"$f":"'（別添４）エネルギー消費効率の根拠（要件ア）'!$CW$55","v":"一代前モデル_型番"},{"$f":"'（別添４）エネルギー消費効率の根拠（要件ア）'!$CW$56","v":"一代前モデル_導入台数"},{"$f":"'（別添４）エネルギー消費効率の根拠（要件ア）'!$CW$57","v":"一代前モデル_1台あたりの使用エネルギー"},{"$f":"'（別添４）エネルギー消費効率の根拠（要件ア）'!$CW$58","v":"一代前モデル_年間エネルギー使用量計算式"},{"$f":"'（別添４）エネルギー消費効率の根拠（要件ア）'!$CW$59","v":"一代前モデル_計算結果"},{"$f":"'（別添４）エネルギー消費効率の根拠（要件ア）'!$CW$60","v":"年間見込み省エネルギー量__計算結果"},{"$f":"'（別添４）エネルギー消費効率の根拠（要件ア）'!$CW$61","v":"年間見込み省エネルギー量_原油換算計算式"},{"$f":"'（別添４）エネルギー消費効率の根拠（要件ア）'!$CW$62","v":"年間見込み省エネルギー量原油換算計算結果"},{"$f":"'（別添４）エネルギー消費効率の根拠（要件ア）'!$CW$63","v":"年間見込み省エネルギー率_自動計算"},{"$f":"'（別添４）エネルギー消費効率の根拠（要件ア）'!$DA$40","v":"トップランナー基準"},{"$f":"'（別添４）エネルギー消費効率の根拠（要件ア）'!$DA$41","v":"トップランナー基準の区分名又は数値"},{"$f":"'（別添４）エネルギー消費効率の根拠（要件ア）'!$DA$42","v":"トップランナー基準の数値（導入設備）"},{"$f":"'（別添４）エネルギー消費効率の根拠（要件ア）'!$DA$43","v":"比較指標/トップランナー基準"},{"$f":"'（別添４）エネルギー消費効率の根拠（要件ア）'!$DA$44","v":"添付資料の根拠記載箇所"},{"$f":"'（別添４）エネルギー消費効率の根拠（要件ア）'!$DA$45","v":"省エネ要因"},{"$f":"'（別添４）エネルギー消費効率の根拠（要件ア）'!$DA$46","v":"導入設備_製品名"},{"$f":"'（別添４）エネルギー消費効率の根拠（要件ア）'!$DA$47","v":"導入設備_製造メーカー"},{"$f":"'（別添４）エネルギー消費効率の根拠（要件ア）'!$DA$48","v":"導入設備_型番"},{"$f":"'（別添４）エネルギー消費効率の根拠（要件ア）'!$DA$49","v":"導入設備_導入台数"},{"$f":"'（別添４）エネルギー消費効率の根拠（要件ア）'!$DA$50","v":"導入設備_1台あたりの使用エネルギー"},{"$f":"'（別添４）エネルギー消費効率の根拠（要件ア）'!$DA$51","v":"導入設備_年間エネルギー使用量計算式"},{"$f":"'（別添４）エネルギー消費効率の根拠（要件ア）'!$DA$52","v":"導入設備_計算結果"},{"$f":"'（別添４）エネルギー消費効率の根拠（要件ア）'!$DA$53","v":"一代前モデル_製品名"},{"$f":"'（別添４）エネルギー消費効率の根拠（要件ア）'!$DA$54","v":"一代前モデル_製造メーカー"},{"$f":"'（別添４）エネルギー消費効率の根拠（要件ア）'!$DA$55","v":"一代前モデル_型番"},{"$f":"'（別添４）エネルギー消費効率の根拠（要件ア）'!$DA$56","v":"一代前モデル_導入台数"},{"$f":"'（別添４）エネルギー消費効率の根拠（要件ア）'!$DA$57","v":"一代前モデル_1台あたりの使用エネルギー"},{"$f":"'（別添４）エネルギー消費効率の根拠（要件ア）'!$DA$58","v":"一代前モデル_年間エネルギー使用量計算式"},{"$f":"'（別添４）エネルギー消費効率の根拠（要件ア）'!$DA$59","v":"一代前モデル_計算結果"},{"$f":"'（別添４）エネルギー消費効率の根拠（要件ア）'!$DA$60","v":"年間見込み省エネルギー量__計算結果"},{"$f":"'（別添４）エネルギー消費効率の根拠（要件ア）'!$DA$61","v":"年間見込み省エネルギー量_原油換算計算式"},{"$f":"'（別添４）エネルギー消費効率の根拠（要件ア）'!$DA$62","v":"年間見込み省エネルギー量原油換算計算結果"},{"$f":"'（別添４）エネルギー消費効率の根拠（要件ア）'!$DA$63","v":"年間見込み省エネルギー率_自動計算"},{"$f":"'（別添４）エネルギー消費効率の根拠（要件ア）'!$DE$40","v":"トップランナー基準"},{"$f":"'（別添４）エネルギー消費効率の根拠（要件ア）'!$DE$41","v":"トップランナー基準の区分名又は数値"},{"$f":"'（別添４）エネルギー消費効率の根拠（要件ア）'!$DE$42","v":"トップランナー基準の数値（導入設備）"},{"$f":"'（別添４）エネルギー消費効率の根拠（要件ア）'!$DE$43","v":"比較指標/トップランナー基準"},{"$f":"'（別添４）エネルギー消費効率の根拠（要件ア）'!$DE$44","v":"添付資料の根拠記載箇所"},{"$f":"'（別添４）エネルギー消費効率の根拠（要件ア）'!$DE$45","v":"省エネ要因"},{"$f":"'（別添４）エネルギー消費効率の根拠（要件ア）'!$DE$46","v":"導入設備_製品名"},{"$f":"'（別添４）エネルギー消費効率の根拠（要件ア）'!$DE$47","v":"導入設備_製造メーカー"},{"$f":"'（別添４）エネルギー消費効率の根拠（要件ア）'!$DE$48","v":"導入設備_型番"},{"$f":"'（別添４）エネルギー消費効率の根拠（要件ア）'!$DE$49","v":"導入設備_導入台数"},{"$f":"'（別添４）エネルギー消費効率の根拠（要件ア）'!$DE$50","v":"導入設備_1台あたりの使用エネルギー"},{"$f":"'（別添４）エネルギー消費効率の根拠（要件ア）'!$DE$51","v":"導入設備_年間エネルギー使用量計算式"},{"$f":"'（別添４）エネルギー消費効率の根拠（要件ア）'!$DE$52","v":"導入設備_計算結果"},{"$f":"'（別添４）エネルギー消費効率の根拠（要件ア）'!$DE$53","v":"一代前モデル_製品名"},{"$f":"'（別添４）エネルギー消費効率の根拠（要件ア）'!$DE$54","v":"一代前モデル_製造メーカー"},{"$f":"'（別添４）エネルギー消費効率の根拠（要件ア）'!$DE$55","v":"一代前モデル_型番"},{"$f":"'（別添４）エネルギー消費効率の根拠（要件ア）'!$DE$56","v":"一代前モデル_導入台数"},{"$f":"'（別添４）エネルギー消費効率の根拠（要件ア）'!$DE$57","v":"一代前モデル_1台あたりの使用エネルギー"},{"$f":"'（別添４）エネルギー消費効率の根拠（要件ア）'!$DE$58","v":"一代前モデル_年間エネルギー使用量計算式"},{"$f":"'（別添４）エネルギー消費効率の根拠（要件ア）'!$DE$59","v":"一代前モデル_計算結果"},{"$f":"'（別添４）エネルギー消費効率の根拠（要件ア）'!$DE$60","v":"年間見込み省エネルギー量__計算結果"},{"$f":"'（別添４）エネルギー消費効率の根拠（要件ア）'!$DE$61","v":"年間見込み省エネルギー量_原油換算計算式"},{"$f":"'（別添４）エネルギー消費効率の根拠（要件ア）'!$DE$62","v":"年間見込み省エネルギー量原油換算計算結果"},{"$f":"'（別添４）エネルギー消費効率の根拠（要件ア）'!$DE$63","v":"年間見込み省エネルギー率_自動計算"},{"$f":"'（別添４）エネルギー消費効率の根拠（要件ア）'!$DI$40","v":"トップランナー基準"},{"$f":"'（別添４）エネルギー消費効率の根拠（要件ア）'!$DI$41","v":"トップランナー基準の区分名又は数値"},{"$f":"'（別添４）エネルギー消費効率の根拠（要件ア）'!$DI$42","v":"トップランナー基準の数値（導入設備）"},{"$f":"'（別添４）エネルギー消費効率の根拠（要件ア）'!$DI$43","v":"比較指標/トップランナー基準"},{"$f":"'（別添４）エネルギー消費効率の根拠（要件ア）'!$DI$44","v":"添付資料の根拠記載箇所"},{"$f":"'（別添４）エネルギー消費効率の根拠（要件ア）'!$DI$45","v":"省エネ要因"},{"$f":"'（別添４）エネルギー消費効率の根拠（要件ア）'!$DI$46","v":"導入設備_製品名"},{"$f":"'（別添４）エネルギー消費効率の根拠（要件ア）'!$DI$47","v":"導入設備_製造メーカー"},{"$f":"'（別添４）エネルギー消費効率の根拠（要件ア）'!$DI$48","v":"導入設備_型番"},{"$f":"'（別添４）エネルギー消費効率の根拠（要件ア）'!$DI$49","v":"導入設備_導入台数"},{"$f":"'（別添４）エネルギー消費効率の根拠（要件ア）'!$DI$50","v":"導入設備_1台あたりの使用エネルギー"},{"$f":"'（別添４）エネルギー消費効率の根拠（要件ア）'!$DI$51","v":"導入設備_年間エネルギー使用量計算式"},{"$f":"'（別添４）エネルギー消費効率の根拠（要件ア）'!$DI$52","v":"導入設備_計算結果"},{"$f":"'（別添４）エネルギー消費効率の根拠（要件ア）'!$DI$53","v":"一代前モデル_製品名"},{"$f":"'（別添４）エネルギー消費効率の根拠（要件ア）'!$DI$54","v":"一代前モデル_製造メーカー"},{"$f":"'（別添４）エネルギー消費効率の根拠（要件ア）'!$DI$55","v":"一代前モデル_型番"},{"$f":"'（別添４）エネルギー消費効率の根拠（要件ア）'!$DI$56","v":"一代前モデル_導入台数"},{"$f":"'（別添４）エネルギー消費効率の根拠（要件ア）'!$DI$57","v":"一代前モデル_1台あたりの使用エネルギー"},{"$f":"'（別添４）エネルギー消費効率の根拠（要件ア）'!$DI$58","v":"一代前モデル_年間エネルギー使用量計算式"},{"$f":"'（別添４）エネルギー消費効率の根拠（要件ア）'!$DI$59","v":"一代前モデル_計算結果"},{"$f":"'（別添４）エネルギー消費効率の根拠（要件ア）'!$DI$60","v":"年間見込み省エネルギー量__計算結果"},{"$f":"'（別添４）エネルギー消費効率の根拠（要件ア）'!$DI$61","v":"年間見込み省エネルギー量_原油換算計算式"},{"$f":"'（別添４）エネルギー消費効率の根拠（要件ア）'!$DI$62","v":"年間見込み省エネルギー量原油換算計算結果"},{"$f":"'（別添４）エネルギー消費効率の根拠（要件ア）'!$DI$63","v":"年間見込み省エネルギー率_自動計算"},{"$f":"'（別添４）エネルギー消費効率の根拠（要件ア）'!$DM$40","v":"トップランナー基準"},{"$f":"'（別添４）エネルギー消費効率の根拠（要件ア）'!$DM$41","v":"トップランナー基準の区分名又は数値"},{"$f":"'（別添４）エネルギー消費効率の根拠（要件ア）'!$DM$42","v":"トップランナー基準の数値（導入設備）"},{"$f":"'（別添４）エネルギー消費効率の根拠（要件ア）'!$DM$43","v":"比較指標/トップランナー基準"},{"$f":"'（別添４）エネルギー消費効率の根拠（要件ア）'!$DM$44","v":"添付資料の根拠記載箇所"},{"$f":"'（別添４）エネルギー消費効率の根拠（要件ア）'!$DM$45","v":"省エネ要因"},{"$f":"'（別添４）エネルギー消費効率の根拠（要件ア）'!$DM$46","v":"導入設備_製品名"},{"$f":"'（別添４）エネルギー消費効率の根拠（要件ア）'!$DM$47","v":"導入設備_製造メーカー"},{"$f":"'（別添４）エネルギー消費効率の根拠（要件ア）'!$DM$48","v":"導入設備_型番"},{"$f":"'（別添４）エネルギー消費効率の根拠（要件ア）'!$DM$49","v":"導入設備_導入台数"},{"$f":"'（別添４）エネルギー消費効率の根拠（要件ア）'!$DM$50","v":"導入設備_1台あたりの使用エネルギー"},{"$f":"'（別添４）エネルギー消費効率の根拠（要件ア）'!$DM$51","v":"導入設備_年間エネルギー使用量計算式"},{"$f":"'（別添４）エネルギー消費効率の根拠（要件ア）'!$DM$52","v":"導入設備_計算結果"},{"$f":"'（別添４）エネルギー消費効率の根拠（要件ア）'!$DM$53","v":"一代前モデル_製品名"},{"$f":"'（別添４）エネルギー消費効率の根拠（要件ア）'!$DM$54","v":"一代前モデル_製造メーカー"},{"$f":"'（別添４）エネルギー消費効率の根拠（要件ア）'!$DM$55","v":"一代前モデル_型番"},{"$f":"'（別添４）エネルギー消費効率の根拠（要件ア）'!$DM$56","v":"一代前モデル_導入台数"},{"$f":"'（別添４）エネルギー消費効率の根拠（要件ア）'!$DM$57","v":"一代前モデル_1台あたりの使用エネルギー"},{"$f":"'（別添４）エネルギー消費効率の根拠（要件ア）'!$DM$58","v":"一代前モデル_年間エネルギー使用量計算式"},{"$f":"'（別添４）エネルギー消費効率の根拠（要件ア）'!$DM$59","v":"一代前モデル_計算結果"},{"$f":"'（別添４）エネルギー消費効率の根拠（要件ア）'!$DM$60","v":"年間見込み省エネルギー量__計算結果"},{"$f":"'（別添４）エネルギー消費効率の根拠（要件ア）'!$DM$61","v":"年間見込み省エネルギー量_原油換算計算式"},{"$f":"'（別添４）エネルギー消費効率の根拠（要件ア）'!$DM$62","v":"年間見込み省エネルギー量原油換算計算結果"},{"$f":"'（別添４）エネルギー消費効率の根拠（要件ア）'!$DM$63","v":"年間見込み省エネルギー率_自動計算"},{"$f":"'（別添４）エネルギー消費効率の根拠（要件ア）'!$DQ$40","v":"トップランナー基準"},{"$f":"'（別添４）エネルギー消費効率の根拠（要件ア）'!$DQ$41","v":"トップランナー基準の区分名又は数値"},{"$f":"'（別添４）エネルギー消費効率の根拠（要件ア）'!$DQ$42","v":"トップランナー基準の数値（導入設備）"},{"$f":"'（別添４）エネルギー消費効率の根拠（要件ア）'!$DQ$43","v":"比較指標/トップランナー基準"},{"$f":"'（別添４）エネルギー消費効率の根拠（要件ア）'!$DQ$44","v":"添付資料の根拠記載箇所"},{"$f":"'（別添４）エネルギー消費効率の根拠（要件ア）'!$DQ$45","v":"省エネ要因"},{"$f":"'（別添４）エネルギー消費効率の根拠（要件ア）'!$DQ$46","v":"導入設備_製品名"},{"$f":"'（別添４）エネルギー消費効率の根拠（要件ア）'!$DQ$47","v":"導入設備_製造メーカー"},{"$f":"'（別添４）エネルギー消費効率の根拠（要件ア）'!$DQ$48","v":"導入設備_型番"},{"$f":"'（別添４）エネルギー消費効率の根拠（要件ア）'!$DQ$49","v":"導入設備_導入台数"},{"$f":"'（別添４）エネルギー消費効率の根拠（要件ア）'!$DQ$50","v":"導入設備_1台あたりの使用エネルギー"},{"$f":"'（別添４）エネルギー消費効率の根拠（要件ア）'!$DQ$51","v":"導入設備_年間エネルギー使用量計算式"},{"$f":"'（別添４）エネルギー消費効率の根拠（要件ア）'!$DQ$52","v":"導入設備_計算結果"},{"$f":"'（別添４）エネルギー消費効率の根拠（要件ア）'!$DQ$53","v":"一代前モデル_製品名"},{"$f":"'（別添４）エネルギー消費効率の根拠（要件ア）'!$DQ$54","v":"一代前モデル_製造メーカー"},{"$f":"'（別添４）エネルギー消費効率の根拠（要件ア）'!$DQ$55","v":"一代前モデル_型番"},{"$f":"'（別添４）エネルギー消費効率の根拠（要件ア）'!$DQ$56","v":"一代前モデル_導入台数"},{"$f":"'（別添４）エネルギー消費効率の根拠（要件ア）'!$DQ$57","v":"一代前モデル_1台あたりの使用エネルギー"},{"$f":"'（別添４）エネルギー消費効率の根拠（要件ア）'!$DQ$58","v":"一代前モデル_年間エネルギー使用量計算式"},{"$f":"'（別添４）エネルギー消費効率の根拠（要件ア）'!$DQ$59","v":"一代前モデル_計算結果"},{"$f":"'（別添４）エネルギー消費効率の根拠（要件ア）'!$DQ$60","v":"年間見込み省エネルギー量__計算結果"},{"$f":"'（別添４）エネルギー消費効率の根拠（要件ア）'!$DQ$61","v":"年間見込み省エネルギー量_原油換算計算式"},{"$f":"'（別添４）エネルギー消費効率の根拠（要件ア）'!$DQ$62","v":"年間見込み省エネルギー量原油換算計算結果"},{"$f":"'（別添４）エネルギー消費効率の根拠（要件ア）'!$DQ$63","v":"年間見込み省エネルギー率_自動計算"},{"$f":"'（別添４）エネルギー消費効率の根拠（要件ア）'!$DU$40","v":"トップランナー基準"},{"$f":"'（別添４）エネルギー消費効率の根拠（要件ア）'!$DU$41","v":"トップランナー基準の区分名又は数値"},{"$f":"'（別添４）エネルギー消費効率の根拠（要件ア）'!$DU$42","v":"トップランナー基準の数値（導入設備）"},{"$f":"'（別添４）エネルギー消費効率の根拠（要件ア）'!$DU$43","v":"比較指標/トップランナー基準"},{"$f":"'（別添４）エネルギー消費効率の根拠（要件ア）'!$DU$44","v":"添付資料の根拠記載箇所"},{"$f":"'（別添４）エネルギー消費効率の根拠（要件ア）'!$DU$45","v":"省エネ要因"},{"$f":"'（別添４）エネルギー消費効率の根拠（要件ア）'!$DU$46","v":"導入設備_製品名"},{"$f":"'（別添４）エネルギー消費効率の根拠（要件ア）'!$DU$47","v":"導入設備_製造メーカー"},{"$f":"'（別添４）エネルギー消費効率の根拠（要件ア）'!$DU$48","v":"導入設備_型番"},{"$f":"'（別添４）エネルギー消費効率の根拠（要件ア）'!$DU$49","v":"導入設備_導入台数"},{"$f":"'（別添４）エネルギー消費効率の根拠（要件ア）'!$DU$50","v":"導入設備_1台あたりの使用エネルギー"},{"$f":"'（別添４）エネルギー消費効率の根拠（要件ア）'!$DU$51","v":"導入設備_年間エネルギー使用量計算式"},{"$f":"'（別添４）エネルギー消費効率の根拠（要件ア）'!$DU$52","v":"導入設備_計算結果"},{"$f":"'（別添４）エネルギー消費効率の根拠（要件ア）'!$DU$53","v":"一代前モデル_製品名"},{"$f":"'（別添４）エネルギー消費効率の根拠（要件ア）'!$DU$54","v":"一代前モデル_製造メーカー"},{"$f":"'（別添４）エネルギー消費効率の根拠（要件ア）'!$DU$55","v":"一代前モデル_型番"},{"$f":"'（別添４）エネルギー消費効率の根拠（要件ア）'!$DU$56","v":"一代前モデル_導入台数"},{"$f":"'（別添４）エネルギー消費効率の根拠（要件ア）'!$DU$57","v":"一代前モデル_1台あたりの使用エネルギー"},{"$f":"'（別添４）エネルギー消費効率の根拠（要件ア）'!$DU$58","v":"一代前モデル_年間エネルギー使用量計算式"},{"$f":"'（別添４）エネルギー消費効率の根拠（要件ア）'!$DU$59","v":"一代前モデル_計算結果"},{"$f":"'（別添４）エネルギー消費効率の根拠（要件ア）'!$DU$60","v":"年間見込み省エネルギー量__計算結果"},{"$f":"'（別添４）エネルギー消費効率の根拠（要件ア）'!$DU$61","v":"年間見込み省エネルギー量_原油換算計算式"},{"$f":"'（別添４）エネルギー消費効率の根拠（要件ア）'!$DU$62","v":"年間見込み省エネルギー量原油換算計算結果"},{"$f":"'（別添４）エネルギー消費効率の根拠（要件ア）'!$DU$63","v":"年間見込み省エネルギー率_自動計算"},{"$f":"'（別添４）エネルギー消費効率の根拠（要件ア）'!$DY$40","v":"トップランナー基準"},{"$f":"'（別添４）エネルギー消費効率の根拠（要件ア）'!$DY$41","v":"トップランナー基準の区分名又は数値"},{"$f":"'（別添４）エネルギー消費効率の根拠（要件ア）'!$DY$42","v":"トップランナー基準の数値（導入設備）"},{"$f":"'（別添４）エネルギー消費効率の根拠（要件ア）'!$DY$43","v":"比較指標/トップランナー基準"},{"$f":"'（別添４）エネルギー消費効率の根拠（要件ア）'!$DY$44","v":"添付資料の根拠記載箇所"},{"$f":"'（別添４）エネルギー消費効率の根拠（要件ア）'!$DY$45","v":"省エネ要因"},{"$f":"'（別添４）エネルギー消費効率の根拠（要件ア）'!$DY$46","v":"導入設備_製品名"},{"$f":"'（別添４）エネルギー消費効率の根拠（要件ア）'!$DY$47","v":"導入設備_製造メーカー"},{"$f":"'（別添４）エネルギー消費効率の根拠（要件ア）'!$DY$48","v":"導入設備_型番"},{"$f":"'（別添４）エネルギー消費効率の根拠（要件ア）'!$DY$49","v":"導入設備_導入台数"},{"$f":"'（別添４）エネルギー消費効率の根拠（要件ア）'!$DY$50","v":"導入設備_1台あたりの使用エネルギー"},{"$f":"'（別添４）エネルギー消費効率の根拠（要件ア）'!$DY$51","v":"導入設備_年間エネルギー使用量計算式"},{"$f":"'（別添４）エネルギー消費効率の根拠（要件ア）'!$DY$52","v":"導入設備_計算結果"},{"$f":"'（別添４）エネルギー消費効率の根拠（要件ア）'!$DY$53","v":"一代前モデル_製品名"},{"$f":"'（別添４）エネルギー消費効率の根拠（要件ア）'!$DY$54","v":"一代前モデル_製造メーカー"},{"$f":"'（別添４）エネルギー消費効率の根拠（要件ア）'!$DY$55","v":"一代前モデル_型番"},{"$f":"'（別添４）エネルギー消費効率の根拠（要件ア）'!$DY$56","v":"一代前モデル_導入台数"},{"$f":"'（別添４）エネルギー消費効率の根拠（要件ア）'!$DY$57","v":"一代前モデル_1台あたりの使用エネルギー"},{"$f":"'（別添４）エネルギー消費効率の根拠（要件ア）'!$DY$58","v":"一代前モデル_年間エネルギー使用量計算式"},{"$f":"'（別添４）エネルギー消費効率の根拠（要件ア）'!$DY$59","v":"一代前モデル_計算結果"},{"$f":"'（別添４）エネルギー消費効率の根拠（要件ア）'!$DY$60","v":"年間見込み省エネルギー量__計算結果"},{"$f":"'（別添４）エネルギー消費効率の根拠（要件ア）'!$DY$61","v":"年間見込み省エネルギー量_原油換算計算式"},{"$f":"'（別添４）エネルギー消費効率の根拠（要件ア）'!$DY$62","v":"年間見込み省エネルギー量原油換算計算結果"},{"$f":"'（別添４）エネルギー消費効率の根拠（要件ア）'!$DY$63","v":"年間見込み省エネルギー率_自動計算"},{"$f":"'（別添４）エネルギー消費効率の根拠（要件ア）'!$EC$40","v":"トップランナー基準"},{"$f":"'（別添４）エネルギー消費効率の根拠（要件ア）'!$EC$41","v":"トップランナー基準の区分名又は数値"},{"$f":"'（別添４）エネルギー消費効率の根拠（要件ア）'!$EC$42","v":"トップランナー基準の数値（導入設備）"},{"$f":"'（別添４）エネルギー消費効率の根拠（要件ア）'!$EC$43","v":"比較指標/トップランナー基準"},{"$f":"'（別添４）エネルギー消費効率の根拠（要件ア）'!$EC$44","v":"添付資料の根拠記載箇所"},{"$f":"'（別添４）エネルギー消費効率の根拠（要件ア）'!$EC$45","v":"省エネ要因"},{"$f":"'（別添４）エネルギー消費効率の根拠（要件ア）'!$EC$46","v":"導入設備_製品名"},{"$f":"'（別添４）エネルギー消費効率の根拠（要件ア）'!$EC$47","v":"導入設備_製造メーカー"},{"$f":"'（別添４）エネルギー消費効率の根拠（要件ア）'!$EC$48","v":"導入設備_型番"},{"$f":"'（別添４）エネルギー消費効率の根拠（要件ア）'!$EC$49","v":"導入設備_導入台数"},{"$f":"'（別添４）エネルギー消費効率の根拠（要件ア）'!$EC$50","v":"導入設備_1台あたりの使用エネルギー"},{"$f":"'（別添４）エネルギー消費効率の根拠（要件ア）'!$EC$51","v":"導入設備_年間エネルギー使用量計算式"},{"$f":"'（別添４）エネルギー消費効率の根拠（要件ア）'!$EC$52","v":"導入設備_計算結果"},{"$f":"'（別添４）エネルギー消費効率の根拠（要件ア）'!$EC$53","v":"一代前モデル_製品名"},{"$f":"'（別添４）エネルギー消費効率の根拠（要件ア）'!$EC$54","v":"一代前モデル_製造メーカー"},{"$f":"'（別添４）エネルギー消費効率の根拠（要件ア）'!$EC$55","v":"一代前モデル_型番"},{"$f":"'（別添４）エネルギー消費効率の根拠（要件ア）'!$EC$56","v":"一代前モデル_導入台数"},{"$f":"'（別添４）エネルギー消費効率の根拠（要件ア）'!$EC$57","v":"一代前モデル_1台あたりの使用エネルギー"},{"$f":"'（別添４）エネルギー消費効率の根拠（要件ア）'!$EC$58","v":"一代前モデル_年間エネルギー使用量計算式"},{"$f":"'（別添４）エネルギー消費効率の根拠（要件ア）'!$EC$59","v":"一代前モデル_計算結果"},{"$f":"'（別添４）エネルギー消費効率の根拠（要件ア）'!$EC$60","v":"年間見込み省エネルギー量__計算結果"},{"$f":"'（別添４）エネルギー消費効率の根拠（要件ア）'!$EC$61","v":"年間見込み省エネルギー量_原油換算計算式"},{"$f":"'（別添４）エネルギー消費効率の根拠（要件ア）'!$EC$62","v":"年間見込み省エネルギー量原油換算計算結果"},{"$f":"'（別添４）エネルギー消費効率の根拠（要件ア）'!$EC$63","v":"年間見込み省エネルギー率_自動計算"},{"$f":"'（別添４）エネルギー消費効率の根拠（要件ア）'!$EG$40","v":"トップランナー基準"},{"$f":"'（別添４）エネルギー消費効率の根拠（要件ア）'!$EG$41","v":"トップランナー基準の区分名又は数値"},{"$f":"'（別添４）エネルギー消費効率の根拠（要件ア）'!$EG$42","v":"トップランナー基準の数値（導入設備）"},{"$f":"'（別添４）エネルギー消費効率の根拠（要件ア）'!$EG$43","v":"比較指標/トップランナー基準"},{"$f":"'（別添４）エネルギー消費効率の根拠（要件ア）'!$EG$44","v":"添付資料の根拠記載箇所"},{"$f":"'（別添４）エネルギー消費効率の根拠（要件ア）'!$EG$45","v":"省エネ要因"},{"$f":"'（別添４）エネルギー消費効率の根拠（要件ア）'!$EG$46","v":"導入設備_製品名"},{"$f":"'（別添４）エネルギー消費効率の根拠（要件ア）'!$EG$47","v":"導入設備_製造メーカー"},{"$f":"'（別添４）エネルギー消費効率の根拠（要件ア）'!$EG$48","v":"導入設備_型番"},{"$f":"'（別添４）エネルギー消費効率の根拠（要件ア）'!$EG$49","v":"導入設備_導入台数"},{"$f":"'（別添４）エネルギー消費効率の根拠（要件ア）'!$EG$50","v":"導入設備_1台あたりの使用エネルギー"},{"$f":"'（別添４）エネルギー消費効率の根拠（要件ア）'!$EG$51","v":"導入設備_年間エネルギー使用量計算式"},{"$f":"'（別添４）エネルギー消費効率の根拠（要件ア）'!$EG$52","v":"導入設備_計算結果"},{"$f":"'（別添４）エネルギー消費効率の根拠（要件ア）'!$EG$53","v":"一代前モデル_製品名"},{"$f":"'（別添４）エネルギー消費効率の根拠（要件ア）'!$EG$54","v":"一代前モデル_製造メーカー"},{"$f":"'（別添４）エネルギー消費効率の根拠（要件ア）'!$EG$55","v":"一代前モデル_型番"},{"$f":"'（別添４）エネルギー消費効率の根拠（要件ア）'!$EG$56","v":"一代前モデル_導入台数"},{"$f":"'（別添４）エネルギー消費効率の根拠（要件ア）'!$EG$57","v":"一代前モデル_1台あたりの使用エネルギー"},{"$f":"'（別添４）エネルギー消費効率の根拠（要件ア）'!$EG$58","v":"一代前モデル_年間エネルギー使用量計算式"},{"$f":"'（別添４）エネルギー消費効率の根拠（要件ア）'!$EG$59","v":"一代前モデル_計算結果"},{"$f":"'（別添４）エネルギー消費効率の根拠（要件ア）'!$EG$60","v":"年間見込み省エネルギー量__計算結果"},{"$f":"'（別添４）エネルギー消費効率の根拠（要件ア）'!$EG$61","v":"年間見込み省エネルギー量_原油換算計算式"},{"$f":"'（別添４）エネルギー消費効率の根拠（要件ア）'!$EG$62","v":"年間見込み省エネルギー量原油換算計算結果"},{"$f":"'（別添４）エネルギー消費効率の根拠（要件ア）'!$EG$63","v":"年間見込み省エネルギー率_自動計算"},{"$f":"'（別添４）エネルギー消費効率の根拠（要件ア）'!$EK$40","v":"トップランナー基準"},{"$f":"'（別添４）エネルギー消費効率の根拠（要件ア）'!$EK$41","v":"トップランナー基準の区分名又は数値"},{"$f":"'（別添４）エネルギー消費効率の根拠（要件ア）'!$EK$42","v":"トップランナー基準の数値（導入設備）"},{"$f":"'（別添４）エネルギー消費効率の根拠（要件ア）'!$EK$43","v":"比較指標/トップランナー基準"},{"$f":"'（別添４）エネルギー消費効率の根拠（要件ア）'!$EK$44","v":"添付資料の根拠記載箇所"},{"$f":"'（別添４）エネルギー消費効率の根拠（要件ア）'!$EK$45","v":"省エネ要因"},{"$f":"'（別添４）エネルギー消費効率の根拠（要件ア）'!$EK$46","v":"導入設備_製品名"},{"$f":"'（別添４）エネルギー消費効率の根拠（要件ア）'!$EK$47","v":"導入設備_製造メーカー"},{"$f":"'（別添４）エネルギー消費効率の根拠（要件ア）'!$EK$48","v":"導入設備_型番"},{"$f":"'（別添４）エネルギー消費効率の根拠（要件ア）'!$EK$49","v":"導入設備_導入台数"},{"$f":"'（別添４）エネルギー消費効率の根拠（要件ア）'!$EK$50","v":"導入設備_1台あたりの使用エネルギー"},{"$f":"'（別添４）エネルギー消費効率の根拠（要件ア）'!$EK$51","v":"導入設備_年間エネルギー使用量計算式"},{"$f":"'（別添４）エネルギー消費効率の根拠（要件ア）'!$EK$52","v":"導入設備_計算結果"},{"$f":"'（別添４）エネルギー消費効率の根拠（要件ア）'!$EK$53","v":"一代前モデル_製品名"},{"$f":"'（別添４）エネルギー消費効率の根拠（要件ア）'!$EK$54","v":"一代前モデル_製造メーカー"},{"$f":"'（別添４）エネルギー消費効率の根拠（要件ア）'!$EK$55","v":"一代前モデル_型番"},{"$f":"'（別添４）エネルギー消費効率の根拠（要件ア）'!$EK$56","v":"一代前モデル_導入台数"},{"$f":"'（別添４）エネルギー消費効率の根拠（要件ア）'!$EK$57","v":"一代前モデル_1台あたりの使用エネルギー"},{"$f":"'（別添４）エネルギー消費効率の根拠（要件ア）'!$EK$58","v":"一代前モデル_年間エネルギー使用量計算式"},{"$f":"'（別添４）エネルギー消費効率の根拠（要件ア）'!$EK$59","v":"一代前モデル_計算結果"},{"$f":"'（別添４）エネルギー消費効率の根拠（要件ア）'!$EK$60","v":"年間見込み省エネルギー量__計算結果"},{"$f":"'（別添４）エネルギー消費効率の根拠（要件ア）'!$EK$61","v":"年間見込み省エネルギー量_原油換算計算式"},{"$f":"'（別添４）エネルギー消費効率の根拠（要件ア）'!$EK$62","v":"年間見込み省エネルギー量原油換算計算結果"},{"$f":"'（別添４）エネルギー消費効率の根拠（要件ア）'!$EK$63","v":"年間見込み省エネルギー率_自動計算"},{"$f":"'（別添４）エネルギー消費効率の根拠（要件ア）'!$EO$40","v":"トップランナー基準"},{"$f":"'（別添４）エネルギー消費効率の根拠（要件ア）'!$EO$41","v":"トップランナー基準の区分名又は数値"},{"$f":"'（別添４）エネルギー消費効率の根拠（要件ア）'!$EO$42","v":"トップランナー基準の数値（導入設備）"},{"$f":"'（別添４）エネルギー消費効率の根拠（要件ア）'!$EO$43","v":"比較指標/トップランナー基準"},{"$f":"'（別添４）エネルギー消費効率の根拠（要件ア）'!$EO$44","v":"添付資料の根拠記載箇所"},{"$f":"'（別添４）エネルギー消費効率の根拠（要件ア）'!$EO$45","v":"省エネ要因"},{"$f":"'（別添４）エネルギー消費効率の根拠（要件ア）'!$EO$46","v":"導入設備_製品名"},{"$f":"'（別添４）エネルギー消費効率の根拠（要件ア）'!$EO$47","v":"導入設備_製造メーカー"},{"$f":"'（別添４）エネルギー消費効率の根拠（要件ア）'!$EO$48","v":"導入設備_型番"},{"$f":"'（別添４）エネルギー消費効率の根拠（要件ア）'!$EO$49","v":"導入設備_導入台数"},{"$f":"'（別添４）エネルギー消費効率の根拠（要件ア）'!$EO$50","v":"導入設備_1台あたりの使用エネルギー"},{"$f":"'（別添４）エネルギー消費効率の根拠（要件ア）'!$EO$51","v":"導入設備_年間エネルギー使用量計算式"},{"$f":"'（別添４）エネルギー消費効率の根拠（要件ア）'!$EO$52","v":"導入設備_計算結果"},{"$f":"'（別添４）エネルギー消費効率の根拠（要件ア）'!$EO$53","v":"一代前モデル_製品名"},{"$f":"'（別添４）エネルギー消費効率の根拠（要件ア）'!$EO$54","v":"一代前モデル_製造メーカー"},{"$f":"'（別添４）エネルギー消費効率の根拠（要件ア）'!$EO$55","v":"一代前モデル_型番"},{"$f":"'（別添４）エネルギー消費効率の根拠（要件ア）'!$EO$56","v":"一代前モデル_導入台数"},{"$f":"'（別添４）エネルギー消費効率の根拠（要件ア）'!$EO$57","v":"一代前モデル_1台あたりの使用エネルギー"},{"$f":"'（別添４）エネルギー消費効率の根拠（要件ア）'!$EO$58","v":"一代前モデル_年間エネルギー使用量計算式"},{"$f":"'（別添４）エネルギー消費効率の根拠（要件ア）'!$EO$59","v":"一代前モデル_計算結果"},{"$f":"'（別添４）エネルギー消費効率の根拠（要件ア）'!$EO$60","v":"年間見込み省エネルギー量__計算結果"},{"$f":"'（別添４）エネルギー消費効率の根拠（要件ア）'!$EO$61","v":"年間見込み省エネルギー量_原油換算計算式"},{"$f":"'（別添４）エネルギー消費効率の根拠（要件ア）'!$EO$62","v":"年間見込み省エネルギー量原油換算計算結果"},{"$f":"'（別添４）エネルギー消費効率の根拠（要件ア）'!$EO$63","v":"年間見込み省エネルギー率_自動計算"},{"$f":"'（別添４）エネルギー消費効率の根拠（要件ア）'!$ES$40","v":"トップランナー基準"},{"$f":"'（別添４）エネルギー消費効率の根拠（要件ア）'!$ES$41","v":"トップランナー基準の区分名又は数値"},{"$f":"'（別添４）エネルギー消費効率の根拠（要件ア）'!$ES$42","v":"トップランナー基準の数値（導入設備）"},{"$f":"'（別添４）エネルギー消費効率の根拠（要件ア）'!$ES$43","v":"比較指標/トップランナー基準"},{"$f":"'（別添４）エネルギー消費効率の根拠（要件ア）'!$ES$44","v":"添付資料の根拠記載箇所"},{"$f":"'（別添４）エネルギー消費効率の根拠（要件ア）'!$ES$45","v":"省エネ要因"},{"$f":"'（別添４）エネルギー消費効率の根拠（要件ア）'!$ES$46","v":"導入設備_製品名"},{"$f":"'（別添４）エネルギー消費効率の根拠（要件ア）'!$ES$47","v":"導入設備_製造メーカー"},{"$f":"'（別添４）エネルギー消費効率の根拠（要件ア）'!$ES$48","v":"導入設備_型番"},{"$f":"'（別添４）エネルギー消費効率の根拠（要件ア）'!$ES$49","v":"導入設備_導入台数"},{"$f":"'（別添４）エネルギー消費効率の根拠（要件ア）'!$ES$50","v":"導入設備_1台あたりの使用エネルギー"},{"$f":"'（別添４）エネルギー消費効率の根拠（要件ア）'!$ES$51","v":"導入設備_年間エネルギー使用量計算式"},{"$f":"'（別添４）エネルギー消費効率の根拠（要件ア）'!$ES$52","v":"導入設備_計算結果"},{"$f":"'（別添４）エネルギー消費効率の根拠（要件ア）'!$ES$53","v":"一代前モデル_製品名"},{"$f":"'（別添４）エネルギー消費効率の根拠（要件ア）'!$ES$54","v":"一代前モデル_製造メーカー"},{"$f":"'（別添４）エネルギー消費効率の根拠（要件ア）'!$ES$55","v":"一代前モデル_型番"},{"$f":"'（別添４）エネルギー消費効率の根拠（要件ア）'!$ES$56","v":"一代前モデル_導入台数"},{"$f":"'（別添４）エネルギー消費効率の根拠（要件ア）'!$ES$57","v":"一代前モデル_1台あたりの使用エネルギー"},{"$f":"'（別添４）エネルギー消費効率の根拠（要件ア）'!$ES$58","v":"一代前モデル_年間エネルギー使用量計算式"},{"$f":"'（別添４）エネルギー消費効率の根拠（要件ア）'!$ES$59","v":"一代前モデル_計算結果"},{"$f":"'（別添４）エネルギー消費効率の根拠（要件ア）'!$ES$60","v":"年間見込み省エネルギー量__計算結果"},{"$f":"'（別添４）エネルギー消費効率の根拠（要件ア）'!$ES$61","v":"年間見込み省エネルギー量_原油換算計算式"},{"$f":"'（別添４）エネルギー消費効率の根拠（要件ア）'!$ES$62","v":"年間見込み省エネルギー量原油換算計算結果"},{"$f":"'（別添４）エネルギー消費効率の根拠（要件ア）'!$ES$63","v":"年間見込み省エネルギー率_自動計算"},{"$f":"'（別添４）エネルギー消費効率の根拠（要件ア）'!$EW$40","v":"トップランナー基準"},{"$f":"'（別添４）エネルギー消費効率の根拠（要件ア）'!$EW$41","v":"トップランナー基準の区分名又は数値"},{"$f":"'（別添４）エネルギー消費効率の根拠（要件ア）'!$EW$42","v":"トップランナー基準の数値（導入設備）"},{"$f":"'（別添４）エネルギー消費効率の根拠（要件ア）'!$EW$43","v":"比較指標/トップランナー基準"},{"$f":"'（別添４）エネルギー消費効率の根拠（要件ア）'!$EW$44","v":"添付資料の根拠記載箇所"},{"$f":"'（別添４）エネルギー消費効率の根拠（要件ア）'!$EW$45","v":"省エネ要因"},{"$f":"'（別添４）エネルギー消費効率の根拠（要件ア）'!$EW$46","v":"導入設備_製品名"},{"$f":"'（別添４）エネルギー消費効率の根拠（要件ア）'!$EW$47","v":"導入設備_製造メーカー"},{"$f":"'（別添４）エネルギー消費効率の根拠（要件ア）'!$EW$48","v":"導入設備_型番"},{"$f":"'（別添４）エネルギー消費効率の根拠（要件ア）'!$EW$49","v":"導入設備_導入台数"},{"$f":"'（別添４）エネルギー消費効率の根拠（要件ア）'!$EW$50","v":"導入設備_1台あたりの使用エネルギー"},{"$f":"'（別添４）エネルギー消費効率の根拠（要件ア）'!$EW$51","v":"導入設備_年間エネルギー使用量計算式"},{"$f":"'（別添４）エネルギー消費効率の根拠（要件ア）'!$EW$52","v":"導入設備_計算結果"},{"$f":"'（別添４）エネルギー消費効率の根拠（要件ア）'!$EW$53","v":"一代前モデル_製品名"},{"$f":"'（別添４）エネルギー消費効率の根拠（要件ア）'!$EW$54","v":"一代前モデル_製造メーカー"},{"$f":"'（別添４）エネルギー消費効率の根拠（要件ア）'!$EW$55","v":"一代前モデル_型番"},{"$f":"'（別添４）エネルギー消費効率の根拠（要件ア）'!$EW$56","v":"一代前モデル_導入台数"},{"$f":"'（別添４）エネルギー消費効率の根拠（要件ア）'!$EW$57","v":"一代前モデル_1台あたりの使用エネルギー"},{"$f":"'（別添４）エネルギー消費効率の根拠（要件ア）'!$EW$58","v":"一代前モデル_年間エネルギー使用量計算式"},{"$f":"'（別添４）エネルギー消費効率の根拠（要件ア）'!$EW$59","v":"一代前モデル_計算結果"},{"$f":"'（別添４）エネルギー消費効率の根拠（要件ア）'!$EW$60","v":"年間見込み省エネルギー量__計算結果"},{"$f":"'（別添４）エネルギー消費効率の根拠（要件ア）'!$EW$61","v":"年間見込み省エネルギー量_原油換算計算式"},{"$f":"'（別添４）エネルギー消費効率の根拠（要件ア）'!$EW$62","v":"年間見込み省エネルギー量原油換算計算結果"},{"$f":"'（別添４）エネルギー消費効率の根拠（要件ア）'!$EW$63","v":"年間見込み省エネルギー率_自動計算"},{"$f":"'（別添４）エネルギー消費効率の根拠（要件ア）'!$FA$40","v":"トップランナー基準"},{"$f":"'（別添４）エネルギー消費効率の根拠（要件ア）'!$FA$41","v":"トップランナー基準の区分名又は数値"},{"$f":"'（別添４）エネルギー消費効率の根拠（要件ア）'!$FA$42","v":"トップランナー基準の数値（導入設備）"},{"$f":"'（別添４）エネルギー消費効率の根拠（要件ア）'!$FA$43","v":"比較指標/トップランナー基準"},{"$f":"'（別添４）エネルギー消費効率の根拠（要件ア）'!$FA$44","v":"添付資料の根拠記載箇所"},{"$f":"'（別添４）エネルギー消費効率の根拠（要件ア）'!$FA$45","v":"省エネ要因"},{"$f":"'（別添４）エネルギー消費効率の根拠（要件ア）'!$FA$46","v":"導入設備_製品名"},{"$f":"'（別添４）エネルギー消費効率の根拠（要件ア）'!$FA$47","v":"導入設備_製造メーカー"},{"$f":"'（別添４）エネルギー消費効率の根拠（要件ア）'!$FA$48","v":"導入設備_型番"},{"$f":"'（別添４）エネルギー消費効率の根拠（要件ア）'!$FA$49","v":"導入設備_導入台数"},{"$f":"'（別添４）エネルギー消費効率の根拠（要件ア）'!$FA$50","v":"導入設備_1台あたりの使用エネルギー"},{"$f":"'（別添４）エネルギー消費効率の根拠（要件ア）'!$FA$51","v":"導入設備_年間エネルギー使用量計算式"},{"$f":"'（別添４）エネルギー消費効率の根拠（要件ア）'!$FA$52","v":"導入設備_計算結果"},{"$f":"'（別添４）エネルギー消費効率の根拠（要件ア）'!$FA$53","v":"一代前モデル_製品名"},{"$f":"'（別添４）エネルギー消費効率の根拠（要件ア）'!$FA$54","v":"一代前モデル_製造メーカー"},{"$f":"'（別添４）エネルギー消費効率の根拠（要件ア）'!$FA$55","v":"一代前モデル_型番"},{"$f":"'（別添４）エネルギー消費効率の根拠（要件ア）'!$FA$56","v":"一代前モデル_導入台数"},{"$f":"'（別添４）エネルギー消費効率の根拠（要件ア）'!$FA$57","v":"一代前モデル_1台あたりの使用エネルギー"},{"$f":"'（別添４）エネルギー消費効率の根拠（要件ア）'!$FA$58","v":"一代前モデル_年間エネルギー使用量計算式"},{"$f":"'（別添４）エネルギー消費効率の根拠（要件ア）'!$FA$59","v":"一代前モデル_計算結果"},{"$f":"'（別添４）エネルギー消費効率の根拠（要件ア）'!$FA$60","v":"年間見込み省エネルギー量__計算結果"},{"$f":"'（別添４）エネルギー消費効率の根拠（要件ア）'!$FA$61","v":"年間見込み省エネルギー量_原油換算計算式"},{"$f":"'（別添４）エネルギー消費効率の根拠（要件ア）'!$FA$62","v":"年間見込み省エネルギー量原油換算計算結果"},{"$f":"'（別添４）エネルギー消費効率の根拠（要件ア）'!$FA$63","v":"年間見込み省エネルギー率_自動計算"},{"$f":"'（別添４）エネルギー消費効率の根拠（要件ア）'!$FE$40","v":"トップランナー基準"},{"$f":"'（別添４）エネルギー消費効率の根拠（要件ア）'!$FE$41","v":"トップランナー基準の区分名又は数値"},{"$f":"'（別添４）エネルギー消費効率の根拠（要件ア）'!$FE$42","v":"トップランナー基準の数値（導入設備）"},{"$f":"'（別添４）エネルギー消費効率の根拠（要件ア）'!$FE$43","v":"比較指標/トップランナー基準"},{"$f":"'（別添４）エネルギー消費効率の根拠（要件ア）'!$FE$44","v":"添付資料の根拠記載箇所"},{"$f":"'（別添４）エネルギー消費効率の根拠（要件ア）'!$FE$45","v":"省エネ要因"},{"$f":"'（別添４）エネルギー消費効率の根拠（要件ア）'!$FE$46","v":"導入設備_製品名"},{"$f":"'（別添４）エネルギー消費効率の根拠（要件ア）'!$FE$47","v":"導入設備_製造メーカー"},{"$f":"'（別添４）エネルギー消費効率の根拠（要件ア）'!$FE$48","v":"導入設備_型番"},{"$f":"'（別添４）エネルギー消費効率の根拠（要件ア）'!$FE$49","v":"導入設備_導入台数"},{"$f":"'（別添４）エネルギー消費効率の根拠（要件ア）'!$FE$50","v":"導入設備_1台あたりの使用エネルギー"},{"$f":"'（別添４）エネルギー消費効率の根拠（要件ア）'!$FE$51","v":"導入設備_年間エネルギー使用量計算式"},{"$f":"'（別添４）エネルギー消費効率の根拠（要件ア）'!$FE$52","v":"導入設備_計算結果"},{"$f":"'（別添４）エネルギー消費効率の根拠（要件ア）'!$FE$53","v":"一代前モデル_製品名"},{"$f":"'（別添４）エネルギー消費効率の根拠（要件ア）'!$FE$54","v":"一代前モデル_製造メーカー"},{"$f":"'（別添４）エネルギー消費効率の根拠（要件ア）'!$FE$55","v":"一代前モデル_型番"},{"$f":"'（別添４）エネルギー消費効率の根拠（要件ア）'!$FE$56","v":"一代前モデル_導入台数"},{"$f":"'（別添４）エネルギー消費効率の根拠（要件ア）'!$FE$57","v":"一代前モデル_1台あたりの使用エネルギー"},{"$f":"'（別添４）エネルギー消費効率の根拠（要件ア）'!$FE$58","v":"一代前モデル_年間エネルギー使用量計算式"},{"$f":"'（別添４）エネルギー消費効率の根拠（要件ア）'!$FE$59","v":"一代前モデル_計算結果"},{"$f":"'（別添４）エネルギー消費効率の根拠（要件ア）'!$FE$60","v":"年間見込み省エネルギー量__計算結果"},{"$f":"'（別添４）エネルギー消費効率の根拠（要件ア）'!$FE$61","v":"年間見込み省エネルギー量_原油換算計算式"},{"$f":"'（別添４）エネルギー消費効率の根拠（要件ア）'!$FE$62","v":"年間見込み省エネルギー量原油換算計算結果"},{"$f":"'（別添４）エネルギー消費効率の根拠（要件ア）'!$FE$63","v":"年間見込み省エネルギー率_自動計算"},{"$f":"'（別添４）エネルギー消費効率の根拠（要件ア）'!$FI$40","v":"トップランナー基準"},{"$f":"'（別添４）エネルギー消費効率の根拠（要件ア）'!$FI$41","v":"トップランナー基準の区分名又は数値"},{"$f":"'（別添４）エネルギー消費効率の根拠（要件ア）'!$FI$42","v":"トップランナー基準の数値（導入設備）"},{"$f":"'（別添４）エネルギー消費効率の根拠（要件ア）'!$FI$43","v":"比較指標/トップランナー基準"},{"$f":"'（別添４）エネルギー消費効率の根拠（要件ア）'!$FI$44","v":"添付資料の根拠記載箇所"},{"$f":"'（別添４）エネルギー消費効率の根拠（要件ア）'!$FI$45","v":"省エネ要因"},{"$f":"'（別添４）エネルギー消費効率の根拠（要件ア）'!$FI$46","v":"導入設備_製品名"},{"$f":"'（別添４）エネルギー消費効率の根拠（要件ア）'!$FI$47","v":"導入設備_製造メーカー"},{"$f":"'（別添４）エネルギー消費効率の根拠（要件ア）'!$FI$48","v":"導入設備_型番"},{"$f":"'（別添４）エネルギー消費効率の根拠（要件ア）'!$FI$49","v":"導入設備_導入台数"},{"$f":"'（別添４）エネルギー消費効率の根拠（要件ア）'!$FI$50","v":"導入設備_1台あたりの使用エネルギー"},{"$f":"'（別添４）エネルギー消費効率の根拠（要件ア）'!$FI$51","v":"導入設備_年間エネルギー使用量計算式"},{"$f":"'（別添４）エネルギー消費効率の根拠（要件ア）'!$FI$52","v":"導入設備_計算結果"},{"$f":"'（別添４）エネルギー消費効率の根拠（要件ア）'!$FI$53","v":"一代前モデル_製品名"},{"$f":"'（別添４）エネルギー消費効率の根拠（要件ア）'!$FI$54","v":"一代前モデル_製造メーカー"},{"$f":"'（別添４）エネルギー消費効率の根拠（要件ア）'!$FI$55","v":"一代前モデル_型番"},{"$f":"'（別添４）エネルギー消費効率の根拠（要件ア）'!$FI$56","v":"一代前モデル_導入台数"},{"$f":"'（別添４）エネルギー消費効率の根拠（要件ア）'!$FI$57","v":"一代前モデル_1台あたりの使用エネルギー"},{"$f":"'（別添４）エネルギー消費効率の根拠（要件ア）'!$FI$58","v":"一代前モデル_年間エネルギー使用量計算式"},{"$f":"'（別添４）エネルギー消費効率の根拠（要件ア）'!$FI$59","v":"一代前モデル_計算結果"},{"$f":"'（別添４）エネルギー消費効率の根拠（要件ア）'!$FI$60","v":"年間見込み省エネルギー量__計算結果"},{"$f":"'（別添４）エネルギー消費効率の根拠（要件ア）'!$FI$61","v":"年間見込み省エネルギー量_原油換算計算式"},{"$f":"'（別添４）エネルギー消費効率の根拠（要件ア）'!$FI$62","v":"年間見込み省エネルギー量原油換算計算結果"},{"$f":"'（別添４）エネルギー消費効率の根拠（要件ア）'!$FI$63","v":"年間見込み省エネルギー率_自動計算"},{"$f":"'（別添４）エネルギー消費効率の根拠（要件ア）'!$FM$40","v":"トップランナー基準"},{"$f":"'（別添４）エネルギー消費効率の根拠（要件ア）'!$FM$41","v":"トップランナー基準の区分名又は数値"},{"$f":"'（別添４）エネルギー消費効率の根拠（要件ア）'!$FM$42","v":"トップランナー基準の数値（導入設備）"},{"$f":"'（別添４）エネルギー消費効率の根拠（要件ア）'!$FM$43","v":"比較指標/トップランナー基準"},{"$f":"'（別添４）エネルギー消費効率の根拠（要件ア）'!$FM$44","v":"添付資料の根拠記載箇所"},{"$f":"'（別添４）エネルギー消費効率の根拠（要件ア）'!$FM$45","v":"省エネ要因"},{"$f":"'（別添４）エネルギー消費効率の根拠（要件ア）'!$FM$46","v":"導入設備_製品名"},{"$f":"'（別添４）エネルギー消費効率の根拠（要件ア）'!$FM$47","v":"導入設備_製造メーカー"},{"$f":"'（別添４）エネルギー消費効率の根拠（要件ア）'!$FM$48","v":"導入設備_型番"},{"$f":"'（別添４）エネルギー消費効率の根拠（要件ア）'!$FM$49","v":"導入設備_導入台数"},{"$f":"'（別添４）エネルギー消費効率の根拠（要件ア）'!$FM$50","v":"導入設備_1台あたりの使用エネルギー"},{"$f":"'（別添４）エネルギー消費効率の根拠（要件ア）'!$FM$51","v":"導入設備_年間エネルギー使用量計算式"},{"$f":"'（別添４）エネルギー消費効率の根拠（要件ア）'!$FM$52","v":"導入設備_計算結果"},{"$f":"'（別添４）エネルギー消費効率の根拠（要件ア）'!$FM$53","v":"一代前モデル_製品名"},{"$f":"'（別添４）エネルギー消費効率の根拠（要件ア）'!$FM$54","v":"一代前モデル_製造メーカー"},{"$f":"'（別添４）エネルギー消費効率の根拠（要件ア）'!$FM$55","v":"一代前モデル_型番"},{"$f":"'（別添４）エネルギー消費効率の根拠（要件ア）'!$FM$56","v":"一代前モデル_導入台数"},{"$f":"'（別添４）エネルギー消費効率の根拠（要件ア）'!$FM$57","v":"一代前モデル_1台あたりの使用エネルギー"},{"$f":"'（別添４）エネルギー消費効率の根拠（要件ア）'!$FM$58","v":"一代前モデル_年間エネルギー使用量計算式"},{"$f":"'（別添４）エネルギー消費効率の根拠（要件ア）'!$FM$59","v":"一代前モデル_計算結果"},{"$f":"'（別添４）エネルギー消費効率の根拠（要件ア）'!$FM$60","v":"年間見込み省エネルギー量__計算結果"},{"$f":"'（別添４）エネルギー消費効率の根拠（要件ア）'!$FM$61","v":"年間見込み省エネルギー量_原油換算計算式"},{"$f":"'（別添４）エネルギー消費効率の根拠（要件ア）'!$FM$62","v":"年間見込み省エネルギー量原油換算計算結果"},{"$f":"'（別添４）エネルギー消費効率の根拠（要件ア）'!$FM$63","v":"年間見込み省エネルギー率_自動計算"},{"$f":"'（別添４）エネルギー消費効率の根拠（要件ア）'!$FQ$40","v":"トップランナー基準"},{"$f":"'（別添４）エネルギー消費効率の根拠（要件ア）'!$FQ$41","v":"トップランナー基準の区分名又は数値"},{"$f":"'（別添４）エネルギー消費効率の根拠（要件ア）'!$FQ$42","v":"トップランナー基準の数値（導入設備）"},{"$f":"'（別添４）エネルギー消費効率の根拠（要件ア）'!$FQ$43","v":"比較指標/トップランナー基準"},{"$f":"'（別添４）エネルギー消費効率の根拠（要件ア）'!$FQ$44","v":"添付資料の根拠記載箇所"},{"$f":"'（別添４）エネルギー消費効率の根拠（要件ア）'!$FQ$45","v":"省エネ要因"},{"$f":"'（別添４）エネルギー消費効率の根拠（要件ア）'!$FQ$46","v":"導入設備_製品名"},{"$f":"'（別添４）エネルギー消費効率の根拠（要件ア）'!$FQ$47","v":"導入設備_製造メーカー"},{"$f":"'（別添４）エネルギー消費効率の根拠（要件ア）'!$FQ$48","v":"導入設備_型番"},{"$f":"'（別添４）エネルギー消費効率の根拠（要件ア）'!$FQ$49","v":"導入設備_導入台数"},{"$f":"'（別添４）エネルギー消費効率の根拠（要件ア）'!$FQ$50","v":"導入設備_1台あたりの使用エネルギー"},{"$f":"'（別添４）エネルギー消費効率の根拠（要件ア）'!$FQ$51","v":"導入設備_年間エネルギー使用量計算式"},{"$f":"'（別添４）エネルギー消費効率の根拠（要件ア）'!$FQ$52","v":"導入設備_計算結果"},{"$f":"'（別添４）エネルギー消費効率の根拠（要件ア）'!$FQ$53","v":"一代前モデル_製品名"},{"$f":"'（別添４）エネルギー消費効率の根拠（要件ア）'!$FQ$54","v":"一代前モデル_製造メーカー"},{"$f":"'（別添４）エネルギー消費効率の根拠（要件ア）'!$FQ$55","v":"一代前モデル_型番"},{"$f":"'（別添４）エネルギー消費効率の根拠（要件ア）'!$FQ$56","v":"一代前モデル_導入台数"},{"$f":"'（別添４）エネルギー消費効率の根拠（要件ア）'!$FQ$57","v":"一代前モデル_1台あたりの使用エネルギー"},{"$f":"'（別添４）エネルギー消費効率の根拠（要件ア）'!$FQ$58","v":"一代前モデル_年間エネルギー使用量計算式"},{"$f":"'（別添４）エネルギー消費効率の根拠（要件ア）'!$FQ$59","v":"一代前モデル_計算結果"},{"$f":"'（別添４）エネルギー消費効率の根拠（要件ア）'!$FQ$60","v":"年間見込み省エネルギー量__計算結果"},{"$f":"'（別添４）エネルギー消費効率の根拠（要件ア）'!$FQ$61","v":"年間見込み省エネルギー量_原油換算計算式"},{"$f":"'（別添４）エネルギー消費効率の根拠（要件ア）'!$FQ$62","v":"年間見込み省エネルギー量原油換算計算結果"},{"$f":"'（別添４）エネルギー消費効率の根拠（要件ア）'!$FQ$63","v":"年間見込み省エネルギー率_自動計算"},{"$f":"'（別添４）エネルギー消費効率の根拠（要件ア）'!$FU$40","v":"トップランナー基準"},{"$f":"'（別添４）エネルギー消費効率の根拠（要件ア）'!$FU$41","v":"トップランナー基準の区分名又は数値"},{"$f":"'（別添４）エネルギー消費効率の根拠（要件ア）'!$FU$42","v":"トップランナー基準の数値（導入設備）"},{"$f":"'（別添４）エネルギー消費効率の根拠（要件ア）'!$FU$43","v":"比較指標/トップランナー基準"},{"$f":"'（別添４）エネルギー消費効率の根拠（要件ア）'!$FU$44","v":"添付資料の根拠記載箇所"},{"$f":"'（別添４）エネルギー消費効率の根拠（要件ア）'!$FU$45","v":"省エネ要因"},{"$f":"'（別添４）エネルギー消費効率の根拠（要件ア）'!$FU$46","v":"導入設備_製品名"},{"$f":"'（別添４）エネルギー消費効率の根拠（要件ア）'!$FU$47","v":"導入設備_製造メーカー"},{"$f":"'（別添４）エネルギー消費効率の根拠（要件ア）'!$FU$48","v":"導入設備_型番"},{"$f":"'（別添４）エネルギー消費効率の根拠（要件ア）'!$FU$49","v":"導入設備_導入台数"},{"$f":"'（別添４）エネルギー消費効率の根拠（要件ア）'!$FU$50","v":"導入設備_1台あたりの使用エネルギー"},{"$f":"'（別添４）エネルギー消費効率の根拠（要件ア）'!$FU$51","v":"導入設備_年間エネルギー使用量計算式"},{"$f":"'（別添４）エネルギー消費効率の根拠（要件ア）'!$FU$52","v":"導入設備_計算結果"},{"$f":"'（別添４）エネルギー消費効率の根拠（要件ア）'!$FU$53","v":"一代前モデル_製品名"},{"$f":"'（別添４）エネルギー消費効率の根拠（要件ア）'!$FU$54","v":"一代前モデル_製造メーカー"},{"$f":"'（別添４）エネルギー消費効率の根拠（要件ア）'!$FU$55","v":"一代前モデル_型番"},{"$f":"'（別添４）エネルギー消費効率の根拠（要件ア）'!$FU$56","v":"一代前モデル_導入台数"},{"$f":"'（別添４）エネルギー消費効率の根拠（要件ア）'!$FU$57","v":"一代前モデル_1台あたりの使用エネルギー"},{"$f":"'（別添４）エネルギー消費効率の根拠（要件ア）'!$FU$58","v":"一代前モデル_年間エネルギー使用量計算式"},{"$f":"'（別添４）エネルギー消費効率の根拠（要件ア）'!$FU$59","v":"一代前モデル_計算結果"},{"$f":"'（別添４）エネルギー消費効率の根拠（要件ア）'!$FU$60","v":"年間見込み省エネルギー量__計算結果"},{"$f":"'（別添４）エネルギー消費効率の根拠（要件ア）'!$FU$61","v":"年間見込み省エネルギー量_原油換算計算式"},{"$f":"'（別添４）エネルギー消費効率の根拠（要件ア）'!$FU$62","v":"年間見込み省エネルギー量原油換算計算結果"},{"$f":"'（別添４）エネルギー消費効率の根拠（要件ア）'!$FU$63","v":"年間見込み省エネルギー率_自動計算"},{"$f":"'（別添４）エネルギー消費効率の根拠（要件ア）'!$FY$40","v":"トップランナー基準"},{"$f":"'（別添４）エネルギー消費効率の根拠（要件ア）'!$FY$41","v":"トップランナー基準の区分名又は数値"},{"$f":"'（別添４）エネルギー消費効率の根拠（要件ア）'!$FY$42","v":"トップランナー基準の数値（導入設備）"},{"$f":"'（別添４）エネルギー消費効率の根拠（要件ア）'!$FY$43","v":"比較指標/トップランナー基準"},{"$f":"'（別添４）エネルギー消費効率の根拠（要件ア）'!$FY$44","v":"添付資料の根拠記載箇所"},{"$f":"'（別添４）エネルギー消費効率の根拠（要件ア）'!$FY$45","v":"省エネ要因"},{"$f":"'（別添４）エネルギー消費効率の根拠（要件ア）'!$FY$46","v":"導入設備_製品名"},{"$f":"'（別添４）エネルギー消費効率の根拠（要件ア）'!$FY$47","v":"導入設備_製造メーカー"},{"$f":"'（別添４）エネルギー消費効率の根拠（要件ア）'!$FY$48","v":"導入設備_型番"},{"$f":"'（別添４）エネルギー消費効率の根拠（要件ア）'!$FY$49","v":"導入設備_導入台数"},{"$f":"'（別添４）エネルギー消費効率の根拠（要件ア）'!$FY$50","v":"導入設備_1台あたりの使用エネルギー"},{"$f":"'（別添４）エネルギー消費効率の根拠（要件ア）'!$FY$51","v":"導入設備_年間エネルギー使用量計算式"},{"$f":"'（別添４）エネルギー消費効率の根拠（要件ア）'!$FY$52","v":"導入設備_計算結果"},{"$f":"'（別添４）エネルギー消費効率の根拠（要件ア）'!$FY$53","v":"一代前モデル_製品名"},{"$f":"'（別添４）エネルギー消費効率の根拠（要件ア）'!$FY$54","v":"一代前モデル_製造メーカー"},{"$f":"'（別添４）エネルギー消費効率の根拠（要件ア）'!$FY$55","v":"一代前モデル_型番"},{"$f":"'（別添４）エネルギー消費効率の根拠（要件ア）'!$FY$56","v":"一代前モデル_導入台数"},{"$f":"'（別添４）エネルギー消費効率の根拠（要件ア）'!$FY$57","v":"一代前モデル_1台あたりの使用エネルギー"},{"$f":"'（別添４）エネルギー消費効率の根拠（要件ア）'!$FY$58","v":"一代前モデル_年間エネルギー使用量計算式"},{"$f":"'（別添４）エネルギー消費効率の根拠（要件ア）'!$FY$59","v":"一代前モデル_計算結果"},{"$f":"'（別添４）エネルギー消費効率の根拠（要件ア）'!$FY$60","v":"年間見込み省エネルギー量__計算結果"},{"$f":"'（別添４）エネルギー消費効率の根拠（要件ア）'!$FY$61","v":"年間見込み省エネルギー量_原油換算計算式"},{"$f":"'（別添４）エネルギー消費効率の根拠（要件ア）'!$FY$62","v":"年間見込み省エネルギー量原油換算計算結果"},{"$f":"'（別添４）エネルギー消費効率の根拠（要件ア）'!$FY$63","v":"年間見込み省エネルギー率_自動計算"},{"$f":"'（別添４）エネルギー消費効率の根拠（要件ア）'!$GC$40","v":"トップランナー基準"},{"$f":"'（別添４）エネルギー消費効率の根拠（要件ア）'!$GC$41","v":"トップランナー基準の区分名又は数値"},{"$f":"'（別添４）エネルギー消費効率の根拠（要件ア）'!$GC$42","v":"トップランナー基準の数値（導入設備）"},{"$f":"'（別添４）エネルギー消費効率の根拠（要件ア）'!$GC$43","v":"比較指標/トップランナー基準"},{"$f":"'（別添４）エネルギー消費効率の根拠（要件ア）'!$GC$44","v":"添付資料の根拠記載箇所"},{"$f":"'（別添４）エネルギー消費効率の根拠（要件ア）'!$GC$45","v":"省エネ要因"},{"$f":"'（別添４）エネルギー消費効率の根拠（要件ア）'!$GC$46","v":"導入設備_製品名"},{"$f":"'（別添４）エネルギー消費効率の根拠（要件ア）'!$GC$47","v":"導入設備_製造メーカー"},{"$f":"'（別添４）エネルギー消費効率の根拠（要件ア）'!$GC$48","v":"導入設備_型番"},{"$f":"'（別添４）エネルギー消費効率の根拠（要件ア）'!$GC$49","v":"導入設備_導入台数"},{"$f":"'（別添４）エネルギー消費効率の根拠（要件ア）'!$GC$50","v":"導入設備_1台あたりの使用エネルギー"},{"$f":"'（別添４）エネルギー消費効率の根拠（要件ア）'!$GC$51","v":"導入設備_年間エネルギー使用量計算式"},{"$f":"'（別添４）エネルギー消費効率の根拠（要件ア）'!$GC$52","v":"導入設備_計算結果"},{"$f":"'（別添４）エネルギー消費効率の根拠（要件ア）'!$GC$53","v":"一代前モデル_製品名"},{"$f":"'（別添４）エネルギー消費効率の根拠（要件ア）'!$GC$54","v":"一代前モデル_製造メーカー"},{"$f":"'（別添４）エネルギー消費効率の根拠（要件ア）'!$GC$55","v":"一代前モデル_型番"},{"$f":"'（別添４）エネルギー消費効率の根拠（要件ア）'!$GC$56","v":"一代前モデル_導入台数"},{"$f":"'（別添４）エネルギー消費効率の根拠（要件ア）'!$GC$57","v":"一代前モデル_1台あたりの使用エネルギー"},{"$f":"'（別添４）エネルギー消費効率の根拠（要件ア）'!$GC$58","v":"一代前モデル_年間エネルギー使用量計算式"},{"$f":"'（別添４）エネルギー消費効率の根拠（要件ア）'!$GC$59","v":"一代前モデル_計算結果"},{"$f":"'（別添４）エネルギー消費効率の根拠（要件ア）'!$GC$60","v":"年間見込み省エネルギー量__計算結果"},{"$f":"'（別添４）エネルギー消費効率の根拠（要件ア）'!$GC$61","v":"年間見込み省エネルギー量_原油換算計算式"},{"$f":"'（別添４）エネルギー消費効率の根拠（要件ア）'!$GC$62","v":"年間見込み省エネルギー量原油換算計算結果"},{"$f":"'（別添４）エネルギー消費効率の根拠（要件ア）'!$GC$63","v":"年間見込み省エネルギー率_自動計算"},{"$f":"'（別添４）エネルギー消費効率の根拠（要件ア）'!$GG$40","v":"トップランナー基準"},{"$f":"'（別添４）エネルギー消費効率の根拠（要件ア）'!$GG$41","v":"トップランナー基準の区分名又は数値"},{"$f":"'（別添４）エネルギー消費効率の根拠（要件ア）'!$GG$42","v":"トップランナー基準の数値（導入設備）"},{"$f":"'（別添４）エネルギー消費効率の根拠（要件ア）'!$GG$43","v":"比較指標/トップランナー基準"},{"$f":"'（別添４）エネルギー消費効率の根拠（要件ア）'!$GG$44","v":"添付資料の根拠記載箇所"},{"$f":"'（別添４）エネルギー消費効率の根拠（要件ア）'!$GG$45","v":"省エネ要因"},{"$f":"'（別添４）エネルギー消費効率の根拠（要件ア）'!$GG$46","v":"導入設備_製品名"},{"$f":"'（別添４）エネルギー消費効率の根拠（要件ア）'!$GG$47","v":"導入設備_製造メーカー"},{"$f":"'（別添４）エネルギー消費効率の根拠（要件ア）'!$GG$48","v":"導入設備_型番"},{"$f":"'（別添４）エネルギー消費効率の根拠（要件ア）'!$GG$49","v":"導入設備_導入台数"},{"$f":"'（別添４）エネルギー消費効率の根拠（要件ア）'!$GG$50","v":"導入設備_1台あたりの使用エネルギー"},{"$f":"'（別添４）エネルギー消費効率の根拠（要件ア）'!$GG$51","v":"導入設備_年間エネルギー使用量計算式"},{"$f":"'（別添４）エネルギー消費効率の根拠（要件ア）'!$GG$52","v":"導入設備_計算結果"},{"$f":"'（別添４）エネルギー消費効率の根拠（要件ア）'!$GG$53","v":"一代前モデル_製品名"},{"$f":"'（別添４）エネルギー消費効率の根拠（要件ア）'!$GG$54","v":"一代前モデル_製造メーカー"},{"$f":"'（別添４）エネルギー消費効率の根拠（要件ア）'!$GG$55","v":"一代前モデル_型番"},{"$f":"'（別添４）エネルギー消費効率の根拠（要件ア）'!$GG$56","v":"一代前モデル_導入台数"},{"$f":"'（別添４）エネルギー消費効率の根拠（要件ア）'!$GG$57","v":"一代前モデル_1台あたりの使用エネルギー"},{"$f":"'（別添４）エネルギー消費効率の根拠（要件ア）'!$GG$58","v":"一代前モデル_年間エネルギー使用量計算式"},{"$f":"'（別添４）エネルギー消費効率の根拠（要件ア）'!$GG$59","v":"一代前モデル_計算結果"},{"$f":"'（別添４）エネルギー消費効率の根拠（要件ア）'!$GG$60","v":"年間見込み省エネルギー量__計算結果"},{"$f":"'（別添４）エネルギー消費効率の根拠（要件ア）'!$GG$61","v":"年間見込み省エネルギー量_原油換算計算式"},{"$f":"'（別添４）エネルギー消費効率の根拠（要件ア）'!$GG$62","v":"年間見込み省エネルギー量原油換算計算結果"},{"$f":"'（別添４）エネルギー消費効率の根拠（要件ア）'!$GG$63","v":"年間見込み省エネルギー率_自動計算"},{"$f":"'（別添４）エネルギー消費効率の根拠（要件ア）'!$GK$40","v":"トップランナー基準"},{"$f":"'（別添４）エネルギー消費効率の根拠（要件ア）'!$GK$41","v":"トップランナー基準の区分名又は数値"},{"$f":"'（別添４）エネルギー消費効率の根拠（要件ア）'!$GK$42","v":"トップランナー基準の数値（導入設備）"},{"$f":"'（別添４）エネルギー消費効率の根拠（要件ア）'!$GK$43","v":"比較指標/トップランナー基準"},{"$f":"'（別添４）エネルギー消費効率の根拠（要件ア）'!$GK$44","v":"添付資料の根拠記載箇所"},{"$f":"'（別添４）エネルギー消費効率の根拠（要件ア）'!$GK$45","v":"省エネ要因"},{"$f":"'（別添４）エネルギー消費効率の根拠（要件ア）'!$GK$46","v":"導入設備_製品名"},{"$f":"'（別添４）エネルギー消費効率の根拠（要件ア）'!$GK$47","v":"導入設備_製造メーカー"},{"$f":"'（別添４）エネルギー消費効率の根拠（要件ア）'!$GK$48","v":"導入設備_型番"},{"$f":"'（別添４）エネルギー消費効率の根拠（要件ア）'!$GK$49","v":"導入設備_導入台数"},{"$f":"'（別添４）エネルギー消費効率の根拠（要件ア）'!$GK$50","v":"導入設備_1台あたりの使用エネルギー"},{"$f":"'（別添４）エネルギー消費効率の根拠（要件ア）'!$GK$51","v":"導入設備_年間エネルギー使用量計算式"},{"$f":"'（別添４）エネルギー消費効率の根拠（要件ア）'!$GK$52","v":"導入設備_計算結果"},{"$f":"'（別添４）エネルギー消費効率の根拠（要件ア）'!$GK$53","v":"一代前モデル_製品名"},{"$f":"'（別添４）エネルギー消費効率の根拠（要件ア）'!$GK$54","v":"一代前モデル_製造メーカー"},{"$f":"'（別添４）エネルギー消費効率の根拠（要件ア）'!$GK$55","v":"一代前モデル_型番"},{"$f":"'（別添４）エネルギー消費効率の根拠（要件ア）'!$GK$56","v":"一代前モデル_導入台数"},{"$f":"'（別添４）エネルギー消費効率の根拠（要件ア）'!$GK$57","v":"一代前モデル_1台あたりの使用エネルギー"},{"$f":"'（別添４）エネルギー消費効率の根拠（要件ア）'!$GK$58","v":"一代前モデル_年間エネルギー使用量計算式"},{"$f":"'（別添４）エネルギー消費効率の根拠（要件ア）'!$GK$59","v":"一代前モデル_計算結果"},{"$f":"'（別添４）エネルギー消費効率の根拠（要件ア）'!$GK$60","v":"年間見込み省エネルギー量__計算結果"},{"$f":"'（別添４）エネルギー消費効率の根拠（要件ア）'!$GK$61","v":"年間見込み省エネルギー量_原油換算計算式"},{"$f":"'（別添４）エネルギー消費効率の根拠（要件ア）'!$GK$62","v":"年間見込み省エネルギー量原油換算計算結果"},{"$f":"'（別添４）エネルギー消費効率の根拠（要件ア）'!$GK$63","v":"年間見込み省エネルギー率_自動計算"},{"$f":"'（別添４）エネルギー消費効率の根拠（要件ア）'!$GO$40","v":"トップランナー基準"},{"$f":"'（別添４）エネルギー消費効率の根拠（要件ア）'!$GO$41","v":"トップランナー基準の区分名又は数値"},{"$f":"'（別添４）エネルギー消費効率の根拠（要件ア）'!$GO$42","v":"トップランナー基準の数値（導入設備）"},{"$f":"'（別添４）エネルギー消費効率の根拠（要件ア）'!$GO$43","v":"比較指標/トップランナー基準"},{"$f":"'（別添４）エネルギー消費効率の根拠（要件ア）'!$GO$44","v":"添付資料の根拠記載箇所"},{"$f":"'（別添４）エネルギー消費効率の根拠（要件ア）'!$GO$45","v":"省エネ要因"},{"$f":"'（別添４）エネルギー消費効率の根拠（要件ア）'!$GO$46","v":"導入設備_製品名"},{"$f":"'（別添４）エネルギー消費効率の根拠（要件ア）'!$GO$47","v":"導入設備_製造メーカー"},{"$f":"'（別添４）エネルギー消費効率の根拠（要件ア）'!$GO$48","v":"導入設備_型番"},{"$f":"'（別添４）エネルギー消費効率の根拠（要件ア）'!$GO$49","v":"導入設備_導入台数"},{"$f":"'（別添４）エネルギー消費効率の根拠（要件ア）'!$GO$50","v":"導入設備_1台あたりの使用エネルギー"},{"$f":"'（別添４）エネルギー消費効率の根拠（要件ア）'!$GO$51","v":"導入設備_年間エネルギー使用量計算式"},{"$f":"'（別添４）エネルギー消費効率の根拠（要件ア）'!$GO$52","v":"導入設備_計算結果"},{"$f":"'（別添４）エネルギー消費効率の根拠（要件ア）'!$GO$53","v":"一代前モデル_製品名"},{"$f":"'（別添４）エネルギー消費効率の根拠（要件ア）'!$GO$54","v":"一代前モデル_製造メーカー"},{"$f":"'（別添４）エネルギー消費効率の根拠（要件ア）'!$GO$55","v":"一代前モデル_型番"},{"$f":"'（別添４）エネルギー消費効率の根拠（要件ア）'!$GO$56","v":"一代前モデル_導入台数"},{"$f":"'（別添４）エネルギー消費効率の根拠（要件ア）'!$GO$57","v":"一代前モデル_1台あたりの使用エネルギー"},{"$f":"'（別添４）エネルギー消費効率の根拠（要件ア）'!$GO$58","v":"一代前モデル_年間エネルギー使用量計算式"},{"$f":"'（別添４）エネルギー消費効率の根拠（要件ア）'!$GO$59","v":"一代前モデル_計算結果"},{"$f":"'（別添４）エネルギー消費効率の根拠（要件ア）'!$GO$60","v":"年間見込み省エネルギー量__計算結果"},{"$f":"'（別添４）エネルギー消費効率の根拠（要件ア）'!$GO$61","v":"年間見込み省エネルギー量_原油換算計算式"},{"$f":"'（別添４）エネルギー消費効率の根拠（要件ア）'!$GO$62","v":"年間見込み省エネルギー量原油換算計算結果"},{"$f":"'（別添４）エネルギー消費効率の根拠（要件ア）'!$GO$63","v":"年間見込み省エネルギー率_自動計算"},{"$f":"'（別添４）エネルギー消費効率の根拠（要件ア）'!$GS$40","v":"トップランナー基準"},{"$f":"'（別添４）エネルギー消費効率の根拠（要件ア）'!$GS$41","v":"トップランナー基準の区分名又は数値"},{"$f":"'（別添４）エネルギー消費効率の根拠（要件ア）'!$GS$42","v":"トップランナー基準の数値（導入設備）"},{"$f":"'（別添４）エネルギー消費効率の根拠（要件ア）'!$GS$43","v":"比較指標/トップランナー基準"},{"$f":"'（別添４）エネルギー消費効率の根拠（要件ア）'!$GS$44","v":"添付資料の根拠記載箇所"},{"$f":"'（別添４）エネルギー消費効率の根拠（要件ア）'!$GS$45","v":"省エネ要因"},{"$f":"'（別添４）エネルギー消費効率の根拠（要件ア）'!$GS$46","v":"導入設備_製品名"},{"$f":"'（別添４）エネルギー消費効率の根拠（要件ア）'!$GS$47","v":"導入設備_製造メーカー"},{"$f":"'（別添４）エネルギー消費効率の根拠（要件ア）'!$GS$48","v":"導入設備_型番"},{"$f":"'（別添４）エネルギー消費効率の根拠（要件ア）'!$GS$49","v":"導入設備_導入台数"},{"$f":"'（別添４）エネルギー消費効率の根拠（要件ア）'!$GS$50","v":"導入設備_1台あたりの使用エネルギー"},{"$f":"'（別添４）エネルギー消費効率の根拠（要件ア）'!$GS$51","v":"導入設備_年間エネルギー使用量計算式"},{"$f":"'（別添４）エネルギー消費効率の根拠（要件ア）'!$GS$52","v":"導入設備_計算結果"},{"$f":"'（別添４）エネルギー消費効率の根拠（要件ア）'!$GS$53","v":"一代前モデル_製品名"},{"$f":"'（別添４）エネルギー消費効率の根拠（要件ア）'!$GS$54","v":"一代前モデル_製造メーカー"},{"$f":"'（別添４）エネルギー消費効率の根拠（要件ア）'!$GS$55","v":"一代前モデル_型番"},{"$f":"'（別添４）エネルギー消費効率の根拠（要件ア）'!$GS$56","v":"一代前モデル_導入台数"},{"$f":"'（別添４）エネルギー消費効率の根拠（要件ア）'!$GS$57","v":"一代前モデル_1台あたりの使用エネルギー"},{"$f":"'（別添４）エネルギー消費効率の根拠（要件ア）'!$GS$58","v":"一代前モデル_年間エネルギー使用量計算式"},{"$f":"'（別添４）エネルギー消費効率の根拠（要件ア）'!$GS$59","v":"一代前モデル_計算結果"},{"$f":"'（別添４）エネルギー消費効率の根拠（要件ア）'!$GS$60","v":"年間見込み省エネルギー量__計算結果"},{"$f":"'（別添４）エネルギー消費効率の根拠（要件ア）'!$GS$61","v":"年間見込み省エネルギー量_原油換算計算式"},{"$f":"'（別添４）エネルギー消費効率の根拠（要件ア）'!$GS$62","v":"年間見込み省エネルギー量原油換算計算結果"},{"$f":"'（別添４）エネルギー消費効率の根拠（要件ア）'!$GS$63","v":"年間見込み省エネルギー率_自動計算"},{"$f":"'（別添４）エネルギー消費効率の根拠（要件ア）'!$GW$40","v":"トップランナー基準"},{"$f":"'（別添４）エネルギー消費効率の根拠（要件ア）'!$GW$41","v":"トップランナー基準の区分名又は数値"},{"$f":"'（別添４）エネルギー消費効率の根拠（要件ア）'!$GW$42","v":"トップランナー基準の数値（導入設備）"},{"$f":"'（別添４）エネルギー消費効率の根拠（要件ア）'!$GW$43","v":"比較指標/トップランナー基準"},{"$f":"'（別添４）エネルギー消費効率の根拠（要件ア）'!$GW$44","v":"添付資料の根拠記載箇所"},{"$f":"'（別添４）エネルギー消費効率の根拠（要件ア）'!$GW$45","v":"省エネ要因"},{"$f":"'（別添４）エネルギー消費効率の根拠（要件ア）'!$GW$46","v":"導入設備_製品名"},{"$f":"'（別添４）エネルギー消費効率の根拠（要件ア）'!$GW$47","v":"導入設備_製造メーカー"},{"$f":"'（別添４）エネルギー消費効率の根拠（要件ア）'!$GW$48","v":"導入設備_型番"},{"$f":"'（別添４）エネルギー消費効率の根拠（要件ア）'!$GW$49","v":"導入設備_導入台数"},{"$f":"'（別添４）エネルギー消費効率の根拠（要件ア）'!$GW$50","v":"導入設備_1台あたりの使用エネルギー"},{"$f":"'（別添４）エネルギー消費効率の根拠（要件ア）'!$GW$51","v":"導入設備_年間エネルギー使用量計算式"},{"$f":"'（別添４）エネルギー消費効率の根拠（要件ア）'!$GW$52","v":"導入設備_計算結果"},{"$f":"'（別添４）エネルギー消費効率の根拠（要件ア）'!$GW$53","v":"一代前モデル_製品名"},{"$f":"'（別添４）エネルギー消費効率の根拠（要件ア）'!$GW$54","v":"一代前モデル_製造メーカー"},{"$f":"'（別添４）エネルギー消費効率の根拠（要件ア）'!$GW$55","v":"一代前モデル_型番"},{"$f":"'（別添４）エネルギー消費効率の根拠（要件ア）'!$GW$56","v":"一代前モデル_導入台数"},{"$f":"'（別添４）エネルギー消費効率の根拠（要件ア）'!$GW$57","v":"一代前モデル_1台あたりの使用エネルギー"},{"$f":"'（別添４）エネルギー消費効率の根拠（要件ア）'!$GW$58","v":"一代前モデル_年間エネルギー使用量計算式"},{"$f":"'（別添４）エネルギー消費効率の根拠（要件ア）'!$GW$59","v":"一代前モデル_計算結果"},{"$f":"'（別添４）エネルギー消費効率の根拠（要件ア）'!$GW$60","v":"年間見込み省エネルギー量__計算結果"},{"$f":"'（別添４）エネルギー消費効率の根拠（要件ア）'!$GW$61","v":"年間見込み省エネルギー量_原油換算計算式"},{"$f":"'（別添４）エネルギー消費効率の根拠（要件ア）'!$GW$62","v":"年間見込み省エネルギー量原油換算計算結果"},{"$f":"'（別添４）エネルギー消費効率の根拠（要件ア）'!$GW$63","v":"年間見込み省エネルギー率_自動計算"},{"$f":"'（別添４）エネルギー消費効率の根拠（要件ア）'!$HA$40","v":"トップランナー基準"},{"$f":"'（別添４）エネルギー消費効率の根拠（要件ア）'!$HA$41","v":"トップランナー基準の区分名又は数値"},{"$f":"'（別添４）エネルギー消費効率の根拠（要件ア）'!$HA$42","v":"トップランナー基準の数値（導入設備）"},{"$f":"'（別添４）エネルギー消費効率の根拠（要件ア）'!$HA$43","v":"比較指標/トップランナー基準"},{"$f":"'（別添４）エネルギー消費効率の根拠（要件ア）'!$HA$44","v":"添付資料の根拠記載箇所"},{"$f":"'（別添４）エネルギー消費効率の根拠（要件ア）'!$HA$45","v":"省エネ要因"},{"$f":"'（別添４）エネルギー消費効率の根拠（要件ア）'!$HA$46","v":"導入設備_製品名"},{"$f":"'（別添４）エネルギー消費効率の根拠（要件ア）'!$HA$47","v":"導入設備_製造メーカー"},{"$f":"'（別添４）エネルギー消費効率の根拠（要件ア）'!$HA$48","v":"導入設備_型番"},{"$f":"'（別添４）エネルギー消費効率の根拠（要件ア）'!$HA$49","v":"導入設備_導入台数"},{"$f":"'（別添４）エネルギー消費効率の根拠（要件ア）'!$HA$50","v":"導入設備_1台あたりの使用エネルギー"},{"$f":"'（別添４）エネルギー消費効率の根拠（要件ア）'!$HA$51","v":"導入設備_年間エネルギー使用量計算式"},{"$f":"'（別添４）エネルギー消費効率の根拠（要件ア）'!$HA$52","v":"導入設備_計算結果"},{"$f":"'（別添４）エネルギー消費効率の根拠（要件ア）'!$HA$53","v":"一代前モデル_製品名"},{"$f":"'（別添４）エネルギー消費効率の根拠（要件ア）'!$HA$54","v":"一代前モデル_製造メーカー"},{"$f":"'（別添４）エネルギー消費効率の根拠（要件ア）'!$HA$55","v":"一代前モデル_型番"},{"$f":"'（別添４）エネルギー消費効率の根拠（要件ア）'!$HA$56","v":"一代前モデル_導入台数"},{"$f":"'（別添４）エネルギー消費効率の根拠（要件ア）'!$HA$57","v":"一代前モデル_1台あたりの使用エネルギー"},{"$f":"'（別添４）エネルギー消費効率の根拠（要件ア）'!$HA$58","v":"一代前モデル_年間エネルギー使用量計算式"},{"$f":"'（別添４）エネルギー消費効率の根拠（要件ア）'!$HA$59","v":"一代前モデル_計算結果"},{"$f":"'（別添４）エネルギー消費効率の根拠（要件ア）'!$HA$60","v":"年間見込み省エネルギー量__計算結果"},{"$f":"'（別添４）エネルギー消費効率の根拠（要件ア）'!$HA$61","v":"年間見込み省エネルギー量_原油換算計算式"},{"$f":"'（別添４）エネルギー消費効率の根拠（要件ア）'!$HA$62","v":"年間見込み省エネルギー量原油換算計算結果"},{"$f":"'（別添４）エネルギー消費効率の根拠（要件ア）'!$HA$63","v":"年間見込み省エネルギー率_自動計算"},{"$f":"'（別添４）エネルギー消費効率の根拠（要件ア）'!$HE$40","v":"トップランナー基準"},{"$f":"'（別添４）エネルギー消費効率の根拠（要件ア）'!$HE$41","v":"トップランナー基準の区分名又は数値"},{"$f":"'（別添４）エネルギー消費効率の根拠（要件ア）'!$HE$42","v":"トップランナー基準の数値（導入設備）"},{"$f":"'（別添４）エネルギー消費効率の根拠（要件ア）'!$HE$43","v":"比較指標/トップランナー基準"},{"$f":"'（別添４）エネルギー消費効率の根拠（要件ア）'!$HE$44","v":"添付資料の根拠記載箇所"},{"$f":"'（別添４）エネルギー消費効率の根拠（要件ア）'!$HE$45","v":"省エネ要因"},{"$f":"'（別添４）エネルギー消費効率の根拠（要件ア）'!$HE$46","v":"導入設備_製品名"},{"$f":"'（別添４）エネルギー消費効率の根拠（要件ア）'!$HE$47","v":"導入設備_製造メーカー"},{"$f":"'（別添４）エネルギー消費効率の根拠（要件ア）'!$HE$48","v":"導入設備_型番"},{"$f":"'（別添４）エネルギー消費効率の根拠（要件ア）'!$HE$49","v":"導入設備_導入台数"},{"$f":"'（別添４）エネルギー消費効率の根拠（要件ア）'!$HE$50","v":"導入設備_1台あたりの使用エネルギー"},{"$f":"'（別添４）エネルギー消費効率の根拠（要件ア）'!$HE$51","v":"導入設備_年間エネルギー使用量計算式"},{"$f":"'（別添４）エネルギー消費効率の根拠（要件ア）'!$HE$52","v":"導入設備_計算結果"},{"$f":"'（別添４）エネルギー消費効率の根拠（要件ア）'!$HE$53","v":"一代前モデル_製品名"},{"$f":"'（別添４）エネルギー消費効率の根拠（要件ア）'!$HE$54","v":"一代前モデル_製造メーカー"},{"$f":"'（別添４）エネルギー消費効率の根拠（要件ア）'!$HE$55","v":"一代前モデル_型番"},{"$f":"'（別添４）エネルギー消費効率の根拠（要件ア）'!$HE$56","v":"一代前モデル_導入台数"},{"$f":"'（別添４）エネルギー消費効率の根拠（要件ア）'!$HE$57","v":"一代前モデル_1台あたりの使用エネルギー"},{"$f":"'（別添４）エネルギー消費効率の根拠（要件ア）'!$HE$58","v":"一代前モデル_年間エネルギー使用量計算式"},{"$f":"'（別添４）エネルギー消費効率の根拠（要件ア）'!$HE$59","v":"一代前モデル_計算結果"},{"$f":"'（別添４）エネルギー消費効率の根拠（要件ア）'!$HE$60","v":"年間見込み省エネルギー量__計算結果"},{"$f":"'（別添４）エネルギー消費効率の根拠（要件ア）'!$HE$61","v":"年間見込み省エネルギー量_原油換算計算式"},{"$f":"'（別添４）エネルギー消費効率の根拠（要件ア）'!$HE$62","v":"年間見込み省エネルギー量原油換算計算結果"},{"$f":"'（別添４）エネルギー消費効率の根拠（要件ア）'!$HE$63","v":"年間見込み省エネルギー率_自動計算"},{"$f":"'（別添４）エネルギー消費効率の根拠（要件ア）'!$HI$40","v":"トップランナー基準"},{"$f":"'（別添４）エネルギー消費効率の根拠（要件ア）'!$HI$41","v":"トップランナー基準の区分名又は数値"},{"$f":"'（別添４）エネルギー消費効率の根拠（要件ア）'!$HI$42","v":"トップランナー基準の数値（導入設備）"},{"$f":"'（別添４）エネルギー消費効率の根拠（要件ア）'!$HI$43","v":"比較指標/トップランナー基準"},{"$f":"'（別添４）エネルギー消費効率の根拠（要件ア）'!$HI$44","v":"添付資料の根拠記載箇所"},{"$f":"'（別添４）エネルギー消費効率の根拠（要件ア）'!$HI$45","v":"省エネ要因"},{"$f":"'（別添４）エネルギー消費効率の根拠（要件ア）'!$HI$46","v":"導入設備_製品名"},{"$f":"'（別添４）エネルギー消費効率の根拠（要件ア）'!$HI$47","v":"導入設備_製造メーカー"},{"$f":"'（別添４）エネルギー消費効率の根拠（要件ア）'!$HI$48","v":"導入設備_型番"},{"$f":"'（別添４）エネルギー消費効率の根拠（要件ア）'!$HI$49","v":"導入設備_導入台数"},{"$f":"'（別添４）エネルギー消費効率の根拠（要件ア）'!$HI$50","v":"導入設備_1台あたりの使用エネルギー"},{"$f":"'（別添４）エネルギー消費効率の根拠（要件ア）'!$HI$51","v":"導入設備_年間エネルギー使用量計算式"},{"$f":"'（別添４）エネルギー消費効率の根拠（要件ア）'!$HI$52","v":"導入設備_計算結果"},{"$f":"'（別添４）エネルギー消費効率の根拠（要件ア）'!$HI$53","v":"一代前モデル_製品名"},{"$f":"'（別添４）エネルギー消費効率の根拠（要件ア）'!$HI$54","v":"一代前モデル_製造メーカー"},{"$f":"'（別添４）エネルギー消費効率の根拠（要件ア）'!$HI$55","v":"一代前モデル_型番"},{"$f":"'（別添４）エネルギー消費効率の根拠（要件ア）'!$HI$56","v":"一代前モデル_導入台数"},{"$f":"'（別添４）エネルギー消費効率の根拠（要件ア）'!$HI$57","v":"一代前モデル_1台あたりの使用エネルギー"},{"$f":"'（別添４）エネルギー消費効率の根拠（要件ア）'!$HI$58","v":"一代前モデル_年間エネルギー使用量計算式"},{"$f":"'（別添４）エネルギー消費効率の根拠（要件ア）'!$HI$59","v":"一代前モデル_計算結果"},{"$f":"'（別添４）エネルギー消費効率の根拠（要件ア）'!$HI$60","v":"年間見込み省エネルギー量__計算結果"},{"$f":"'（別添４）エネルギー消費効率の根拠（要件ア）'!$HI$61","v":"年間見込み省エネルギー量_原油換算計算式"},{"$f":"'（別添４）エネルギー消費効率の根拠（要件ア）'!$HI$62","v":"年間見込み省エネルギー量原油換算計算結果"},{"$f":"'（別添４）エネルギー消費効率の根拠（要件ア）'!$HI$63","v":"年間見込み省エネルギー率_自動計算"},{"$f":"'（別添４）エネルギー消費効率の根拠（要件ア）'!$HM$40","v":"トップランナー基準"},{"$f":"'（別添４）エネルギー消費効率の根拠（要件ア）'!$HM$41","v":"トップランナー基準の区分名又は数値"},{"$f":"'（別添４）エネルギー消費効率の根拠（要件ア）'!$HM$42","v":"トップランナー基準の数値（導入設備）"},{"$f":"'（別添４）エネルギー消費効率の根拠（要件ア）'!$HM$43","v":"比較指標/トップランナー基準"},{"$f":"'（別添４）エネルギー消費効率の根拠（要件ア）'!$HM$44","v":"添付資料の根拠記載箇所"},{"$f":"'（別添４）エネルギー消費効率の根拠（要件ア）'!$HM$45","v":"省エネ要因"},{"$f":"'（別添４）エネルギー消費効率の根拠（要件ア）'!$HM$46","v":"導入設備_製品名"},{"$f":"'（別添４）エネルギー消費効率の根拠（要件ア）'!$HM$47","v":"導入設備_製造メーカー"},{"$f":"'（別添４）エネルギー消費効率の根拠（要件ア）'!$HM$48","v":"導入設備_型番"},{"$f":"'（別添４）エネルギー消費効率の根拠（要件ア）'!$HM$49","v":"導入設備_導入台数"},{"$f":"'（別添４）エネルギー消費効率の根拠（要件ア）'!$HM$50","v":"導入設備_1台あたりの使用エネルギー"},{"$f":"'（別添４）エネルギー消費効率の根拠（要件ア）'!$HM$51","v":"導入設備_年間エネルギー使用量計算式"},{"$f":"'（別添４）エネルギー消費効率の根拠（要件ア）'!$HM$52","v":"導入設備_計算結果"},{"$f":"'（別添４）エネルギー消費効率の根拠（要件ア）'!$HM$53","v":"一代前モデル_製品名"},{"$f":"'（別添４）エネルギー消費効率の根拠（要件ア）'!$HM$54","v":"一代前モデル_製造メーカー"},{"$f":"'（別添４）エネルギー消費効率の根拠（要件ア）'!$HM$55","v":"一代前モデル_型番"},{"$f":"'（別添４）エネルギー消費効率の根拠（要件ア）'!$HM$56","v":"一代前モデル_導入台数"},{"$f":"'（別添４）エネルギー消費効率の根拠（要件ア）'!$HM$57","v":"一代前モデル_1台あたりの使用エネルギー"},{"$f":"'（別添４）エネルギー消費効率の根拠（要件ア）'!$HM$58","v":"一代前モデル_年間エネルギー使用量計算式"},{"$f":"'（別添４）エネルギー消費効率の根拠（要件ア）'!$HM$59","v":"一代前モデル_計算結果"},{"$f":"'（別添４）エネルギー消費効率の根拠（要件ア）'!$HM$60","v":"年間見込み省エネルギー量__計算結果"},{"$f":"'（別添４）エネルギー消費効率の根拠（要件ア）'!$HM$61","v":"年間見込み省エネルギー量_原油換算計算式"},{"$f":"'（別添４）エネルギー消費効率の根拠（要件ア）'!$HM$62","v":"年間見込み省エネルギー量原油換算計算結果"},{"$f":"'（別添４）エネルギー消費効率の根拠（要件ア）'!$HM$63","v":"年間見込み省エネルギー率_自動計算"},{"$f":"'（別添４）エネルギー消費効率の根拠（要件ア）'!$HQ$40","v":"トップランナー基準"},{"$f":"'（別添４）エネルギー消費効率の根拠（要件ア）'!$HQ$41","v":"トップランナー基準の区分名又は数値"},{"$f":"'（別添４）エネルギー消費効率の根拠（要件ア）'!$HQ$42","v":"トップランナー基準の数値（導入設備）"},{"$f":"'（別添４）エネルギー消費効率の根拠（要件ア）'!$HQ$43","v":"比較指標/トップランナー基準"},{"$f":"'（別添４）エネルギー消費効率の根拠（要件ア）'!$HQ$44","v":"添付資料の根拠記載箇所"},{"$f":"'（別添４）エネルギー消費効率の根拠（要件ア）'!$HQ$45","v":"省エネ要因"},{"$f":"'（別添４）エネルギー消費効率の根拠（要件ア）'!$HQ$46","v":"導入設備_製品名"},{"$f":"'（別添４）エネルギー消費効率の根拠（要件ア）'!$HQ$47","v":"導入設備_製造メーカー"},{"$f":"'（別添４）エネルギー消費効率の根拠（要件ア）'!$HQ$48","v":"導入設備_型番"},{"$f":"'（別添４）エネルギー消費効率の根拠（要件ア）'!$HQ$49","v":"導入設備_導入台数"},{"$f":"'（別添４）エネルギー消費効率の根拠（要件ア）'!$HQ$50","v":"導入設備_1台あたりの使用エネルギー"},{"$f":"'（別添４）エネルギー消費効率の根拠（要件ア）'!$HQ$51","v":"導入設備_年間エネルギー使用量計算式"},{"$f":"'（別添４）エネルギー消費効率の根拠（要件ア）'!$HQ$52","v":"導入設備_計算結果"},{"$f":"'（別添４）エネルギー消費効率の根拠（要件ア）'!$HQ$53","v":"一代前モデル_製品名"},{"$f":"'（別添４）エネルギー消費効率の根拠（要件ア）'!$HQ$54","v":"一代前モデル_製造メーカー"},{"$f":"'（別添４）エネルギー消費効率の根拠（要件ア）'!$HQ$55","v":"一代前モデル_型番"},{"$f":"'（別添４）エネルギー消費効率の根拠（要件ア）'!$HQ$56","v":"一代前モデル_導入台数"},{"$f":"'（別添４）エネルギー消費効率の根拠（要件ア）'!$HQ$57","v":"一代前モデル_1台あたりの使用エネルギー"},{"$f":"'（別添４）エネルギー消費効率の根拠（要件ア）'!$HQ$58","v":"一代前モデル_年間エネルギー使用量計算式"},{"$f":"'（別添４）エネルギー消費効率の根拠（要件ア）'!$HQ$59","v":"一代前モデル_計算結果"},{"$f":"'（別添４）エネルギー消費効率の根拠（要件ア）'!$HQ$60","v":"年間見込み省エネルギー量__計算結果"},{"$f":"'（別添４）エネルギー消費効率の根拠（要件ア）'!$HQ$61","v":"年間見込み省エネルギー量_原油換算計算式"},{"$f":"'（別添４）エネルギー消費効率の根拠（要件ア）'!$HQ$62","v":"年間見込み省エネルギー量原油換算計算結果"},{"$f":"'（別添４）エネルギー消費効率の根拠（要件ア）'!$HQ$63","v":"年間見込み省エネルギー率_自動計算"},{"$f":"'（別添４）エネルギー消費効率の根拠（要件ア）'!$HU$40","v":"トップランナー基準"},{"$f":"'（別添４）エネルギー消費効率の根拠（要件ア）'!$HU$41","v":"トップランナー基準の区分名又は数値"},{"$f":"'（別添４）エネルギー消費効率の根拠（要件ア）'!$HU$42","v":"トップランナー基準の数値（導入設備）"},{"$f":"'（別添４）エネルギー消費効率の根拠（要件ア）'!$HU$43","v":"比較指標/トップランナー基準"},{"$f":"'（別添４）エネルギー消費効率の根拠（要件ア）'!$HU$44","v":"添付資料の根拠記載箇所"},{"$f":"'（別添４）エネルギー消費効率の根拠（要件ア）'!$HU$45","v":"省エネ要因"},{"$f":"'（別添４）エネルギー消費効率の根拠（要件ア）'!$HU$46","v":"導入設備_製品名"},{"$f":"'（別添４）エネルギー消費効率の根拠（要件ア）'!$HU$47","v":"導入設備_製造メーカー"},{"$f":"'（別添４）エネルギー消費効率の根拠（要件ア）'!$HU$48","v":"導入設備_型番"},{"$f":"'（別添４）エネルギー消費効率の根拠（要件ア）'!$HU$49","v":"導入設備_導入台数"},{"$f":"'（別添４）エネルギー消費効率の根拠（要件ア）'!$HU$50","v":"導入設備_1台あたりの使用エネルギー"},{"$f":"'（別添４）エネルギー消費効率の根拠（要件ア）'!$HU$51","v":"導入設備_年間エネルギー使用量計算式"},{"$f":"'（別添４）エネルギー消費効率の根拠（要件ア）'!$HU$52","v":"導入設備_計算結果"},{"$f":"'（別添４）エネルギー消費効率の根拠（要件ア）'!$HU$53","v":"一代前モデル_製品名"},{"$f":"'（別添４）エネルギー消費効率の根拠（要件ア）'!$HU$54","v":"一代前モデル_製造メーカー"},{"$f":"'（別添４）エネルギー消費効率の根拠（要件ア）'!$HU$55","v":"一代前モデル_型番"},{"$f":"'（別添４）エネルギー消費効率の根拠（要件ア）'!$HU$56","v":"一代前モデル_導入台数"},{"$f":"'（別添４）エネルギー消費効率の根拠（要件ア）'!$HU$57","v":"一代前モデル_1台あたりの使用エネルギー"},{"$f":"'（別添４）エネルギー消費効率の根拠（要件ア）'!$HU$58","v":"一代前モデル_年間エネルギー使用量計算式"},{"$f":"'（別添４）エネルギー消費効率の根拠（要件ア）'!$HU$59","v":"一代前モデル_計算結果"},{"$f":"'（別添４）エネルギー消費効率の根拠（要件ア）'!$HU$60","v":"年間見込み省エネルギー量__計算結果"},{"$f":"'（別添４）エネルギー消費効率の根拠（要件ア）'!$HU$61","v":"年間見込み省エネルギー量_原油換算計算式"},{"$f":"'（別添４）エネルギー消費効率の根拠（要件ア）'!$HU$62","v":"年間見込み省エネルギー量原油換算計算結果"},{"$f":"'（別添４）エネルギー消費効率の根拠（要件ア）'!$HU$63","v":"年間見込み省エネルギー率_自動計算"},{"$f":"'（別添４）エネルギー消費効率の根拠（要件ア）'!$HY$40","v":"トップランナー基準"},{"$f":"'（別添４）エネルギー消費効率の根拠（要件ア）'!$HY$41","v":"トップランナー基準の区分名又は数値"},{"$f":"'（別添４）エネルギー消費効率の根拠（要件ア）'!$HY$42","v":"トップランナー基準の数値（導入設備）"},{"$f":"'（別添４）エネルギー消費効率の根拠（要件ア）'!$HY$43","v":"比較指標/トップランナー基準"},{"$f":"'（別添４）エネルギー消費効率の根拠（要件ア）'!$HY$44","v":"添付資料の根拠記載箇所"},{"$f":"'（別添４）エネルギー消費効率の根拠（要件ア）'!$HY$45","v":"省エネ要因"},{"$f":"'（別添４）エネルギー消費効率の根拠（要件ア）'!$HY$46","v":"導入設備_製品名"},{"$f":"'（別添４）エネルギー消費効率の根拠（要件ア）'!$HY$47","v":"導入設備_製造メーカー"},{"$f":"'（別添４）エネルギー消費効率の根拠（要件ア）'!$HY$48","v":"導入設備_型番"},{"$f":"'（別添４）エネルギー消費効率の根拠（要件ア）'!$HY$49","v":"導入設備_導入台数"},{"$f":"'（別添４）エネルギー消費効率の根拠（要件ア）'!$HY$50","v":"導入設備_1台あたりの使用エネルギー"},{"$f":"'（別添４）エネルギー消費効率の根拠（要件ア）'!$HY$51","v":"導入設備_年間エネルギー使用量計算式"},{"$f":"'（別添４）エネルギー消費効率の根拠（要件ア）'!$HY$52","v":"導入設備_計算結果"},{"$f":"'（別添４）エネルギー消費効率の根拠（要件ア）'!$HY$53","v":"一代前モデル_製品名"},{"$f":"'（別添４）エネルギー消費効率の根拠（要件ア）'!$HY$54","v":"一代前モデル_製造メーカー"},{"$f":"'（別添４）エネルギー消費効率の根拠（要件ア）'!$HY$55","v":"一代前モデル_型番"},{"$f":"'（別添４）エネルギー消費効率の根拠（要件ア）'!$HY$56","v":"一代前モデル_導入台数"},{"$f":"'（別添４）エネルギー消費効率の根拠（要件ア）'!$HY$57","v":"一代前モデル_1台あたりの使用エネルギー"},{"$f":"'（別添４）エネルギー消費効率の根拠（要件ア）'!$HY$58","v":"一代前モデル_年間エネルギー使用量計算式"},{"$f":"'（別添４）エネルギー消費効率の根拠（要件ア）'!$HY$59","v":"一代前モデル_計算結果"},{"$f":"'（別添４）エネルギー消費効率の根拠（要件ア）'!$HY$60","v":"年間見込み省エネルギー量__計算結果"},{"$f":"'（別添４）エネルギー消費効率の根拠（要件ア）'!$HY$61","v":"年間見込み省エネルギー量_原油換算計算式"},{"$f":"'（別添４）エネルギー消費効率の根拠（要件ア）'!$HY$62","v":"年間見込み省エネルギー量原油換算計算結果"},{"$f":"'（別添４）エネルギー消費効率の根拠（要件ア）'!$HY$63","v":"年間見込み省エネルギー率_自動計算"},{"$f":"'（別添４）エネルギー消費効率の根拠（要件ア）'!$IC$40","v":"トップランナー基準"},{"$f":"'（別添４）エネルギー消費効率の根拠（要件ア）'!$IC$41","v":"トップランナー基準の区分名又は数値"},{"$f":"'（別添４）エネルギー消費効率の根拠（要件ア）'!$IC$42","v":"トップランナー基準の数値（導入設備）"},{"$f":"'（別添４）エネルギー消費効率の根拠（要件ア）'!$IC$43","v":"比較指標/トップランナー基準"},{"$f":"'（別添４）エネルギー消費効率の根拠（要件ア）'!$IC$44","v":"添付資料の根拠記載箇所"},{"$f":"'（別添４）エネルギー消費効率の根拠（要件ア）'!$IC$45","v":"省エネ要因"},{"$f":"'（別添４）エネルギー消費効率の根拠（要件ア）'!$IC$46","v":"導入設備_製品名"},{"$f":"'（別添４）エネルギー消費効率の根拠（要件ア）'!$IC$47","v":"導入設備_製造メーカー"},{"$f":"'（別添４）エネルギー消費効率の根拠（要件ア）'!$IC$48","v":"導入設備_型番"},{"$f":"'（別添４）エネルギー消費効率の根拠（要件ア）'!$IC$49","v":"導入設備_導入台数"},{"$f":"'（別添４）エネルギー消費効率の根拠（要件ア）'!$IC$50","v":"導入設備_1台あたりの使用エネルギー"},{"$f":"'（別添４）エネルギー消費効率の根拠（要件ア）'!$IC$51","v":"導入設備_年間エネルギー使用量計算式"},{"$f":"'（別添４）エネルギー消費効率の根拠（要件ア）'!$IC$52","v":"導入設備_計算結果"},{"$f":"'（別添４）エネルギー消費効率の根拠（要件ア）'!$IC$53","v":"一代前モデル_製品名"},{"$f":"'（別添４）エネルギー消費効率の根拠（要件ア）'!$IC$54","v":"一代前モデル_製造メーカー"},{"$f":"'（別添４）エネルギー消費効率の根拠（要件ア）'!$IC$55","v":"一代前モデル_型番"},{"$f":"'（別添４）エネルギー消費効率の根拠（要件ア）'!$IC$56","v":"一代前モデル_導入台数"},{"$f":"'（別添４）エネルギー消費効率の根拠（要件ア）'!$IC$57","v":"一代前モデル_1台あたりの使用エネルギー"},{"$f":"'（別添４）エネルギー消費効率の根拠（要件ア）'!$IC$58","v":"一代前モデル_年間エネルギー使用量計算式"},{"$f":"'（別添４）エネルギー消費効率の根拠（要件ア）'!$IC$59","v":"一代前モデル_計算結果"},{"$f":"'（別添４）エネルギー消費効率の根拠（要件ア）'!$IC$60","v":"年間見込み省エネルギー量__計算結果"},{"$f":"'（別添４）エネルギー消費効率の根拠（要件ア）'!$IC$61","v":"年間見込み省エネルギー量_原油換算計算式"},{"$f":"'（別添４）エネルギー消費効率の根拠（要件ア）'!$IC$62","v":"年間見込み省エネルギー量原油換算計算結果"},{"$f":"'（別添４）エネルギー消費効率の根拠（要件ア）'!$IC$63","v":"年間見込み省エネルギー率_自動計算"},{"$f":"'（別添４）エネルギー消費効率の根拠（要件ア）'!$IG$40","v":"トップランナー基準"},{"$f":"'（別添４）エネルギー消費効率の根拠（要件ア）'!$IG$41","v":"トップランナー基準の区分名又は数値"},{"$f":"'（別添４）エネルギー消費効率の根拠（要件ア）'!$IG$42","v":"トップランナー基準の数値（導入設備）"},{"$f":"'（別添４）エネルギー消費効率の根拠（要件ア）'!$IG$43","v":"比較指標/トップランナー基準"},{"$f":"'（別添４）エネルギー消費効率の根拠（要件ア）'!$IG$44","v":"添付資料の根拠記載箇所"},{"$f":"'（別添４）エネルギー消費効率の根拠（要件ア）'!$IG$45","v":"省エネ要因"},{"$f":"'（別添４）エネルギー消費効率の根拠（要件ア）'!$IG$46","v":"導入設備_製品名"},{"$f":"'（別添４）エネルギー消費効率の根拠（要件ア）'!$IG$47","v":"導入設備_製造メーカー"},{"$f":"'（別添４）エネルギー消費効率の根拠（要件ア）'!$IG$48","v":"導入設備_型番"},{"$f":"'（別添４）エネルギー消費効率の根拠（要件ア）'!$IG$49","v":"導入設備_導入台数"},{"$f":"'（別添４）エネルギー消費効率の根拠（要件ア）'!$IG$50","v":"導入設備_1台あたりの使用エネルギー"},{"$f":"'（別添４）エネルギー消費効率の根拠（要件ア）'!$IG$51","v":"導入設備_年間エネルギー使用量計算式"},{"$f":"'（別添４）エネルギー消費効率の根拠（要件ア）'!$IG$52","v":"導入設備_計算結果"},{"$f":"'（別添４）エネルギー消費効率の根拠（要件ア）'!$IG$53","v":"一代前モデル_製品名"},{"$f":"'（別添４）エネルギー消費効率の根拠（要件ア）'!$IG$54","v":"一代前モデル_製造メーカー"},{"$f":"'（別添４）エネルギー消費効率の根拠（要件ア）'!$IG$55","v":"一代前モデル_型番"},{"$f":"'（別添４）エネルギー消費効率の根拠（要件ア）'!$IG$56","v":"一代前モデル_導入台数"},{"$f":"'（別添４）エネルギー消費効率の根拠（要件ア）'!$IG$57","v":"一代前モデル_1台あたりの使用エネルギー"},{"$f":"'（別添４）エネルギー消費効率の根拠（要件ア）'!$IG$58","v":"一代前モデル_年間エネルギー使用量計算式"},{"$f":"'（別添４）エネルギー消費効率の根拠（要件ア）'!$IG$59","v":"一代前モデル_計算結果"},{"$f":"'（別添４）エネルギー消費効率の根拠（要件ア）'!$IG$60","v":"年間見込み省エネルギー量__計算結果"},{"$f":"'（別添４）エネルギー消費効率の根拠（要件ア）'!$IG$61","v":"年間見込み省エネルギー量_原油換算計算式"},{"$f":"'（別添４）エネルギー消費効率の根拠（要件ア）'!$IG$62","v":"年間見込み省エネルギー量原油換算計算結果"},{"$f":"'（別添４）エネルギー消費効率の根拠（要件ア）'!$IG$63","v":"年間見込み省エネルギー率_自動計算"},{"$f":"'（別添５）エネルギー消費原単位の改善根拠（要件イ）'!$CB$4","v":"【A】 事業実施前の生産量_式"},{"$f":"'（別添５）エネルギー消費原単位の改善根拠（要件イ）'!$CB$5","v":"【Ｂ】事業実施前の年間エネルギー使用量[kl]_式"},{"$f":"'（別添５）エネルギー消費原単位の改善根拠（要件イ）'!$CB$6","v":"【A】 事業実施前の生産量_解"},{"$f":"'（別添５）エネルギー消費原単位の改善根拠（要件イ）'!$CB$7","v":"【Ｂ】事業実施前の年間エネルギー使用量[kl]_解"},{"$f":"'（別添５）エネルギー消費原単位の改善根拠（要件イ）'!$CB$8","v":"【Ｃ】事業実施前のエネルギー消費原単位"},{"$f":"'（別添５）エネルギー消費原単位の改善根拠（要件イ）'!$CB$9","v":"【D】 事業実施後の生産量_式"},{"$f":"'（別添５）エネルギー消費原単位の改善根拠（要件イ）'!$CB$10","v":"【E】事業実施後の年間エネルギー使用量[kl]_式"},{"$f":"'（別添５）エネルギー消費原単位の改善根拠（要件イ）'!$CB$11","v":"【D】 事業実施後の生産量_解"},{"$f":"'（別添５）エネルギー消費原単位の改善根拠（要件イ）'!$CB$12","v":"【E】事業実施後の年間エネルギー使用量[kl]_解"},{"$f":"'（別添５）エネルギー消費原単位の改善根拠（要件イ）'!$CB$13","v":"【F】事業実施後のエネルギー消費原単位"},{"$f":"'（別添５）エネルギー消費原単位の改善根拠（要件イ）'!$CB$14","v":"【Ｇ】エネルギー消費原単位改善率"},{"$f":"'（別添５）エネルギー消費原単位の改善根拠（要件イ）'!$CB$15","v":"【H】年間見込み省エネルギー量[kl]"},{"$f":"'（別添６）省エネルギー取組の根拠（要件ウ）'!$CT$3","v":"対象要件内容"},{"$f":"'（別添６）省エネルギー取組の根拠（要件ウ）'!$CT$4","v":"利用データセンター名称"},{"$f":"'（別添６）省エネルギー取組の根拠（要件ウ）'!$CT$5","v":"データセンターのＰＵＥ値"},{"$f":"'（別添６）省エネルギー取組の根拠（要件ウ）'!$CT$6","v":"省エネルギー取組概要"},{"$f":"'（別添６）省エネルギー取組の根拠（要件ウ）'!$CT$7","v":"導入機器"},{"$f":"'（別添６）省エネルギー取組の根拠（要件ウ）'!$CT$8","v":"削減効果（計画値）"},{"$f":"'（別添６）省エネルギー取組の根拠（要件ウ）'!$CT$9","v":"省エネルギー取組概要"},{"$f":"'（別添６）省エネルギー取組の根拠（要件ウ）'!$CT$10","v":"年間見込み省エネルギー率[%]"},{"$f":"'（別添６）省エネルギー取組の根拠（要件ウ）'!$CT$11","v":"年間見込み省エネルギー量[kl]"}]
[3,{"$f":"'（様式第１）融資計画書'!$BA$5","v":"様式第1_P6"},{"$f":"'（様式第１）融資計画書'!$BB$5","v":"日"},{"$f":"'（様式第１）融資計画書'!$BC$5","v":""},null,null,null,null,"内容",{"$f":"'（様式第１）融資計画書'!$BC$3","v":""},{"$f":"'（様式第１）融資計画書'!$BC$4","v":""},{"$f":"'（様式第１）融資計画書'!$BC$5","v":""},{"$f":"'（様式第１）融資計画書'!$BC$6","v":""},{"$f":"'（様式第１）融資計画書'!$BC$7","v":""},{"$f":"'（様式第１）融資計画書'!$BC$8","v":""},{"$f":"'（様式第１）融資計画書'!$BC$9","v":""},{"$f":"'（様式第１）融資計画書'!$BC$10","v":""},{"$f":"'（様式第１）融資計画書'!$BC$11","v":""},{"$f":"'（様式第１）融資計画書'!$BC$12","v":""},{"$f":"'（様式第１）融資計画書'!$BC$13","v":""},{"$f":"'（様式第１）融資計画書'!$BC$14","v":""},{"$f":"'（様式第１）融資計画書'!$BC$15","v":""},{"$f":"'（別添１）融資計画詳細１'!$BL$3","v":""},{"$f":"'（別添１）融資計画詳細１'!$BL$4","v":""},{"$f":"'（別添１）融資計画詳細１'!$BL$5","v":""},{"$f":"'（別添１）融資計画詳細１'!$BL$6","v":""},{"$f":"'（別添１）融資計画詳細１'!$BL$7","v":""},{"$f":"'（別添１）融資計画詳細１'!$BL$8","v":""},{"$f":"'（別添１）融資計画詳細１'!$BL$9","v":""},{"$f":"'（別添１）融資計画詳細１'!$BL$10","v":""},{"$f":"'（別添１）融資計画詳細１'!$BL$11","v":""},{"$f":"'（別添１）融資計画詳細１'!$BL$12","v":""},{"$f":"'（別添１）融資計画詳細１'!$BL$13","v":""},{"$f":"'（別添１）融資計画詳細１'!$BL$14","v":""},{"$f":"'（別添１）融資計画詳細１'!$BL$15","v":""},{"$f":"'（別添１）融資計画詳細１'!$BL$16","v":""},{"$f":"'（別添１）融資計画詳細１'!$BL$17","v":0},{"$f":"'（別添１）融資計画詳細１'!$BL$18","v":""},{"$f":"'（別添１）融資計画詳細１'!$BL$19","v":""},{"$f":"'（別添１）融資計画詳細１'!$BL$20","v":""},{"$f":"'（別添１）融資計画詳細２'!$BI$3","v":""},{"$f":"'（別添１）融資計画詳細２'!$BI$4","v":""},{"$f":"'（別添１）融資計画詳細２'!$BI$5","v":""},{"$f":"'（別添１）融資計画詳細２'!$BI$6","v":""},{"$f":"'（別添１）融資計画詳細２'!$BI$7","v":""},{"$f":"'（別添１）融資計画詳細２'!$BI$8","v":""},{"$f":"'（別添１）融資計画詳細２'!$BI$9","v":""},{"$f":"'（別添１）融資計画詳細２'!$BI$10","v":""},{"$f":"'（別添１）融資計画詳細２'!$BI$11","v":""},{"$f":"'（別添１）融資計画詳細２'!$BI$12","v":""},{"$f":"'（別添１）融資計画詳細２'!$BI$13","v":""},{"$f":"'（別添１）融資計画詳細２'!$BI$14","v":""},{"$f":"'（別添１）融資計画詳細２'!$BI$15","v":""},{"$f":"'（別添１）融資計画詳細２'!$BI$16","v":""},{"$f":"'（別添１）融資計画詳細２'!$BI$17","v":""},{"$f":"'（別添１）融資計画詳細２'!$BI$18","v":""},{"$f":"'（別添１）融資計画詳細２'!$BI$19","v":""},{"$f":"'（別添１）融資計画詳細２'!$BI$20","v":""},{"$f":"'（別添１）融資計画詳細２'!$BI$21","v":""},{"$f":"'（別添１）融資計画詳細２'!$BI$22","v":""},{"$f":"'（別添１）融資計画詳細２'!$BI$23","v":""},{"$f":"'（別添１）融資計画詳細２'!$BI$24","v":""},{"$f":"'（別添１）融資計画詳細３'!$BD$3","v":""},{"$f":"'（別添１）融資計画詳細３'!$BD$4","v":""},{"$f":"'（別添１）融資計画詳細３'!$BD$5","v":""},{"$f":"'（別添１）融資計画詳細３'!$BD$6","v":""},{"$f":"'（別添１）融資計画詳細３'!$BD$7","v":""},{"$f":"'（別添１）融資計画詳細３'!$BD$8","v":""},{"$f":"'（別添１）融資計画詳細３'!$BD$9","v":""},{"$f":"'（別添１）融資計画詳細３'!$BD$10","v":""},{"$f":"'（様式第３）交付申請書（新規融資案件）'!$AO$4","v":""},{"$f":"'（様式第３）交付申請書（新規融資案件）'!$AO$5","v":""},{"$f":"'（様式第３）交付申請書（新規融資案件）'!$AO$6","v":""},{"$f":"'（様式第３）交付申請書（新規融資案件）'!$AO$7","v":""},{"$f":"'（様式第３）交付申請書（新規融資案件）'!$AO$8","v":""},{"$f":"'（様式第３）交付申請書（新規融資案件）'!$AO$9","v":""},{"$f":"'（様式第３）交付申請書（新規融資案件）'!$AO$10","v":""},{"$f":"'（様式第３）交付申請書（新規融資案件）'!$AO$11","v":""},{"$f":"'（様式第３）交付申請書（新規融資案件）'!$AO$12","v":""},{"$f":"'（様式第３）交付申請書（新規融資案件）'!$AO$13","v":""},{"$f":"'（様式第３）交付申請書（新規融資案件）'!$AO$14","v":""},{"$f":"'（様式第３）交付申請書（新規融資案件）'!$AO$15","v":""},{"$f":"'（様式第３）交付申請書（新規融資案件）'!$AO$16","v":""},{"$f":"'（様式第３）交付申請書（新規融資案件）'!$AO$17","v":""},{"$f":"'（別添１）融資計画詳細１（交付申請）'!$BL$3","v":""},{"$f":"'（別添１）融資計画詳細１（交付申請）'!$BL$4","v":""},{"$f":"'（別添１）融資計画詳細１（交付申請）'!$BL$5","v":""},{"$f":"'（別添１）融資計画詳細１（交付申請）'!$BL$6","v":""},{"$f":"'（別添１）融資計画詳細１（交付申請）'!$BL$7","v":""},{"$f":"'（別添１）融資計画詳細１（交付申請）'!$BL$8","v":""},{"$f":"'（別添１）融資計画詳細１（交付申請）'!$BL$9","v":""},{"$f":"'（別添１）融資計画詳細１（交付申請）'!$BL$10","v":""},{"$f":"'（別添１）融資計画詳細１（交付申請）'!$BL$11","v":""},{"$f":"'（別添１）融資計画詳細１（交付申請）'!$BL$12","v":""},{"$f":"'（別添１）融資計画詳細１（交付申請）'!$BL$13","v":""},{"$f":"'（別添１）融資計画詳細１（交付申請）'!$BL$14","v":""},{"$f":"'（別添１）融資計画詳細１（交付申請）'!$BL$15","v":""},{"$f":"'（別添１）融資計画詳細１（交付申請）'!$BL$16","v":""},{"$f":"'（別添１）融資計画詳細１（交付申請）'!$BL$17","v":0},{"$f":"'（別添１）融資計画詳細１（交付申請）'!$BL$18","v":""},{"$f":"'（別添１）融資計画詳細１（交付申請）'!$BL$19","v":""},{"$f":"'（別添１）融資計画詳細１（交付申請）'!$BL$20","v":""},{"$f":"'（別添１）融資計画詳細２（交付申請）'!$BI$3","v":""},{"$f":"'（別添１）融資計画詳細２（交付申請）'!$BI$4","v":""},{"$f":"'（別添１）融資計画詳細２（交付申請）'!$BI$5","v":""},{"$f":"'（別添１）融資計画詳細２（交付申請）'!$BI$6","v":""},{"$f":"'（別添１）融資計画詳細２（交付申請）'!$BI$7","v":""},{"$f":"'（別添１）融資計画詳細２（交付申請）'!$BI$8","v":""},{"$f":"'（別添１）融資計画詳細２（交付申請）'!$BI$9","v":""},{"$f":"'（別添１）融資計画詳細２（交付申請）'!$BI$10","v":""},{"$f":"'（別添１）融資計画詳細２（交付申請）'!$BI$11","v":""},{"$f":"'（別添１）融資計画詳細２（交付申請）'!$BI$12","v":""},{"$f":"'（別添１）融資計画詳細２（交付申請）'!$BI$13","v":""},{"$f":"'（別添１）融資計画詳細２（交付申請）'!$BI$14","v":""},{"$f":"'（別添１）融資計画詳細２（交付申請）'!$BI$15","v":""},{"$f":"'（別添１）融資計画詳細２（交付申請）'!$BI$16","v":""},{"$f":"'（別添１）融資計画詳細２（交付申請）'!$BI$17","v":""},{"$f":"'（別添１）融資計画詳細２（交付申請）'!$BI$18","v":""},{"$f":"'（別添１）融資計画詳細２（交付申請）'!$BI$19","v":""},{"$f":"'（別添１）融資計画詳細２（交付申請）'!$BI$20","v":""},{"$f":"'（別添１）融資計画詳細２（交付申請）'!$BI$21","v":""},{"$f":"'（別添１）融資計画詳細２（交付申請）'!$BI$22","v":""},{"$f":"'（様式第９）実績報告書'!$AN$4","v":""},{"$f":"'（様式第９）実績報告書'!$AN$5","v":""},{"$f":"'（様式第９）実績報告書'!$AN$6","v":""},{"$f":"'（様式第９）実績報告書'!$AN$7","v":""},{"$f":"'（様式第９）実績報告書'!$AN$8","v":""},{"$f":"'（様式第９）実績報告書'!$AN$9","v":""},{"$f":"'（様式第９）実績報告書'!$AN$10","v":""},{"$f":"'（様式第９）実績報告書'!$AN$11","v":""},{"$f":"'（様式第９）実績報告書'!$AN$12","v":""},{"$f":"'（様式第９）実績報告書'!$AN$13","v":""},{"$f":"'（様式第９）実績報告書'!$AN$14","v":""},{"$f":"'（様式第９）実績報告書'!$AN$15","v":""},{"$f":"'（様式第９）実績報告書'!$AN$16","v":""},{"$f":"'（別添1）融資計画詳細１（実績報告）'!$BL$3","v":""},{"$f":"'（別添1）融資計画詳細１（実績報告）'!$BL$4","v":""},{"$f":"'（別添1）融資計画詳細１（実績報告）'!$BL$5","v":""},{"$f":"'（別添1）融資計画詳細１（実績報告）'!$BL$6","v":""},{"$f":"'（別添1）融資計画詳細１（実績報告）'!$BL$7","v":""},{"$f":"'（別添1）融資計画詳細１（実績報告）'!$BL$8","v":""},{"$f":"'（別添1）融資計画詳細１（実績報告）'!$BL$9","v":""},{"$f":"'（別添1）融資計画詳細１（実績報告）'!$BL$10","v":""},{"$f":"'（別添1）融資計画詳細１（実績報告）'!$BL$11","v":""},{"$f":"'（別添1）融資計画詳細１（実績報告）'!$BL$12","v":""},{"$f":"'（別添1）融資計画詳細１（実績報告）'!$BL$13","v":""},{"$f":"'（別添1）融資計画詳細１（実績報告）'!$BL$14","v":""},{"$f":"'（別添1）融資計画詳細１（実績報告）'!$BL$15","v":""},{"$f":"'（別添1）融資計画詳細１（実績報告）'!$BL$16","v":""},{"$f":"'（別添1）融資計画詳細１（実績報告）'!$BL$17","v":0},{"$f":"'（別添1）融資計画詳細１（実績報告）'!$BL$18","v":""},{"$f":"'（別添1）融資計画詳細１（実績報告）'!$BL$19","v":""},{"$f":"'（別添1）融資計画詳細１（実績報告）'!$BL$20","v":""},{"$f":"'（別添１）融資計画詳細２（実績報告）'!$BI$3","v":""},{"$f":"'（別添１）融資計画詳細２（実績報告）'!$BI$4","v":""},{"$f":"'（別添１）融資計画詳細２（実績報告）'!$BI$5","v":""},{"$f":"'（別添１）融資計画詳細２（実績報告）'!$BI$6","v":""},{"$f":"'（別添１）融資計画詳細２（実績報告）'!$BI$7","v":""},{"$f":"'（別添１）融資計画詳細２（実績報告）'!$BI$8","v":""},{"$f":"'（別添１）融資計画詳細２（実績報告）'!$BI$9","v":""},{"$f":"'（別添１）融資計画詳細２（実績報告）'!$BI$10","v":""},{"$f":"'（別添１）融資計画詳細２（実績報告）'!$BI$11","v":""},{"$f":"'（別添１）融資計画詳細２（実績報告）'!$BI$12","v":""},{"$f":"'（別添１）融資計画詳細２（実績報告）'!$BI$13","v":""},{"$f":"'（別添１）融資計画詳細２（実績報告）'!$BI$14","v":""},{"$f":"'（別添１）融資計画詳細２（実績報告）'!$BI$15","v":""},{"$f":"'（別添１）融資計画詳細２（実績報告）'!$BI$16","v":""},{"$f":"'（別添１）融資計画詳細２（実績報告）'!$BI$17","v":""},{"$f":"'（別添１）融資計画詳細２（実績報告）'!$BI$18","v":""},{"$f":"'（別添１）融資計画詳細２（実績報告）'!$BI$19","v":""},{"$f":"'（別添１）融資計画詳細２（実績報告）'!$BI$20","v":""},{"$f":"'（別添１）融資計画詳細２（実績報告）'!$BI$21","v":""},{"$f":"'（別添１）融資計画詳細２（実績報告）'!$BI$22","v":""},{"$f":"'（別添１）融資計画詳細２（実績報告）'!$BI$23","v":""},{"$f":"'（別添１）融資計画詳細２（実績報告）'!$BI$24","v":""},{"$f":"'（別添１）融資計画詳細２（実績報告）'!$BI$25","v":""},{"$f":"'（様式第１１）概算払請求書'!$AN$4","v":""},{"$f":"'（様式第１１）概算払請求書'!$AN$5","v":""},{"$f":"'（様式第１１）概算払請求書'!$AN$6","v":""},{"$f":"'（様式第１１）概算払請求書'!$AN$7","v":""},{"$f":"'（様式第１１）概算払請求書'!$AN$8","v":""},{"$f":"'（様式第１１）概算払請求書'!$AN$9","v":""},{"$f":"'（様式第１１）概算払請求書'!$AN$10","v":""},{"$f":"'（様式第１１）概算払請求書'!$AN$11","v":""},{"$f":"'（様式第１１）概算払請求書'!$AN$12","v":""},{"$f":"'（様式第１１）概算払請求書'!$AN$13","v":""},{"$f":"'（様式第１１）概算払請求書'!$AN$14","v":""},{"$f":"'（様式第１１）概算払請求書'!$AN$15","v":""},{"$f":"'（様式第１１）概算払請求書'!$AN$16","v":""},{"$f":"'（様式第１１）概算払請求書'!$AN$17","v":""},{"$f":"'（様式第１１）概算払請求書'!$AN$18","v":""},{"$f":"'（様式第１１）概算払請求書'!$AN$19","v":""},{"$f":"'（様式第１１）概算払請求書'!$AN$20","v":""},{"$f":"'（様式第１１）概算払請求書'!$AN$21","v":""},{"$f":"'（様式第１１）概算払請求書'!$AN$22","v":""},{"$f":"'（様式第１１）概算払請求書'!$AN$23","v":""},{"$f":"'（様式第１１）精算払請求書'!$AN$4","v":""},{"$f":"'（様式第１１）精算払請求書'!$AN$5","v":""},{"$f":"'（様式第１１）精算払請求書'!$AN$6","v":""},{"$f":"'（様式第１１）精算払請求書'!$AN$7","v":""},{"$f":"'（様式第１１）精算払請求書'!$AN$8","v":""},{"$f":"'（様式第１１）精算払請求書'!$AN$9","v":""},{"$f":"'（様式第１１）精算払請求書'!$AN$10","v":""},{"$f":"'（様式第１１）精算払請求書'!$AN$11","v":""},{"$f":"'（様式第１１）精算払請求書'!$AN$12","v":""},{"$f":"'（様式第１１）精算払請求書'!$AN$13","v":""},{"$f":"'（様式第１１）精算払請求書'!$AN$14","v":""},{"$f":"'（様式第１１）精算払請求書'!$AN$15","v":""},{"$f":"'（様式第１１）精算払請求書'!$AN$16","v":""},{"$f":"'（様式第１１）精算払請求書'!$AN$17","v":""},{"$f":"'（様式第１１）精算払請求書'!$AN$18","v":""},{"$f":"'（様式第１１）精算払請求書'!$AN$19","v":""},{"$f":"'（様式第１１）精算払請求書'!$AN$20","v":""},{"$f":"'（様式第１１）精算払請求書'!$AN$21","v":""},{"$f":"'（様式第１１）精算払請求書'!$AN$22","v":""},{"$f":"'（様式第１１）精算払請求書'!$AN$23","v":""},{"$f":"'（別添４）エネルギー消費効率の根拠（要件ア）'!$G$4","v":""},{"$f":"'（別添４）エネルギー消費効率の根拠（要件ア）'!$G$5","v":""},{"$f":"'（別添４）エネルギー消費効率の根拠（要件ア）'!$F$40","v":0},{"$f":"'（別添４）エネルギー消費効率の根拠（要件ア）'!$F$41","v":0},{"$f":"'（別添４）エネルギー消費効率の根拠（要件ア）'!$F$42","v":0},{"$f":"'（別添４）エネルギー消費効率の根拠（要件ア）'!$F$43","v":0},{"$f":"'（別添４）エネルギー消費効率の根拠（要件ア）'!$F$44","v":0},{"$f":"'（別添４）エネルギー消費効率の根拠（要件ア）'!$F$45","v":0},{"$f":"'（別添４）エネルギー消費効率の根拠（要件ア）'!$F$46","v":0},{"$f":"'（別添４）エネルギー消費効率の根拠（要件ア）'!$F$47","v":0},{"$f":"'（別添４）エネルギー消費効率の根拠（要件ア）'!$F$48","v":0},{"$f":"'（別添４）エネルギー消費効率の根拠（要件ア）'!$F$49","v":"台"},{"$f":"'（別添４）エネルギー消費効率の根拠（要件ア）'!$F$50","v":0},{"$f":"'（別添４）エネルギー消費効率の根拠（要件ア）'!$F$51","v":0},{"$f":"'（別添４）エネルギー消費効率の根拠（要件ア）'!$F$52","v":"単位を選択してください"},{"$f":"'（別添４）エネルギー消費効率の根拠（要件ア）'!$F$53","v":0},{"$f":"'（別添４）エネルギー消費効率の根拠（要件ア）'!$F$54","v":0},{"$f":"'（別添４）エネルギー消費効率の根拠（要件ア）'!$F$55","v":0},{"$f":"'（別添４）エネルギー消費効率の根拠（要件ア）'!$F$56","v":"台"},{"$f":"'（別添４）エネルギー消費効率の根拠（要件ア）'!$F$57","v":0},{"$f":"'（別添４）エネルギー消費効率の根拠（要件ア）'!$F$58","v":0},{"$f":"'（別添４）エネルギー消費効率の根拠（要件ア）'!$F$59","v":"単位を選択してください"},{"$f":"'（別添４）エネルギー消費効率の根拠（要件ア）'!$F$60","v":"0単位を選択してください"},{"$f":"'（別添４）エネルギー消費効率の根拠（要件ア）'!$F$61","v":0},{"$f":"'（別添４）エネルギー消費効率の根拠（要件ア）'!$F$62","v":0},{"$f":"'（別添４）エネルギー消費効率の根拠（要件ア）'!$F$63","v":""},{"$f":"'（別添４）エネルギー消費効率の根拠（要件ア）'!$J$40","v":0},{"$f":"'（別添４）エネルギー消費効率の根拠（要件ア）'!$J$41","v":0},{"$f":"'（別添４）エネルギー消費効率の根拠（要件ア）'!$J$42","v":0},{"$f":"'（別添４）エネルギー消費効率の根拠（要件ア）'!$J$43","v":0},{"$f":"'（別添４）エネルギー消費効率の根拠（要件ア）'!$J$44","v":0},{"$f":"'（別添４）エネルギー消費効率の根拠（要件ア）'!$J$45","v":0},{"$f":"'（別添４）エネルギー消費効率の根拠（要件ア）'!$J$46","v":0},{"$f":"'（別添４）エネルギー消費効率の根拠（要件ア）'!$J$47","v":0},{"$f":"'（別添４）エネルギー消費効率の根拠（要件ア）'!$J$48","v":0},{"$f":"'（別添４）エネルギー消費効率の根拠（要件ア）'!$J$49","v":"台"},{"$f":"'（別添４）エネルギー消費効率の根拠（要件ア）'!$J$50","v":0},{"$f":"'（別添４）エネルギー消費効率の根拠（要件ア）'!$J$51","v":0},{"$f":"'（別添４）エネルギー消費効率の根拠（要件ア）'!$J$52","v":"単位を選択してください"},{"$f":"'（別添４）エネルギー消費効率の根拠（要件ア）'!$J$53","v":0},{"$f":"'（別添４）エネルギー消費効率の根拠（要件ア）'!$J$54","v":0},{"$f":"'（別添４）エネルギー消費効率の根拠（要件ア）'!$J$55","v":0},{"$f":"'（別添４）エネルギー消費効率の根拠（要件ア）'!$J$56","v":"台"},{"$f":"'（別添４）エネルギー消費効率の根拠（要件ア）'!$J$57","v":0},{"$f":"'（別添４）エネルギー消費効率の根拠（要件ア）'!$J$58","v":0},{"$f":"'（別添４）エネルギー消費効率の根拠（要件ア）'!$J$59","v":"単位を選択してください"},{"$f":"'（別添４）エネルギー消費効率の根拠（要件ア）'!$J$60","v":"0単位を選択してください"},{"$f":"'（別添４）エネルギー消費効率の根拠（要件ア）'!$J$61","v":0},{"$f":"'（別添４）エネルギー消費効率の根拠（要件ア）'!$J$62","v":0},{"$f":"'（別添４）エネルギー消費効率の根拠（要件ア）'!$J$63","v":""},{"$f":"'（別添４）エネルギー消費効率の根拠（要件ア）'!$N$40","v":0},{"$f":"'（別添４）エネルギー消費効率の根拠（要件ア）'!$N$41","v":0},{"$f":"'（別添４）エネルギー消費効率の根拠（要件ア）'!$N$42","v":0},{"$f":"'（別添４）エネルギー消費効率の根拠（要件ア）'!$N$43","v":0},{"$f":"'（別添４）エネルギー消費効率の根拠（要件ア）'!$N$44","v":0},{"$f":"'（別添４）エネルギー消費効率の根拠（要件ア）'!$N$45","v":0},{"$f":"'（別添４）エネルギー消費効率の根拠（要件ア）'!$N$46","v":0},{"$f":"'（別添４）エネルギー消費効率の根拠（要件ア）'!$N$47","v":0},{"$f":"'（別添４）エネルギー消費効率の根拠（要件ア）'!$N$48","v":0},{"$f":"'（別添４）エネルギー消費効率の根拠（要件ア）'!$N$49","v":"台"},{"$f":"'（別添４）エネルギー消費効率の根拠（要件ア）'!$N$50","v":0},{"$f":"'（別添４）エネルギー消費効率の根拠（要件ア）'!$N$51","v":0},{"$f":"'（別添４）エネルギー消費効率の根拠（要件ア）'!$N$52","v":"単位を選択してください"},{"$f":"'（別添４）エネルギー消費効率の根拠（要件ア）'!$N$53","v":0},{"$f":"'（別添４）エネルギー消費効率の根拠（要件ア）'!$N$54","v":0},{"$f":"'（別添４）エネルギー消費効率の根拠（要件ア）'!$N$55","v":0},{"$f":"'（別添４）エネルギー消費効率の根拠（要件ア）'!$N$56","v":"台"},{"$f":"'（別添４）エネルギー消費効率の根拠（要件ア）'!$N$57","v":0},{"$f":"'（別添４）エネルギー消費効率の根拠（要件ア）'!$N$58","v":0},{"$f":"'（別添４）エネルギー消費効率の根拠（要件ア）'!$N$59","v":"単位を選択してください"},{"$f":"'（別添４）エネルギー消費効率の根拠（要件ア）'!$N$60","v":"0単位を選択してください"},{"$f":"'（別添４）エネルギー消費効率の根拠（要件ア）'!$N$61","v":0},{"$f":"'（別添４）エネルギー消費効率の根拠（要件ア）'!$N$62","v":0},{"$f":"'（別添４）エネルギー消費効率の根拠（要件ア）'!$N$63","v":""},{"$f":"'（別添４）エネルギー消費効率の根拠（要件ア）'!$R$40","v":0},{"$f":"'（別添４）エネルギー消費効率の根拠（要件ア）'!$R$41","v":0},{"$f":"'（別添４）エネルギー消費効率の根拠（要件ア）'!$R$42","v":0},{"$f":"'（別添４）エネルギー消費効率の根拠（要件ア）'!$R$43","v":0},{"$f":"'（別添４）エネルギー消費効率の根拠（要件ア）'!$R$44","v":0},{"$f":"'（別添４）エネルギー消費効率の根拠（要件ア）'!$R$45","v":0},{"$f":"'（別添４）エネルギー消費効率の根拠（要件ア）'!$R$46","v":0},{"$f":"'（別添４）エネルギー消費効率の根拠（要件ア）'!$R$47","v":0},{"$f":"'（別添４）エネルギー消費効率の根拠（要件ア）'!$R$48","v":0},{"$f":"'（別添４）エネルギー消費効率の根拠（要件ア）'!$R$49","v":"台"},{"$f":"'（別添４）エネルギー消費効率の根拠（要件ア）'!$R$50","v":0},{"$f":"'（別添４）エネルギー消費効率の根拠（要件ア）'!$R$51","v":0},{"$f":"'（別添４）エネルギー消費効率の根拠（要件ア）'!$R$52","v":"単位を選択してください"},{"$f":"'（別添４）エネルギー消費効率の根拠（要件ア）'!$R$53","v":0},{"$f":"'（別添４）エネルギー消費効率の根拠（要件ア）'!$R$54","v":0},{"$f":"'（別添４）エネルギー消費効率の根拠（要件ア）'!$R$55","v":0},{"$f":"'（別添４）エネルギー消費効率の根拠（要件ア）'!$R$56","v":"台"},{"$f":"'（別添４）エネルギー消費効率の根拠（要件ア）'!$R$57","v":0},{"$f":"'（別添４）エネルギー消費効率の根拠（要件ア）'!$R$58","v":0},{"$f":"'（別添４）エネルギー消費効率の根拠（要件ア）'!$R$59","v":"単位を選択してください"},{"$f":"'（別添４）エネルギー消費効率の根拠（要件ア）'!$R$60","v":"0単位を選択してください"},{"$f":"'（別添４）エネルギー消費効率の根拠（要件ア）'!$R$61","v":0},{"$f":"'（別添４）エネルギー消費効率の根拠（要件ア）'!$R$62","v":0},{"$f":"'（別添４）エネルギー消費効率の根拠（要件ア）'!$R$63","v":""},{"$f":"'（別添４）エネルギー消費効率の根拠（要件ア）'!$V$40","v":0},{"$f":"'（別添４）エネルギー消費効率の根拠（要件ア）'!$V$41","v":0},{"$f":"'（別添４）エネルギー消費効率の根拠（要件ア）'!$V$42","v":0},{"$f":"'（別添４）エネルギー消費効率の根拠（要件ア）'!$V$43","v":0},{"$f":"'（別添４）エネルギー消費効率の根拠（要件ア）'!$V$44","v":0},{"$f":"'（別添４）エネルギー消費効率の根拠（要件ア）'!$V$45","v":0},{"$f":"'（別添４）エネルギー消費効率の根拠（要件ア）'!$V$46","v":0},{"$f":"'（別添４）エネルギー消費効率の根拠（要件ア）'!$V$47","v":0},{"$f":"'（別添４）エネルギー消費効率の根拠（要件ア）'!$V$48","v":0},{"$f":"'（別添４）エネルギー消費効率の根拠（要件ア）'!$V$49","v":"台"},{"$f":"'（別添４）エネルギー消費効率の根拠（要件ア）'!$V$50","v":0},{"$f":"'（別添４）エネルギー消費効率の根拠（要件ア）'!$V$51","v":0},{"$f":"'（別添４）エネルギー消費効率の根拠（要件ア）'!$V$52","v":"単位を選択してください"},{"$f":"'（別添４）エネルギー消費効率の根拠（要件ア）'!$V$53","v":0},{"$f":"'（別添４）エネルギー消費効率の根拠（要件ア）'!$V$54","v":0},{"$f":"'（別添４）エネルギー消費効率の根拠（要件ア）'!$V$55","v":0},{"$f":"'（別添４）エネルギー消費効率の根拠（要件ア）'!$V$56","v":"台"},{"$f":"'（別添４）エネルギー消費効率の根拠（要件ア）'!$V$57","v":0},{"$f":"'（別添４）エネルギー消費効率の根拠（要件ア）'!$V$58","v":0},{"$f":"'（別添４）エネルギー消費効率の根拠（要件ア）'!$V$59","v":"単位を選択してください"},{"$f":"'（別添４）エネルギー消費効率の根拠（要件ア）'!$V$60","v":"0単位を選択してください"},{"$f":"'（別添４）エネルギー消費効率の根拠（要件ア）'!$V$61","v":0},{"$f":"'（別添４）エネルギー消費効率の根拠（要件ア）'!$V$62","v":0},{"$f":"'（別添４）エネルギー消費効率の根拠（要件ア）'!$V$63","v":""},{"$f":"'（別添４）エネルギー消費効率の根拠（要件ア）'!$Z$40","v":0},{"$f":"'（別添４）エネルギー消費効率の根拠（要件ア）'!$Z$41","v":0},{"$f":"'（別添４）エネルギー消費効率の根拠（要件ア）'!$Z$42","v":0},{"$f":"'（別添４）エネルギー消費効率の根拠（要件ア）'!$Z$43","v":0},{"$f":"'（別添４）エネルギー消費効率の根拠（要件ア）'!$Z$44","v":0},{"$f":"'（別添４）エネルギー消費効率の根拠（要件ア）'!$Z$45","v":0},{"$f":"'（別添４）エネルギー消費効率の根拠（要件ア）'!$Z$46","v":0},{"$f":"'（別添４）エネルギー消費効率の根拠（要件ア）'!$Z$47","v":0},{"$f":"'（別添４）エネルギー消費効率の根拠（要件ア）'!$Z$48","v":0},{"$f":"'（別添４）エネルギー消費効率の根拠（要件ア）'!$Z$49","v":"台"},{"$f":"'（別添４）エネルギー消費効率の根拠（要件ア）'!$Z$50","v":0},{"$f":"'（別添４）エネルギー消費効率の根拠（要件ア）'!$Z$51","v":0},{"$f":"'（別添４）エネルギー消費効率の根拠（要件ア）'!$Z$52","v":"単位を選択してください"},{"$f":"'（別添４）エネルギー消費効率の根拠（要件ア）'!$Z$53","v":0},{"$f":"'（別添４）エネルギー消費効率の根拠（要件ア）'!$Z$54","v":0},{"$f":"'（別添４）エネルギー消費効率の根拠（要件ア）'!$Z$55","v":0},{"$f":"'（別添４）エネルギー消費効率の根拠（要件ア）'!$Z$56","v":"台"},{"$f":"'（別添４）エネルギー消費効率の根拠（要件ア）'!$Z$57","v":0},{"$f":"'（別添４）エネルギー消費効率の根拠（要件ア）'!$Z$58","v":0},{"$f":"'（別添４）エネルギー消費効率の根拠（要件ア）'!$Z$59","v":"単位を選択してください"},{"$f":"'（別添４）エネルギー消費効率の根拠（要件ア）'!$Z$60","v":"0単位を選択してください"},{"$f":"'（別添４）エネルギー消費効率の根拠（要件ア）'!$Z$61","v":0},{"$f":"'（別添４）エネルギー消費効率の根拠（要件ア）'!$Z$62","v":0},{"$f":"'（別添４）エネルギー消費効率の根拠（要件ア）'!$Z$63","v":""},{"$f":"'（別添４）エネルギー消費効率の根拠（要件ア）'!$AD$40","v":0},{"$f":"'（別添４）エネルギー消費効率の根拠（要件ア）'!$AD$41","v":0},{"$f":"'（別添４）エネルギー消費効率の根拠（要件ア）'!$AD$42","v":0},{"$f":"'（別添４）エネルギー消費効率の根拠（要件ア）'!$AD$43","v":0},{"$f":"'（別添４）エネルギー消費効率の根拠（要件ア）'!$AD$44","v":0},{"$f":"'（別添４）エネルギー消費効率の根拠（要件ア）'!$AD$45","v":0},{"$f":"'（別添４）エネルギー消費効率の根拠（要件ア）'!$AD$46","v":0},{"$f":"'（別添４）エネルギー消費効率の根拠（要件ア）'!$AD$47","v":0},{"$f":"'（別添４）エネルギー消費効率の根拠（要件ア）'!$AD$48","v":0},{"$f":"'（別添４）エネルギー消費効率の根拠（要件ア）'!$AD$49","v":"台"},{"$f":"'（別添４）エネルギー消費効率の根拠（要件ア）'!$AD$50","v":0},{"$f":"'（別添４）エネルギー消費効率の根拠（要件ア）'!$AD$51","v":0},{"$f":"'（別添４）エネルギー消費効率の根拠（要件ア）'!$AD$52","v":"単位を選択してください"},{"$f":"'（別添４）エネルギー消費効率の根拠（要件ア）'!$AD$53","v":0},{"$f":"'（別添４）エネルギー消費効率の根拠（要件ア）'!$AD$54","v":0},{"$f":"'（別添４）エネルギー消費効率の根拠（要件ア）'!$AD$55","v":0},{"$f":"'（別添４）エネルギー消費効率の根拠（要件ア）'!$AD$56","v":"台"},{"$f":"'（別添４）エネルギー消費効率の根拠（要件ア）'!$AD$57","v":0},{"$f":"'（別添４）エネルギー消費効率の根拠（要件ア）'!$AD$58","v":0},{"$f":"'（別添４）エネルギー消費効率の根拠（要件ア）'!$AD$59","v":"単位を選択してください"},{"$f":"'（別添４）エネルギー消費効率の根拠（要件ア）'!$AD$60","v":"0単位を選択してください"},{"$f":"'（別添４）エネルギー消費効率の根拠（要件ア）'!$AD$61","v":0},{"$f":"'（別添４）エネルギー消費効率の根拠（要件ア）'!$AD$62","v":0},{"$f":"'（別添４）エネルギー消費効率の根拠（要件ア）'!$AD$63","v":""},{"$f":"'（別添４）エネルギー消費効率の根拠（要件ア）'!$AH$40","v":0},{"$f":"'（別添４）エネルギー消費効率の根拠（要件ア）'!$AH$41","v":0},{"$f":"'（別添４）エネルギー消費効率の根拠（要件ア）'!$AH$42","v":0},{"$f":"'（別添４）エネルギー消費効率の根拠（要件ア）'!$AH$43","v":0},{"$f":"'（別添４）エネルギー消費効率の根拠（要件ア）'!$AH$44","v":0},{"$f":"'（別添４）エネルギー消費効率の根拠（要件ア）'!$AH$45","v":0},{"$f":"'（別添４）エネルギー消費効率の根拠（要件ア）'!$AH$46","v":0},{"$f":"'（別添４）エネルギー消費効率の根拠（要件ア）'!$AH$47","v":0},{"$f":"'（別添４）エネルギー消費効率の根拠（要件ア）'!$AH$48","v":0},{"$f":"'（別添４）エネルギー消費効率の根拠（要件ア）'!$AH$49","v":"台"},{"$f":"'（別添４）エネルギー消費効率の根拠（要件ア）'!$AH$50","v":0},{"$f":"'（別添４）エネルギー消費効率の根拠（要件ア）'!$AH$51","v":0},{"$f":"'（別添４）エネルギー消費効率の根拠（要件ア）'!$AH$52","v":"単位を選択してください"},{"$f":"'（別添４）エネルギー消費効率の根拠（要件ア）'!$AH$53","v":0},{"$f":"'（別添４）エネルギー消費効率の根拠（要件ア）'!$AH$54","v":0},{"$f":"'（別添４）エネルギー消費効率の根拠（要件ア）'!$AH$55","v":0},{"$f":"'（別添４）エネルギー消費効率の根拠（要件ア）'!$AH$56","v":"台"},{"$f":"'（別添４）エネルギー消費効率の根拠（要件ア）'!$AH$57","v":0},{"$f":"'（別添４）エネルギー消費効率の根拠（要件ア）'!$AH$58","v":0},{"$f":"'（別添４）エネルギー消費効率の根拠（要件ア）'!$AH$59","v":"単位を選択してください"},{"$f":"'（別添４）エネルギー消費効率の根拠（要件ア）'!$AH$60","v":"0単位を選択してください"},{"$f":"'（別添４）エネルギー消費効率の根拠（要件ア）'!$AH$61","v":0},{"$f":"'（別添４）エネルギー消費効率の根拠（要件ア）'!$AH$62","v":0},{"$f":"'（別添４）エネルギー消費効率の根拠（要件ア）'!$AH$63","v":""},{"$f":"'（別添４）エネルギー消費効率の根拠（要件ア）'!$AL$40","v":0},{"$f":"'（別添４）エネルギー消費効率の根拠（要件ア）'!$AL$41","v":0},{"$f":"'（別添４）エネルギー消費効率の根拠（要件ア）'!$AL$42","v":0},{"$f":"'（別添４）エネルギー消費効率の根拠（要件ア）'!$AL$43","v":0},{"$f":"'（別添４）エネルギー消費効率の根拠（要件ア）'!$AL$44","v":0},{"$f":"'（別添４）エネルギー消費効率の根拠（要件ア）'!$AL$45","v":0},{"$f":"'（別添４）エネルギー消費効率の根拠（要件ア）'!$AL$46","v":0},{"$f":"'（別添４）エネルギー消費効率の根拠（要件ア）'!$AL$47","v":0},{"$f":"'（別添４）エネルギー消費効率の根拠（要件ア）'!$AL$48","v":0},{"$f":"'（別添４）エネルギー消費効率の根拠（要件ア）'!$AL$49","v":"台"},{"$f":"'（別添４）エネルギー消費効率の根拠（要件ア）'!$AL$50","v":0},{"$f":"'（別添４）エネルギー消費効率の根拠（要件ア）'!$AL$51","v":0},{"$f":"'（別添４）エネルギー消費効率の根拠（要件ア）'!$AL$52","v":"単位を選択してください"},{"$f":"'（別添４）エネルギー消費効率の根拠（要件ア）'!$AL$53","v":0},{"$f":"'（別添４）エネルギー消費効率の根拠（要件ア）'!$AL$54","v":0},{"$f":"'（別添４）エネルギー消費効率の根拠（要件ア）'!$AL$55","v":0},{"$f":"'（別添４）エネルギー消費効率の根拠（要件ア）'!$AL$56","v":"台"},{"$f":"'（別添４）エネルギー消費効率の根拠（要件ア）'!$AL$57","v":0},{"$f":"'（別添４）エネルギー消費効率の根拠（要件ア）'!$AL$58","v":0},{"$f":"'（別添４）エネルギー消費効率の根拠（要件ア）'!$AL$59","v":"単位を選択してください"},{"$f":"'（別添４）エネルギー消費効率の根拠（要件ア）'!$AL$60","v":"0単位を選択してください"},{"$f":"'（別添４）エネルギー消費効率の根拠（要件ア）'!$AL$61","v":0},{"$f":"'（別添４）エネルギー消費効率の根拠（要件ア）'!$AL$62","v":0},{"$f":"'（別添４）エネルギー消費効率の根拠（要件ア）'!$AL$63","v":""},{"$f":"'（別添４）エネルギー消費効率の根拠（要件ア）'!$AP$40","v":0},{"$f":"'（別添４）エネルギー消費効率の根拠（要件ア）'!$AP$41","v":0},{"$f":"'（別添４）エネルギー消費効率の根拠（要件ア）'!$AP$42","v":0},{"$f":"'（別添４）エネルギー消費効率の根拠（要件ア）'!$AP$43","v":0},{"$f":"'（別添４）エネルギー消費効率の根拠（要件ア）'!$AP$44","v":0},{"$f":"'（別添４）エネルギー消費効率の根拠（要件ア）'!$AP$45","v":0},{"$f":"'（別添４）エネルギー消費効率の根拠（要件ア）'!$AP$46","v":0},{"$f":"'（別添４）エネルギー消費効率の根拠（要件ア）'!$AP$47","v":0},{"$f":"'（別添４）エネルギー消費効率の根拠（要件ア）'!$AP$48","v":0},{"$f":"'（別添４）エネルギー消費効率の根拠（要件ア）'!$AP$49","v":"台"},{"$f":"'（別添４）エネルギー消費効率の根拠（要件ア）'!$AP$50","v":0},{"$f":"'（別添４）エネルギー消費効率の根拠（要件ア）'!$AP$51","v":0},{"$f":"'（別添４）エネルギー消費効率の根拠（要件ア）'!$AP$52","v":"単位を選択してください"},{"$f":"'（別添４）エネルギー消費効率の根拠（要件ア）'!$AP$53","v":0},{"$f":"'（別添４）エネルギー消費効率の根拠（要件ア）'!$AP$54","v":0},{"$f":"'（別添４）エネルギー消費効率の根拠（要件ア）'!$AP$55","v":0},{"$f":"'（別添４）エネルギー消費効率の根拠（要件ア）'!$AP$56","v":"台"},{"$f":"'（別添４）エネルギー消費効率の根拠（要件ア）'!$AP$57","v":0},{"$f":"'（別添４）エネルギー消費効率の根拠（要件ア）'!$AP$58","v":0},{"$f":"'（別添４）エネルギー消費効率の根拠（要件ア）'!$AP$59","v":"単位を選択してください"},{"$f":"'（別添４）エネルギー消費効率の根拠（要件ア）'!$AP$60","v":"0単位を選択してください"},{"$f":"'（別添４）エネルギー消費効率の根拠（要件ア）'!$AP$61","v":0},{"$f":"'（別添４）エネルギー消費効率の根拠（要件ア）'!$AP$62","v":0},{"$f":"'（別添４）エネルギー消費効率の根拠（要件ア）'!$AP$63","v":""},{"$f":"'（別添４）エネルギー消費効率の根拠（要件ア）'!$AT$40","v":0},{"$f":"'（別添４）エネルギー消費効率の根拠（要件ア）'!$AT$41","v":0},{"$f":"'（別添４）エネルギー消費効率の根拠（要件ア）'!$AT$42","v":0},{"$f":"'（別添４）エネルギー消費効率の根拠（要件ア）'!$AT$43","v":0},{"$f":"'（別添４）エネルギー消費効率の根拠（要件ア）'!$AT$44","v":0},{"$f":"'（別添４）エネルギー消費効率の根拠（要件ア）'!$AT$45","v":0},{"$f":"'（別添４）エネルギー消費効率の根拠（要件ア）'!$AT$46","v":0},{"$f":"'（別添４）エネルギー消費効率の根拠（要件ア）'!$AT$47","v":0},{"$f":"'（別添４）エネルギー消費効率の根拠（要件ア）'!$AT$48","v":0},{"$f":"'（別添４）エネルギー消費効率の根拠（要件ア）'!$AT$49","v":"台"},{"$f":"'（別添４）エネルギー消費効率の根拠（要件ア）'!$AT$50","v":0},{"$f":"'（別添４）エネルギー消費効率の根拠（要件ア）'!$AT$51","v":0},{"$f":"'（別添４）エネルギー消費効率の根拠（要件ア）'!$AT$52","v":"単位を選択してください"},{"$f":"'（別添４）エネルギー消費効率の根拠（要件ア）'!$AT$53","v":0},{"$f":"'（別添４）エネルギー消費効率の根拠（要件ア）'!$AT$54","v":0},{"$f":"'（別添４）エネルギー消費効率の根拠（要件ア）'!$AT$55","v":0},{"$f":"'（別添４）エネルギー消費効率の根拠（要件ア）'!$AT$56","v":"台"},{"$f":"'（別添４）エネルギー消費効率の根拠（要件ア）'!$AT$57","v":0},{"$f":"'（別添４）エネルギー消費効率の根拠（要件ア）'!$AT$58","v":0},{"$f":"'（別添４）エネルギー消費効率の根拠（要件ア）'!$AT$59","v":"単位を選択してください"},{"$f":"'（別添４）エネルギー消費効率の根拠（要件ア）'!$AT$60","v":"0単位を選択してください"},{"$f":"'（別添４）エネルギー消費効率の根拠（要件ア）'!$AT$61","v":0},{"$f":"'（別添４）エネルギー消費効率の根拠（要件ア）'!$AT$62","v":0},{"$f":"'（別添４）エネルギー消費効率の根拠（要件ア）'!$AT$63","v":""},{"$f":"'（別添４）エネルギー消費効率の根拠（要件ア）'!$AX$40","v":0},{"$f":"'（別添４）エネルギー消費効率の根拠（要件ア）'!$AX$41","v":0},{"$f":"'（別添４）エネルギー消費効率の根拠（要件ア）'!$AX$42","v":0},{"$f":"'（別添４）エネルギー消費効率の根拠（要件ア）'!$AX$43","v":0},{"$f":"'（別添４）エネルギー消費効率の根拠（要件ア）'!$AX$44","v":0},{"$f":"'（別添４）エネルギー消費効率の根拠（要件ア）'!$AX$45","v":0},{"$f":"'（別添４）エネルギー消費効率の根拠（要件ア）'!$AX$46","v":0},{"$f":"'（別添４）エネルギー消費効率の根拠（要件ア）'!$AX$47","v":0},{"$f":"'（別添４）エネルギー消費効率の根拠（要件ア）'!$AX$48","v":0},{"$f":"'（別添４）エネルギー消費効率の根拠（要件ア）'!$AX$49","v":"台"},{"$f":"'（別添４）エネルギー消費効率の根拠（要件ア）'!$AX$50","v":0},{"$f":"'（別添４）エネルギー消費効率の根拠（要件ア）'!$AX$51","v":0},{"$f":"'（別添４）エネルギー消費効率の根拠（要件ア）'!$AX$52","v":"単位を選択してください"},{"$f":"'（別添４）エネルギー消費効率の根拠（要件ア）'!$AX$53","v":0},{"$f":"'（別添４）エネルギー消費効率の根拠（要件ア）'!$AX$54","v":0},{"$f":"'（別添４）エネルギー消費効率の根拠（要件ア）'!$AX$55","v":0},{"$f":"'（別添４）エネルギー消費効率の根拠（要件ア）'!$AX$56","v":"台"},{"$f":"'（別添４）エネルギー消費効率の根拠（要件ア）'!$AX$57","v":0},{"$f":"'（別添４）エネルギー消費効率の根拠（要件ア）'!$AX$58","v":0},{"$f":"'（別添４）エネルギー消費効率の根拠（要件ア）'!$AX$59","v":"単位を選択してください"},{"$f":"'（別添４）エネルギー消費効率の根拠（要件ア）'!$AX$60","v":"0単位を選択してください"},{"$f":"'（別添４）エネルギー消費効率の根拠（要件ア）'!$AX$61","v":0},{"$f":"'（別添４）エネルギー消費効率の根拠（要件ア）'!$AX$62","v":0},{"$f":"'（別添４）エネルギー消費効率の根拠（要件ア）'!$AX$63","v":""},{"$f":"'（別添４）エネルギー消費効率の根拠（要件ア）'!$BB$40","v":0},{"$f":"'（別添４）エネルギー消費効率の根拠（要件ア）'!$BB$41","v":0},{"$f":"'（別添４）エネルギー消費効率の根拠（要件ア）'!$BB$42","v":0},{"$f":"'（別添４）エネルギー消費効率の根拠（要件ア）'!$BB$43","v":0},{"$f":"'（別添４）エネルギー消費効率の根拠（要件ア）'!$BB$44","v":0},{"$f":"'（別添４）エネルギー消費効率の根拠（要件ア）'!$BB$45","v":0},{"$f":"'（別添４）エネルギー消費効率の根拠（要件ア）'!$BB$46","v":0},{"$f":"'（別添４）エネルギー消費効率の根拠（要件ア）'!$BB$47","v":0},{"$f":"'（別添４）エネルギー消費効率の根拠（要件ア）'!$BB$48","v":0},{"$f":"'（別添４）エネルギー消費効率の根拠（要件ア）'!$BB$49","v":"台"},{"$f":"'（別添４）エネルギー消費効率の根拠（要件ア）'!$BB$50","v":0},{"$f":"'（別添４）エネルギー消費効率の根拠（要件ア）'!$BB$51","v":0},{"$f":"'（別添４）エネルギー消費効率の根拠（要件ア）'!$BB$52","v":"単位を選択してください"},{"$f":"'（別添４）エネルギー消費効率の根拠（要件ア）'!$BB$53","v":0},{"$f":"'（別添４）エネルギー消費効率の根拠（要件ア）'!$BB$54","v":0},{"$f":"'（別添４）エネルギー消費効率の根拠（要件ア）'!$BB$55","v":0},{"$f":"'（別添４）エネルギー消費効率の根拠（要件ア）'!$BB$56","v":"台"},{"$f":"'（別添４）エネルギー消費効率の根拠（要件ア）'!$BB$57","v":0},{"$f":"'（別添４）エネルギー消費効率の根拠（要件ア）'!$BB$58","v":0},{"$f":"'（別添４）エネルギー消費効率の根拠（要件ア）'!$BB$59","v":"単位を選択してください"},{"$f":"'（別添４）エネルギー消費効率の根拠（要件ア）'!$BB$60","v":"0単位を選択してください"},{"$f":"'（別添４）エネルギー消費効率の根拠（要件ア）'!$BB$61","v":0},{"$f":"'（別添４）エネルギー消費効率の根拠（要件ア）'!$BB$62","v":0},{"$f":"'（別添４）エネルギー消費効率の根拠（要件ア）'!$BB$63","v":""},{"$f":"'（別添４）エネルギー消費効率の根拠（要件ア）'!$BF$40","v":0},{"$f":"'（別添４）エネルギー消費効率の根拠（要件ア）'!$BF$41","v":0},{"$f":"'（別添４）エネルギー消費効率の根拠（要件ア）'!$BF$42","v":0},{"$f":"'（別添４）エネルギー消費効率の根拠（要件ア）'!$BF$43","v":0},{"$f":"'（別添４）エネルギー消費効率の根拠（要件ア）'!$BF$44","v":0},{"$f":"'（別添４）エネルギー消費効率の根拠（要件ア）'!$BF$45","v":0},{"$f":"'（別添４）エネルギー消費効率の根拠（要件ア）'!$BF$46","v":0},{"$f":"'（別添４）エネルギー消費効率の根拠（要件ア）'!$BF$47","v":0},{"$f":"'（別添４）エネルギー消費効率の根拠（要件ア）'!$BF$48","v":0},{"$f":"'（別添４）エネルギー消費効率の根拠（要件ア）'!$BF$49","v":"台"},{"$f":"'（別添４）エネルギー消費効率の根拠（要件ア）'!$BF$50","v":0},{"$f":"'（別添４）エネルギー消費効率の根拠（要件ア）'!$BF$51","v":0},{"$f":"'（別添４）エネルギー消費効率の根拠（要件ア）'!$BF$52","v":"単位を選択してください"},{"$f":"'（別添４）エネルギー消費効率の根拠（要件ア）'!$BF$53","v":0},{"$f":"'（別添４）エネルギー消費効率の根拠（要件ア）'!$BF$54","v":0},{"$f":"'（別添４）エネルギー消費効率の根拠（要件ア）'!$BF$55","v":0},{"$f":"'（別添４）エネルギー消費効率の根拠（要件ア）'!$BF$56","v":"台"},{"$f":"'（別添４）エネルギー消費効率の根拠（要件ア）'!$BF$57","v":0},{"$f":"'（別添４）エネルギー消費効率の根拠（要件ア）'!$BF$58","v":0},{"$f":"'（別添４）エネルギー消費効率の根拠（要件ア）'!$BF$59","v":"単位を選択してください"},{"$f":"'（別添４）エネルギー消費効率の根拠（要件ア）'!$BF$60","v":"0単位を選択してください"},{"$f":"'（別添４）エネルギー消費効率の根拠（要件ア）'!$BF$61","v":0},{"$f":"'（別添４）エネルギー消費効率の根拠（要件ア）'!$BF$62","v":0},{"$f":"'（別添４）エネルギー消費効率の根拠（要件ア）'!$BF$63","v":""},{"$f":"'（別添４）エネルギー消費効率の根拠（要件ア）'!$BJ$40","v":0},{"$f":"'（別添４）エネルギー消費効率の根拠（要件ア）'!$BJ$41","v":0},{"$f":"'（別添４）エネルギー消費効率の根拠（要件ア）'!$BJ$42","v":0},{"$f":"'（別添４）エネルギー消費効率の根拠（要件ア）'!$BJ$43","v":0},{"$f":"'（別添４）エネルギー消費効率の根拠（要件ア）'!$BJ$44","v":0},{"$f":"'（別添４）エネルギー消費効率の根拠（要件ア）'!$BJ$45","v":0},{"$f":"'（別添４）エネルギー消費効率の根拠（要件ア）'!$BJ$46","v":0},{"$f":"'（別添４）エネルギー消費効率の根拠（要件ア）'!$BJ$47","v":0},{"$f":"'（別添４）エネルギー消費効率の根拠（要件ア）'!$BJ$48","v":0},{"$f":"'（別添４）エネルギー消費効率の根拠（要件ア）'!$BJ$49","v":"台"},{"$f":"'（別添４）エネルギー消費効率の根拠（要件ア）'!$BJ$50","v":0},{"$f":"'（別添４）エネルギー消費効率の根拠（要件ア）'!$BJ$51","v":0},{"$f":"'（別添４）エネルギー消費効率の根拠（要件ア）'!$BJ$52","v":"単位を選択してください"},{"$f":"'（別添４）エネルギー消費効率の根拠（要件ア）'!$BJ$53","v":0},{"$f":"'（別添４）エネルギー消費効率の根拠（要件ア）'!$BJ$54","v":0},{"$f":"'（別添４）エネルギー消費効率の根拠（要件ア）'!$BJ$55","v":0},{"$f":"'（別添４）エネルギー消費効率の根拠（要件ア）'!$BJ$56","v":"台"},{"$f":"'（別添４）エネルギー消費効率の根拠（要件ア）'!$BJ$57","v":0},{"$f":"'（別添４）エネルギー消費効率の根拠（要件ア）'!$BJ$58","v":0},{"$f":"'（別添４）エネルギー消費効率の根拠（要件ア）'!$BJ$59","v":"単位を選択してください"},{"$f":"'（別添４）エネルギー消費効率の根拠（要件ア）'!$BJ$60","v":"0単位を選択してください"},{"$f":"'（別添４）エネルギー消費効率の根拠（要件ア）'!$BJ$61","v":0},{"$f":"'（別添４）エネルギー消費効率の根拠（要件ア）'!$BJ$62","v":0},{"$f":"'（別添４）エネルギー消費効率の根拠（要件ア）'!$BJ$63","v":""},{"$f":"'（別添４）エネルギー消費効率の根拠（要件ア）'!$BN$40","v":0},{"$f":"'（別添４）エネルギー消費効率の根拠（要件ア）'!$BN$41","v":0},{"$f":"'（別添４）エネルギー消費効率の根拠（要件ア）'!$BN$42","v":0},{"$f":"'（別添４）エネルギー消費効率の根拠（要件ア）'!$BN$43","v":0},{"$f":"'（別添４）エネルギー消費効率の根拠（要件ア）'!$BN$44","v":0},{"$f":"'（別添４）エネルギー消費効率の根拠（要件ア）'!$BN$45","v":0},{"$f":"'（別添４）エネルギー消費効率の根拠（要件ア）'!$BN$46","v":0},{"$f":"'（別添４）エネルギー消費効率の根拠（要件ア）'!$BN$47","v":0},{"$f":"'（別添４）エネルギー消費効率の根拠（要件ア）'!$BN$48","v":0},{"$f":"'（別添４）エネルギー消費効率の根拠（要件ア）'!$BN$49","v":"台"},{"$f":"'（別添４）エネルギー消費効率の根拠（要件ア）'!$BN$50","v":0},{"$f":"'（別添４）エネルギー消費効率の根拠（要件ア）'!$BN$51","v":0},{"$f":"'（別添４）エネルギー消費効率の根拠（要件ア）'!$BN$52","v":"単位を選択してください"},{"$f":"'（別添４）エネルギー消費効率の根拠（要件ア）'!$BN$53","v":0},{"$f":"'（別添４）エネルギー消費効率の根拠（要件ア）'!$BN$54","v":0},{"$f":"'（別添４）エネルギー消費効率の根拠（要件ア）'!$BN$55","v":0},{"$f":"'（別添４）エネルギー消費効率の根拠（要件ア）'!$BN$56","v":"台"},{"$f":"'（別添４）エネルギー消費効率の根拠（要件ア）'!$BN$57","v":0},{"$f":"'（別添４）エネルギー消費効率の根拠（要件ア）'!$BN$58","v":0},{"$f":"'（別添４）エネルギー消費効率の根拠（要件ア）'!$BN$59","v":"単位を選択してください"},{"$f":"'（別添４）エネルギー消費効率の根拠（要件ア）'!$BN$60","v":"0単位を選択してください"},{"$f":"'（別添４）エネルギー消費効率の根拠（要件ア）'!$BN$61","v":0},{"$f":"'（別添４）エネルギー消費効率の根拠（要件ア）'!$BN$62","v":0},{"$f":"'（別添４）エネルギー消費効率の根拠（要件ア）'!$BN$63","v":""},{"$f":"'（別添４）エネルギー消費効率の根拠（要件ア）'!$BR$40","v":0},{"$f":"'（別添４）エネルギー消費効率の根拠（要件ア）'!$BR$41","v":0},{"$f":"'（別添４）エネルギー消費効率の根拠（要件ア）'!$BR$42","v":0},{"$f":"'（別添４）エネルギー消費効率の根拠（要件ア）'!$BR$43","v":0},{"$f":"'（別添４）エネルギー消費効率の根拠（要件ア）'!$BR$44","v":0},{"$f":"'（別添４）エネルギー消費効率の根拠（要件ア）'!$BR$45","v":0},{"$f":"'（別添４）エネルギー消費効率の根拠（要件ア）'!$BR$46","v":0},{"$f":"'（別添４）エネルギー消費効率の根拠（要件ア）'!$BR$47","v":0},{"$f":"'（別添４）エネルギー消費効率の根拠（要件ア）'!$BR$48","v":0},{"$f":"'（別添４）エネルギー消費効率の根拠（要件ア）'!$BR$49","v":"台"},{"$f":"'（別添４）エネルギー消費効率の根拠（要件ア）'!$BR$50","v":0},{"$f":"'（別添４）エネルギー消費効率の根拠（要件ア）'!$BR$51","v":0},{"$f":"'（別添４）エネルギー消費効率の根拠（要件ア）'!$BR$52","v":"単位を選択してください"},{"$f":"'（別添４）エネルギー消費効率の根拠（要件ア）'!$BR$53","v":0},{"$f":"'（別添４）エネルギー消費効率の根拠（要件ア）'!$BR$54","v":0},{"$f":"'（別添４）エネルギー消費効率の根拠（要件ア）'!$BR$55","v":0},{"$f":"'（別添４）エネルギー消費効率の根拠（要件ア）'!$BR$56","v":"台"},{"$f":"'（別添４）エネルギー消費効率の根拠（要件ア）'!$BR$57","v":0},{"$f":"'（別添４）エネルギー消費効率の根拠（要件ア）'!$BR$58","v":0},{"$f":"'（別添４）エネルギー消費効率の根拠（要件ア）'!$BR$59","v":"単位を選択してください"},{"$f":"'（別添４）エネルギー消費効率の根拠（要件ア）'!$BR$60","v":"0単位を選択してください"},{"$f":"'（別添４）エネルギー消費効率の根拠（要件ア）'!$BR$61","v":0},{"$f":"'（別添４）エネルギー消費効率の根拠（要件ア）'!$BR$62","v":0},{"$f":"'（別添４）エネルギー消費効率の根拠（要件ア）'!$BR$63","v":""},{"$f":"'（別添４）エネルギー消費効率の根拠（要件ア）'!$BV$40","v":0},{"$f":"'（別添４）エネルギー消費効率の根拠（要件ア）'!$BV$41","v":0},{"$f":"'（別添４）エネルギー消費効率の根拠（要件ア）'!$BV$42","v":0},{"$f":"'（別添４）エネルギー消費効率の根拠（要件ア）'!$BV$43","v":0},{"$f":"'（別添４）エネルギー消費効率の根拠（要件ア）'!$BV$44","v":0},{"$f":"'（別添４）エネルギー消費効率の根拠（要件ア）'!$BV$45","v":0},{"$f":"'（別添４）エネルギー消費効率の根拠（要件ア）'!$BV$46","v":0},{"$f":"'（別添４）エネルギー消費効率の根拠（要件ア）'!$BV$47","v":0},{"$f":"'（別添４）エネルギー消費効率の根拠（要件ア）'!$BV$48","v":0},{"$f":"'（別添４）エネルギー消費効率の根拠（要件ア）'!$BV$49","v":"台"},{"$f":"'（別添４）エネルギー消費効率の根拠（要件ア）'!$BV$50","v":0},{"$f":"'（別添４）エネルギー消費効率の根拠（要件ア）'!$BV$51","v":0},{"$f":"'（別添４）エネルギー消費効率の根拠（要件ア）'!$BV$52","v":"単位を選択してください"},{"$f":"'（別添４）エネルギー消費効率の根拠（要件ア）'!$BV$53","v":0},{"$f":"'（別添４）エネルギー消費効率の根拠（要件ア）'!$BV$54","v":0},{"$f":"'（別添４）エネルギー消費効率の根拠（要件ア）'!$BV$55","v":0},{"$f":"'（別添４）エネルギー消費効率の根拠（要件ア）'!$BV$56","v":"台"},{"$f":"'（別添４）エネルギー消費効率の根拠（要件ア）'!$BV$57","v":0},{"$f":"'（別添４）エネルギー消費効率の根拠（要件ア）'!$BV$58","v":0},{"$f":"'（別添４）エネルギー消費効率の根拠（要件ア）'!$BV$59","v":"単位を選択してください"},{"$f":"'（別添４）エネルギー消費効率の根拠（要件ア）'!$BV$60","v":"0単位を選択してください"},{"$f":"'（別添４）エネルギー消費効率の根拠（要件ア）'!$BV$61","v":0},{"$f":"'（別添４）エネルギー消費効率の根拠（要件ア）'!$BV$62","v":0},{"$f":"'（別添４）エネルギー消費効率の根拠（要件ア）'!$BV$63","v":""},{"$f":"'（別添４）エネルギー消費効率の根拠（要件ア）'!$BZ$40","v":0},{"$f":"'（別添４）エネルギー消費効率の根拠（要件ア）'!$BZ$41","v":0},{"$f":"'（別添４）エネルギー消費効率の根拠（要件ア）'!$BZ$42","v":0},{"$f":"'（別添４）エネルギー消費効率の根拠（要件ア）'!$BZ$43","v":0},{"$f":"'（別添４）エネルギー消費効率の根拠（要件ア）'!$BZ$44","v":0},{"$f":"'（別添４）エネルギー消費効率の根拠（要件ア）'!$BZ$45","v":0},{"$f":"'（別添４）エネルギー消費効率の根拠（要件ア）'!$BZ$46","v":0},{"$f":"'（別添４）エネルギー消費効率の根拠（要件ア）'!$BZ$47","v":0},{"$f":"'（別添４）エネルギー消費効率の根拠（要件ア）'!$BZ$48","v":0},{"$f":"'（別添４）エネルギー消費効率の根拠（要件ア）'!$BZ$49","v":"台"},{"$f":"'（別添４）エネルギー消費効率の根拠（要件ア）'!$BZ$50","v":0},{"$f":"'（別添４）エネルギー消費効率の根拠（要件ア）'!$BZ$51","v":0},{"$f":"'（別添４）エネルギー消費効率の根拠（要件ア）'!$BZ$52","v":"単位を選択してください"},{"$f":"'（別添４）エネルギー消費効率の根拠（要件ア）'!$BZ$53","v":0},{"$f":"'（別添４）エネルギー消費効率の根拠（要件ア）'!$BZ$54","v":0},{"$f":"'（別添４）エネルギー消費効率の根拠（要件ア）'!$BZ$55","v":0},{"$f":"'（別添４）エネルギー消費効率の根拠（要件ア）'!$BZ$56","v":"台"},{"$f":"'（別添４）エネルギー消費効率の根拠（要件ア）'!$BZ$57","v":0},{"$f":"'（別添４）エネルギー消費効率の根拠（要件ア）'!$BZ$58","v":0},{"$f":"'（別添４）エネルギー消費効率の根拠（要件ア）'!$BZ$59","v":"単位を選択してください"},{"$f":"'（別添４）エネルギー消費効率の根拠（要件ア）'!$BZ$60","v":"0単位を選択してください"},{"$f":"'（別添４）エネルギー消費効率の根拠（要件ア）'!$BZ$61","v":0},{"$f":"'（別添４）エネルギー消費効率の根拠（要件ア）'!$BZ$62","v":0},{"$f":"'（別添４）エネルギー消費効率の根拠（要件ア）'!$BZ$63","v":""},{"$f":"'（別添４）エネルギー消費効率の根拠（要件ア）'!$CD$40","v":0},{"$f":"'（別添４）エネルギー消費効率の根拠（要件ア）'!$CD$41","v":0},{"$f":"'（別添４）エネルギー消費効率の根拠（要件ア）'!$CD$42","v":0},{"$f":"'（別添４）エネルギー消費効率の根拠（要件ア）'!$CD$43","v":0},{"$f":"'（別添４）エネルギー消費効率の根拠（要件ア）'!$CD$44","v":0},{"$f":"'（別添４）エネルギー消費効率の根拠（要件ア）'!$CD$45","v":0},{"$f":"'（別添４）エネルギー消費効率の根拠（要件ア）'!$CD$46","v":0},{"$f":"'（別添４）エネルギー消費効率の根拠（要件ア）'!$CD$47","v":0},{"$f":"'（別添４）エネルギー消費効率の根拠（要件ア）'!$CD$48","v":0},{"$f":"'（別添４）エネルギー消費効率の根拠（要件ア）'!$CD$49","v":"台"},{"$f":"'（別添４）エネルギー消費効率の根拠（要件ア）'!$CD$50","v":0},{"$f":"'（別添４）エネルギー消費効率の根拠（要件ア）'!$CD$51","v":0},{"$f":"'（別添４）エネルギー消費効率の根拠（要件ア）'!$CD$52","v":"単位を選択してください"},{"$f":"'（別添４）エネルギー消費効率の根拠（要件ア）'!$CD$53","v":0},{"$f":"'（別添４）エネルギー消費効率の根拠（要件ア）'!$CD$54","v":0},{"$f":"'（別添４）エネルギー消費効率の根拠（要件ア）'!$CD$55","v":0},{"$f":"'（別添４）エネルギー消費効率の根拠（要件ア）'!$CD$56","v":"台"},{"$f":"'（別添４）エネルギー消費効率の根拠（要件ア）'!$CD$57","v":0},{"$f":"'（別添４）エネルギー消費効率の根拠（要件ア）'!$CD$58","v":0},{"$f":"'（別添４）エネルギー消費効率の根拠（要件ア）'!$CD$59","v":"単位を選択してください"},{"$f":"'（別添４）エネルギー消費効率の根拠（要件ア）'!$CD$60","v":"0単位を選択してください"},{"$f":"'（別添４）エネルギー消費効率の根拠（要件ア）'!$CD$61","v":0},{"$f":"'（別添４）エネルギー消費効率の根拠（要件ア）'!$CD$62","v":0},{"$f":"'（別添４）エネルギー消費効率の根拠（要件ア）'!$CD$63","v":""},{"$f":"'（別添４）エネルギー消費効率の根拠（要件ア）'!$CH$40","v":0},{"$f":"'（別添４）エネルギー消費効率の根拠（要件ア）'!$CH$41","v":0},{"$f":"'（別添４）エネルギー消費効率の根拠（要件ア）'!$CH$42","v":0},{"$f":"'（別添４）エネルギー消費効率の根拠（要件ア）'!$CH$43","v":0},{"$f":"'（別添４）エネルギー消費効率の根拠（要件ア）'!$CH$44","v":0},{"$f":"'（別添４）エネルギー消費効率の根拠（要件ア）'!$CH$45","v":0},{"$f":"'（別添４）エネルギー消費効率の根拠（要件ア）'!$CH$46","v":0},{"$f":"'（別添４）エネルギー消費効率の根拠（要件ア）'!$CH$47","v":0},{"$f":"'（別添４）エネルギー消費効率の根拠（要件ア）'!$CH$48","v":0},{"$f":"'（別添４）エネルギー消費効率の根拠（要件ア）'!$CH$49","v":"台"},{"$f":"'（別添４）エネルギー消費効率の根拠（要件ア）'!$CH$50","v":0},{"$f":"'（別添４）エネルギー消費効率の根拠（要件ア）'!$CH$51","v":0},{"$f":"'（別添４）エネルギー消費効率の根拠（要件ア）'!$CH$52","v":"単位を選択してください"},{"$f":"'（別添４）エネルギー消費効率の根拠（要件ア）'!$CH$53","v":0},{"$f":"'（別添４）エネルギー消費効率の根拠（要件ア）'!$CH$54","v":0},{"$f":"'（別添４）エネルギー消費効率の根拠（要件ア）'!$CH$55","v":0},{"$f":"'（別添４）エネルギー消費効率の根拠（要件ア）'!$CH$56","v":"台"},{"$f":"'（別添４）エネルギー消費効率の根拠（要件ア）'!$CH$57","v":0},{"$f":"'（別添４）エネルギー消費効率の根拠（要件ア）'!$CH$58","v":0},{"$f":"'（別添４）エネルギー消費効率の根拠（要件ア）'!$CH$59","v":"単位を選択してください"},{"$f":"'（別添４）エネルギー消費効率の根拠（要件ア）'!$CH$60","v":"0単位を選択してください"},{"$f":"'（別添４）エネルギー消費効率の根拠（要件ア）'!$CH$61","v":0},{"$f":"'（別添４）エネルギー消費効率の根拠（要件ア）'!$CH$62","v":0},{"$f":"'（別添４）エネルギー消費効率の根拠（要件ア）'!$CH$63","v":""},{"$f":"'（別添４）エネルギー消費効率の根拠（要件ア）'!$CL$40","v":0},{"$f":"'（別添４）エネルギー消費効率の根拠（要件ア）'!$CL$41","v":0},{"$f":"'（別添４）エネルギー消費効率の根拠（要件ア）'!$CL$42","v":0},{"$f":"'（別添４）エネルギー消費効率の根拠（要件ア）'!$CL$43","v":0},{"$f":"'（別添４）エネルギー消費効率の根拠（要件ア）'!$CL$44","v":0},{"$f":"'（別添４）エネルギー消費効率の根拠（要件ア）'!$CL$45","v":0},{"$f":"'（別添４）エネルギー消費効率の根拠（要件ア）'!$CL$46","v":0},{"$f":"'（別添４）エネルギー消費効率の根拠（要件ア）'!$CL$47","v":0},{"$f":"'（別添４）エネルギー消費効率の根拠（要件ア）'!$CL$48","v":0},{"$f":"'（別添４）エネルギー消費効率の根拠（要件ア）'!$CL$49","v":"台"},{"$f":"'（別添４）エネルギー消費効率の根拠（要件ア）'!$CL$50","v":0},{"$f":"'（別添４）エネルギー消費効率の根拠（要件ア）'!$CL$51","v":0},{"$f":"'（別添４）エネルギー消費効率の根拠（要件ア）'!$CL$52","v":"単位を選択してください"},{"$f":"'（別添４）エネルギー消費効率の根拠（要件ア）'!$CL$53","v":0},{"$f":"'（別添４）エネルギー消費効率の根拠（要件ア）'!$CL$54","v":0},{"$f":"'（別添４）エネルギー消費効率の根拠（要件ア）'!$CL$55","v":0},{"$f":"'（別添４）エネルギー消費効率の根拠（要件ア）'!$CL$56","v":"台"},{"$f":"'（別添４）エネルギー消費効率の根拠（要件ア）'!$CL$57","v":0},{"$f":"'（別添４）エネルギー消費効率の根拠（要件ア）'!$CL$58","v":0},{"$f":"'（別添４）エネルギー消費効率の根拠（要件ア）'!$CL$59","v":"単位を選択してください"},{"$f":"'（別添４）エネルギー消費効率の根拠（要件ア）'!$CL$60","v":"0単位を選択してください"},{"$f":"'（別添４）エネルギー消費効率の根拠（要件ア）'!$CL$61","v":0},{"$f":"'（別添４）エネルギー消費効率の根拠（要件ア）'!$CL$62","v":0},{"$f":"'（別添４）エネルギー消費効率の根拠（要件ア）'!$CL$63","v":""},{"$f":"'（別添４）エネルギー消費効率の根拠（要件ア）'!$CP$40","v":0},{"$f":"'（別添４）エネルギー消費効率の根拠（要件ア）'!$CP$41","v":0},{"$f":"'（別添４）エネルギー消費効率の根拠（要件ア）'!$CP$42","v":0},{"$f":"'（別添４）エネルギー消費効率の根拠（要件ア）'!$CP$43","v":0},{"$f":"'（別添４）エネルギー消費効率の根拠（要件ア）'!$CP$44","v":0},{"$f":"'（別添４）エネルギー消費効率の根拠（要件ア）'!$CP$45","v":0},{"$f":"'（別添４）エネルギー消費効率の根拠（要件ア）'!$CP$46","v":0},{"$f":"'（別添４）エネルギー消費効率の根拠（要件ア）'!$CP$47","v":0},{"$f":"'（別添４）エネルギー消費効率の根拠（要件ア）'!$CP$48","v":0},{"$f":"'（別添４）エネルギー消費効率の根拠（要件ア）'!$CP$49","v":"台"},{"$f":"'（別添４）エネルギー消費効率の根拠（要件ア）'!$CP$50","v":0},{"$f":"'（別添４）エネルギー消費効率の根拠（要件ア）'!$CP$51","v":0},{"$f":"'（別添４）エネルギー消費効率の根拠（要件ア）'!$CP$52","v":"単位を選択してください"},{"$f":"'（別添４）エネルギー消費効率の根拠（要件ア）'!$CP$53","v":0},{"$f":"'（別添４）エネルギー消費効率の根拠（要件ア）'!$CP$54","v":0},{"$f":"'（別添４）エネルギー消費効率の根拠（要件ア）'!$CP$55","v":0},{"$f":"'（別添４）エネルギー消費効率の根拠（要件ア）'!$CP$56","v":"台"},{"$f":"'（別添４）エネルギー消費効率の根拠（要件ア）'!$CP$57","v":0},{"$f":"'（別添４）エネルギー消費効率の根拠（要件ア）'!$CP$58","v":0},{"$f":"'（別添４）エネルギー消費効率の根拠（要件ア）'!$CP$59","v":"単位を選択してください"},{"$f":"'（別添４）エネルギー消費効率の根拠（要件ア）'!$CP$60","v":"0単位を選択してください"},{"$f":"'（別添４）エネルギー消費効率の根拠（要件ア）'!$CP$61","v":0},{"$f":"'（別添４）エネルギー消費効率の根拠（要件ア）'!$CP$62","v":0},{"$f":"'（別添４）エネルギー消費効率の根拠（要件ア）'!$CP$63","v":""},{"$f":"'（別添４）エネルギー消費効率の根拠（要件ア）'!$CT$40","v":0},{"$f":"'（別添４）エネルギー消費効率の根拠（要件ア）'!$CT$41","v":0},{"$f":"'（別添４）エネルギー消費効率の根拠（要件ア）'!$CT$42","v":0},{"$f":"'（別添４）エネルギー消費効率の根拠（要件ア）'!$CT$43","v":0},{"$f":"'（別添４）エネルギー消費効率の根拠（要件ア）'!$CT$44","v":0},{"$f":"'（別添４）エネルギー消費効率の根拠（要件ア）'!$CT$45","v":0},{"$f":"'（別添４）エネルギー消費効率の根拠（要件ア）'!$CT$46","v":0},{"$f":"'（別添４）エネルギー消費効率の根拠（要件ア）'!$CT$47","v":0},{"$f":"'（別添４）エネルギー消費効率の根拠（要件ア）'!$CT$48","v":0},{"$f":"'（別添４）エネルギー消費効率の根拠（要件ア）'!$CT$49","v":"台"},{"$f":"'（別添４）エネルギー消費効率の根拠（要件ア）'!$CT$50","v":0},{"$f":"'（別添４）エネルギー消費効率の根拠（要件ア）'!$CT$51","v":0},{"$f":"'（別添４）エネルギー消費効率の根拠（要件ア）'!$CT$52","v":"単位を選択してください"},{"$f":"'（別添４）エネルギー消費効率の根拠（要件ア）'!$CT$53","v":0},{"$f":"'（別添４）エネルギー消費効率の根拠（要件ア）'!$CT$54","v":0},{"$f":"'（別添４）エネルギー消費効率の根拠（要件ア）'!$CT$55","v":0},{"$f":"'（別添４）エネルギー消費効率の根拠（要件ア）'!$CT$56","v":"台"},{"$f":"'（別添４）エネルギー消費効率の根拠（要件ア）'!$CT$57","v":0},{"$f":"'（別添４）エネルギー消費効率の根拠（要件ア）'!$CT$58","v":0},{"$f":"'（別添４）エネルギー消費効率の根拠（要件ア）'!$CT$59","v":"単位を選択してください"},{"$f":"'（別添４）エネルギー消費効率の根拠（要件ア）'!$CT$60","v":"0単位を選択してください"},{"$f":"'（別添４）エネルギー消費効率の根拠（要件ア）'!$CT$61","v":0},{"$f":"'（別添４）エネルギー消費効率の根拠（要件ア）'!$CT$62","v":0},{"$f":"'（別添４）エネルギー消費効率の根拠（要件ア）'!$CT$63","v":""},{"$f":"'（別添４）エネルギー消費効率の根拠（要件ア）'!$CX$40","v":0},{"$f":"'（別添４）エネルギー消費効率の根拠（要件ア）'!$CX$41","v":0},{"$f":"'（別添４）エネルギー消費効率の根拠（要件ア）'!$CX$42","v":0},{"$f":"'（別添４）エネルギー消費効率の根拠（要件ア）'!$CX$43","v":0},{"$f":"'（別添４）エネルギー消費効率の根拠（要件ア）'!$CX$44","v":0},{"$f":"'（別添４）エネルギー消費効率の根拠（要件ア）'!$CX$45","v":0},{"$f":"'（別添４）エネルギー消費効率の根拠（要件ア）'!$CX$46","v":0},{"$f":"'（別添４）エネルギー消費効率の根拠（要件ア）'!$CX$47","v":0},{"$f":"'（別添４）エネルギー消費効率の根拠（要件ア）'!$CX$48","v":0},{"$f":"'（別添４）エネルギー消費効率の根拠（要件ア）'!$CX$49","v":"台"},{"$f":"'（別添４）エネルギー消費効率の根拠（要件ア）'!$CX$50","v":0},{"$f":"'（別添４）エネルギー消費効率の根拠（要件ア）'!$CX$51","v":0},{"$f":"'（別添４）エネルギー消費効率の根拠（要件ア）'!$CX$52","v":"単位を選択してください"},{"$f":"'（別添４）エネルギー消費効率の根拠（要件ア）'!$CX$53","v":0},{"$f":"'（別添４）エネルギー消費効率の根拠（要件ア）'!$CX$54","v":0},{"$f":"'（別添４）エネルギー消費効率の根拠（要件ア）'!$CX$55","v":0},{"$f":"'（別添４）エネルギー消費効率の根拠（要件ア）'!$CX$56","v":"台"},{"$f":"'（別添４）エネルギー消費効率の根拠（要件ア）'!$CX$57","v":0},{"$f":"'（別添４）エネルギー消費効率の根拠（要件ア）'!$CX$58","v":0},{"$f":"'（別添４）エネルギー消費効率の根拠（要件ア）'!$CX$59","v":"単位を選択してください"},{"$f":"'（別添４）エネルギー消費効率の根拠（要件ア）'!$CX$60","v":"0単位を選択してください"},{"$f":"'（別添４）エネルギー消費効率の根拠（要件ア）'!$CX$61","v":0},{"$f":"'（別添４）エネルギー消費効率の根拠（要件ア）'!$CX$62","v":0},{"$f":"'（別添４）エネルギー消費効率の根拠（要件ア）'!$CX$63","v":""},{"$f":"'（別添４）エネルギー消費効率の根拠（要件ア）'!$DB$40","v":0},{"$f":"'（別添４）エネルギー消費効率の根拠（要件ア）'!$DB$41","v":0},{"$f":"'（別添４）エネルギー消費効率の根拠（要件ア）'!$DB$42","v":0},{"$f":"'（別添４）エネルギー消費効率の根拠（要件ア）'!$DB$43","v":0},{"$f":"'（別添４）エネルギー消費効率の根拠（要件ア）'!$DB$44","v":0},{"$f":"'（別添４）エネルギー消費効率の根拠（要件ア）'!$DB$45","v":0},{"$f":"'（別添４）エネルギー消費効率の根拠（要件ア）'!$DB$46","v":0},{"$f":"'（別添４）エネルギー消費効率の根拠（要件ア）'!$DB$47","v":0},{"$f":"'（別添４）エネルギー消費効率の根拠（要件ア）'!$DB$48","v":0},{"$f":"'（別添４）エネルギー消費効率の根拠（要件ア）'!$DB$49","v":"台"},{"$f":"'（別添４）エネルギー消費効率の根拠（要件ア）'!$DB$50","v":0},{"$f":"'（別添４）エネルギー消費効率の根拠（要件ア）'!$DB$51","v":0},{"$f":"'（別添４）エネルギー消費効率の根拠（要件ア）'!$DB$52","v":"単位を選択してください"},{"$f":"'（別添４）エネルギー消費効率の根拠（要件ア）'!$DB$53","v":0},{"$f":"'（別添４）エネルギー消費効率の根拠（要件ア）'!$DB$54","v":0},{"$f":"'（別添４）エネルギー消費効率の根拠（要件ア）'!$DB$55","v":0},{"$f":"'（別添４）エネルギー消費効率の根拠（要件ア）'!$DB$56","v":"台"},{"$f":"'（別添４）エネルギー消費効率の根拠（要件ア）'!$DB$57","v":0},{"$f":"'（別添４）エネルギー消費効率の根拠（要件ア）'!$DB$58","v":0},{"$f":"'（別添４）エネルギー消費効率の根拠（要件ア）'!$DB$59","v":"単位を選択してください"},{"$f":"'（別添４）エネルギー消費効率の根拠（要件ア）'!$DB$60","v":"0単位を選択してください"},{"$f":"'（別添４）エネルギー消費効率の根拠（要件ア）'!$DB$61","v":0},{"$f":"'（別添４）エネルギー消費効率の根拠（要件ア）'!$DB$62","v":0},{"$f":"'（別添４）エネルギー消費効率の根拠（要件ア）'!$DB$63","v":""},{"$f":"'（別添４）エネルギー消費効率の根拠（要件ア）'!$DF$40","v":0},{"$f":"'（別添４）エネルギー消費効率の根拠（要件ア）'!$DF$41","v":0},{"$f":"'（別添４）エネルギー消費効率の根拠（要件ア）'!$DF$42","v":0},{"$f":"'（別添４）エネルギー消費効率の根拠（要件ア）'!$DF$43","v":0},{"$f":"'（別添４）エネルギー消費効率の根拠（要件ア）'!$DF$44","v":0},{"$f":"'（別添４）エネルギー消費効率の根拠（要件ア）'!$DF$45","v":0},{"$f":"'（別添４）エネルギー消費効率の根拠（要件ア）'!$DF$46","v":0},{"$f":"'（別添４）エネルギー消費効率の根拠（要件ア）'!$DF$47","v":0},{"$f":"'（別添４）エネルギー消費効率の根拠（要件ア）'!$DF$48","v":0},{"$f":"'（別添４）エネルギー消費効率の根拠（要件ア）'!$DF$49","v":"台"},{"$f":"'（別添４）エネルギー消費効率の根拠（要件ア）'!$DF$50","v":0},{"$f":"'（別添４）エネルギー消費効率の根拠（要件ア）'!$DF$51","v":0},{"$f":"'（別添４）エネルギー消費効率の根拠（要件ア）'!$DF$52","v":"単位を選択してください"},{"$f":"'（別添４）エネルギー消費効率の根拠（要件ア）'!$DF$53","v":0},{"$f":"'（別添４）エネルギー消費効率の根拠（要件ア）'!$DF$54","v":0},{"$f":"'（別添４）エネルギー消費効率の根拠（要件ア）'!$DF$55","v":0},{"$f":"'（別添４）エネルギー消費効率の根拠（要件ア）'!$DF$56","v":"台"},{"$f":"'（別添４）エネルギー消費効率の根拠（要件ア）'!$DF$57","v":0},{"$f":"'（別添４）エネルギー消費効率の根拠（要件ア）'!$DF$58","v":0},{"$f":"'（別添４）エネルギー消費効率の根拠（要件ア）'!$DF$59","v":"単位を選択してください"},{"$f":"'（別添４）エネルギー消費効率の根拠（要件ア）'!$DF$60","v":"0単位を選択してください"},{"$f":"'（別添４）エネルギー消費効率の根拠（要件ア）'!$DF$61","v":0},{"$f":"'（別添４）エネルギー消費効率の根拠（要件ア）'!$DF$62","v":0},{"$f":"'（別添４）エネルギー消費効率の根拠（要件ア）'!$DF$63","v":""},{"$f":"'（別添４）エネルギー消費効率の根拠（要件ア）'!$DJ$40","v":0},{"$f":"'（別添４）エネルギー消費効率の根拠（要件ア）'!$DJ$41","v":0},{"$f":"'（別添４）エネルギー消費効率の根拠（要件ア）'!$DJ$42","v":0},{"$f":"'（別添４）エネルギー消費効率の根拠（要件ア）'!$DJ$43","v":0},{"$f":"'（別添４）エネルギー消費効率の根拠（要件ア）'!$DJ$44","v":0},{"$f":"'（別添４）エネルギー消費効率の根拠（要件ア）'!$DJ$45","v":0},{"$f":"'（別添４）エネルギー消費効率の根拠（要件ア）'!$DJ$46","v":0},{"$f":"'（別添４）エネルギー消費効率の根拠（要件ア）'!$DJ$47","v":0},{"$f":"'（別添４）エネルギー消費効率の根拠（要件ア）'!$DJ$48","v":0},{"$f":"'（別添４）エネルギー消費効率の根拠（要件ア）'!$DJ$49","v":"台"},{"$f":"'（別添４）エネルギー消費効率の根拠（要件ア）'!$DJ$50","v":0},{"$f":"'（別添４）エネルギー消費効率の根拠（要件ア）'!$DJ$51","v":0},{"$f":"'（別添４）エネルギー消費効率の根拠（要件ア）'!$DJ$52","v":"単位を選択してください"},{"$f":"'（別添４）エネルギー消費効率の根拠（要件ア）'!$DJ$53","v":0},{"$f":"'（別添４）エネルギー消費効率の根拠（要件ア）'!$DJ$54","v":0},{"$f":"'（別添４）エネルギー消費効率の根拠（要件ア）'!$DJ$55","v":0},{"$f":"'（別添４）エネルギー消費効率の根拠（要件ア）'!$DJ$56","v":"台"},{"$f":"'（別添４）エネルギー消費効率の根拠（要件ア）'!$DJ$57","v":0},{"$f":"'（別添４）エネルギー消費効率の根拠（要件ア）'!$DJ$58","v":0},{"$f":"'（別添４）エネルギー消費効率の根拠（要件ア）'!$DJ$59","v":"単位を選択してください"},{"$f":"'（別添４）エネルギー消費効率の根拠（要件ア）'!$DJ$60","v":"0単位を選択してください"},{"$f":"'（別添４）エネルギー消費効率の根拠（要件ア）'!$DJ$61","v":0},{"$f":"'（別添４）エネルギー消費効率の根拠（要件ア）'!$DJ$62","v":0},{"$f":"'（別添４）エネルギー消費効率の根拠（要件ア）'!$DJ$63","v":""},{"$f":"'（別添４）エネルギー消費効率の根拠（要件ア）'!$DN$40","v":0},{"$f":"'（別添４）エネルギー消費効率の根拠（要件ア）'!$DN$41","v":0},{"$f":"'（別添４）エネルギー消費効率の根拠（要件ア）'!$DN$42","v":0},{"$f":"'（別添４）エネルギー消費効率の根拠（要件ア）'!$DN$43","v":0},{"$f":"'（別添４）エネルギー消費効率の根拠（要件ア）'!$DN$44","v":0},{"$f":"'（別添４）エネルギー消費効率の根拠（要件ア）'!$DN$45","v":0},{"$f":"'（別添４）エネルギー消費効率の根拠（要件ア）'!$DN$46","v":0},{"$f":"'（別添４）エネルギー消費効率の根拠（要件ア）'!$DN$47","v":0},{"$f":"'（別添４）エネルギー消費効率の根拠（要件ア）'!$DN$48","v":0},{"$f":"'（別添４）エネルギー消費効率の根拠（要件ア）'!$DN$49","v":"台"},{"$f":"'（別添４）エネルギー消費効率の根拠（要件ア）'!$DN$50","v":0},{"$f":"'（別添４）エネルギー消費効率の根拠（要件ア）'!$DN$51","v":0},{"$f":"'（別添４）エネルギー消費効率の根拠（要件ア）'!$DN$52","v":"単位を選択してください"},{"$f":"'（別添４）エネルギー消費効率の根拠（要件ア）'!$DN$53","v":0},{"$f":"'（別添４）エネルギー消費効率の根拠（要件ア）'!$DN$54","v":0},{"$f":"'（別添４）エネルギー消費効率の根拠（要件ア）'!$DN$55","v":0},{"$f":"'（別添４）エネルギー消費効率の根拠（要件ア）'!$DN$56","v":"台"},{"$f":"'（別添４）エネルギー消費効率の根拠（要件ア）'!$DN$57","v":0},{"$f":"'（別添４）エネルギー消費効率の根拠（要件ア）'!$DN$58","v":0},{"$f":"'（別添４）エネルギー消費効率の根拠（要件ア）'!$DN$59","v":"単位を選択してください"},{"$f":"'（別添４）エネルギー消費効率の根拠（要件ア）'!$DN$60","v":"0単位を選択してください"},{"$f":"'（別添４）エネルギー消費効率の根拠（要件ア）'!$DN$61","v":0},{"$f":"'（別添４）エネルギー消費効率の根拠（要件ア）'!$DN$62","v":0},{"$f":"'（別添４）エネルギー消費効率の根拠（要件ア）'!$DN$63","v":""},{"$f":"'（別添４）エネルギー消費効率の根拠（要件ア）'!$DR$40","v":0},{"$f":"'（別添４）エネルギー消費効率の根拠（要件ア）'!$DR$41","v":0},{"$f":"'（別添４）エネルギー消費効率の根拠（要件ア）'!$DR$42","v":0},{"$f":"'（別添４）エネルギー消費効率の根拠（要件ア）'!$DR$43","v":0},{"$f":"'（別添４）エネルギー消費効率の根拠（要件ア）'!$DR$44","v":0},{"$f":"'（別添４）エネルギー消費効率の根拠（要件ア）'!$DR$45","v":0},{"$f":"'（別添４）エネルギー消費効率の根拠（要件ア）'!$DR$46","v":0},{"$f":"'（別添４）エネルギー消費効率の根拠（要件ア）'!$DR$47","v":0},{"$f":"'（別添４）エネルギー消費効率の根拠（要件ア）'!$DR$48","v":0},{"$f":"'（別添４）エネルギー消費効率の根拠（要件ア）'!$DR$49","v":"台"},{"$f":"'（別添４）エネルギー消費効率の根拠（要件ア）'!$DR$50","v":0},{"$f":"'（別添４）エネルギー消費効率の根拠（要件ア）'!$DR$51","v":0},{"$f":"'（別添４）エネルギー消費効率の根拠（要件ア）'!$DR$52","v":"単位を選択してください"},{"$f":"'（別添４）エネルギー消費効率の根拠（要件ア）'!$DR$53","v":0},{"$f":"'（別添４）エネルギー消費効率の根拠（要件ア）'!$DR$54","v":0},{"$f":"'（別添４）エネルギー消費効率の根拠（要件ア）'!$DR$55","v":0},{"$f":"'（別添４）エネルギー消費効率の根拠（要件ア）'!$DR$56","v":"台"},{"$f":"'（別添４）エネルギー消費効率の根拠（要件ア）'!$DR$57","v":0},{"$f":"'（別添４）エネルギー消費効率の根拠（要件ア）'!$DR$58","v":0},{"$f":"'（別添４）エネルギー消費効率の根拠（要件ア）'!$DR$59","v":"単位を選択してください"},{"$f":"'（別添４）エネルギー消費効率の根拠（要件ア）'!$DR$60","v":"0単位を選択してください"},{"$f":"'（別添４）エネルギー消費効率の根拠（要件ア）'!$DR$61","v":0},{"$f":"'（別添４）エネルギー消費効率の根拠（要件ア）'!$DR$62","v":0},{"$f":"'（別添４）エネルギー消費効率の根拠（要件ア）'!$DR$63","v":""},{"$f":"'（別添４）エネルギー消費効率の根拠（要件ア）'!$DV$40","v":0},{"$f":"'（別添４）エネルギー消費効率の根拠（要件ア）'!$DV$41","v":0},{"$f":"'（別添４）エネルギー消費効率の根拠（要件ア）'!$DV$42","v":0},{"$f":"'（別添４）エネルギー消費効率の根拠（要件ア）'!$DV$43","v":0},{"$f":"'（別添４）エネルギー消費効率の根拠（要件ア）'!$DV$44","v":0},{"$f":"'（別添４）エネルギー消費効率の根拠（要件ア）'!$DV$45","v":0},{"$f":"'（別添４）エネルギー消費効率の根拠（要件ア）'!$DV$46","v":0},{"$f":"'（別添４）エネルギー消費効率の根拠（要件ア）'!$DV$47","v":0},{"$f":"'（別添４）エネルギー消費効率の根拠（要件ア）'!$DV$48","v":0},{"$f":"'（別添４）エネルギー消費効率の根拠（要件ア）'!$DV$49","v":"台"},{"$f":"'（別添４）エネルギー消費効率の根拠（要件ア）'!$DV$50","v":0},{"$f":"'（別添４）エネルギー消費効率の根拠（要件ア）'!$DV$51","v":0},{"$f":"'（別添４）エネルギー消費効率の根拠（要件ア）'!$DV$52","v":"単位を選択してください"},{"$f":"'（別添４）エネルギー消費効率の根拠（要件ア）'!$DV$53","v":0},{"$f":"'（別添４）エネルギー消費効率の根拠（要件ア）'!$DV$54","v":0},{"$f":"'（別添４）エネルギー消費効率の根拠（要件ア）'!$DV$55","v":0},{"$f":"'（別添４）エネルギー消費効率の根拠（要件ア）'!$DV$56","v":"台"},{"$f":"'（別添４）エネルギー消費効率の根拠（要件ア）'!$DV$57","v":0},{"$f":"'（別添４）エネルギー消費効率の根拠（要件ア）'!$DV$58","v":0},{"$f":"'（別添４）エネルギー消費効率の根拠（要件ア）'!$DV$59","v":"単位を選択してください"},{"$f":"'（別添４）エネルギー消費効率の根拠（要件ア）'!$DV$60","v":"0単位を選択してください"},{"$f":"'（別添４）エネルギー消費効率の根拠（要件ア）'!$DV$61","v":0},{"$f":"'（別添４）エネルギー消費効率の根拠（要件ア）'!$DV$62","v":0},{"$f":"'（別添４）エネルギー消費効率の根拠（要件ア）'!$DV$63","v":""},{"$f":"'（別添４）エネルギー消費効率の根拠（要件ア）'!$DZ$40","v":0},{"$f":"'（別添４）エネルギー消費効率の根拠（要件ア）'!$DZ$41","v":0},{"$f":"'（別添４）エネルギー消費効率の根拠（要件ア）'!$DZ$42","v":0},{"$f":"'（別添４）エネルギー消費効率の根拠（要件ア）'!$DZ$43","v":0},{"$f":"'（別添４）エネルギー消費効率の根拠（要件ア）'!$DZ$44","v":0},{"$f":"'（別添４）エネルギー消費効率の根拠（要件ア）'!$DZ$45","v":0},{"$f":"'（別添４）エネルギー消費効率の根拠（要件ア）'!$DZ$46","v":0},{"$f":"'（別添４）エネルギー消費効率の根拠（要件ア）'!$DZ$47","v":0},{"$f":"'（別添４）エネルギー消費効率の根拠（要件ア）'!$DZ$48","v":0},{"$f":"'（別添４）エネルギー消費効率の根拠（要件ア）'!$DZ$49","v":"台"},{"$f":"'（別添４）エネルギー消費効率の根拠（要件ア）'!$DZ$50","v":0},{"$f":"'（別添４）エネルギー消費効率の根拠（要件ア）'!$DZ$51","v":0},{"$f":"'（別添４）エネルギー消費効率の根拠（要件ア）'!$DZ$52","v":"単位を選択してください"},{"$f":"'（別添４）エネルギー消費効率の根拠（要件ア）'!$DZ$53","v":0},{"$f":"'（別添４）エネルギー消費効率の根拠（要件ア）'!$DZ$54","v":0},{"$f":"'（別添４）エネルギー消費効率の根拠（要件ア）'!$DZ$55","v":0},{"$f":"'（別添４）エネルギー消費効率の根拠（要件ア）'!$DZ$56","v":"台"},{"$f":"'（別添４）エネルギー消費効率の根拠（要件ア）'!$DZ$57","v":0},{"$f":"'（別添４）エネルギー消費効率の根拠（要件ア）'!$DZ$58","v":0},{"$f":"'（別添４）エネルギー消費効率の根拠（要件ア）'!$DZ$59","v":"単位を選択してください"},{"$f":"'（別添４）エネルギー消費効率の根拠（要件ア）'!$DZ$60","v":"0単位を選択してください"},{"$f":"'（別添４）エネルギー消費効率の根拠（要件ア）'!$DZ$61","v":0},{"$f":"'（別添４）エネルギー消費効率の根拠（要件ア）'!$DZ$62","v":0},{"$f":"'（別添４）エネルギー消費効率の根拠（要件ア）'!$DZ$63","v":""},{"$f":"'（別添４）エネルギー消費効率の根拠（要件ア）'!$ED$40","v":0},{"$f":"'（別添４）エネルギー消費効率の根拠（要件ア）'!$ED$41","v":0},{"$f":"'（別添４）エネルギー消費効率の根拠（要件ア）'!$ED$42","v":0},{"$f":"'（別添４）エネルギー消費効率の根拠（要件ア）'!$ED$43","v":0},{"$f":"'（別添４）エネルギー消費効率の根拠（要件ア）'!$ED$44","v":0},{"$f":"'（別添４）エネルギー消費効率の根拠（要件ア）'!$ED$45","v":0},{"$f":"'（別添４）エネルギー消費効率の根拠（要件ア）'!$ED$46","v":0},{"$f":"'（別添４）エネルギー消費効率の根拠（要件ア）'!$ED$47","v":0},{"$f":"'（別添４）エネルギー消費効率の根拠（要件ア）'!$ED$48","v":0},{"$f":"'（別添４）エネルギー消費効率の根拠（要件ア）'!$ED$49","v":"台"},{"$f":"'（別添４）エネルギー消費効率の根拠（要件ア）'!$ED$50","v":0},{"$f":"'（別添４）エネルギー消費効率の根拠（要件ア）'!$ED$51","v":0},{"$f":"'（別添４）エネルギー消費効率の根拠（要件ア）'!$ED$52","v":"単位を選択してください"},{"$f":"'（別添４）エネルギー消費効率の根拠（要件ア）'!$ED$53","v":0},{"$f":"'（別添４）エネルギー消費効率の根拠（要件ア）'!$ED$54","v":0},{"$f":"'（別添４）エネルギー消費効率の根拠（要件ア）'!$ED$55","v":0},{"$f":"'（別添４）エネルギー消費効率の根拠（要件ア）'!$ED$56","v":"台"},{"$f":"'（別添４）エネルギー消費効率の根拠（要件ア）'!$ED$57","v":0},{"$f":"'（別添４）エネルギー消費効率の根拠（要件ア）'!$ED$58","v":0},{"$f":"'（別添４）エネルギー消費効率の根拠（要件ア）'!$ED$59","v":"単位を選択してください"},{"$f":"'（別添４）エネルギー消費効率の根拠（要件ア）'!$ED$60","v":"0単位を選択してください"},{"$f":"'（別添４）エネルギー消費効率の根拠（要件ア）'!$ED$61","v":0},{"$f":"'（別添４）エネルギー消費効率の根拠（要件ア）'!$ED$62","v":0},{"$f":"'（別添４）エネルギー消費効率の根拠（要件ア）'!$ED$63","v":""},{"$f":"'（別添４）エネルギー消費効率の根拠（要件ア）'!$EH$40","v":0},{"$f":"'（別添４）エネルギー消費効率の根拠（要件ア）'!$EH$41","v":0},{"$f":"'（別添４）エネルギー消費効率の根拠（要件ア）'!$EH$42","v":0},{"$f":"'（別添４）エネルギー消費効率の根拠（要件ア）'!$EH$43","v":0},{"$f":"'（別添４）エネルギー消費効率の根拠（要件ア）'!$EH$44","v":0},{"$f":"'（別添４）エネルギー消費効率の根拠（要件ア）'!$EH$45","v":0},{"$f":"'（別添４）エネルギー消費効率の根拠（要件ア）'!$EH$46","v":0},{"$f":"'（別添４）エネルギー消費効率の根拠（要件ア）'!$EH$47","v":0},{"$f":"'（別添４）エネルギー消費効率の根拠（要件ア）'!$EH$48","v":0},{"$f":"'（別添４）エネルギー消費効率の根拠（要件ア）'!$EH$49","v":"台"},{"$f":"'（別添４）エネルギー消費効率の根拠（要件ア）'!$EH$50","v":0},{"$f":"'（別添４）エネルギー消費効率の根拠（要件ア）'!$EH$51","v":0},{"$f":"'（別添４）エネルギー消費効率の根拠（要件ア）'!$EH$52","v":"単位を選択してください"},{"$f":"'（別添４）エネルギー消費効率の根拠（要件ア）'!$EH$53","v":0},{"$f":"'（別添４）エネルギー消費効率の根拠（要件ア）'!$EH$54","v":0},{"$f":"'（別添４）エネルギー消費効率の根拠（要件ア）'!$EH$55","v":0},{"$f":"'（別添４）エネルギー消費効率の根拠（要件ア）'!$EH$56","v":"台"},{"$f":"'（別添４）エネルギー消費効率の根拠（要件ア）'!$EH$57","v":0},{"$f":"'（別添４）エネルギー消費効率の根拠（要件ア）'!$EH$58","v":0},{"$f":"'（別添４）エネルギー消費効率の根拠（要件ア）'!$EH$59","v":"単位を選択してください"},{"$f":"'（別添４）エネルギー消費効率の根拠（要件ア）'!$EH$60","v":"0単位を選択してください"},{"$f":"'（別添４）エネルギー消費効率の根拠（要件ア）'!$EH$61","v":0},{"$f":"'（別添４）エネルギー消費効率の根拠（要件ア）'!$EH$62","v":0},{"$f":"'（別添４）エネルギー消費効率の根拠（要件ア）'!$EH$63","v":""},{"$f":"'（別添４）エネルギー消費効率の根拠（要件ア）'!$EL$40","v":0},{"$f":"'（別添４）エネルギー消費効率の根拠（要件ア）'!$EL$41","v":0},{"$f":"'（別添４）エネルギー消費効率の根拠（要件ア）'!$EL$42","v":0},{"$f":"'（別添４）エネルギー消費効率の根拠（要件ア）'!$EL$43","v":0},{"$f":"'（別添４）エネルギー消費効率の根拠（要件ア）'!$EL$44","v":0},{"$f":"'（別添４）エネルギー消費効率の根拠（要件ア）'!$EL$45","v":0},{"$f":"'（別添４）エネルギー消費効率の根拠（要件ア）'!$EL$46","v":0},{"$f":"'（別添４）エネルギー消費効率の根拠（要件ア）'!$EL$47","v":0},{"$f":"'（別添４）エネルギー消費効率の根拠（要件ア）'!$EL$48","v":0},{"$f":"'（別添４）エネルギー消費効率の根拠（要件ア）'!$EL$49","v":"台"},{"$f":"'（別添４）エネルギー消費効率の根拠（要件ア）'!$EL$50","v":0},{"$f":"'（別添４）エネルギー消費効率の根拠（要件ア）'!$EL$51","v":0},{"$f":"'（別添４）エネルギー消費効率の根拠（要件ア）'!$EL$52","v":"単位を選択してください"},{"$f":"'（別添４）エネルギー消費効率の根拠（要件ア）'!$EL$53","v":0},{"$f":"'（別添４）エネルギー消費効率の根拠（要件ア）'!$EL$54","v":0},{"$f":"'（別添４）エネルギー消費効率の根拠（要件ア）'!$EL$55","v":0},{"$f":"'（別添４）エネルギー消費効率の根拠（要件ア）'!$EL$56","v":"台"},{"$f":"'（別添４）エネルギー消費効率の根拠（要件ア）'!$EL$57","v":0},{"$f":"'（別添４）エネルギー消費効率の根拠（要件ア）'!$EL$58","v":0},{"$f":"'（別添４）エネルギー消費効率の根拠（要件ア）'!$EL$59","v":"単位を選択してください"},{"$f":"'（別添４）エネルギー消費効率の根拠（要件ア）'!$EL$60","v":"0単位を選択してください"},{"$f":"'（別添４）エネルギー消費効率の根拠（要件ア）'!$EL$61","v":0},{"$f":"'（別添４）エネルギー消費効率の根拠（要件ア）'!$EL$62","v":0},{"$f":"'（別添４）エネルギー消費効率の根拠（要件ア）'!$EL$63","v":""},{"$f":"'（別添４）エネルギー消費効率の根拠（要件ア）'!$EP$40","v":0},{"$f":"'（別添４）エネルギー消費効率の根拠（要件ア）'!$EP$41","v":0},{"$f":"'（別添４）エネルギー消費効率の根拠（要件ア）'!$EP$42","v":0},{"$f":"'（別添４）エネルギー消費効率の根拠（要件ア）'!$EP$43","v":0},{"$f":"'（別添４）エネルギー消費効率の根拠（要件ア）'!$EP$44","v":0},{"$f":"'（別添４）エネルギー消費効率の根拠（要件ア）'!$EP$45","v":0},{"$f":"'（別添４）エネルギー消費効率の根拠（要件ア）'!$EP$46","v":0},{"$f":"'（別添４）エネルギー消費効率の根拠（要件ア）'!$EP$47","v":0},{"$f":"'（別添４）エネルギー消費効率の根拠（要件ア）'!$EP$48","v":0},{"$f":"'（別添４）エネルギー消費効率の根拠（要件ア）'!$EP$49","v":"台"},{"$f":"'（別添４）エネルギー消費効率の根拠（要件ア）'!$EP$50","v":0},{"$f":"'（別添４）エネルギー消費効率の根拠（要件ア）'!$EP$51","v":0},{"$f":"'（別添４）エネルギー消費効率の根拠（要件ア）'!$EP$52","v":"単位を選択してください"},{"$f":"'（別添４）エネルギー消費効率の根拠（要件ア）'!$EP$53","v":0},{"$f":"'（別添４）エネルギー消費効率の根拠（要件ア）'!$EP$54","v":0},{"$f":"'（別添４）エネルギー消費効率の根拠（要件ア）'!$EP$55","v":0},{"$f":"'（別添４）エネルギー消費効率の根拠（要件ア）'!$EP$56","v":"台"},{"$f":"'（別添４）エネルギー消費効率の根拠（要件ア）'!$EP$57","v":0},{"$f":"'（別添４）エネルギー消費効率の根拠（要件ア）'!$EP$58","v":0},{"$f":"'（別添４）エネルギー消費効率の根拠（要件ア）'!$EP$59","v":"単位を選択してください"},{"$f":"'（別添４）エネルギー消費効率の根拠（要件ア）'!$EP$60","v":"0単位を選択してください"},{"$f":"'（別添４）エネルギー消費効率の根拠（要件ア）'!$EP$61","v":0},{"$f":"'（別添４）エネルギー消費効率の根拠（要件ア）'!$EP$62","v":0},{"$f":"'（別添４）エネルギー消費効率の根拠（要件ア）'!$EP$63","v":""},{"$f":"'（別添４）エネルギー消費効率の根拠（要件ア）'!$ET$40","v":0},{"$f":"'（別添４）エネルギー消費効率の根拠（要件ア）'!$ET$41","v":0},{"$f":"'（別添４）エネルギー消費効率の根拠（要件ア）'!$ET$42","v":0},{"$f":"'（別添４）エネルギー消費効率の根拠（要件ア）'!$ET$43","v":0},{"$f":"'（別添４）エネルギー消費効率の根拠（要件ア）'!$ET$44","v":0},{"$f":"'（別添４）エネルギー消費効率の根拠（要件ア）'!$ET$45","v":0},{"$f":"'（別添４）エネルギー消費効率の根拠（要件ア）'!$ET$46","v":0},{"$f":"'（別添４）エネルギー消費効率の根拠（要件ア）'!$ET$47","v":0},{"$f":"'（別添４）エネルギー消費効率の根拠（要件ア）'!$ET$48","v":0},{"$f":"'（別添４）エネルギー消費効率の根拠（要件ア）'!$ET$49","v":"台"},{"$f":"'（別添４）エネルギー消費効率の根拠（要件ア）'!$ET$50","v":0},{"$f":"'（別添４）エネルギー消費効率の根拠（要件ア）'!$ET$51","v":0},{"$f":"'（別添４）エネルギー消費効率の根拠（要件ア）'!$ET$52","v":"単位を選択してください"},{"$f":"'（別添４）エネルギー消費効率の根拠（要件ア）'!$ET$53","v":0},{"$f":"'（別添４）エネルギー消費効率の根拠（要件ア）'!$ET$54","v":0},{"$f":"'（別添４）エネルギー消費効率の根拠（要件ア）'!$ET$55","v":0},{"$f":"'（別添４）エネルギー消費効率の根拠（要件ア）'!$ET$56","v":"台"},{"$f":"'（別添４）エネルギー消費効率の根拠（要件ア）'!$ET$57","v":0},{"$f":"'（別添４）エネルギー消費効率の根拠（要件ア）'!$ET$58","v":0},{"$f":"'（別添４）エネルギー消費効率の根拠（要件ア）'!$ET$59","v":"単位を選択してください"},{"$f":"'（別添４）エネルギー消費効率の根拠（要件ア）'!$ET$60","v":"0単位を選択してください"},{"$f":"'（別添４）エネルギー消費効率の根拠（要件ア）'!$ET$61","v":0},{"$f":"'（別添４）エネルギー消費効率の根拠（要件ア）'!$ET$62","v":0},{"$f":"'（別添４）エネルギー消費効率の根拠（要件ア）'!$ET$63","v":""},{"$f":"'（別添４）エネルギー消費効率の根拠（要件ア）'!$EX$40","v":0},{"$f":"'（別添４）エネルギー消費効率の根拠（要件ア）'!$EX$41","v":0},{"$f":"'（別添４）エネルギー消費効率の根拠（要件ア）'!$EX$42","v":0},{"$f":"'（別添４）エネルギー消費効率の根拠（要件ア）'!$EX$43","v":0},{"$f":"'（別添４）エネルギー消費効率の根拠（要件ア）'!$EX$44","v":0},{"$f":"'（別添４）エネルギー消費効率の根拠（要件ア）'!$EX$45","v":0},{"$f":"'（別添４）エネルギー消費効率の根拠（要件ア）'!$EX$46","v":0},{"$f":"'（別添４）エネルギー消費効率の根拠（要件ア）'!$EX$47","v":0},{"$f":"'（別添４）エネルギー消費効率の根拠（要件ア）'!$EX$48","v":0},{"$f":"'（別添４）エネルギー消費効率の根拠（要件ア）'!$EX$49","v":"台"},{"$f":"'（別添４）エネルギー消費効率の根拠（要件ア）'!$EX$50","v":0},{"$f":"'（別添４）エネルギー消費効率の根拠（要件ア）'!$EX$51","v":0},{"$f":"'（別添４）エネルギー消費効率の根拠（要件ア）'!$EX$52","v":"単位を選択してください"},{"$f":"'（別添４）エネルギー消費効率の根拠（要件ア）'!$EX$53","v":0},{"$f":"'（別添４）エネルギー消費効率の根拠（要件ア）'!$EX$54","v":0},{"$f":"'（別添４）エネルギー消費効率の根拠（要件ア）'!$EX$55","v":0},{"$f":"'（別添４）エネルギー消費効率の根拠（要件ア）'!$EX$56","v":"台"},{"$f":"'（別添４）エネルギー消費効率の根拠（要件ア）'!$EX$57","v":0},{"$f":"'（別添４）エネルギー消費効率の根拠（要件ア）'!$EX$58","v":0},{"$f":"'（別添４）エネルギー消費効率の根拠（要件ア）'!$EX$59","v":"単位を選択してください"},{"$f":"'（別添４）エネルギー消費効率の根拠（要件ア）'!$EX$60","v":"0単位を選択してください"},{"$f":"'（別添４）エネルギー消費効率の根拠（要件ア）'!$EX$61","v":0},{"$f":"'（別添４）エネルギー消費効率の根拠（要件ア）'!$EX$62","v":0},{"$f":"'（別添４）エネルギー消費効率の根拠（要件ア）'!$EX$63","v":""},{"$f":"'（別添４）エネルギー消費効率の根拠（要件ア）'!$FB$40","v":0},{"$f":"'（別添４）エネルギー消費効率の根拠（要件ア）'!$FB$41","v":0},{"$f":"'（別添４）エネルギー消費効率の根拠（要件ア）'!$FB$42","v":0},{"$f":"'（別添４）エネルギー消費効率の根拠（要件ア）'!$FB$43","v":0},{"$f":"'（別添４）エネルギー消費効率の根拠（要件ア）'!$FB$44","v":0},{"$f":"'（別添４）エネルギー消費効率の根拠（要件ア）'!$FB$45","v":0},{"$f":"'（別添４）エネルギー消費効率の根拠（要件ア）'!$FB$46","v":0},{"$f":"'（別添４）エネルギー消費効率の根拠（要件ア）'!$FB$47","v":0},{"$f":"'（別添４）エネルギー消費効率の根拠（要件ア）'!$FB$48","v":0},{"$f":"'（別添４）エネルギー消費効率の根拠（要件ア）'!$FB$49","v":"台"},{"$f":"'（別添４）エネルギー消費効率の根拠（要件ア）'!$FB$50","v":0},{"$f":"'（別添４）エネルギー消費効率の根拠（要件ア）'!$FB$51","v":0},{"$f":"'（別添４）エネルギー消費効率の根拠（要件ア）'!$FB$52","v":"単位を選択してください"},{"$f":"'（別添４）エネルギー消費効率の根拠（要件ア）'!$FB$53","v":0},{"$f":"'（別添４）エネルギー消費効率の根拠（要件ア）'!$FB$54","v":0},{"$f":"'（別添４）エネルギー消費効率の根拠（要件ア）'!$FB$55","v":0},{"$f":"'（別添４）エネルギー消費効率の根拠（要件ア）'!$FB$56","v":"台"},{"$f":"'（別添４）エネルギー消費効率の根拠（要件ア）'!$FB$57","v":0},{"$f":"'（別添４）エネルギー消費効率の根拠（要件ア）'!$FB$58","v":0},{"$f":"'（別添４）エネルギー消費効率の根拠（要件ア）'!$FB$59","v":"単位を選択してください"},{"$f":"'（別添４）エネルギー消費効率の根拠（要件ア）'!$FB$60","v":"0単位を選択してください"},{"$f":"'（別添４）エネルギー消費効率の根拠（要件ア）'!$FB$61","v":0},{"$f":"'（別添４）エネルギー消費効率の根拠（要件ア）'!$FB$62","v":0},{"$f":"'（別添４）エネルギー消費効率の根拠（要件ア）'!$FB$63","v":""},{"$f":"'（別添４）エネルギー消費効率の根拠（要件ア）'!$FF$40","v":0},{"$f":"'（別添４）エネルギー消費効率の根拠（要件ア）'!$FF$41","v":0},{"$f":"'（別添４）エネルギー消費効率の根拠（要件ア）'!$FF$42","v":0},{"$f":"'（別添４）エネルギー消費効率の根拠（要件ア）'!$FF$43","v":0},{"$f":"'（別添４）エネルギー消費効率の根拠（要件ア）'!$FF$44","v":0},{"$f":"'（別添４）エネルギー消費効率の根拠（要件ア）'!$FF$45","v":0},{"$f":"'（別添４）エネルギー消費効率の根拠（要件ア）'!$FF$46","v":0},{"$f":"'（別添４）エネルギー消費効率の根拠（要件ア）'!$FF$47","v":0},{"$f":"'（別添４）エネルギー消費効率の根拠（要件ア）'!$FF$48","v":0},{"$f":"'（別添４）エネルギー消費効率の根拠（要件ア）'!$FF$49","v":"台"},{"$f":"'（別添４）エネルギー消費効率の根拠（要件ア）'!$FF$50","v":0},{"$f":"'（別添４）エネルギー消費効率の根拠（要件ア）'!$FF$51","v":0},{"$f":"'（別添４）エネルギー消費効率の根拠（要件ア）'!$FF$52","v":"単位を選択してください"},{"$f":"'（別添４）エネルギー消費効率の根拠（要件ア）'!$FF$53","v":0},{"$f":"'（別添４）エネルギー消費効率の根拠（要件ア）'!$FF$54","v":0},{"$f":"'（別添４）エネルギー消費効率の根拠（要件ア）'!$FF$55","v":0},{"$f":"'（別添４）エネルギー消費効率の根拠（要件ア）'!$FF$56","v":"台"},{"$f":"'（別添４）エネルギー消費効率の根拠（要件ア）'!$FF$57","v":0},{"$f":"'（別添４）エネルギー消費効率の根拠（要件ア）'!$FF$58","v":0},{"$f":"'（別添４）エネルギー消費効率の根拠（要件ア）'!$FF$59","v":"単位を選択してください"},{"$f":"'（別添４）エネルギー消費効率の根拠（要件ア）'!$FF$60","v":"0単位を選択してください"},{"$f":"'（別添４）エネルギー消費効率の根拠（要件ア）'!$FF$61","v":0},{"$f":"'（別添４）エネルギー消費効率の根拠（要件ア）'!$FF$62","v":0},{"$f":"'（別添４）エネルギー消費効率の根拠（要件ア）'!$FF$63","v":""},{"$f":"'（別添４）エネルギー消費効率の根拠（要件ア）'!$FJ$40","v":0},{"$f":"'（別添４）エネルギー消費効率の根拠（要件ア）'!$FJ$41","v":0},{"$f":"'（別添４）エネルギー消費効率の根拠（要件ア）'!$FJ$42","v":0},{"$f":"'（別添４）エネルギー消費効率の根拠（要件ア）'!$FJ$43","v":0},{"$f":"'（別添４）エネルギー消費効率の根拠（要件ア）'!$FJ$44","v":0},{"$f":"'（別添４）エネルギー消費効率の根拠（要件ア）'!$FJ$45","v":0},{"$f":"'（別添４）エネルギー消費効率の根拠（要件ア）'!$FJ$46","v":0},{"$f":"'（別添４）エネルギー消費効率の根拠（要件ア）'!$FJ$47","v":0},{"$f":"'（別添４）エネルギー消費効率の根拠（要件ア）'!$FJ$48","v":0},{"$f":"'（別添４）エネルギー消費効率の根拠（要件ア）'!$FJ$49","v":"台"},{"$f":"'（別添４）エネルギー消費効率の根拠（要件ア）'!$FJ$50","v":0},{"$f":"'（別添４）エネルギー消費効率の根拠（要件ア）'!$FJ$51","v":0},{"$f":"'（別添４）エネルギー消費効率の根拠（要件ア）'!$FJ$52","v":"単位を選択してください"},{"$f":"'（別添４）エネルギー消費効率の根拠（要件ア）'!$FJ$53","v":0},{"$f":"'（別添４）エネルギー消費効率の根拠（要件ア）'!$FJ$54","v":0},{"$f":"'（別添４）エネルギー消費効率の根拠（要件ア）'!$FJ$55","v":0},{"$f":"'（別添４）エネルギー消費効率の根拠（要件ア）'!$FJ$56","v":"台"},{"$f":"'（別添４）エネルギー消費効率の根拠（要件ア）'!$FJ$57","v":0},{"$f":"'（別添４）エネルギー消費効率の根拠（要件ア）'!$FJ$58","v":0},{"$f":"'（別添４）エネルギー消費効率の根拠（要件ア）'!$FJ$59","v":"単位を選択してください"},{"$f":"'（別添４）エネルギー消費効率の根拠（要件ア）'!$FJ$60","v":"0単位を選択してください"},{"$f":"'（別添４）エネルギー消費効率の根拠（要件ア）'!$FJ$61","v":0},{"$f":"'（別添４）エネルギー消費効率の根拠（要件ア）'!$FJ$62","v":0},{"$f":"'（別添４）エネルギー消費効率の根拠（要件ア）'!$FJ$63","v":""},{"$f":"'（別添４）エネルギー消費効率の根拠（要件ア）'!$FN$40","v":0},{"$f":"'（別添４）エネルギー消費効率の根拠（要件ア）'!$FN$41","v":0},{"$f":"'（別添４）エネルギー消費効率の根拠（要件ア）'!$FN$42","v":0},{"$f":"'（別添４）エネルギー消費効率の根拠（要件ア）'!$FN$43","v":0},{"$f":"'（別添４）エネルギー消費効率の根拠（要件ア）'!$FN$44","v":0},{"$f":"'（別添４）エネルギー消費効率の根拠（要件ア）'!$FN$45","v":0},{"$f":"'（別添４）エネルギー消費効率の根拠（要件ア）'!$FN$46","v":0},{"$f":"'（別添４）エネルギー消費効率の根拠（要件ア）'!$FN$47","v":0},{"$f":"'（別添４）エネルギー消費効率の根拠（要件ア）'!$FN$48","v":0},{"$f":"'（別添４）エネルギー消費効率の根拠（要件ア）'!$FN$49","v":"台"},{"$f":"'（別添４）エネルギー消費効率の根拠（要件ア）'!$FN$50","v":0},{"$f":"'（別添４）エネルギー消費効率の根拠（要件ア）'!$FN$51","v":0},{"$f":"'（別添４）エネルギー消費効率の根拠（要件ア）'!$FN$52","v":"単位を選択してください"},{"$f":"'（別添４）エネルギー消費効率の根拠（要件ア）'!$FN$53","v":0},{"$f":"'（別添４）エネルギー消費効率の根拠（要件ア）'!$FN$54","v":0},{"$f":"'（別添４）エネルギー消費効率の根拠（要件ア）'!$FN$55","v":0},{"$f":"'（別添４）エネルギー消費効率の根拠（要件ア）'!$FN$56","v":"台"},{"$f":"'（別添４）エネルギー消費効率の根拠（要件ア）'!$FN$57","v":0},{"$f":"'（別添４）エネルギー消費効率の根拠（要件ア）'!$FN$58","v":0},{"$f":"'（別添４）エネルギー消費効率の根拠（要件ア）'!$FN$59","v":"単位を選択してください"},{"$f":"'（別添４）エネルギー消費効率の根拠（要件ア）'!$FN$60","v":"0単位を選択してください"},{"$f":"'（別添４）エネルギー消費効率の根拠（要件ア）'!$FN$61","v":0},{"$f":"'（別添４）エネルギー消費効率の根拠（要件ア）'!$FN$62","v":0},{"$f":"'（別添４）エネルギー消費効率の根拠（要件ア）'!$FN$63","v":""},{"$f":"'（別添４）エネルギー消費効率の根拠（要件ア）'!$FR$40","v":0},{"$f":"'（別添４）エネルギー消費効率の根拠（要件ア）'!$FR$41","v":0},{"$f":"'（別添４）エネルギー消費効率の根拠（要件ア）'!$FR$42","v":0},{"$f":"'（別添４）エネルギー消費効率の根拠（要件ア）'!$FR$43","v":0},{"$f":"'（別添４）エネルギー消費効率の根拠（要件ア）'!$FR$44","v":0},{"$f":"'（別添４）エネルギー消費効率の根拠（要件ア）'!$FR$45","v":0},{"$f":"'（別添４）エネルギー消費効率の根拠（要件ア）'!$FR$46","v":0},{"$f":"'（別添４）エネルギー消費効率の根拠（要件ア）'!$FR$47","v":0},{"$f":"'（別添４）エネルギー消費効率の根拠（要件ア）'!$FR$48","v":0},{"$f":"'（別添４）エネルギー消費効率の根拠（要件ア）'!$FR$49","v":"台"},{"$f":"'（別添４）エネルギー消費効率の根拠（要件ア）'!$FR$50","v":0},{"$f":"'（別添４）エネルギー消費効率の根拠（要件ア）'!$FR$51","v":0},{"$f":"'（別添４）エネルギー消費効率の根拠（要件ア）'!$FR$52","v":"単位を選択してください"},{"$f":"'（別添４）エネルギー消費効率の根拠（要件ア）'!$FR$53","v":0},{"$f":"'（別添４）エネルギー消費効率の根拠（要件ア）'!$FR$54","v":0},{"$f":"'（別添４）エネルギー消費効率の根拠（要件ア）'!$FR$55","v":0},{"$f":"'（別添４）エネルギー消費効率の根拠（要件ア）'!$FR$56","v":"台"},{"$f":"'（別添４）エネルギー消費効率の根拠（要件ア）'!$FR$57","v":0},{"$f":"'（別添４）エネルギー消費効率の根拠（要件ア）'!$FR$58","v":0},{"$f":"'（別添４）エネルギー消費効率の根拠（要件ア）'!$FR$59","v":"単位を選択してください"},{"$f":"'（別添４）エネルギー消費効率の根拠（要件ア）'!$FR$60","v":"0単位を選択してください"},{"$f":"'（別添４）エネルギー消費効率の根拠（要件ア）'!$FR$61","v":0},{"$f":"'（別添４）エネルギー消費効率の根拠（要件ア）'!$FR$62","v":0},{"$f":"'（別添４）エネルギー消費効率の根拠（要件ア）'!$FR$63","v":""},{"$f":"'（別添４）エネルギー消費効率の根拠（要件ア）'!$FV$40","v":0},{"$f":"'（別添４）エネルギー消費効率の根拠（要件ア）'!$FV$41","v":0},{"$f":"'（別添４）エネルギー消費効率の根拠（要件ア）'!$FV$42","v":0},{"$f":"'（別添４）エネルギー消費効率の根拠（要件ア）'!$FV$43","v":0},{"$f":"'（別添４）エネルギー消費効率の根拠（要件ア）'!$FV$44","v":0},{"$f":"'（別添４）エネルギー消費効率の根拠（要件ア）'!$FV$45","v":0},{"$f":"'（別添４）エネルギー消費効率の根拠（要件ア）'!$FV$46","v":0},{"$f":"'（別添４）エネルギー消費効率の根拠（要件ア）'!$FV$47","v":0},{"$f":"'（別添４）エネルギー消費効率の根拠（要件ア）'!$FV$48","v":0},{"$f":"'（別添４）エネルギー消費効率の根拠（要件ア）'!$FV$49","v":"台"},{"$f":"'（別添４）エネルギー消費効率の根拠（要件ア）'!$FV$50","v":0},{"$f":"'（別添４）エネルギー消費効率の根拠（要件ア）'!$FV$51","v":0},{"$f":"'（別添４）エネルギー消費効率の根拠（要件ア）'!$FV$52","v":"単位を選択してください"},{"$f":"'（別添４）エネルギー消費効率の根拠（要件ア）'!$FV$53","v":0},{"$f":"'（別添４）エネルギー消費効率の根拠（要件ア）'!$FV$54","v":0},{"$f":"'（別添４）エネルギー消費効率の根拠（要件ア）'!$FV$55","v":0},{"$f":"'（別添４）エネルギー消費効率の根拠（要件ア）'!$FV$56","v":"台"},{"$f":"'（別添４）エネルギー消費効率の根拠（要件ア）'!$FV$57","v":0},{"$f":"'（別添４）エネルギー消費効率の根拠（要件ア）'!$FV$58","v":0},{"$f":"'（別添４）エネルギー消費効率の根拠（要件ア）'!$FV$59","v":"単位を選択してください"},{"$f":"'（別添４）エネルギー消費効率の根拠（要件ア）'!$FV$60","v":"0単位を選択してください"},{"$f":"'（別添４）エネルギー消費効率の根拠（要件ア）'!$FV$61","v":0},{"$f":"'（別添４）エネルギー消費効率の根拠（要件ア）'!$FV$62","v":0},{"$f":"'（別添４）エネルギー消費効率の根拠（要件ア）'!$FV$63","v":""},{"$f":"'（別添４）エネルギー消費効率の根拠（要件ア）'!$FZ$40","v":0},{"$f":"'（別添４）エネルギー消費効率の根拠（要件ア）'!$FZ$41","v":0},{"$f":"'（別添４）エネルギー消費効率の根拠（要件ア）'!$FZ$42","v":0},{"$f":"'（別添４）エネルギー消費効率の根拠（要件ア）'!$FZ$43","v":0},{"$f":"'（別添４）エネルギー消費効率の根拠（要件ア）'!$FZ$44","v":0},{"$f":"'（別添４）エネルギー消費効率の根拠（要件ア）'!$FZ$45","v":0},{"$f":"'（別添４）エネルギー消費効率の根拠（要件ア）'!$FZ$46","v":0},{"$f":"'（別添４）エネルギー消費効率の根拠（要件ア）'!$FZ$47","v":0},{"$f":"'（別添４）エネルギー消費効率の根拠（要件ア）'!$FZ$48","v":0},{"$f":"'（別添４）エネルギー消費効率の根拠（要件ア）'!$FZ$49","v":"台"},{"$f":"'（別添４）エネルギー消費効率の根拠（要件ア）'!$FZ$50","v":0},{"$f":"'（別添４）エネルギー消費効率の根拠（要件ア）'!$FZ$51","v":0},{"$f":"'（別添４）エネルギー消費効率の根拠（要件ア）'!$FZ$52","v":"単位を選択してください"},{"$f":"'（別添４）エネルギー消費効率の根拠（要件ア）'!$FZ$53","v":0},{"$f":"'（別添４）エネルギー消費効率の根拠（要件ア）'!$FZ$54","v":0},{"$f":"'（別添４）エネルギー消費効率の根拠（要件ア）'!$FZ$55","v":0},{"$f":"'（別添４）エネルギー消費効率の根拠（要件ア）'!$FZ$56","v":"台"},{"$f":"'（別添４）エネルギー消費効率の根拠（要件ア）'!$FZ$57","v":0},{"$f":"'（別添４）エネルギー消費効率の根拠（要件ア）'!$FZ$58","v":0},{"$f":"'（別添４）エネルギー消費効率の根拠（要件ア）'!$FZ$59","v":"単位を選択してください"},{"$f":"'（別添４）エネルギー消費効率の根拠（要件ア）'!$FZ$60","v":"0単位を選択してください"},{"$f":"'（別添４）エネルギー消費効率の根拠（要件ア）'!$FZ$61","v":0},{"$f":"'（別添４）エネルギー消費効率の根拠（要件ア）'!$FZ$62","v":0},{"$f":"'（別添４）エネルギー消費効率の根拠（要件ア）'!$FZ$63","v":""},{"$f":"'（別添４）エネルギー消費効率の根拠（要件ア）'!$GD$40","v":0},{"$f":"'（別添４）エネルギー消費効率の根拠（要件ア）'!$GD$41","v":0},{"$f":"'（別添４）エネルギー消費効率の根拠（要件ア）'!$GD$42","v":0},{"$f":"'（別添４）エネルギー消費効率の根拠（要件ア）'!$GD$43","v":0},{"$f":"'（別添４）エネルギー消費効率の根拠（要件ア）'!$GD$44","v":0},{"$f":"'（別添４）エネルギー消費効率の根拠（要件ア）'!$GD$45","v":0},{"$f":"'（別添４）エネルギー消費効率の根拠（要件ア）'!$GD$46","v":0},{"$f":"'（別添４）エネルギー消費効率の根拠（要件ア）'!$GD$47","v":0},{"$f":"'（別添４）エネルギー消費効率の根拠（要件ア）'!$GD$48","v":0},{"$f":"'（別添４）エネルギー消費効率の根拠（要件ア）'!$GD$49","v":"台"},{"$f":"'（別添４）エネルギー消費効率の根拠（要件ア）'!$GD$50","v":0},{"$f":"'（別添４）エネルギー消費効率の根拠（要件ア）'!$GD$51","v":0},{"$f":"'（別添４）エネルギー消費効率の根拠（要件ア）'!$GD$52","v":"単位を選択してください"},{"$f":"'（別添４）エネルギー消費効率の根拠（要件ア）'!$GD$53","v":0},{"$f":"'（別添４）エネルギー消費効率の根拠（要件ア）'!$GD$54","v":0},{"$f":"'（別添４）エネルギー消費効率の根拠（要件ア）'!$GD$55","v":0},{"$f":"'（別添４）エネルギー消費効率の根拠（要件ア）'!$GD$56","v":"台"},{"$f":"'（別添４）エネルギー消費効率の根拠（要件ア）'!$GD$57","v":0},{"$f":"'（別添４）エネルギー消費効率の根拠（要件ア）'!$GD$58","v":0},{"$f":"'（別添４）エネルギー消費効率の根拠（要件ア）'!$GD$59","v":"単位を選択してください"},{"$f":"'（別添４）エネルギー消費効率の根拠（要件ア）'!$GD$60","v":"0単位を選択してください"},{"$f":"'（別添４）エネルギー消費効率の根拠（要件ア）'!$GD$61","v":0},{"$f":"'（別添４）エネルギー消費効率の根拠（要件ア）'!$GD$62","v":0},{"$f":"'（別添４）エネルギー消費効率の根拠（要件ア）'!$GD$63","v":""},{"$f":"'（別添４）エネルギー消費効率の根拠（要件ア）'!$GH$40","v":0},{"$f":"'（別添４）エネルギー消費効率の根拠（要件ア）'!$GH$41","v":0},{"$f":"'（別添４）エネルギー消費効率の根拠（要件ア）'!$GH$42","v":0},{"$f":"'（別添４）エネルギー消費効率の根拠（要件ア）'!$GH$43","v":0},{"$f":"'（別添４）エネルギー消費効率の根拠（要件ア）'!$GH$44","v":0},{"$f":"'（別添４）エネルギー消費効率の根拠（要件ア）'!$GH$45","v":0},{"$f":"'（別添４）エネルギー消費効率の根拠（要件ア）'!$GH$46","v":0},{"$f":"'（別添４）エネルギー消費効率の根拠（要件ア）'!$GH$47","v":0},{"$f":"'（別添４）エネルギー消費効率の根拠（要件ア）'!$GH$48","v":0},{"$f":"'（別添４）エネルギー消費効率の根拠（要件ア）'!$GH$49","v":"台"},{"$f":"'（別添４）エネルギー消費効率の根拠（要件ア）'!$GH$50","v":0},{"$f":"'（別添４）エネルギー消費効率の根拠（要件ア）'!$GH$51","v":0},{"$f":"'（別添４）エネルギー消費効率の根拠（要件ア）'!$GH$52","v":"単位を選択してください"},{"$f":"'（別添４）エネルギー消費効率の根拠（要件ア）'!$GH$53","v":0},{"$f":"'（別添４）エネルギー消費効率の根拠（要件ア）'!$GH$54","v":0},{"$f":"'（別添４）エネルギー消費効率の根拠（要件ア）'!$GH$55","v":0},{"$f":"'（別添４）エネルギー消費効率の根拠（要件ア）'!$GH$56","v":"台"},{"$f":"'（別添４）エネルギー消費効率の根拠（要件ア）'!$GH$57","v":0},{"$f":"'（別添４）エネルギー消費効率の根拠（要件ア）'!$GH$58","v":0},{"$f":"'（別添４）エネルギー消費効率の根拠（要件ア）'!$GH$59","v":"単位を選択してください"},{"$f":"'（別添４）エネルギー消費効率の根拠（要件ア）'!$GH$60","v":"0単位を選択してください"},{"$f":"'（別添４）エネルギー消費効率の根拠（要件ア）'!$GH$61","v":0},{"$f":"'（別添４）エネルギー消費効率の根拠（要件ア）'!$GH$62","v":0},{"$f":"'（別添４）エネルギー消費効率の根拠（要件ア）'!$GH$63","v":""},{"$f":"'（別添４）エネルギー消費効率の根拠（要件ア）'!$GL$40","v":0},{"$f":"'（別添４）エネルギー消費効率の根拠（要件ア）'!$GL$41","v":0},{"$f":"'（別添４）エネルギー消費効率の根拠（要件ア）'!$GL$42","v":0},{"$f":"'（別添４）エネルギー消費効率の根拠（要件ア）'!$GL$43","v":0},{"$f":"'（別添４）エネルギー消費効率の根拠（要件ア）'!$GL$44","v":0},{"$f":"'（別添４）エネルギー消費効率の根拠（要件ア）'!$GL$45","v":0},{"$f":"'（別添４）エネルギー消費効率の根拠（要件ア）'!$GL$46","v":0},{"$f":"'（別添４）エネルギー消費効率の根拠（要件ア）'!$GL$47","v":0},{"$f":"'（別添４）エネルギー消費効率の根拠（要件ア）'!$GL$48","v":0},{"$f":"'（別添４）エネルギー消費効率の根拠（要件ア）'!$GL$49","v":"台"},{"$f":"'（別添４）エネルギー消費効率の根拠（要件ア）'!$GL$50","v":0},{"$f":"'（別添４）エネルギー消費効率の根拠（要件ア）'!$GL$51","v":0},{"$f":"'（別添４）エネルギー消費効率の根拠（要件ア）'!$GL$52","v":"単位を選択してください"},{"$f":"'（別添４）エネルギー消費効率の根拠（要件ア）'!$GL$53","v":0},{"$f":"'（別添４）エネルギー消費効率の根拠（要件ア）'!$GL$54","v":0},{"$f":"'（別添４）エネルギー消費効率の根拠（要件ア）'!$GL$55","v":0},{"$f":"'（別添４）エネルギー消費効率の根拠（要件ア）'!$GL$56","v":"台"},{"$f":"'（別添４）エネルギー消費効率の根拠（要件ア）'!$GL$57","v":0},{"$f":"'（別添４）エネルギー消費効率の根拠（要件ア）'!$GL$58","v":0},{"$f":"'（別添４）エネルギー消費効率の根拠（要件ア）'!$GL$59","v":"単位を選択してください"},{"$f":"'（別添４）エネルギー消費効率の根拠（要件ア）'!$GL$60","v":"0単位を選択してください"},{"$f":"'（別添４）エネルギー消費効率の根拠（要件ア）'!$GL$61","v":0},{"$f":"'（別添４）エネルギー消費効率の根拠（要件ア）'!$GL$62","v":0},{"$f":"'（別添４）エネルギー消費効率の根拠（要件ア）'!$GL$63","v":""},{"$f":"'（別添４）エネルギー消費効率の根拠（要件ア）'!$GP$40","v":0},{"$f":"'（別添４）エネルギー消費効率の根拠（要件ア）'!$GP$41","v":0},{"$f":"'（別添４）エネルギー消費効率の根拠（要件ア）'!$GP$42","v":0},{"$f":"'（別添４）エネルギー消費効率の根拠（要件ア）'!$GP$43","v":0},{"$f":"'（別添４）エネルギー消費効率の根拠（要件ア）'!$GP$44","v":0},{"$f":"'（別添４）エネルギー消費効率の根拠（要件ア）'!$GP$45","v":0},{"$f":"'（別添４）エネルギー消費効率の根拠（要件ア）'!$GP$46","v":0},{"$f":"'（別添４）エネルギー消費効率の根拠（要件ア）'!$GP$47","v":0},{"$f":"'（別添４）エネルギー消費効率の根拠（要件ア）'!$GP$48","v":0},{"$f":"'（別添４）エネルギー消費効率の根拠（要件ア）'!$GP$49","v":"台"},{"$f":"'（別添４）エネルギー消費効率の根拠（要件ア）'!$GP$50","v":0},{"$f":"'（別添４）エネルギー消費効率の根拠（要件ア）'!$GP$51","v":0},{"$f":"'（別添４）エネルギー消費効率の根拠（要件ア）'!$GP$52","v":"単位を選択してください"},{"$f":"'（別添４）エネルギー消費効率の根拠（要件ア）'!$GP$53","v":0},{"$f":"'（別添４）エネルギー消費効率の根拠（要件ア）'!$GP$54","v":0},{"$f":"'（別添４）エネルギー消費効率の根拠（要件ア）'!$GP$55","v":0},{"$f":"'（別添４）エネルギー消費効率の根拠（要件ア）'!$GP$56","v":"台"},{"$f":"'（別添４）エネルギー消費効率の根拠（要件ア）'!$GP$57","v":0},{"$f":"'（別添４）エネルギー消費効率の根拠（要件ア）'!$GP$58","v":0},{"$f":"'（別添４）エネルギー消費効率の根拠（要件ア）'!$GP$59","v":"単位を選択してください"},{"$f":"'（別添４）エネルギー消費効率の根拠（要件ア）'!$GP$60","v":"0単位を選択してください"},{"$f":"'（別添４）エネルギー消費効率の根拠（要件ア）'!$GP$61","v":0},{"$f":"'（別添４）エネルギー消費効率の根拠（要件ア）'!$GP$62","v":0},{"$f":"'（別添４）エネルギー消費効率の根拠（要件ア）'!$GP$63","v":""},{"$f":"'（別添４）エネルギー消費効率の根拠（要件ア）'!$GT$40","v":0},{"$f":"'（別添４）エネルギー消費効率の根拠（要件ア）'!$GT$41","v":0},{"$f":"'（別添４）エネルギー消費効率の根拠（要件ア）'!$GT$42","v":0},{"$f":"'（別添４）エネルギー消費効率の根拠（要件ア）'!$GT$43","v":0},{"$f":"'（別添４）エネルギー消費効率の根拠（要件ア）'!$GT$44","v":0},{"$f":"'（別添４）エネルギー消費効率の根拠（要件ア）'!$GT$45","v":0},{"$f":"'（別添４）エネルギー消費効率の根拠（要件ア）'!$GT$46","v":0},{"$f":"'（別添４）エネルギー消費効率の根拠（要件ア）'!$GT$47","v":0},{"$f":"'（別添４）エネルギー消費効率の根拠（要件ア）'!$GT$48","v":0},{"$f":"'（別添４）エネルギー消費効率の根拠（要件ア）'!$GT$49","v":"台"},{"$f":"'（別添４）エネルギー消費効率の根拠（要件ア）'!$GT$50","v":0},{"$f":"'（別添４）エネルギー消費効率の根拠（要件ア）'!$GT$51","v":0},{"$f":"'（別添４）エネルギー消費効率の根拠（要件ア）'!$GT$52","v":"単位を選択してください"},{"$f":"'（別添４）エネルギー消費効率の根拠（要件ア）'!$GT$53","v":0},{"$f":"'（別添４）エネルギー消費効率の根拠（要件ア）'!$GT$54","v":0},{"$f":"'（別添４）エネルギー消費効率の根拠（要件ア）'!$GT$55","v":0},{"$f":"'（別添４）エネルギー消費効率の根拠（要件ア）'!$GT$56","v":"台"},{"$f":"'（別添４）エネルギー消費効率の根拠（要件ア）'!$GT$57","v":0},{"$f":"'（別添４）エネルギー消費効率の根拠（要件ア）'!$GT$58","v":0},{"$f":"'（別添４）エネルギー消費効率の根拠（要件ア）'!$GT$59","v":"単位を選択してください"},{"$f":"'（別添４）エネルギー消費効率の根拠（要件ア）'!$GT$60","v":"0単位を選択してください"},{"$f":"'（別添４）エネルギー消費効率の根拠（要件ア）'!$GT$61","v":0},{"$f":"'（別添４）エネルギー消費効率の根拠（要件ア）'!$GT$62","v":0},{"$f":"'（別添４）エネルギー消費効率の根拠（要件ア）'!$GT$63","v":""},{"$f":"'（別添４）エネルギー消費効率の根拠（要件ア）'!$GX$40","v":0},{"$f":"'（別添４）エネルギー消費効率の根拠（要件ア）'!$GX$41","v":0},{"$f":"'（別添４）エネルギー消費効率の根拠（要件ア）'!$GX$42","v":0},{"$f":"'（別添４）エネルギー消費効率の根拠（要件ア）'!$GX$43","v":0},{"$f":"'（別添４）エネルギー消費効率の根拠（要件ア）'!$GX$44","v":0},{"$f":"'（別添４）エネルギー消費効率の根拠（要件ア）'!$GX$45","v":0},{"$f":"'（別添４）エネルギー消費効率の根拠（要件ア）'!$GX$46","v":0},{"$f":"'（別添４）エネルギー消費効率の根拠（要件ア）'!$GX$47","v":0},{"$f":"'（別添４）エネルギー消費効率の根拠（要件ア）'!$GX$48","v":0},{"$f":"'（別添４）エネルギー消費効率の根拠（要件ア）'!$GX$49","v":"台"},{"$f":"'（別添４）エネルギー消費効率の根拠（要件ア）'!$GX$50","v":0},{"$f":"'（別添４）エネルギー消費効率の根拠（要件ア）'!$GX$51","v":0},{"$f":"'（別添４）エネルギー消費効率の根拠（要件ア）'!$GX$52","v":"単位を選択してください"},{"$f":"'（別添４）エネルギー消費効率の根拠（要件ア）'!$GX$53","v":0},{"$f":"'（別添４）エネルギー消費効率の根拠（要件ア）'!$GX$54","v":0},{"$f":"'（別添４）エネルギー消費効率の根拠（要件ア）'!$GX$55","v":0},{"$f":"'（別添４）エネルギー消費効率の根拠（要件ア）'!$GX$56","v":"台"},{"$f":"'（別添４）エネルギー消費効率の根拠（要件ア）'!$GX$57","v":0},{"$f":"'（別添４）エネルギー消費効率の根拠（要件ア）'!$GX$58","v":0},{"$f":"'（別添４）エネルギー消費効率の根拠（要件ア）'!$GX$59","v":"単位を選択してください"},{"$f":"'（別添４）エネルギー消費効率の根拠（要件ア）'!$GX$60","v":"0単位を選択してください"},{"$f":"'（別添４）エネルギー消費効率の根拠（要件ア）'!$GX$61","v":0},{"$f":"'（別添４）エネルギー消費効率の根拠（要件ア）'!$GX$62","v":0},{"$f":"'（別添４）エネルギー消費効率の根拠（要件ア）'!$GX$63","v":""},{"$f":"'（別添４）エネルギー消費効率の根拠（要件ア）'!$HB$40","v":0},{"$f":"'（別添４）エネルギー消費効率の根拠（要件ア）'!$HB$41","v":0},{"$f":"'（別添４）エネルギー消費効率の根拠（要件ア）'!$HB$42","v":0},{"$f":"'（別添４）エネルギー消費効率の根拠（要件ア）'!$HB$43","v":0},{"$f":"'（別添４）エネルギー消費効率の根拠（要件ア）'!$HB$44","v":0},{"$f":"'（別添４）エネルギー消費効率の根拠（要件ア）'!$HB$45","v":0},{"$f":"'（別添４）エネルギー消費効率の根拠（要件ア）'!$HB$46","v":0},{"$f":"'（別添４）エネルギー消費効率の根拠（要件ア）'!$HB$47","v":0},{"$f":"'（別添４）エネルギー消費効率の根拠（要件ア）'!$HB$48","v":0},{"$f":"'（別添４）エネルギー消費効率の根拠（要件ア）'!$HB$49","v":"台"},{"$f":"'（別添４）エネルギー消費効率の根拠（要件ア）'!$HB$50","v":0},{"$f":"'（別添４）エネルギー消費効率の根拠（要件ア）'!$HB$51","v":0},{"$f":"'（別添４）エネルギー消費効率の根拠（要件ア）'!$HB$52","v":"単位を選択してください"},{"$f":"'（別添４）エネルギー消費効率の根拠（要件ア）'!$HB$53","v":0},{"$f":"'（別添４）エネルギー消費効率の根拠（要件ア）'!$HB$54","v":0},{"$f":"'（別添４）エネルギー消費効率の根拠（要件ア）'!$HB$55","v":0},{"$f":"'（別添４）エネルギー消費効率の根拠（要件ア）'!$HB$56","v":"台"},{"$f":"'（別添４）エネルギー消費効率の根拠（要件ア）'!$HB$57","v":0},{"$f":"'（別添４）エネルギー消費効率の根拠（要件ア）'!$HB$58","v":0},{"$f":"'（別添４）エネルギー消費効率の根拠（要件ア）'!$HB$59","v":"単位を選択してください"},{"$f":"'（別添４）エネルギー消費効率の根拠（要件ア）'!$HB$60","v":"0単位を選択してください"},{"$f":"'（別添４）エネルギー消費効率の根拠（要件ア）'!$HB$61","v":0},{"$f":"'（別添４）エネルギー消費効率の根拠（要件ア）'!$HB$62","v":0},{"$f":"'（別添４）エネルギー消費効率の根拠（要件ア）'!$HB$63","v":""},{"$f":"'（別添４）エネルギー消費効率の根拠（要件ア）'!$HF$40","v":0},{"$f":"'（別添４）エネルギー消費効率の根拠（要件ア）'!$HF$41","v":0},{"$f":"'（別添４）エネルギー消費効率の根拠（要件ア）'!$HF$42","v":0},{"$f":"'（別添４）エネルギー消費効率の根拠（要件ア）'!$HF$43","v":0},{"$f":"'（別添４）エネルギー消費効率の根拠（要件ア）'!$HF$44","v":0},{"$f":"'（別添４）エネルギー消費効率の根拠（要件ア）'!$HF$45","v":0},{"$f":"'（別添４）エネルギー消費効率の根拠（要件ア）'!$HF$46","v":0},{"$f":"'（別添４）エネルギー消費効率の根拠（要件ア）'!$HF$47","v":0},{"$f":"'（別添４）エネルギー消費効率の根拠（要件ア）'!$HF$48","v":0},{"$f":"'（別添４）エネルギー消費効率の根拠（要件ア）'!$HF$49","v":"台"},{"$f":"'（別添４）エネルギー消費効率の根拠（要件ア）'!$HF$50","v":0},{"$f":"'（別添４）エネルギー消費効率の根拠（要件ア）'!$HF$51","v":0},{"$f":"'（別添４）エネルギー消費効率の根拠（要件ア）'!$HF$52","v":"単位を選択してください"},{"$f":"'（別添４）エネルギー消費効率の根拠（要件ア）'!$HF$53","v":0},{"$f":"'（別添４）エネルギー消費効率の根拠（要件ア）'!$HF$54","v":0},{"$f":"'（別添４）エネルギー消費効率の根拠（要件ア）'!$HF$55","v":0},{"$f":"'（別添４）エネルギー消費効率の根拠（要件ア）'!$HF$56","v":"台"},{"$f":"'（別添４）エネルギー消費効率の根拠（要件ア）'!$HF$57","v":0},{"$f":"'（別添４）エネルギー消費効率の根拠（要件ア）'!$HF$58","v":0},{"$f":"'（別添４）エネルギー消費効率の根拠（要件ア）'!$HF$59","v":"単位を選択してください"},{"$f":"'（別添４）エネルギー消費効率の根拠（要件ア）'!$HF$60","v":"0単位を選択してください"},{"$f":"'（別添４）エネルギー消費効率の根拠（要件ア）'!$HF$61","v":0},{"$f":"'（別添４）エネルギー消費効率の根拠（要件ア）'!$HF$62","v":0},{"$f":"'（別添４）エネルギー消費効率の根拠（要件ア）'!$HF$63","v":""},{"$f":"'（別添４）エネルギー消費効率の根拠（要件ア）'!$HJ$40","v":0},{"$f":"'（別添４）エネルギー消費効率の根拠（要件ア）'!$HJ$41","v":0},{"$f":"'（別添４）エネルギー消費効率の根拠（要件ア）'!$HJ$42","v":0},{"$f":"'（別添４）エネルギー消費効率の根拠（要件ア）'!$HJ$43","v":0},{"$f":"'（別添４）エネルギー消費効率の根拠（要件ア）'!$HJ$44","v":0},{"$f":"'（別添４）エネルギー消費効率の根拠（要件ア）'!$HJ$45","v":0},{"$f":"'（別添４）エネルギー消費効率の根拠（要件ア）'!$HJ$46","v":0},{"$f":"'（別添４）エネルギー消費効率の根拠（要件ア）'!$HJ$47","v":0},{"$f":"'（別添４）エネルギー消費効率の根拠（要件ア）'!$HJ$48","v":0},{"$f":"'（別添４）エネルギー消費効率の根拠（要件ア）'!$HJ$49","v":"台"},{"$f":"'（別添４）エネルギー消費効率の根拠（要件ア）'!$HJ$50","v":0},{"$f":"'（別添４）エネルギー消費効率の根拠（要件ア）'!$HJ$51","v":0},{"$f":"'（別添４）エネルギー消費効率の根拠（要件ア）'!$HJ$52","v":"単位を選択してください"},{"$f":"'（別添４）エネルギー消費効率の根拠（要件ア）'!$HJ$53","v":0},{"$f":"'（別添４）エネルギー消費効率の根拠（要件ア）'!$HJ$54","v":0},{"$f":"'（別添４）エネルギー消費効率の根拠（要件ア）'!$HJ$55","v":0},{"$f":"'（別添４）エネルギー消費効率の根拠（要件ア）'!$HJ$56","v":"台"},{"$f":"'（別添４）エネルギー消費効率の根拠（要件ア）'!$HJ$57","v":0},{"$f":"'（別添４）エネルギー消費効率の根拠（要件ア）'!$HJ$58","v":0},{"$f":"'（別添４）エネルギー消費効率の根拠（要件ア）'!$HJ$59","v":"単位を選択してください"},{"$f":"'（別添４）エネルギー消費効率の根拠（要件ア）'!$HJ$60","v":"0単位を選択してください"},{"$f":"'（別添４）エネルギー消費効率の根拠（要件ア）'!$HJ$61","v":0},{"$f":"'（別添４）エネルギー消費効率の根拠（要件ア）'!$HJ$62","v":0},{"$f":"'（別添４）エネルギー消費効率の根拠（要件ア）'!$HJ$63","v":""},{"$f":"'（別添４）エネルギー消費効率の根拠（要件ア）'!$HN$40","v":0},{"$f":"'（別添４）エネルギー消費効率の根拠（要件ア）'!$HN$41","v":0},{"$f":"'（別添４）エネルギー消費効率の根拠（要件ア）'!$HN$42","v":0},{"$f":"'（別添４）エネルギー消費効率の根拠（要件ア）'!$HN$43","v":0},{"$f":"'（別添４）エネルギー消費効率の根拠（要件ア）'!$HN$44","v":0},{"$f":"'（別添４）エネルギー消費効率の根拠（要件ア）'!$HN$45","v":0},{"$f":"'（別添４）エネルギー消費効率の根拠（要件ア）'!$HN$46","v":0},{"$f":"'（別添４）エネルギー消費効率の根拠（要件ア）'!$HN$47","v":0},{"$f":"'（別添４）エネルギー消費効率の根拠（要件ア）'!$HN$48","v":0},{"$f":"'（別添４）エネルギー消費効率の根拠（要件ア）'!$HN$49","v":"台"},{"$f":"'（別添４）エネルギー消費効率の根拠（要件ア）'!$HN$50","v":0},{"$f":"'（別添４）エネルギー消費効率の根拠（要件ア）'!$HN$51","v":0},{"$f":"'（別添４）エネルギー消費効率の根拠（要件ア）'!$HN$52","v":"単位を選択してください"},{"$f":"'（別添４）エネルギー消費効率の根拠（要件ア）'!$HN$53","v":0},{"$f":"'（別添４）エネルギー消費効率の根拠（要件ア）'!$HN$54","v":0},{"$f":"'（別添４）エネルギー消費効率の根拠（要件ア）'!$HN$55","v":0},{"$f":"'（別添４）エネルギー消費効率の根拠（要件ア）'!$HN$56","v":"台"},{"$f":"'（別添４）エネルギー消費効率の根拠（要件ア）'!$HN$57","v":0},{"$f":"'（別添４）エネルギー消費効率の根拠（要件ア）'!$HN$58","v":0},{"$f":"'（別添４）エネルギー消費効率の根拠（要件ア）'!$HN$59","v":"単位を選択してください"},{"$f":"'（別添４）エネルギー消費効率の根拠（要件ア）'!$HN$60","v":"0単位を選択してください"},{"$f":"'（別添４）エネルギー消費効率の根拠（要件ア）'!$HN$61","v":0},{"$f":"'（別添４）エネルギー消費効率の根拠（要件ア）'!$HN$62","v":0},{"$f":"'（別添４）エネルギー消費効率の根拠（要件ア）'!$HN$63","v":""},{"$f":"'（別添４）エネルギー消費効率の根拠（要件ア）'!$HR$40","v":0},{"$f":"'（別添４）エネルギー消費効率の根拠（要件ア）'!$HR$41","v":0},{"$f":"'（別添４）エネルギー消費効率の根拠（要件ア）'!$HR$42","v":0},{"$f":"'（別添４）エネルギー消費効率の根拠（要件ア）'!$HR$43","v":0},{"$f":"'（別添４）エネルギー消費効率の根拠（要件ア）'!$HR$44","v":0},{"$f":"'（別添４）エネルギー消費効率の根拠（要件ア）'!$HR$45","v":0},{"$f":"'（別添４）エネルギー消費効率の根拠（要件ア）'!$HR$46","v":0},{"$f":"'（別添４）エネルギー消費効率の根拠（要件ア）'!$HR$47","v":0},{"$f":"'（別添４）エネルギー消費効率の根拠（要件ア）'!$HR$48","v":0},{"$f":"'（別添４）エネルギー消費効率の根拠（要件ア）'!$HR$49","v":"台"},{"$f":"'（別添４）エネルギー消費効率の根拠（要件ア）'!$HR$50","v":0},{"$f":"'（別添４）エネルギー消費効率の根拠（要件ア）'!$HR$51","v":0},{"$f":"'（別添４）エネルギー消費効率の根拠（要件ア）'!$HR$52","v":"単位を選択してください"},{"$f":"'（別添４）エネルギー消費効率の根拠（要件ア）'!$HR$53","v":0},{"$f":"'（別添４）エネルギー消費効率の根拠（要件ア）'!$HR$54","v":0},{"$f":"'（別添４）エネルギー消費効率の根拠（要件ア）'!$HR$55","v":0},{"$f":"'（別添４）エネルギー消費効率の根拠（要件ア）'!$HR$56","v":"台"},{"$f":"'（別添４）エネルギー消費効率の根拠（要件ア）'!$HR$57","v":0},{"$f":"'（別添４）エネルギー消費効率の根拠（要件ア）'!$HR$58","v":0},{"$f":"'（別添４）エネルギー消費効率の根拠（要件ア）'!$HR$59","v":"単位を選択してください"},{"$f":"'（別添４）エネルギー消費効率の根拠（要件ア）'!$HR$60","v":"0単位を選択してください"},{"$f":"'（別添４）エネルギー消費効率の根拠（要件ア）'!$HR$61","v":0},{"$f":"'（別添４）エネルギー消費効率の根拠（要件ア）'!$HR$62","v":0},{"$f":"'（別添４）エネルギー消費効率の根拠（要件ア）'!$HR$63","v":""},{"$f":"'（別添４）エネルギー消費効率の根拠（要件ア）'!$HV$40","v":0},{"$f":"'（別添４）エネルギー消費効率の根拠（要件ア）'!$HV$41","v":0},{"$f":"'（別添４）エネルギー消費効率の根拠（要件ア）'!$HV$42","v":0},{"$f":"'（別添４）エネルギー消費効率の根拠（要件ア）'!$HV$43","v":0},{"$f":"'（別添４）エネルギー消費効率の根拠（要件ア）'!$HV$44","v":0},{"$f":"'（別添４）エネルギー消費効率の根拠（要件ア）'!$HV$45","v":0},{"$f":"'（別添４）エネルギー消費効率の根拠（要件ア）'!$HV$46","v":0},{"$f":"'（別添４）エネルギー消費効率の根拠（要件ア）'!$HV$47","v":0},{"$f":"'（別添４）エネルギー消費効率の根拠（要件ア）'!$HV$48","v":0},{"$f":"'（別添４）エネルギー消費効率の根拠（要件ア）'!$HV$49","v":"台"},{"$f":"'（別添４）エネルギー消費効率の根拠（要件ア）'!$HV$50","v":0},{"$f":"'（別添４）エネルギー消費効率の根拠（要件ア）'!$HV$51","v":0},{"$f":"'（別添４）エネルギー消費効率の根拠（要件ア）'!$HV$52","v":"単位を選択してください"},{"$f":"'（別添４）エネルギー消費効率の根拠（要件ア）'!$HV$53","v":0},{"$f":"'（別添４）エネルギー消費効率の根拠（要件ア）'!$HV$54","v":0},{"$f":"'（別添４）エネルギー消費効率の根拠（要件ア）'!$HV$55","v":0},{"$f":"'（別添４）エネルギー消費効率の根拠（要件ア）'!$HV$56","v":"台"},{"$f":"'（別添４）エネルギー消費効率の根拠（要件ア）'!$HV$57","v":0},{"$f":"'（別添４）エネルギー消費効率の根拠（要件ア）'!$HV$58","v":0},{"$f":"'（別添４）エネルギー消費効率の根拠（要件ア）'!$HV$59","v":"単位を選択してください"},{"$f":"'（別添４）エネルギー消費効率の根拠（要件ア）'!$HV$60","v":"0単位を選択してください"},{"$f":"'（別添４）エネルギー消費効率の根拠（要件ア）'!$HV$61","v":0},{"$f":"'（別添４）エネルギー消費効率の根拠（要件ア）'!$HV$62","v":0},{"$f":"'（別添４）エネルギー消費効率の根拠（要件ア）'!$HV$63","v":""},{"$f":"'（別添４）エネルギー消費効率の根拠（要件ア）'!$HZ$40","v":0},{"$f":"'（別添４）エネルギー消費効率の根拠（要件ア）'!$HZ$41","v":0},{"$f":"'（別添４）エネルギー消費効率の根拠（要件ア）'!$HZ$42","v":0},{"$f":"'（別添４）エネルギー消費効率の根拠（要件ア）'!$HZ$43","v":0},{"$f":"'（別添４）エネルギー消費効率の根拠（要件ア）'!$HZ$44","v":0},{"$f":"'（別添４）エネルギー消費効率の根拠（要件ア）'!$HZ$45","v":0},{"$f":"'（別添４）エネルギー消費効率の根拠（要件ア）'!$HZ$46","v":0},{"$f":"'（別添４）エネルギー消費効率の根拠（要件ア）'!$HZ$47","v":0},{"$f":"'（別添４）エネルギー消費効率の根拠（要件ア）'!$HZ$48","v":0},{"$f":"'（別添４）エネルギー消費効率の根拠（要件ア）'!$HZ$49","v":"台"},{"$f":"'（別添４）エネルギー消費効率の根拠（要件ア）'!$HZ$50","v":0},{"$f":"'（別添４）エネルギー消費効率の根拠（要件ア）'!$HZ$51","v":0},{"$f":"'（別添４）エネルギー消費効率の根拠（要件ア）'!$HZ$52","v":"単位を選択してください"},{"$f":"'（別添４）エネルギー消費効率の根拠（要件ア）'!$HZ$53","v":0},{"$f":"'（別添４）エネルギー消費効率の根拠（要件ア）'!$HZ$54","v":0},{"$f":"'（別添４）エネルギー消費効率の根拠（要件ア）'!$HZ$55","v":0},{"$f":"'（別添４）エネルギー消費効率の根拠（要件ア）'!$HZ$56","v":"台"},{"$f":"'（別添４）エネルギー消費効率の根拠（要件ア）'!$HZ$57","v":0},{"$f":"'（別添４）エネルギー消費効率の根拠（要件ア）'!$HZ$58","v":0},{"$f":"'（別添４）エネルギー消費効率の根拠（要件ア）'!$HZ$59","v":"単位を選択してください"},{"$f":"'（別添４）エネルギー消費効率の根拠（要件ア）'!$HZ$60","v":"0単位を選択してください"},{"$f":"'（別添４）エネルギー消費効率の根拠（要件ア）'!$HZ$61","v":0},{"$f":"'（別添４）エネルギー消費効率の根拠（要件ア）'!$HZ$62","v":0},{"$f":"'（別添４）エネルギー消費効率の根拠（要件ア）'!$HZ$63","v":""},{"$f":"'（別添４）エネルギー消費効率の根拠（要件ア）'!$ID$40","v":0},{"$f":"'（別添４）エネルギー消費効率の根拠（要件ア）'!$ID$41","v":0},{"$f":"'（別添４）エネルギー消費効率の根拠（要件ア）'!$ID$42","v":0},{"$f":"'（別添４）エネルギー消費効率の根拠（要件ア）'!$ID$43","v":0},{"$f":"'（別添４）エネルギー消費効率の根拠（要件ア）'!$ID$44","v":0},{"$f":"'（別添４）エネルギー消費効率の根拠（要件ア）'!$ID$45","v":0},{"$f":"'（別添４）エネルギー消費効率の根拠（要件ア）'!$ID$46","v":0},{"$f":"'（別添４）エネルギー消費効率の根拠（要件ア）'!$ID$47","v":0},{"$f":"'（別添４）エネルギー消費効率の根拠（要件ア）'!$ID$48","v":0},{"$f":"'（別添４）エネルギー消費効率の根拠（要件ア）'!$ID$49","v":"台"},{"$f":"'（別添４）エネルギー消費効率の根拠（要件ア）'!$ID$50","v":0},{"$f":"'（別添４）エネルギー消費効率の根拠（要件ア）'!$ID$51","v":0},{"$f":"'（別添４）エネルギー消費効率の根拠（要件ア）'!$ID$52","v":"単位を選択してください"},{"$f":"'（別添４）エネルギー消費効率の根拠（要件ア）'!$ID$53","v":0},{"$f":"'（別添４）エネルギー消費効率の根拠（要件ア）'!$ID$54","v":0},{"$f":"'（別添４）エネルギー消費効率の根拠（要件ア）'!$ID$55","v":0},{"$f":"'（別添４）エネルギー消費効率の根拠（要件ア）'!$ID$56","v":"台"},{"$f":"'（別添４）エネルギー消費効率の根拠（要件ア）'!$ID$57","v":0},{"$f":"'（別添４）エネルギー消費効率の根拠（要件ア）'!$ID$58","v":0},{"$f":"'（別添４）エネルギー消費効率の根拠（要件ア）'!$ID$59","v":"単位を選択してください"},{"$f":"'（別添４）エネルギー消費効率の根拠（要件ア）'!$ID$60","v":"0単位を選択してください"},{"$f":"'（別添４）エネルギー消費効率の根拠（要件ア）'!$ID$61","v":0},{"$f":"'（別添４）エネルギー消費効率の根拠（要件ア）'!$ID$62","v":0},{"$f":"'（別添４）エネルギー消費効率の根拠（要件ア）'!$ID$63","v":""},{"$f":"'（別添４）エネルギー消費効率の根拠（要件ア）'!$IH$40","v":0},{"$f":"'（別添４）エネルギー消費効率の根拠（要件ア）'!$IH$41","v":0},{"$f":"'（別添４）エネルギー消費効率の根拠（要件ア）'!$IH$42","v":0},{"$f":"'（別添４）エネルギー消費効率の根拠（要件ア）'!$IH$43","v":0},{"$f":"'（別添４）エネルギー消費効率の根拠（要件ア）'!$IH$44","v":0},{"$f":"'（別添４）エネルギー消費効率の根拠（要件ア）'!$IH$45","v":0},{"$f":"'（別添４）エネルギー消費効率の根拠（要件ア）'!$IH$46","v":0},{"$f":"'（別添４）エネルギー消費効率の根拠（要件ア）'!$IH$47","v":0},{"$f":"'（別添４）エネルギー消費効率の根拠（要件ア）'!$IH$48","v":0},{"$f":"'（別添４）エネルギー消費効率の根拠（要件ア）'!$IH$49","v":"台"},{"$f":"'（別添４）エネルギー消費効率の根拠（要件ア）'!$IH$50","v":0},{"$f":"'（別添４）エネルギー消費効率の根拠（要件ア）'!$IH$51","v":0},{"$f":"'（別添４）エネルギー消費効率の根拠（要件ア）'!$IH$52","v":"単位を選択してください"},{"$f":"'（別添４）エネルギー消費効率の根拠（要件ア）'!$IH$53","v":0},{"$f":"'（別添４）エネルギー消費効率の根拠（要件ア）'!$IH$54","v":0},{"$f":"'（別添４）エネルギー消費効率の根拠（要件ア）'!$IH$55","v":0},{"$f":"'（別添４）エネルギー消費効率の根拠（要件ア）'!$IH$56","v":"台"},{"$f":"'（別添４）エネルギー消費効率の根拠（要件ア）'!$IH$57","v":0},{"$f":"'（別添４）エネルギー消費効率の根拠（要件ア）'!$IH$58","v":0},{"$f":"'（別添４）エネルギー消費効率の根拠（要件ア）'!$IH$59","v":"単位を選択してください"},{"$f":"'（別添４）エネルギー消費効率の根拠（要件ア）'!$IH$60","v":"0単位を選択してください"},{"$f":"'（別添４）エネルギー消費効率の根拠（要件ア）'!$IH$61","v":0},{"$f":"'（別添４）エネルギー消費効率の根拠（要件ア）'!$IH$62","v":0},{"$f":"'（別添４）エネルギー消費効率の根拠（要件ア）'!$IH$63","v":""},{"$f":"'（別添５）エネルギー消費原単位の改善根拠（要件イ）'!$CC$4","v":""},{"$f":"'（別添５）エネルギー消費原単位の改善根拠（要件イ）'!$CC$5","v":""},{"$f":"'（別添５）エネルギー消費原単位の改善根拠（要件イ）'!$CC$6","v":""},{"$f":"'（別添５）エネルギー消費原単位の改善根拠（要件イ）'!$CC$7","v":""},{"$f":"'（別添５）エネルギー消費原単位の改善根拠（要件イ）'!$CC$8","v":"【Ａ】と【Ｂ】に値を入力してくださいkl/"},{"$f":"'（別添５）エネルギー消費原単位の改善根拠（要件イ）'!$CC$9","v":""},{"$f":"'（別添５）エネルギー消費原単位の改善根拠（要件イ）'!$CC$10","v":""},{"$f":"'（別添５）エネルギー消費原単位の改善根拠（要件イ）'!$CC$11","v":""},{"$f":"'（別添５）エネルギー消費原単位の改善根拠（要件イ）'!$CC$12","v":""},{"$f":"'（別添５）エネルギー消費原単位の改善根拠（要件イ）'!$CC$13","v":"【Ｄ】と【Ｅ】に値を入力してくださいkl/"},{"$f":"'（別添５）エネルギー消費原単位の改善根拠（要件イ）'!$CC$14","v":"【Ｃ】と【Ｆ】に値を入力してください"},{"$f":"'（別添５）エネルギー消費原単位の改善根拠（要件イ）'!$CC$15","v":"【B】と【I】が入力された状態にしてくださいkl"},{"$f":"'（別添６）省エネルギー取組の根拠（要件ウ）'!$CU$3","v":""},{"$f":"'（別添６）省エネルギー取組の根拠（要件ウ）'!$CU$4","v":""},{"$f":"'（別添６）省エネルギー取組の根拠（要件ウ）'!$CU$5","v":""},{"$f":"'（別添６）省エネルギー取組の根拠（要件ウ）'!$CU$6","v":""},{"$f":"'（別添６）省エネルギー取組の根拠（要件ウ）'!$CU$7","v":""},{"$f":"'（別添６）省エネルギー取組の根拠（要件ウ）'!$CU$8","v":""},{"$f":"'（別添６）省エネルギー取組の根拠（要件ウ）'!$CU$9","v":""},{"$f":"'（別添６）省エネルギー取組の根拠（要件ウ）'!$CU$10","v":""},{"$f":"'（別添６）省エネルギー取組の根拠（要件ウ）'!$CU$11","v":""}]
[4,{"$f":"'（様式第１）融資計画書'!$BA$6","v":"様式第1_K16"},{"$f":"'（様式第１）融資計画書'!$BB$6","v":"指定金融機関_住所"},{"$f":"'（様式第１）融資計画書'!$BC$6","v":""}]
[5,{"$f":"'（様式第１）融資計画書'!$BA$7","v":"様式第1_K19"},{"$f":"'（様式第１）融資計画書'!$BB$7","v":"指定金融機関_名称"},{"$f":"'（様式第１）融資計画書'!$BC$7","v":""}]
[6,{"$f":"'（様式第１）融資計画書'!$BA$8","v":"様式第1_K22"},{"$f":"'（様式第１）融資計画書'!$BB$8","v":"指定金融機関_役職名"},{"$f":"'（様式第１）融資計画書'!$BC$8","v":""}]
[7,{"$f":"'（様式第１）融資計画書'!$BA$9","v":"様式第1_K24"},{"$f":"'（様式第１）融資計画書'!$BB$9","v":"指定金融機関_代表者名"},{"$f":"'（様式第１）融資計画書'!$BC$9","v":""}]
[8,{"$f":"'（様式第１）融資計画書'!$BA$10","v":"様式第1_K27"},{"$f":"'（様式第１）融資計画書'!$BB$10","v":"利子補給対象事業者_住所"},{"$f":"'（様式第１）融資計画書'!$BC$10","v":""}]
[9,{"$f":"'（様式第１）融資計画書'!$BA$11","v":"様式第1_K30"},{"$f":"'（様式第１）融資計画書'!$BB$11","v":"利子補給対象事業者_名称"},{"$f":"'（様式第１）融資計画書'!$BC$11","v":""}]
[10,{"$f":"'（様式第１）融資計画書'!$BA$12","v":"様式第1_K33"},{"$f":"'（様式第１）融資計画書'!$BB$12","v":"利子補給対象事業者_役職名"},{"$f":"'（様式第１）融資計画書'!$BC$12","v":""}]
[11,{"$f":"'（様式第１）融資計画書'!$BA$13","v":"様式第1_K35"},{"$f":"'（様式第１）融資計画書'!$BB$13","v":"利子補給対象事業者_代表者名"},{"$f":"'（様式第１）融資計画書'!$BC$13","v":""}]
[12,{"$f":"'（様式第１）融資計画書'!$BA$14","v":"様式第1_B72"},{"$f":"'（様式第１）融資計画書'!$BB$14","v":"融資名称"},{"$f":"'（様式第１）融資計画書'!$BC$14","v":""}]
[13,{"$f":"'（様式第１）融資計画書'!$BA$15","v":"様式第1_B76"},{"$f":"'（様式第１）融資計画書'!$BB$15","v":"融資計画の内容"},{"$f":"'（様式第１）融資計画書'!$BC$15","v":""}]
[14,"別添1_C9","融資額",{"$f":"'（別添１）融資計画詳細１'!$BL$3","v":""}]
[15,"別添1_C11","元金均等返済額",{"$f":"'（別添１）融資計画詳細１'!$BL$4","v":""}]
[16,"別添1_C13","最終弁済額",{"$f":"'（別添１）融資計画詳細１'!$BL$5","v":""}]
[17,"別添1_C15","融資期間_自：",{"$f":"'（別添１）融資計画詳細１'!$BL$6","v":""}]
[18,"別添1_C17","融資期間_至：",{"$f":"'（別添１）融資計画詳細１'!$BL$7","v":""}]
[19,"別添1_C19","融資利率",{"$f":"'（別添１）融資計画詳細１'!$BL$8","v":""}]
[20,"別添1_C22","内　交付対象融資額",{"$f":"'（別添１）融資計画詳細１'!$BL$9","v":""}]
[21,"別添1_C24","元金均等返済額",{"$f":"'（別添１）融資計画詳細１'!$BL$10","v":""}]
[22,"別添1_C26","最終弁済額",{"$f":"'（別添１）融資計画詳細１'!$BL$11","v":""}]
[23,"別添1_C28","交付対象融資期間_自：",{"$f":"'（別添１）融資計画詳細１'!$BL$12","v":""}]
[24,"別添1_C30","交付対象融資期間_至：",{"$f":"'（別添１）融資計画詳細１'!$BL$13","v":""}]
[25,"別添1_C32","利子補給率",{"$f":"'（別添１）融資計画詳細１'!$BL$14","v":""}]
[26,"別添1_M43","利子補給金交付申請額（円）合計_単位期間Ⅰ",{"$f":"'（別添１）融資計画詳細１'!$BL$15","v":""}]
[27,"別添1_M51","利子補給金交付申請額（円）合計_単位期間Ⅱ",{"$f":"'（別添１）融資計画詳細１'!$BL$16","v":""}]
[28,"別添1_N35","利子補給金交付申請額合計（円）",{"$f":"'（別添１）融資計画詳細１'!$BL$17","v":0}]
[29,"別添1_I11","融資備考欄",{"$f":"'（別添１）融資計画詳細１'!$BL$18","v":""}]
[30,"別添1_I21","協調融資",{"$f":"'（別添１）融資計画詳細１'!$BL$19","v":""}]
[31,"別添1_I28","シンジケートローン",{"$f":"'（別添１）融資計画詳細１'!$BL$20","v":""}]
[32,"別添1-2_D9","事業者名",{"$f":"'（別添１）融資計画詳細２'!$BI$3","v":""}]
[33,"別添1-2_D11","設備等利用者名",{"$f":"'（別添１）融資計画詳細２'!$BI$4","v":""}]
[34,"別添1-2_D13","都道府県",{"$f":"'（別添１）融資計画詳細２'!$BI$5","v":""}]
[35,"別添1-2_D15","市区町村",{"$f":"'（別添１）融資計画詳細２'!$BI$6","v":""}]
[36,"別添1-2_D17","丁目・番地",{"$f":"'（別添１）融資計画詳細２'!$BI$7","v":""}]
[37,"別添1-2_D19","業種大分類",{"$f":"'（別添１）融資計画詳細２'!$BI$8","v":""}]
[38,"別添1-2_D21","業種分類項目名",{"$f":"'（別添１）融資計画詳細２'!$BI$9","v":""}]
[39,"別添1-2_D23","資本金",{"$f":"'（別添１）融資計画詳細２'!$BI$10","v":""}]
[40,"別添1-2_D25","従業員数",{"$f":"'（別添１）融資計画詳細２'!$BI$11","v":""}]
[41,"別添1-2_D27","企業の内容",{"$f":"'（別添１）融資計画詳細２'!$BI$12","v":""}]
[42,"別添1-2_D29","企業の規模",{"$f":"'（別添１）融資計画詳細２'!$BI$13","v":""}]
[43,"別添1-2_D34","都道府県",{"$f":"'（別添１）融資計画詳細２'!$BI$14","v":""}]
[44,"別添1-2_D36","市区町村",{"$f":"'（別添１）融資計画詳細２'!$BI$15","v":""}]
[45,"別添1-2_D38","丁目・番地",{"$f":"'（別添１）融資計画詳細２'!$BI$16","v":""}]
[46,"別添1-2_D43～55","対象要件１",{"$f":"'（別添１）融資計画詳細２'!$BI$17","v":""}]
[47,"別添1-2_D43～55","対象要件２",{"$f":"'（別添１）融資計画詳細２'!$BI$18","v":""}]
[48,"別添1-2_D61","設備導入区分１",{"$f":"'（別添１）融資計画詳細２'!$BI$19","v":""}]
[49,"別添1-2_D61","設備導入区分2",{"$f":"'（別添１）融資計画詳細２'!$BI$20","v":""}]
[50,"別添1-2_D63","導入設備の概要",{"$f":"'（別添１）融資計画詳細２'!$BI$21","v":""}]
[51,"別添1-2_D73","対象事業の概要",{"$f":"'（別添１）融資計画詳細２'!$BI$22","v":""}]
[52,"別添1-2_D86","経営革新計画の承認有無",{"$f":"'（別添１）融資計画詳細２'!$BI$23","v":""}]
[53,"別添1-2_D90","経営革新計画の承認取得年",{"$f":"'（別添１）融資計画詳細２'!$BI$24","v":""}]
[54,{"$f":"'（別添１）融資計画詳細３'!$BB$3","v":"別添1-3_F10"},{"$f":"'（別添１）融資計画詳細３'!$BC$3","v":"指定金融機関_担当部署等"},{"$f":"'（別添１）融資計画詳細３'!$BD$3","v":""}]
[55,{"$f":"'（別添１）融資計画詳細３'!$BB$4","v":"別添1-3_F13"},{"$f":"'（別添１）融資計画詳細３'!$BC$4","v":"指定金融機関_担当者名"},{"$f":"'（別添１）融資計画詳細３'!$BD$4","v":""}]
[56,{"$f":"'（別添１）融資計画詳細３'!$BB$5","v":"別添1-3_F16"},{"$f":"'（別添１）融資計画詳細３'!$BC$5","v":"指定金融機関_連絡先電話番号"},{"$f":"'（別添１）融資計画詳細３'!$BD$5","v":""}]
[57,{"$f":"'（別添１）融資計画詳細３'!$BB$6","v":"別添1-3_F19"},{"$f":"'（別添１）融資計画詳細３'!$BC$6","v":"指定金融機関_連絡先E-MAIL"},{"$f":"'（別添１）融資計画詳細３'!$BD$6","v":""}]
[58,{"$f":"'（別添１）融資計画詳細３'!$BB$7","v":"別添1-3_F25"},{"$f":"'（別添１）融資計画詳細３'!$BC$7","v":"利子補給対象事業者_担当部署等"},{"$f":"'（別添１）融資計画詳細３'!$BD$7","v":""}]
[59,{"$f":"'（別添１）融資計画詳細３'!$BB$8","v":"別添1-3_F28"},{"$f":"'（別添１）融資計画詳細３'!$BC$8","v":"利子補給対象事業者_担当者名"},{"$f":"'（別添１）融資計画詳細３'!$BD$8","v":""}]
[60,{"$f":"'（別添１）融資計画詳細３'!$BB$9","v":"別添1-3_F31"},{"$f":"'（別添１）融資計画詳細３'!$BC$9","v":"利子補給対象事業者_連絡先電話番号"},{"$f":"'（別添１）融資計画詳細３'!$BD$9","v":""}]
[61,{"$f":"'（別添１）融資計画詳細３'!$BB$10","v":"別添1-3_F34"},{"$f":"'（別添１）融資計画詳細３'!$BC$10","v":"利子補給対象事業者_連絡先E-MAIL"},{"$f":"'（別添１）融資計画詳細３'!$BD$10","v":""}]
[62,"様式第3_L2","受付番号",{"$f":"'（様式第３）交付申請書（新規融資案件）'!$AO$4","v":""}]
[63,"様式第3_L4","年",{"$f":"'（様式第３）交付申請書（新規融資案件）'!$AO$5","v":""}]
[64,"様式第3_N4","月",{"$f":"'（様式第３）交付申請書（新規融資案件）'!$AO$6","v":""}]
[65,"様式第3_P4","日",{"$f":"'（様式第３）交付申請書（新規融資案件）'!$AO$7","v":""}]
[{"$f":"ROW()-1","v":66},"様式第3_K14","指定金融機関_住所",{"$f":"'（様式第３）交付申請書（新規融資案件）'!$AO$8","v":""}]
[67,"様式第3_K17","指定金融機関_名称",{"$f":"'（様式第３）交付申請書（新規融資案件）'!$AO$9","v":""}]
[68,"様式第3_K20","指定金融機関_役職",{"$f":"'（様式第３）交付申請書（新規融資案件）'!$AO$10","v":""}]
[69,"様式第3_K22","指定金融機関_代表者名",{"$f":"'（様式第３）交付申請書（新規融資案件）'!$AO$11","v":""}]
[70,"様式第3_A37","交付方針決定日",{"$f":"'（様式第３）交付申請書（新規融資案件）'!$AO$12","v":""}]
[71,"様式第3_J37","交付方針決定通知番号",{"$f":"'（様式第３）交付申請書（新規融資案件）'!$AO$13","v":""}]
[72,"様式第3_B69","利子補給対象事業者名",{"$f":"'（様式第３）交付申請書（新規融資案件）'!$AO$14","v":""}]
[73,"様式第3_B73","融資名称",{"$f":"'（様式第３）交付申請書（新規融資案件）'!$AO$15","v":""}]
[74,"様式第3_B77","利子補給金交付申請額",{"$f":"'（様式第３）交付申請書（新規融資案件）'!$AO$16","v":""}]
[75,"様式第3_B81","交付対象融資の内容",{"$f":"'（様式第３）交付申請書（新規融資案件）'!$AO$17","v":""}]
[76,"別添1_C9","融資額",{"$f":"'（別添１）融資計画詳細１（交付申請）'!$BL$3","v":""}]
[77,"別添1_C11","元金均等返済額",{"$f":"'（別添１）融資計画詳細１（交付申請）'!$BL$4","v":""}]
[78,"別添1_C13","最終弁済額",{"$f":"'（別添１）融資計画詳細１（交付申請）'!$BL$5","v":""}]
[79,"別添1_C15","融資期間_自：",{"$f":"'（別添１）融資計画詳細１（交付申請）'!$BL$6","v":""}]
[80,"別添1_C17","融資期間_至：",{"$f":"'（別添１）融資計画詳細１（交付申請）'!$BL$7","v":""}]
[81,"別添1_C19","融資利率",{"$f":"'（別添１）融資計画詳細１（交付申請）'!$BL$8","v":""}]
[82,"別添1_C22","内　交付対象融資額",{"$f":"'（別添１）融資計画詳細１（交付申請）'!$BL$9","v":""}]
[83,"別添1_C24","元金均等返済額",{"$f":"'（別添１）融資計画詳細１（交付申請）'!$BL$10","v":""}]
[84,"別添1_C26","最終弁済額",{"$f":"'（別添１）融資計画詳細１（交付申請）'!$BL$11","v":""}]
[85,"別添1_C28","交付対象融資期間_自：",{"$f":"'（別添１）融資計画詳細１（交付申請）'!$BL$12","v":""}]
[86,"別添1_C30","交付対象融資期間_至：",{"$f":"'（別添１）融資計画詳細１（交付申請）'!$BL$13","v":""}]
[87,"別添1_C32","利子補給率",{"$f":"'（別添１）融資計画詳細１（交付申請）'!$BL$14","v":""}]
[88,"別添1_M43","利子補給金交付申請額（円）合計_単位期間Ⅰ",{"$f":"'（別添１）融資計画詳細１（交付申請）'!$BL$15","v":""}]
[89,"別添1_M51","利子補給金交付申請額（円）合計_単位期間Ⅱ",{"$f":"'（別添１）融資計画詳細１（交付申請）'!$BL$16","v":""}]
[90,"別添1_N35","利子補給金交付申請額合計（円）",{"$f":"'（別添１）融資計画詳細１（交付申請）'!$BL$17","v":0}]
[91,"別添1_I11","融資備考欄",{"$f":"'（別添１）融資計画詳細１（交付申請）'!$BL$18","v":""}]
[92,"別添1_I21","協調融資",{"$f":"'（別添１）融資計画詳細１（交付申請）'!$BL$19","v":""}]
[93,"別添1_I28","シンジケートローン",{"$f":"'（別添１）融資計画詳細１（交付申請）'!$BL$20","v":""}]
[94,"別添1-2_D9","事業者名",{"$f":"'（別添１）融資計画詳細２（交付申請）'!$BI$3","v":""}]
[95,"別添1-2_D11","設備等利用者名",{"$f":"'（別添１）融資計画詳細２（交付申請）'!$BI$4","v":""}]
[96,"別添1-2_D13","都道府県",{"$f":"'（別添１）融資計画詳細２（交付申請）'!$BI$5","v":""}]
[97,"別添1-2_D15","市区町村",{"$f":"'（別添１）融資計画詳細２（交付申請）'!$BI$6","v":""}]
[98,"別添1-2_D17","丁目・番地",{"$f":"'（別添１）融資計画詳細２（交付申請）'!$BI$7","v":""}]
[99,"別添1-2_D19","業種大分類",{"$f":"'（別添１）融資計画詳細２（交付申請）'!$BI$8","v":""}]
[100,"別添1-2_D21","業種分類項目名",{"$f":"'（別添１）融資計画詳細２（交付申請）'!$BI$9","v":""}]
[101,"別添1-2_D23","資本金",{"$f":"'（別添１）融資計画詳細２（交付申請）'!$BI$10","v":""}]
[102,"別添1-2_D25","従業員数",{"$f":"'（別添１）融資計画詳細２（交付申請）'!$BI$11","v":""}]
[103,"別添1-2_D27","企業の内容",{"$f":"'（別添１）融資計画詳細２（交付申請）'!$BI$12","v":""}]
[104,"別添1-2_D29","企業の規模",{"$f":"'（別添１）融資計画詳細２（交付申請）'!$BI$13","v":""}]
[105,"別添1-2_D34","都道府県",{"$f":"'（別添１）融資計画詳細２（交付申請）'!$BI$14","v":""}]
[106,"別添1-2_D36","市区町村",{"$f":"'（別添１）融資計画詳細２（交付申請）'!$BI$15","v":""}]
[107,"別添1-2_D38","丁目・番地",{"$f":"'（別添１）融資計画詳細２（交付申請）'!$BI$16","v":""}]
[108,"別添1-2_D43～55","対象要件１",{"$f":"'（別添１）融資計画詳細２（交付申請）'!$BI$17","v":""}]
[109,"別添1-2_D43～55","対象要件２",{"$f":"'（別添１）融資計画詳細２（交付申請）'!$BI$18","v":""}]
[110,"別添1-2_D61","設備導入区分１",{"$f":"'（別添１）融資計画詳細２（交付申請）'!$BI$19","v":""}]
[111,"別添1-2_D61","設備導入区分2",{"$f":"'（別添１）融資計画詳細２（交付申請）'!$BI$20","v":""}]
[112,"別添1-2_D63","導入設備の概要",{"$f":"'（別添１）融資計画詳細２（交付申請）'!$BI$21","v":""}]
[113,"別添1-2_D73","対象事業の概要",{"$f":"'（別添１）融資計画詳細２（交付申請）'!$BI$22","v":""}]
[114,"様式9_L6","年",{"$f":"'（様式第９）実績報告書'!$AN$4","v":""}]
[115,"様式9_N6","月",{"$f":"'（様式第９）実績報告書'!$AN$5","v":""}]
[116,"様式9_P6","日",{"$f":"'（様式第９）実績報告書'!$AN$6","v":""}]
[117,"様式9_K16","指定金融機関_住所",{"$f":"'（様式第９）実績報告書'!$AN$7","v":""}]
[118,"様式9_K19","指定金融機関_名称",{"$f":"'（様式第９）実績報告書'!$AN$8","v":""}]
[119,"様式9_K22","指定金融機関_役職",{"$f":"'（様式第９）実績報告書'!$AN$9","v":""}]
[120,"様式9_K24","指定金融機関_代表者名",{"$f":"'（様式第９）実績報告書'!$AN$10","v":""}]
[121,"様式9_A40","交付決定日",{"$f":"'（様式第９）実績報告書'!$AN$11","v":""}]
[122,"様式9_H40","交付決定番号",{"$f":"'（様式第９）実績報告書'!$AN$12","v":""}]
[123,"様式9_B71","利子補給対象事業者名",{"$f":"'（様式第９）実績報告書'!$AN$13","v":""}]
[124,"様式9_B75","融資名称",{"$f":"'（様式第９）実績報告書'!$AN$14","v":""}]
[125,"様式9_B79","利子補給金額",{"$f":"'（様式第９）実績報告書'!$AN$15","v":""}]
[126,"様式9_B83","交付対象融資の内容",{"$f":"'（様式第９）実績報告書'!$AN$16","v":""}]
[127,"別添1_C9","融資額",{"$f":"'（別添1）融資計画詳細１（実績報告）'!$BL$3","v":""}]
[128,"別添1_C11","元金均等返済額",{"$f":"'（別添1）融資計画詳細１（実績報告）'!$BL$4","v":""}]
[129,"別添1_C13","最終弁済額",{"$f":"'（別添1）融資計画詳細１（実績報告）'!$BL$5","v":""}]
[130,"別添1_C15","融資期間_自：",{"$f":"'（別添1）融資計画詳細１（実績報告）'!$BL$6","v":""}]
[131,"別添1_C17","融資期間_至：",{"$f":"'（別添1）融資計画詳細１（実績報告）'!$BL$7","v":""}]
[{"$f":"ROW()-1","v":132},"別添1_C19","融資利率",{"$f":"'（別添1）融資計画詳細１（実績報告）'!$BL$8","v":""}]
[133,"別添1_C22","内　交付対象融資額",{"$f":"'（別添1）融資計画詳細１（実績報告）'!$BL$9","v":""}]
[134,"別添1_C24","元金均等返済額",{"$f":"'（別添1）融資計画詳細１（実績報告）'!$BL$10","v":""}]
[135,"別添1_C26","最終弁済額",{"$f":"'（別添1）融資計画詳細１（実績報告）'!$BL$11","v":""}]
[136,"別添1_C28","交付対象融資期間_自：",{"$f":"'（別添1）融資計画詳細１（実績報告）'!$BL$12","v":""}]
[137,"別添1_C30","交付対象融資期間_至：",{"$f":"'（別添1）融資計画詳細１（実績報告）'!$BL$13","v":""}]
[138,"別添1_C32","利子補給率",{"$f":"'（別添1）融資計画詳細１（実績報告）'!$BL$14","v":""}]
[139,"別添1_M43","利子補給金交付申請額（円）合計_単位期間Ⅰ",{"$f":"'（別添1）融資計画詳細１（実績報告）'!$BL$15","v":""}]
[140,"別添1_M51","利子補給金交付申請額（円）合計_単位期間Ⅱ",{"$f":"'（別添1）融資計画詳細１（実績報告）'!$BL$16","v":""}]
[141,"別添1_N35","利子補給金交付申請額合計（円）",{"$f":"'（別添1）融資計画詳細１（実績報告）'!$BL$17","v":0}]
[142,"別添1_I11","融資備考欄",{"$f":"'（別添1）融資計画詳細１（実績報告）'!$BL$18","v":""}]
[143,"別添1_I21","協調融資",{"$f":"'（別添1）融資計画詳細１（実績報告）'!$BL$19","v":""}]
[144,"別添1_I28","シンジケートローン",{"$f":"'（別添1）融資計画詳細１（実績報告）'!$BL$20","v":""}]
[145,"別添1-2_D9","事業者名",{"$f":"'（別添１）融資計画詳細２（実績報告）'!$BI$3","v":""}]
[146,"別添1-2_D11","設備等利用者名",{"$f":"'（別添１）融資計画詳細２（実績報告）'!$BI$4","v":""}]
[147,"別添1-2_D13","都道府県",{"$f":"'（別添１）融資計画詳細２（実績報告）'!$BI$5","v":""}]
[148,"別添1-2_D15","市区町村",{"$f":"'（別添１）融資計画詳細２（実績報告）'!$BI$6","v":""}]
[149,"別添1-2_D17","丁目・番地",{"$f":"'（別添１）融資計画詳細２（実績報告）'!$BI$7","v":""}]
[150,"別添1-2_D19","業種大分類",{"$f":"'（別添１）融資計画詳細２（実績報告）'!$BI$8","v":""}]
[151,"別添1-2_D21","業種分類項目名",{"$f":"'（別添１）融資計画詳細２（実績報告）'!$BI$9","v":""}]
[152,"別添1-2_D23","資本金",{"$f":"'（別添１）融資計画詳細２（実績報告）'!$BI$10","v":""}]
[153,"別添1-2_D25","従業員数",{"$f":"'（別添１）融資計画詳細２（実績報告）'!$BI$11","v":""}]
[154,"別添1-2_D27","企業の内容",{"$f":"'（別添１）融資計画詳細２（実績報告）'!$BI$12","v":""}]
[155,"別添1-2_D29","企業の規模",{"$f":"'（別添１）融資計画詳細２（実績報告）'!$BI$13","v":""}]
[156,"別添1-2_D34","都道府県",{"$f":"'（別添１）融資計画詳細２（実績報告）'!$BI$14","v":""}]
[157,"別添1-2_D36","市区町村",{"$f":"'（別添１）融資計画詳細２（実績報告）'!$BI$15","v":""}]
[158,"別添1-2_D38","丁目・番地",{"$f":"'（別添１）融資計画詳細２（実績報告）'!$BI$16","v":""}]
[159,"別添1-2_D43～55","対象要件１",{"$f":"'（別添１）融資計画詳細２（実績報告）'!$BI$17","v":""}]
[160,"別添1-2_D43～55","対象要件２",{"$f":"'（別添１）融資計画詳細２（実績報告）'!$BI$18","v":""}]
[161,"別添1-2_D61","設備導入区分１",{"$f":"'（別添１）融資計画詳細２（実績報告）'!$BI$19","v":""}]
[162,"別添1-2_D61","設備導入区分2",{"$f":"'（別添１）融資計画詳細２（実績報告）'!$BI$20","v":""}]
[163,"別添1-2_D63","導入設備の概要",{"$f":"'（別添１）融資計画詳細２（実績報告）'!$BI$21","v":""}]
[164,"別添1-2_D73","対象事業の概要",{"$f":"'（別添１）融資計画詳細２（実績報告）'!$BI$22","v":""}]
[165,"別添1-2_D86","給与支給総額の伸び率が年平均1.5%を達成できているか",{"$f":"'（別添１）融資計画詳細２（実績報告）'!$BI$23","v":""}]
[166,"別添1-2_D90","未達成の事由",{"$f":"'（別添１）融資計画詳細２（実績報告）'!$BI$24","v":""}]
[167,"別添1-2_D91","未達成の事由（その他）",{"$f":"'（別添１）融資計画詳細２（実績報告）'!$BI$25","v":""}]
[{"$f":"ROW()-1","v":168},"様式11概_L6","年",{"$f":"'（様式第１１）概算払請求書'!$AN$4","v":""}]
[169,"様式11概_N6","月",{"$f":"'（様式第１１）概算払請求書'!$AN$5","v":""}]
[170,"様式11概_P6","日",{"$f":"'（様式第１１）概算払請求書'!$AN$6","v":""}]
[171,"様式11概_K16","指定金融機関_住所",{"$f":"'（様式第１１）概算払請求書'!$AN$7","v":""}]
[172,"様式11概_K19","指定金融機関_名称",{"$f":"'（様式第１１）概算払請求書'!$AN$8","v":""}]
[173,"様式11概_K22","指定金融機関_役職",{"$f":"'（様式第１１）概算払請求書'!$AN$9","v":""}]
[174,"様式11概_K24","指定金融機関_代表者名",{"$f":"'（様式第１１）概算払請求書'!$AN$10","v":""}]
[175,"様式11概_A40","交付決定日",{"$f":"'（様式第１１）概算払請求書'!$AN$11","v":""}]
[176,"様式11概_H40","交付決定番号",{"$f":"'（様式第１１）概算払請求書'!$AN$12","v":""}]
[177,"様式11概_B71","利子補給対象事業者名",{"$f":"'（様式第１１）概算払請求書'!$AN$13","v":""}]
[178,"様式11概_B75","融資名称",{"$f":"'（様式第１１）概算払請求書'!$AN$14","v":""}]
[179,"様式11概_B79","利子補給金概算払請求金額",{"$f":"'（様式第１１）概算払請求書'!$AN$15","v":""}]
[180,"様式11概_D85","金融機関名",{"$f":"'（様式第１１）概算払請求書'!$AN$16","v":""}]
[181,"様式11概_K85","銀行コード\n（4桁）",{"$f":"'（様式第１１）概算払請求書'!$AN$17","v":""}]
[182,"様式11概_D87","支店名",{"$f":"'（様式第１１）概算払請求書'!$AN$18","v":""}]
[183,"様式11概_K87","支店コード\n（3桁）",{"$f":"'（様式第１１）概算払請求書'!$AN$19","v":""}]
[184,"様式11概_D89","預金の種別",{"$f":"'（様式第１１）概算払請求書'!$AN$20","v":""}]
[185,"様式11概_K89","口座番号\n（7桁）",{"$f":"'（様式第１１）概算払請求書'!$AN$21","v":""}]
[186,"様式11概_D91","預金の名義",{"$f":"'（様式第１１）概算払請求書'!$AN$22","v":""}]
[187,"様式11概_K91","預金の名義\n（ｶﾅ）",{"$f":"'（様式第１１）概算払請求書'!$AN$23","v":""}]
[188,"様式11精_L6","年",{"$f":"'（様式第１１）精算払請求書'!$AN$4","v":""}]
[189,"様式11精_N6","月",{"$f":"'（様式第１１）精算払請求書'!$AN$5","v":""}]
[190,"様式11精_P6","日",{"$f":"'（様式第１１）精算払請求書'!$AN$6","v":""}]
[191,"様式11精_K16","指定金融機関_住所",{"$f":"'（様式第１１）精算払請求書'!$AN$7","v":""}]
[192,"様式11精_K19","指定金融機関_名称",{"$f":"'（様式第１１）精算払請求書'!$AN$8","v":""}]
[193,"様式11精_K22","指定金融機関_役職",{"$f":"'（様式第１１）精算払請求書'!$AN$9","v":""}]
[194,"様式11精_K24","指定金融機関_代表者名",{"$f":"'（様式第１１）精算払請求書'!$AN$10","v":""}]
[195,"様式11精_A40","交付決定日",{"$f":"'（様式第１１）精算払請求書'!$AN$11","v":""}]
[196,"様式11精_H40","交付決定番号",{"$f":"'（様式第１１）精算払請求書'!$AN$12","v":""}]
[197,"様式11精_B71","利子補給対象事業者名",{"$f":"'（様式第１１）精算払請求書'!$AN$13","v":""}]
[198,"様式11精_B75","融資名称",{"$f":"'（様式第１１）精算払請求書'!$AN$14","v":""}]
[199,"様式11精_B79","利子補給金概算払請求金額",{"$f":"'（様式第１１）精算払請求書'!$AN$15","v":""}]
[200,"様式11精_D85","金融機関名",{"$f":"'（様式第１１）精算払請求書'!$AN$16","v":""}]
[{"$f":"ROW()-1","v":201},"様式11精_K85","銀行コード\n（4桁）",{"$f":"'（様式第１１）精算払請求書'!$AN$17","v":""}]
[202,"様式11精_D87","支店名",{"$f":"'（様式第１１）精算払請求書'!$AN$18","v":""}]
[203,"様式11精_K87","支店コード\n（3桁）",{"$f":"'（様式第１１）精算払請求書'!$AN$19","v":""}]
[204,"様式11精_D89","預金の種別",{"$f":"'（様式第１１）精算払請求書'!$AN$20","v":""}]
[205,"様式11精_K89","口座番号\n（7桁）",{"$f":"'（様式第１１）精算払請求書'!$AN$21","v":""}]
[206,"様式11精_D91","預金の名義",{"$f":"'（様式第１１）精算払請求書'!$AN$22","v":""}]
[207,"様式11精_K91","預金の名義\n（ｶﾅ）",{"$f":"'（様式第１１）精算払請求書'!$AN$23","v":""}]
[208,"別添4_0_1","年間見込み省エネルギー率[%]",{"$f":"'（別添４）エネルギー消費効率の根拠（要件ア）'!$G$4","v":""}]
[209,"別添4_0_2","年間見込み省エネルギー量[kl]",{"$f":"'（別添４）エネルギー消費効率の根拠（要件ア）'!$G$5","v":""}]
[210,{"$f":"'（別添４）エネルギー消費効率の根拠（要件ア）'!$D$40","v":"別添4_1_1"},{"$f":"'（別添４）エネルギー消費効率の根拠（要件ア）'!$E$40","v":"トップランナー基準"},{"$f":"'（別添４）エネルギー消費効率の根拠（要件ア）'!$F$40","v":0}]
[211,{"$f":"'（別添４）エネルギー消費効率の根拠（要件ア）'!$D$41","v":"別添4_1_2"},{"$f":"'（別添４）エネルギー消費効率の根拠（要件ア）'!$E$41","v":"トップランナー基準の区分名又は数値"},{"$f":"'（別添４）エネルギー消費効率の根拠（要件ア）'!$F$41","v":0}]
[212,{"$f":"'（別添４）エネルギー消費効率の根拠（要件ア）'!$D$42","v":"別添4_1_3"},{"$f":"'（別添４）エネルギー消費効率の根拠（要件ア）'!$E$42","v":"トップランナー基準の数値（導入設備）"},{"$f":"'（別添４）エネルギー消費効率の根拠（要件ア）'!$F$42","v":0}]
[213,{"$f":"'（別添４）エネルギー消費効率の根拠（要件ア）'!$D$43","v":"別添4_1_4"},{"$f":"'（別添４）エネルギー消費効率の根拠（要件ア）'!$E$43","v":"比較指標/トップランナー基準"},{"$f":"'（別添４）エネルギー消費効率の根拠（要件ア）'!$F$43","v":0}]
[214,{"$f":"'（別添４）エネルギー消費効率の根拠（要件ア）'!$D$44","v":"別添4_1_5"},{"$f":"'（別添４）エネルギー消費効率の根拠（要件ア）'!$E$44","v":"添付資料の根拠記載箇所"},{"$f":"'（別添４）エネルギー消費効率の根拠（要件ア）'!$F$44","v":0}]
[215,{"$f":"'（別添４）エネルギー消費効率の根拠（要件ア）'!$D$45","v":"別添4_1_6"},{"$f":"'（別添４）エネルギー消費効率の根拠（要件ア）'!$E$45","v":"省エネ要因"},{"$f":"'（別添４）エネルギー消費効率の根拠（要件ア）'!$F$45","v":0}]
[216,{"$f":"'（別添４）エネルギー消費効率の根拠（要件ア）'!$D$46","v":"別添4_1_7"},{"$f":"'（別添４）エネルギー消費効率の根拠（要件ア）'!$E$46","v":"導入設備_製品名"},{"$f":"'（別添４）エネルギー消費効率の根拠（要件ア）'!$F$46","v":0}]
[217,{"$f":"'（別添４）エネルギー消費効率の根拠（要件ア）'!$D$47","v":"別添4_1_8"},{"$f":"'（別添４）エネルギー消費効率の根拠（要件ア）'!$E$47","v":"導入設備_製造メーカー"},{"$f":"'（別添４）エネルギー消費効率の根拠（要件ア）'!$F$47","v":0}]
[218,{"$f":"'（別添４）エネルギー消費効率の根拠（要件ア）'!$D$48","v":"別添4_1_9"},{"$f":"'（別添４）エネルギー消費効率の根拠（要件ア）'!$E$48","v":"導入設備_型番"},{"$f":"'（別添４）エネルギー消費効率の根拠（要件ア）'!$F$48","v":0}]
[219,{"$f":"'（別添４）エネルギー消費効率の根拠（要件ア）'!$D$49","v":"別添4_1_10"},{"$f":"'（別添４）エネルギー消費効率の根拠（要件ア）'!$E$49","v":"導入設備_導入台数"},{"$f":"'（別添４）エネルギー消費効率の根拠（要件ア）'!$F$49","v":"台"}]
[220,{"$f":"'（別添４）エネルギー消費効率の根拠（要件ア）'!$D$50","v":"別添4_1_11"},{"$f":"'（別添４）エネルギー消費効率の根拠（要件ア）'!$E$50","v":"導入設備_1台あたりの使用エネルギー"},{"$f":"'（別添４）エネルギー消費効率の根拠（要件ア）'!$F$50","v":0}]
[221,{"$f":"'（別添４）エネルギー消費効率の根拠（要件ア）'!$D$51","v":"別添4_1_12"},{"$f":"'（別添４）エネルギー消費効率の根拠（要件ア）'!$E$51","v":"導入設備_年間エネルギー使用量計算式"},{"$f":"'（別添４）エネルギー消費効率の根拠（要件ア）'!$F$51","v":0}]
[222,{"$f":"'（別添４）エネルギー消費効率の根拠（要件ア）'!$D$52","v":"別添4_1_13"},{"$f":"'（別添４）エネルギー消費効率の根拠（要件ア）'!$E$52","v":"導入設備_計算結果"},{"$f":"'（別添４）エネルギー消費効率の根拠（要件ア）'!$F$52","v":"単位を選択してください"}]
[223,{"$f":"'（別添４）エネルギー消費効率の根拠（要件ア）'!$D$53","v":"別添4_1_14"},{"$f":"'（別添４）エネルギー消費効率の根拠（要件ア）'!$E$53","v":"一代前モデル_製品名"},{"$f":"'（別添４）エネルギー消費効率の根拠（要件ア）'!$F$53","v":0}]
[224,{"$f":"'（別添４）エネルギー消費効率の根拠（要件ア）'!$D$54","v":"別添4_1_15"},{"$f":"'（別添４）エネルギー消費効率の根拠（要件ア）'!$E$54","v":"一代前モデル_製造メーカー"},{"$f":"'（別添４）エネルギー消費効率の根拠（要件ア）'!$F$54","v":0}]
[225,{"$f":"'（別添４）エネルギー消費効率の根拠（要件ア）'!$D$55","v":"別添4_1_16"},{"$f":"'（別添４）エネルギー消費効率の根拠（要件ア）'!$E$55","v":"一代前モデル_型番"},{"$f":"'（別添４）エネルギー消費効率の根拠（要件ア）'!$F$55","v":0}]
[226,{"$f":"'（別添４）エネルギー消費効率の根拠（要件ア）'!$D$56","v":"別添4_1_17"},{"$f":"'（別添４）エネルギー消費効率の根拠（要件ア）'!$E$56","v":"一代前モデル_導入台数"},{"$f":"'（別添４）エネルギー消費効率の根拠（要件ア）'!$F$56","v":"台"}]
[227,{"$f":"'（別添４）エネルギー消費効率の根拠（要件ア）'!$D$57","v":"別添4_1_18"},{"$f":"'（別添４）エネルギー消費効率の根拠（要件ア）'!$E$57","v":"一代前モデル_1台あたりの使用エネルギー"},{"$f":"'（別添４）エネルギー消費効率の根拠（要件ア）'!$F$57","v":0}]
[228,{"$f":"'（別添４）エネルギー消費効率の根拠（要件ア）'!$D$58","v":"別添4_1_19"},{"$f":"'（別添４）エネルギー消費効率の根拠（要件ア）'!$E$58","v":"一代前モデル_年間エネルギー使用量計算式"},{"$f":"'（別添４）エネルギー消費効率の根拠（要件ア）'!$F$58","v":0}]
[229,{"$f":"'（別添４）エネルギー消費効率の根拠（要件ア）'!$D$59","v":"別添4_1_20"},{"$f":"'（別添４）エネルギー消費効率の根拠（要件ア）'!$E$59","v":"一代前モデル_計算結果"},{"$f":"'（別添４）エネルギー消費効率の根拠（要件ア）'!$F$59","v":"単位を選択してください"}]
[230,{"$f":"'（別添４）エネルギー消費効率の根拠（要件ア）'!$D$60","v":"別添4_1_21"},{"$f":"'（別添４）エネルギー消費効率の根拠（要件ア）'!$E$60","v":"年間見込み省エネルギー量__計算結果"},{"$f":"'（別添４）エネルギー消費効率の根拠（要件ア）'!$F$60","v":"0単位を選択してください"}]
[231,{"$f":"'（別添４）エネルギー消費効率の根拠（要件ア）'!$D$61","v":"別添4_1_22"},{"$f":"'（別添４）エネルギー消費効率の根拠（要件ア）'!$E$61","v":"年間見込み省エネルギー量_原油換算計算式"},{"$f":"'（別添４）エネルギー消費効率の根拠（要件ア）'!$F$61","v":0}]
[232,{"$f":"'（別添４）エネルギー消費効率の根拠（要件ア）'!$D$62","v":"別添4_1_23"},{"$f":"'（別添４）エネルギー消費効率の根拠（要件ア）'!$E$62","v":"年間見込み省エネルギー量原油換算計算結果"},{"$f":"'（別添４）エネルギー消費効率の根拠（要件ア）'!$F$62","v":0}]
[233,{"$f":"'（別添４）エネルギー消費効率の根拠（要件ア）'!$D$63","v":"別添4_1_24"},{"$f":"'（別添４）エネルギー消費効率の根拠（要件ア）'!$E$63","v":"年間見込み省エネルギー率_自動計算"},{"$f":"'（別添４）エネルギー消費効率の根拠（要件ア）'!$F$63","v":""}]
[234,{"$f":"'（別添４）エネルギー消費効率の根拠（要件ア）'!$H$40","v":"別添4_2_1"},{"$f":"'（別添４）エネルギー消費効率の根拠（要件ア）'!$I$40","v":"トップランナー基準"},{"$f":"'（別添４）エネルギー消費効率の根拠（要件ア）'!$J$40","v":0}]
[235,{"$f":"'（別添４）エネルギー消費効率の根拠（要件ア）'!$H$41","v":"別添4_2_2"},{"$f":"'（別添４）エネルギー消費効率の根拠（要件ア）'!$I$41","v":"トップランナー基準の区分名又は数値"},{"$f":"'（別添４）エネルギー消費効率の根拠（要件ア）'!$J$41","v":0}]
[236,{"$f":"'（別添４）エネルギー消費効率の根拠（要件ア）'!$H$42","v":"別添4_2_3"},{"$f":"'（別添４）エネルギー消費効率の根拠（要件ア）'!$I$42","v":"トップランナー基準の数値（導入設備）"},{"$f":"'（別添４）エネルギー消費効率の根拠（要件ア）'!$J$42","v":0}]
[237,{"$f":"'（別添４）エネルギー消費効率の根拠（要件ア）'!$H$43","v":"別添4_2_4"},{"$f":"'（別添４）エネルギー消費効率の根拠（要件ア）'!$I$43","v":"比較指標/トップランナー基準"},{"$f":"'（別添４）エネルギー消費効率の根拠（要件ア）'!$J$43","v":0}]
[238,{"$f":"'（別添４）エネルギー消費効率の根拠（要件ア）'!$H$44","v":"別添4_2_5"},{"$f":"'（別添４）エネルギー消費効率の根拠（要件ア）'!$I$44","v":"添付資料の根拠記載箇所"},{"$f":"'（別添４）エネルギー消費効率の根拠（要件ア）'!$J$44","v":0}]
[239,{"$f":"'（別添４）エネルギー消費効率の根拠（要件ア）'!$H$45","v":"別添4_2_6"},{"$f":"'（別添４）エネルギー消費効率の根拠（要件ア）'!$I$45","v":"省エネ要因"},{"$f":"'（別添４）エネルギー消費効率の根拠（要件ア）'!$J$45","v":0}]
[240,{"$f":"'（別添４）エネルギー消費効率の根拠（要件ア）'!$H$46","v":"別添4_2_7"},{"$f":"'（別添４）エネルギー消費効率の根拠（要件ア）'!$I$46","v":"導入設備_製品名"},{"$f":"'（別添４）エネルギー消費効率の根拠（要件ア）'!$J$46","v":0}]
[241,{"$f":"'（別添４）エネルギー消費効率の根拠（要件ア）'!$H$47","v":"別添4_2_8"},{"$f":"'（別添４）エネルギー消費効率の根拠（要件ア）'!$I$47","v":"導入設備_製造メーカー"},{"$f":"'（別添４）エネルギー消費効率の根拠（要件ア）'!$J$47","v":0}]
[242,{"$f":"'（別添４）エネルギー消費効率の根拠（要件ア）'!$H$48","v":"別添4_2_9"},{"$f":"'（別添４）エネルギー消費効率の根拠（要件ア）'!$I$48","v":"導入設備_型番"},{"$f":"'（別添４）エネルギー消費効率の根拠（要件ア）'!$J$48","v":0}]
[243,{"$f":"'（別添４）エネルギー消費効率の根拠（要件ア）'!$H$49","v":"別添4_2_10"},{"$f":"'（別添４）エネルギー消費効率の根拠（要件ア）'!$I$49","v":"導入設備_導入台数"},{"$f":"'（別添４）エネルギー消費効率の根拠（要件ア）'!$J$49","v":"台"}]
[244,{"$f":"'（別添４）エネルギー消費効率の根拠（要件ア）'!$H$50","v":"別添4_2_11"},{"$f":"'（別添４）エネルギー消費効率の根拠（要件ア）'!$I$50","v":"導入設備_1台あたりの使用エネルギー"},{"$f":"'（別添４）エネルギー消費効率の根拠（要件ア）'!$J$50","v":0}]
[245,{"$f":"'（別添４）エネルギー消費効率の根拠（要件ア）'!$H$51","v":"別添4_2_12"},{"$f":"'（別添４）エネルギー消費効率の根拠（要件ア）'!$I$51","v":"導入設備_年間エネルギー使用量計算式"},{"$f":"'（別添４）エネルギー消費効率の根拠（要件ア）'!$J$51","v":0}]
[246,{"$f":"'（別添４）エネルギー消費効率の根拠（要件ア）'!$H$52","v":"別添4_2_13"},{"$f":"'（別添４）エネルギー消費効率の根拠（要件ア）'!$I$52","v":"導入設備_計算結果"},{"$f":"'（別添４）エネルギー消費効率の根拠（要件ア）'!$J$52","v":"単位を選択してください"}]
[247,{"$f":"'（別添４）エネルギー消費効率の根拠（要件ア）'!$H$53","v":"別添4_2_14"},{"$f":"'（別添４）エネルギー消費効率の根拠（要件ア）'!$I$53","v":"一代前モデル_製品名"},{"$f":"'（別添４）エネルギー消費効率の根拠（要件ア）'!$J$53","v":0}]
[248,{"$f":"'（別添４）エネルギー消費効率の根拠（要件ア）'!$H$54","v":"別添4_2_15"},{"$f":"'（別添４）エネルギー消費効率の根拠（要件ア）'!$I$54","v":"一代前モデル_製造メーカー"},{"$f":"'（別添４）エネルギー消費効率の根拠（要件ア）'!$J$54","v":0}]
[249,{"$f":"'（別添４）エネルギー消費効率の根拠（要件ア）'!$H$55","v":"別添4_2_16"},{"$f":"'（別添４）エネルギー消費効率の根拠（要件ア）'!$I$55","v":"一代前モデル_型番"},{"$f":"'（別添４）エネルギー消費効率の根拠（要件ア）'!$J$55","v":0}]
[250,{"$f":"'（別添４）エネルギー消費効率の根拠（要件ア）'!$H$56","v":"別添4_2_17"},{"$f":"'（別添４）エネルギー消費効率の根拠（要件ア）'!$I$56","v":"一代前モデル_導入台数"},{"$f":"'（別添４）エネルギー消費効率の根拠（要件ア）'!$J$56","v":"台"}]
[251,{"$f":"'（別添４）エネルギー消費効率の根拠（要件ア）'!$H$57","v":"別添4_2_18"},{"$f":"'（別添４）エネルギー消費効率の根拠（要件ア）'!$I$57","v":"一代前モデル_1台あたりの使用エネルギー"},{"$f":"'（別添４）エネルギー消費効率の根拠（要件ア）'!$J$57","v":0}]
[252,{"$f":"'（別添４）エネルギー消費効率の根拠（要件ア）'!$H$58","v":"別添4_2_19"},{"$f":"'（別添４）エネルギー消費効率の根拠（要件ア）'!$I$58","v":"一代前モデル_年間エネルギー使用量計算式"},{"$f":"'（別添４）エネルギー消費効率の根拠（要件ア）'!$J$58","v":0}]
[253,{"$f":"'（別添４）エネルギー消費効率の根拠（要件ア）'!$H$59","v":"別添4_2_20"},{"$f":"'（別添４）エネルギー消費効率の根拠（要件ア）'!$I$59","v":"一代前モデル_計算結果"},{"$f":"'（別添４）エネルギー消費効率の根拠（要件ア）'!$J$59","v":"単位を選択してください"}]
[254,{"$f":"'（別添４）エネルギー消費効率の根拠（要件ア）'!$H$60","v":"別添4_2_21"},{"$f":"'（別添４）エネルギー消費効率の根拠（要件ア）'!$I$60","v":"年間見込み省エネルギー量__計算結果"},{"$f":"'（別添４）エネルギー消費効率の根拠（要件ア）'!$J$60","v":"0単位を選択してください"}]
[255,{"$f":"'（別添４）エネルギー消費効率の根拠（要件ア）'!$H$61","v":"別添4_2_22"},{"$f":"'（別添４）エネルギー消費効率の根拠（要件ア）'!$I$61","v":"年間見込み省エネルギー量_原油換算計算式"},{"$f":"'（別添４）エネルギー消費効率の根拠（要件ア）'!$J$61","v":0}]
[256,{"$f":"'（別添４）エネルギー消費効率の根拠（要件ア）'!$H$62","v":"別添4_2_23"},{"$f":"'（別添４）エネルギー消費効率の根拠（要件ア）'!$I$62","v":"年間見込み省エネルギー量原油換算計算結果"},{"$f":"'（別添４）エネルギー消費効率の根拠（要件ア）'!$J$62","v":0}]
[257,{"$f":"'（別添４）エネルギー消費効率の根拠（要件ア）'!$H$63","v":"別添4_2_24"},{"$f":"'（別添４）エネルギー消費効率の根拠（要件ア）'!$I$63","v":"年間見込み省エネルギー率_自動計算"},{"$f":"'（別添４）エネルギー消費効率の根拠（要件ア）'!$J$63","v":""}]
[258,{"$f":"'（別添４）エネルギー消費効率の根拠（要件ア）'!$L$40","v":"別添4_3_1"},{"$f":"'（別添４）エネルギー消費効率の根拠（要件ア）'!$M$40","v":"トップランナー基準"},{"$f":"'（別添４）エネルギー消費効率の根拠（要件ア）'!$N$40","v":0}]
[259,{"$f":"'（別添４）エネルギー消費効率の根拠（要件ア）'!$L$41","v":"別添4_3_2"},{"$f":"'（別添４）エネルギー消費効率の根拠（要件ア）'!$M$41","v":"トップランナー基準の区分名又は数値"},{"$f":"'（別添４）エネルギー消費効率の根拠（要件ア）'!$N$41","v":0}]
[260,{"$f":"'（別添４）エネルギー消費効率の根拠（要件ア）'!$L$42","v":"別添4_3_3"},{"$f":"'（別添４）エネルギー消費効率の根拠（要件ア）'!$M$42","v":"トップランナー基準の数値（導入設備）"},{"$f":"'（別添４）エネルギー消費効率の根拠（要件ア）'!$N$42","v":0}]
[261,{"$f":"'（別添４）エネルギー消費効率の根拠（要件ア）'!$L$43","v":"別添4_3_4"},{"$f":"'（別添４）エネルギー消費効率の根拠（要件ア）'!$M$43","v":"比較指標/トップランナー基準"},{"$f":"'（別添４）エネルギー消費効率の根拠（要件ア）'!$N$43","v":0}]
[262,{"$f":"'（別添４）エネルギー消費効率の根拠（要件ア）'!$L$44","v":"別添4_3_5"},{"$f":"'（別添４）エネルギー消費効率の根拠（要件ア）'!$M$44","v":"添付資料の根拠記載箇所"},{"$f":"'（別添４）エネルギー消費効率の根拠（要件ア）'!$N$44","v":0}]
[263,{"$f":"'（別添４）エネルギー消費効率の根拠（要件ア）'!$L$45","v":"別添4_3_6"},{"$f":"'（別添４）エネルギー消費効率の根拠（要件ア）'!$M$45","v":"省エネ要因"},{"$f":"'（別添４）エネルギー消費効率の根拠（要件ア）'!$N$45","v":0}]
[264,{"$f":"'（別添４）エネルギー消費効率の根拠（要件ア）'!$L$46","v":"別添4_3_7"},{"$f":"'（別添４）エネルギー消費効率の根拠（要件ア）'!$M$46","v":"導入設備_製品名"},{"$f":"'（別添４）エネルギー消費効率の根拠（要件ア）'!$N$46","v":0}]
[265,{"$f":"'（別添４）エネルギー消費効率の根拠（要件ア）'!$L$47","v":"別添4_3_8"},{"$f":"'（別添４）エネルギー消費効率の根拠（要件ア）'!$M$47","v":"導入設備_製造メーカー"},{"$f":"'（別添４）エネルギー消費効率の根拠（要件ア）'!$N$47","v":0}]
[266,{"$f":"'（別添４）エネルギー消費効率の根拠（要件ア）'!$L$48","v":"別添4_3_9"},{"$f":"'（別添４）エネルギー消費効率の根拠（要件ア）'!$M$48","v":"導入設備_型番"},{"$f":"'（別添４）エネルギー消費効率の根拠（要件ア）'!$N$48","v":0}]
[{"$f":"ROW()-1","v":267},{"$f":"'（別添４）エネルギー消費効率の根拠（要件ア）'!$L$49","v":"別添4_3_10"},{"$f":"'（別添４）エネルギー消費効率の根拠（要件ア）'!$M$49","v":"導入設備_導入台数"},{"$f":"'（別添４）エネルギー消費効率の根拠（要件ア）'!$N$49","v":"台"}]
[268,{"$f":"'（別添４）エネルギー消費効率の根拠（要件ア）'!$L$50","v":"別添4_3_11"},{"$f":"'（別添４）エネルギー消費効率の根拠（要件ア）'!$M$50","v":"導入設備_1台あたりの使用エネルギー"},{"$f":"'（別添４）エネルギー消費効率の根拠（要件ア）'!$N$50","v":0}]
[269,{"$f":"'（別添４）エネルギー消費効率の根拠（要件ア）'!$L$51","v":"別添4_3_12"},{"$f":"'（別添４）エネルギー消費効率の根拠（要件ア）'!$M$51","v":"導入設備_年間エネルギー使用量計算式"},{"$f":"'（別添４）エネルギー消費効率の根拠（要件ア）'!$N$51","v":0}]
[270,{"$f":"'（別添４）エネルギー消費効率の根拠（要件ア）'!$L$52","v":"別添4_3_13"},{"$f":"'（別添４）エネルギー消費効率の根拠（要件ア）'!$M$52","v":"導入設備_計算結果"},{"$f":"'（別添４）エネルギー消費効率の根拠（要件ア）'!$N$52","v":"単位を選択してください"}]
[271,{"$f":"'（別添４）エネルギー消費効率の根拠（要件ア）'!$L$53","v":"別添4_3_14"},{"$f":"'（別添４）エネルギー消費効率の根拠（要件ア）'!$M$53","v":"一代前モデル_製品名"},{"$f":"'（別添４）エネルギー消費効率の根拠（要件ア）'!$N$53","v":0}]
[272,{"$f":"'（別添４）エネルギー消費効率の根拠（要件ア）'!$L$54","v":"別添4_3_15"},{"$f":"'（別添４）エネルギー消費効率の根拠（要件ア）'!$M$54","v":"一代前モデル_製造メーカー"},{"$f":"'（別添４）エネルギー消費効率の根拠（要件ア）'!$N$54","v":0}]
[273,{"$f":"'（別添４）エネルギー消費効率の根拠（要件ア）'!$L$55","v":"別添4_3_16"},{"$f":"'（別添４）エネルギー消費効率の根拠（要件ア）'!$M$55","v":"一代前モデル_型番"},{"$f":"'（別添４）エネルギー消費効率の根拠（要件ア）'!$N$55","v":0}]
[274,{"$f":"'（別添４）エネルギー消費効率の根拠（要件ア）'!$L$56","v":"別添4_3_17"},{"$f":"'（別添４）エネルギー消費効率の根拠（要件ア）'!$M$56","v":"一代前モデル_導入台数"},{"$f":"'（別添４）エネルギー消費効率の根拠（要件ア）'!$N$56","v":"台"}]
[275,{"$f":"'（別添４）エネルギー消費効率の根拠（要件ア）'!$L$57","v":"別添4_3_18"},{"$f":"'（別添４）エネルギー消費効率の根拠（要件ア）'!$M$57","v":"一代前モデル_1台あたりの使用エネルギー"},{"$f":"'（別添４）エネルギー消費効率の根拠（要件ア）'!$N$57","v":0}]
[276,{"$f":"'（別添４）エネルギー消費効率の根拠（要件ア）'!$L$58","v":"別添4_3_19"},{"$f":"'（別添４）エネルギー消費効率の根拠（要件ア）'!$M$58","v":"一代前モデル_年間エネルギー使用量計算式"},{"$f":"'（別添４）エネルギー消費効率の根拠（要件ア）'!$N$58","v":0}]
[277,{"$f":"'（別添４）エネルギー消費効率の根拠（要件ア）'!$L$59","v":"別添4_3_20"},{"$f":"'（別添４）エネルギー消費効率の根拠（要件ア）'!$M$59","v":"一代前モデル_計算結果"},{"$f":"'（別添４）エネルギー消費効率の根拠（要件ア）'!$N$59","v":"単位を選択してください"}]
[278,{"$f":"'（別添４）エネルギー消費効率の根拠（要件ア）'!$L$60","v":"別添4_3_21"},{"$f":"'（別添４）エネルギー消費効率の根拠（要件ア）'!$M$60","v":"年間見込み省エネルギー量__計算結果"},{"$f":"'（別添４）エネルギー消費効率の根拠（要件ア）'!$N$60","v":"0単位を選択してください"}]
[279,{"$f":"'（別添４）エネルギー消費効率の根拠（要件ア）'!$L$61","v":"別添4_3_22"},{"$f":"'（別添４）エネルギー消費効率の根拠（要件ア）'!$M$61","v":"年間見込み省エネルギー量_原油換算計算式"},{"$f":"'（別添４）エネルギー消費効率の根拠（要件ア）'!$N$61","v":0}]
[280,{"$f":"'（別添４）エネルギー消費効率の根拠（要件ア）'!$L$62","v":"別添4_3_23"},{"$f":"'（別添４）エネルギー消費効率の根拠（要件ア）'!$M$62","v":"年間見込み省エネルギー量原油換算計算結果"},{"$f":"'（別添４）エネルギー消費効率の根拠（要件ア）'!$N$62","v":0}]
[281,{"$f":"'（別添４）エネルギー消費効率の根拠（要件ア）'!$L$63","v":"別添4_3_24"},{"$f":"'（別添４）エネルギー消費効率の根拠（要件ア）'!$M$63","v":"年間見込み省エネルギー率_自動計算"},{"$f":"'（別添４）エネルギー消費効率の根拠（要件ア）'!$N$63","v":""}]
[282,{"$f":"'（別添４）エネルギー消費効率の根拠（要件ア）'!$P$40","v":"別添4_4_1"},{"$f":"'（別添４）エネルギー消費効率の根拠（要件ア）'!$Q$40","v":"トップランナー基準"},{"$f":"'（別添４）エネルギー消費効率の根拠（要件ア）'!$R$40","v":0}]
[283,{"$f":"'（別添４）エネルギー消費効率の根拠（要件ア）'!$P$41","v":"別添4_4_2"},{"$f":"'（別添４）エネルギー消費効率の根拠（要件ア）'!$Q$41","v":"トップランナー基準の区分名又は数値"},{"$f":"'（別添４）エネルギー消費効率の根拠（要件ア）'!$R$41","v":0}]
[284,{"$f":"'（別添４）エネルギー消費効率の根拠（要件ア）'!$P$42","v":"別添4_4_3"},{"$f":"'（別添４）エネルギー消費効率の根拠（要件ア）'!$Q$42","v":"トップランナー基準の数値（導入設備）"},{"$f":"'（別添４）エネルギー消費効率の根拠（要件ア）'!$R$42","v":0}]
[285,{"$f":"'（別添４）エネルギー消費効率の根拠（要件ア）'!$P$43","v":"別添4_4_4"},{"$f":"'（別添４）エネルギー消費効率の根拠（要件ア）'!$Q$43","v":"比較指標/トップランナー基準"},{"$f":"'（別添４）エネルギー消費効率の根拠（要件ア）'!$R$43","v":0}]
[286,{"$f":"'（別添４）エネルギー消費効率の根拠（要件ア）'!$P$44","v":"別添4_4_5"},{"$f":"'（別添４）エネルギー消費効率の根拠（要件ア）'!$Q$44","v":"添付資料の根拠記載箇所"},{"$f":"'（別添４）エネルギー消費効率の根拠（要件ア）'!$R$44","v":0}]
[287,{"$f":"'（別添４）エネルギー消費効率の根拠（要件ア）'!$P$45","v":"別添4_4_6"},{"$f":"'（別添４）エネルギー消費効率の根拠（要件ア）'!$Q$45","v":"省エネ要因"},{"$f":"'（別添４）エネルギー消費効率の根拠（要件ア）'!$R$45","v":0}]
[288,{"$f":"'（別添４）エネルギー消費効率の根拠（要件ア）'!$P$46","v":"別添4_4_7"},{"$f":"'（別添４）エネルギー消費効率の根拠（要件ア）'!$Q$46","v":"導入設備_製品名"},{"$f":"'（別添４）エネルギー消費効率の根拠（要件ア）'!$R$46","v":0}]
[289,{"$f":"'（別添４）エネルギー消費効率の根拠（要件ア）'!$P$47","v":"別添4_4_8"},{"$f":"'（別添４）エネルギー消費効率の根拠（要件ア）'!$Q$47","v":"導入設備_製造メーカー"},{"$f":"'（別添４）エネルギー消費効率の根拠（要件ア）'!$R$47","v":0}]
[290,{"$f":"'（別添４）エネルギー消費効率の根拠（要件ア）'!$P$48","v":"別添4_4_9"},{"$f":"'（別添４）エネルギー消費効率の根拠（要件ア）'!$Q$48","v":"導入設備_型番"},{"$f":"'（別添４）エネルギー消費効率の根拠（要件ア）'!$R$48","v":0}]
[291,{"$f":"'（別添４）エネルギー消費効率の根拠（要件ア）'!$P$49","v":"別添4_4_10"},{"$f":"'（別添４）エネルギー消費効率の根拠（要件ア）'!$Q$49","v":"導入設備_導入台数"},{"$f":"'（別添４）エネルギー消費効率の根拠（要件ア）'!$R$49","v":"台"}]
[292,{"$f":"'（別添４）エネルギー消費効率の根拠（要件ア）'!$P$50","v":"別添4_4_11"},{"$f":"'（別添４）エネルギー消費効率の根拠（要件ア）'!$Q$50","v":"導入設備_1台あたりの使用エネルギー"},{"$f":"'（別添４）エネルギー消費効率の根拠（要件ア）'!$R$50","v":0}]
[293,{"$f":"'（別添４）エネルギー消費効率の根拠（要件ア）'!$P$51","v":"別添4_4_12"},{"$f":"'（別添４）エネルギー消費効率の根拠（要件ア）'!$Q$51","v":"導入設備_年間エネルギー使用量計算式"},{"$f":"'（別添４）エネルギー消費効率の根拠（要件ア）'!$R$51","v":0}]
[294,{"$f":"'（別添４）エネルギー消費効率の根拠（要件ア）'!$P$52","v":"別添4_4_13"},{"$f":"'（別添４）エネルギー消費効率の根拠（要件ア）'!$Q$52","v":"導入設備_計算結果"},{"$f":"'（別添４）エネルギー消費効率の根拠（要件ア）'!$R$52","v":"単位を選択してください"}]
[295,{"$f":"'（別添４）エネルギー消費効率の根拠（要件ア）'!$P$53","v":"別添4_4_14"},{"$f":"'（別添４）エネルギー消費効率の根拠（要件ア）'!$Q$53","v":"一代前モデル_製品名"},{"$f":"'（別添４）エネルギー消費効率の根拠（要件ア）'!$R$53","v":0}]
[296,{"$f":"'（別添４）エネルギー消費効率の根拠（要件ア）'!$P$54","v":"別添4_4_15"},{"$f":"'（別添４）エネルギー消費効率の根拠（要件ア）'!$Q$54","v":"一代前モデル_製造メーカー"},{"$f":"'（別添４）エネルギー消費効率の根拠（要件ア）'!$R$54","v":0}]
[297,{"$f":"'（別添４）エネルギー消費効率の根拠（要件ア）'!$P$55","v":"別添4_4_16"},{"$f":"'（別添４）エネルギー消費効率の根拠（要件ア）'!$Q$55","v":"一代前モデル_型番"},{"$f":"'（別添４）エネルギー消費効率の根拠（要件ア）'!$R$55","v":0}]
[298,{"$f":"'（別添４）エネルギー消費効率の根拠（要件ア）'!$P$56","v":"別添4_4_17"},{"$f":"'（別添４）エネルギー消費効率の根拠（要件ア）'!$Q$56","v":"一代前モデル_導入台数"},{"$f":"'（別添４）エネルギー消費効率の根拠（要件ア）'!$R$56","v":"台"}]
[299,{"$f":"'（別添４）エネルギー消費効率の根拠（要件ア）'!$P$57","v":"別添4_4_18"},{"$f":"'（別添４）エネルギー消費効率の根拠（要件ア）'!$Q$57","v":"一代前モデル_1台あたりの使用エネルギー"},{"$f":"'（別添４）エネルギー消費効率の根拠（要件ア）'!$R$57","v":0}]
[300,{"$f":"'（別添４）エネルギー消費効率の根拠（要件ア）'!$P$58","v":"別添4_4_19"},{"$f":"'（別添４）エネルギー消費効率の根拠（要件ア）'!$Q$58","v":"一代前モデル_年間エネルギー使用量計算式"},{"$f":"'（別添４）エネルギー消費効率の根拠（要件ア）'!$R$58","v":0}]
[301,{"$f":"'（別添４）エネルギー消費効率の根拠（要件ア）'!$P$59","v":"別添4_4_20"},{"$f":"'（別添４）エネルギー消費効率の根拠（要件ア）'!$Q$59","v":"一代前モデル_計算結果"},{"$f":"'（別添４）エネルギー消費効率の根拠（要件ア）'!$R$59","v":"単位を選択してください"}]
[302,{"$f":"'（別添４）エネルギー消費効率の根拠（要件ア）'!$P$60","v":"別添4_4_21"},{"$f":"'（別添４）エネルギー消費効率の根拠（要件ア）'!$Q$60","v":"年間見込み省エネルギー量__計算結果"},{"$f":"'（別添４）エネルギー消費効率の根拠（要件ア）'!$R$60","v":"0単位を選択してください"}]
[303,{"$f":"'（別添４）エネルギー消費効率の根拠（要件ア）'!$P$61","v":"別添4_4_22"},{"$f":"'（別添４）エネルギー消費効率の根拠（要件ア）'!$Q$61","v":"年間見込み省エネルギー量_原油換算計算式"},{"$f":"'（別添４）エネルギー消費効率の根拠（要件ア）'!$R$61","v":0}]
[304,{"$f":"'（別添４）エネルギー消費効率の根拠（要件ア）'!$P$62","v":"別添4_4_23"},{"$f":"'（別添４）エネルギー消費効率の根拠（要件ア）'!$Q$62","v":"年間見込み省エネルギー量原油換算計算結果"},{"$f":"'（別添４）エネルギー消費効率の根拠（要件ア）'!$R$62","v":0}]
[305,{"$f":"'（別添４）エネルギー消費効率の根拠（要件ア）'!$P$63","v":"別添4_4_24"},{"$f":"'（別添４）エネルギー消費効率の根拠（要件ア）'!$Q$63","v":"年間見込み省エネルギー率_自動計算"},{"$f":"'（別添４）エネルギー消費効率の根拠（要件ア）'!$R$63","v":""}]
[306,{"$f":"'（別添４）エネルギー消費効率の根拠（要件ア）'!$T$40","v":"別添4_5_1"},{"$f":"'（別添４）エネルギー消費効率の根拠（要件ア）'!$U$40","v":"トップランナー基準"},{"$f":"'（別添４）エネルギー消費効率の根拠（要件ア）'!$V$40","v":0}]
[307,{"$f":"'（別添４）エネルギー消費効率の根拠（要件ア）'!$T$41","v":"別添4_5_2"},{"$f":"'（別添４）エネルギー消費効率の根拠（要件ア）'!$U$41","v":"トップランナー基準の区分名又は数値"},{"$f":"'（別添４）エネルギー消費効率の根拠（要件ア）'!$V$41","v":0}]
[308,{"$f":"'（別添４）エネルギー消費効率の根拠（要件ア）'!$T$42","v":"別添4_5_3"},{"$f":"'（別添４）エネルギー消費効率の根拠（要件ア）'!$U$42","v":"トップランナー基準の数値（導入設備）"},{"$f":"'（別添４）エネルギー消費効率の根拠（要件ア）'!$V$42","v":0}]
[309,{"$f":"'（別添４）エネルギー消費効率の根拠（要件ア）'!$T$43","v":"別添4_5_4"},{"$f":"'（別添４）エネルギー消費効率の根拠（要件ア）'!$U$43","v":"比較指標/トップランナー基準"},{"$f":"'（別添４）エネルギー消費効率の根拠（要件ア）'!$V$43","v":0}]
[310,{"$f":"'（別添４）エネルギー消費効率の根拠（要件ア）'!$T$44","v":"別添4_5_5"},{"$f":"'（別添４）エネルギー消費効率の根拠（要件ア）'!$U$44","v":"添付資料の根拠記載箇所"},{"$f":"'（別添４）エネルギー消費効率の根拠（要件ア）'!$V$44","v":0}]
[311,{"$f":"'（別添４）エネルギー消費効率の根拠（要件ア）'!$T$45","v":"別添4_5_6"},{"$f":"'（別添４）エネルギー消費効率の根拠（要件ア）'!$U$45","v":"省エネ要因"},{"$f":"'（別添４）エネルギー消費効率の根拠（要件ア）'!$V$45","v":0}]
[312,{"$f":"'（別添４）エネルギー消費効率の根拠（要件ア）'!$T$46","v":"別添4_5_7"},{"$f":"'（別添４）エネルギー消費効率の根拠（要件ア）'!$U$46","v":"導入設備_製品名"},{"$f":"'（別添４）エネルギー消費効率の根拠（要件ア）'!$V$46","v":0}]
[313,{"$f":"'（別添４）エネルギー消費効率の根拠（要件ア）'!$T$47","v":"別添4_5_8"},{"$f":"'（別添４）エネルギー消費効率の根拠（要件ア）'!$U$47","v":"導入設備_製造メーカー"},{"$f":"'（別添４）エネルギー消費効率の根拠（要件ア）'!$V$47","v":0}]
[314,{"$f":"'（別添４）エネルギー消費効率の根拠（要件ア）'!$T$48","v":"別添4_5_9"},{"$f":"'（別添４）エネルギー消費効率の根拠（要件ア）'!$U$48","v":"導入設備_型番"},{"$f":"'（別添４）エネルギー消費効率の根拠（要件ア）'!$V$48","v":0}]
[315,{"$f":"'（別添４）エネルギー消費効率の根拠（要件ア）'!$T$49","v":"別添4_5_10"},{"$f":"'（別添４）エネルギー消費効率の根拠（要件ア）'!$U$49","v":"導入設備_導入台数"},{"$f":"'（別添４）エネルギー消費効率の根拠（要件ア）'!$V$49","v":"台"}]
[316,{"$f":"'（別添４）エネルギー消費効率の根拠（要件ア）'!$T$50","v":"別添4_5_11"},{"$f":"'（別添４）エネルギー消費効率の根拠（要件ア）'!$U$50","v":"導入設備_1台あたりの使用エネルギー"},{"$f":"'（別添４）エネルギー消費効率の根拠（要件ア）'!$V$50","v":0}]
[317,{"$f":"'（別添４）エネルギー消費効率の根拠（要件ア）'!$T$51","v":"別添4_5_12"},{"$f":"'（別添４）エネルギー消費効率の根拠（要件ア）'!$U$51","v":"導入設備_年間エネルギー使用量計算式"},{"$f":"'（別添４）エネルギー消費効率の根拠（要件ア）'!$V$51","v":0}]
[318,{"$f":"'（別添４）エネルギー消費効率の根拠（要件ア）'!$T$52","v":"別添4_5_13"},{"$f":"'（別添４）エネルギー消費効率の根拠（要件ア）'!$U$52","v":"導入設備_計算結果"},{"$f":"'（別添４）エネルギー消費効率の根拠（要件ア）'!$V$52","v":"単位を選択してください"}]
[319,{"$f":"'（別添４）エネルギー消費効率の根拠（要件ア）'!$T$53","v":"別添4_5_14"},{"$f":"'（別添４）エネルギー消費効率の根拠（要件ア）'!$U$53","v":"一代前モデル_製品名"},{"$f":"'（別添４）エネルギー消費効率の根拠（要件ア）'!$V$53","v":0}]
[320,{"$f":"'（別添４）エネルギー消費効率の根拠（要件ア）'!$T$54","v":"別添4_5_15"},{"$f":"'（別添４）エネルギー消費効率の根拠（要件ア）'!$U$54","v":"一代前モデル_製造メーカー"},{"$f":"'（別添４）エネルギー消費効率の根拠（要件ア）'!$V$54","v":0}]
[321,{"$f":"'（別添４）エネルギー消費効率の根拠（要件ア）'!$T$55","v":"別添4_5_16"},{"$f":"'（別添４）エネルギー消費効率の根拠（要件ア）'!$U$55","v":"一代前モデル_型番"},{"$f":"'（別添４）エネルギー消費効率の根拠（要件ア）'!$V$55","v":0}]
[322,{"$f":"'（別添４）エネルギー消費効率の根拠（要件ア）'!$T$56","v":"別添4_5_17"},{"$f":"'（別添４）エネルギー消費効率の根拠（要件ア）'!$U$56","v":"一代前モデル_導入台数"},{"$f":"'（別添４）エネルギー消費効率の根拠（要件ア）'!$V$56","v":"台"}]
[323,{"$f":"'（別添４）エネルギー消費効率の根拠（要件ア）'!$T$57","v":"別添4_5_18"},{"$f":"'（別添４）エネルギー消費効率の根拠（要件ア）'!$U$57","v":"一代前モデル_1台あたりの使用エネルギー"},{"$f":"'（別添４）エネルギー消費効率の根拠（要件ア）'!$V$57","v":0}]
[324,{"$f":"'（別添４）エネルギー消費効率の根拠（要件ア）'!$T$58","v":"別添4_5_19"},{"$f":"'（別添４）エネルギー消費効率の根拠（要件ア）'!$U$58","v":"一代前モデル_年間エネルギー使用量計算式"},{"$f":"'（別添４）エネルギー消費効率の根拠（要件ア）'!$V$58","v":0}]
[325,{"$f":"'（別添４）エネルギー消費効率の根拠（要件ア）'!$T$59","v":"別添4_5_20"},{"$f":"'（別添４）エネルギー消費効率の根拠（要件ア）'!$U$59","v":"一代前モデル_計算結果"},{"$f":"'（別添４）エネルギー消費効率の根拠（要件ア）'!$V$59","v":"単位を選択してください"}]
[326,{"$f":"'（別添４）エネルギー消費効率の根拠（要件ア）'!$T$60","v":"別添4_5_21"},{"$f":"'（別添４）エネルギー消費効率の根拠（要件ア）'!$U$60","v":"年間見込み省エネルギー量__計算結果"},{"$f":"'（別添４）エネルギー消費効率の根拠（要件ア）'!$V$60","v":"0単位を選択してください"}]
[327,{"$f":"'（別添４）エネルギー消費効率の根拠（要件ア）'!$T$61","v":"別添4_5_22"},{"$f":"'（別添４）エネルギー消費効率の根拠（要件ア）'!$U$61","v":"年間見込み省エネルギー量_原油換算計算式"},{"$f":"'（別添４）エネルギー消費効率の根拠（要件ア）'!$V$61","v":0}]
[328,{"$f":"'（別添４）エネルギー消費効率の根拠（要件ア）'!$T$62","v":"別添4_5_23"},{"$f":"'（別添４）エネルギー消費効率の根拠（要件ア）'!$U$62","v":"年間見込み省エネルギー量原油換算計算結果"},{"$f":"'（別添４）エネルギー消費効率の根拠（要件ア）'!$V$62","v":0}]
[329,{"$f":"'（別添４）エネルギー消費効率の根拠（要件ア）'!$T$63","v":"別添4_5_24"},{"$f":"'（別添４）エネルギー消費効率の根拠（要件ア）'!$U$63","v":"年間見込み省エネルギー率_自動計算"},{"$f":"'（別添４）エネルギー消費効率の根拠（要件ア）'!$V$63","v":""}]
[330,{"$f":"'（別添４）エネルギー消費効率の根拠（要件ア）'!$X$40","v":"別添4_6_1"},{"$f":"'（別添４）エネルギー消費効率の根拠（要件ア）'!$Y$40","v":"トップランナー基準"},{"$f":"'（別添４）エネルギー消費効率の根拠（要件ア）'!$Z$40","v":0}]
[{"$f":"ROW()-1","v":331},{"$f":"'（別添４）エネルギー消費効率の根拠（要件ア）'!$X$41","v":"別添4_6_2"},{"$f":"'（別添４）エネルギー消費効率の根拠（要件ア）'!$Y$41","v":"トップランナー基準の区分名又は数値"},{"$f":"'（別添４）エネルギー消費効率の根拠（要件ア）'!$Z$41","v":0}]
[332,{"$f":"'（別添４）エネルギー消費効率の根拠（要件ア）'!$X$42","v":"別添4_6_3"},{"$f":"'（別添４）エネルギー消費効率の根拠（要件ア）'!$Y$42","v":"トップランナー基準の数値（導入設備）"},{"$f":"'（別添４）エネルギー消費効率の根拠（要件ア）'!$Z$42","v":0}]
[333,{"$f":"'（別添４）エネルギー消費効率の根拠（要件ア）'!$X$43","v":"別添4_6_4"},{"$f":"'（別添４）エネルギー消費効率の根拠（要件ア）'!$Y$43","v":"比較指標/トップランナー基準"},{"$f":"'（別添４）エネルギー消費効率の根拠（要件ア）'!$Z$43","v":0}]
[334,{"$f":"'（別添４）エネルギー消費効率の根拠（要件ア）'!$X$44","v":"別添4_6_5"},{"$f":"'（別添４）エネルギー消費効率の根拠（要件ア）'!$Y$44","v":"添付資料の根拠記載箇所"},{"$f":"'（別添４）エネルギー消費効率の根拠（要件ア）'!$Z$44","v":0}]
[335,{"$f":"'（別添４）エネルギー消費効率の根拠（要件ア）'!$X$45","v":"別添4_6_6"},{"$f":"'（別添４）エネルギー消費効率の根拠（要件ア）'!$Y$45","v":"省エネ要因"},{"$f":"'（別添４）エネルギー消費効率の根拠（要件ア）'!$Z$45","v":0}]
[336,{"$f":"'（別添４）エネルギー消費効率の根拠（要件ア）'!$X$46","v":"別添4_6_7"},{"$f":"'（別添４）エネルギー消費効率の根拠（要件ア）'!$Y$46","v":"導入設備_製品名"},{"$f":"'（別添４）エネルギー消費効率の根拠（要件ア）'!$Z$46","v":0}]
[337,{"$f":"'（別添４）エネルギー消費効率の根拠（要件ア）'!$X$47","v":"別添4_6_8"},{"$f":"'（別添４）エネルギー消費効率の根拠（要件ア）'!$Y$47","v":"導入設備_製造メーカー"},{"$f":"'（別添４）エネルギー消費効率の根拠（要件ア）'!$Z$47","v":0}]
[338,{"$f":"'（別添４）エネルギー消費効率の根拠（要件ア）'!$X$48","v":"別添4_6_9"},{"$f":"'（別添４）エネルギー消費効率の根拠（要件ア）'!$Y$48","v":"導入設備_型番"},{"$f":"'（別添４）エネルギー消費効率の根拠（要件ア）'!$Z$48","v":0}]
[339,{"$f":"'（別添４）エネルギー消費効率の根拠（要件ア）'!$X$49","v":"別添4_6_10"},{"$f":"'（別添４）エネルギー消費効率の根拠（要件ア）'!$Y$49","v":"導入設備_導入台数"},{"$f":"'（別添４）エネルギー消費効率の根拠（要件ア）'!$Z$49","v":"台"}]
[340,{"$f":"'（別添４）エネルギー消費効率の根拠（要件ア）'!$X$50","v":"別添4_6_11"},{"$f":"'（別添４）エネルギー消費効率の根拠（要件ア）'!$Y$50","v":"導入設備_1台あたりの使用エネルギー"},{"$f":"'（別添４）エネルギー消費効率の根拠（要件ア）'!$Z$50","v":0}]
[341,{"$f":"'（別添４）エネルギー消費効率の根拠（要件ア）'!$X$51","v":"別添4_6_12"},{"$f":"'（別添４）エネルギー消費効率の根拠（要件ア）'!$Y$51","v":"導入設備_年間エネルギー使用量計算式"},{"$f":"'（別添４）エネルギー消費効率の根拠（要件ア）'!$Z$51","v":0}]
[342,{"$f":"'（別添４）エネルギー消費効率の根拠（要件ア）'!$X$52","v":"別添4_6_13"},{"$f":"'（別添４）エネルギー消費効率の根拠（要件ア）'!$Y$52","v":"導入設備_計算結果"},{"$f":"'（別添４）エネルギー消費効率の根拠（要件ア）'!$Z$52","v":"単位を選択してください"}]
[343,{"$f":"'（別添４）エネルギー消費効率の根拠（要件ア）'!$X$53","v":"別添4_6_14"},{"$f":"'（別添４）エネルギー消費効率の根拠（要件ア）'!$Y$53","v":"一代前モデル_製品名"},{"$f":"'（別添４）エネルギー消費効率の根拠（要件ア）'!$Z$53","v":0}]
[344,{"$f":"'（別添４）エネルギー消費効率の根拠（要件ア）'!$X$54","v":"別添4_6_15"},{"$f":"'（別添４）エネルギー消費効率の根拠（要件ア）'!$Y$54","v":"一代前モデル_製造メーカー"},{"$f":"'（別添４）エネルギー消費効率の根拠（要件ア）'!$Z$54","v":0}]
[345,{"$f":"'（別添４）エネルギー消費効率の根拠（要件ア）'!$X$55","v":"別添4_6_16"},{"$f":"'（別添４）エネルギー消費効率の根拠（要件ア）'!$Y$55","v":"一代前モデル_型番"},{"$f":"'（別添４）エネルギー消費効率の根拠（要件ア）'!$Z$55","v":0}]
[346,{"$f":"'（別添４）エネルギー消費効率の根拠（要件ア）'!$X$56","v":"別添4_6_17"},{"$f":"'（別添４）エネルギー消費効率の根拠（要件ア）'!$Y$56","v":"一代前モデル_導入台数"},{"$f":"'（別添４）エネルギー消費効率の根拠（要件ア）'!$Z$56","v":"台"}]
[347,{"$f":"'（別添４）エネルギー消費効率の根拠（要件ア）'!$X$57","v":"別添4_6_18"},{"$f":"'（別添４）エネルギー消費効率の根拠（要件ア）'!$Y$57","v":"一代前モデル_1台あたりの使用エネルギー"},{"$f":"'（別添４）エネルギー消費効率の根拠（要件ア）'!$Z$57","v":0}]
[348,{"$f":"'（別添４）エネルギー消費効率の根拠（要件ア）'!$X$58","v":"別添4_6_19"},{"$f":"'（別添４）エネルギー消費効率の根拠（要件ア）'!$Y$58","v":"一代前モデル_年間エネルギー使用量計算式"},{"$f":"'（別添４）エネルギー消費効率の根拠（要件ア）'!$Z$58","v":0}]
[349,{"$f":"'（別添４）エネルギー消費効率の根拠（要件ア）'!$X$59","v":"別添4_6_20"},{"$f":"'（別添４）エネルギー消費効率の根拠（要件ア）'!$Y$59","v":"一代前モデル_計算結果"},{"$f":"'（別添４）エネルギー消費効率の根拠（要件ア）'!$Z$59","v":"単位を選択してください"}]
[350,{"$f":"'（別添４）エネルギー消費効率の根拠（要件ア）'!$X$60","v":"別添4_6_21"},{"$f":"'（別添４）エネルギー消費効率の根拠（要件ア）'!$Y$60","v":"年間見込み省エネルギー量__計算結果"},{"$f":"'（別添４）エネルギー消費効率の根拠（要件ア）'!$Z$60","v":"0単位を選択してください"}]
[351,{"$f":"'（別添４）エネルギー消費効率の根拠（要件ア）'!$X$61","v":"別添4_6_22"},{"$f":"'（別添４）エネルギー消費効率の根拠（要件ア）'!$Y$61","v":"年間見込み省エネルギー量_原油換算計算式"},{"$f":"'（別添４）エネルギー消費効率の根拠（要件ア）'!$Z$61","v":0}]
[352,{"$f":"'（別添４）エネルギー消費効率の根拠（要件ア）'!$X$62","v":"別添4_6_23"},{"$f":"'（別添４）エネルギー消費効率の根拠（要件ア）'!$Y$62","v":"年間見込み省エネルギー量原油換算計算結果"},{"$f":"'（別添４）エネルギー消費効率の根拠（要件ア）'!$Z$62","v":0}]
[353,{"$f":"'（別添４）エネルギー消費効率の根拠（要件ア）'!$X$63","v":"別添4_6_24"},{"$f":"'（別添４）エネルギー消費効率の根拠（要件ア）'!$Y$63","v":"年間見込み省エネルギー率_自動計算"},{"$f":"'（別添４）エネルギー消費効率の根拠（要件ア）'!$Z$63","v":""}]
[354,{"$f":"'（別添４）エネルギー消費効率の根拠（要件ア）'!$AB$40","v":"別添4_7_1"},{"$f":"'（別添４）エネルギー消費効率の根拠（要件ア）'!$AC$40","v":"トップランナー基準"},{"$f":"'（別添４）エネルギー消費効率の根拠（要件ア）'!$AD$40","v":0}]
[355,{"$f":"'（別添４）エネルギー消費効率の根拠（要件ア）'!$AB$41","v":"別添4_7_2"},{"$f":"'（別添４）エネルギー消費効率の根拠（要件ア）'!$AC$41","v":"トップランナー基準の区分名又は数値"},{"$f":"'（別添４）エネルギー消費効率の根拠（要件ア）'!$AD$41","v":0}]
[356,{"$f":"'（別添４）エネルギー消費効率の根拠（要件ア）'!$AB$42","v":"別添4_7_3"},{"$f":"'（別添４）エネルギー消費効率の根拠（要件ア）'!$AC$42","v":"トップランナー基準の数値（導入設備）"},{"$f":"'（別添４）エネルギー消費効率の根拠（要件ア）'!$AD$42","v":0}]
[357,{"$f":"'（別添４）エネルギー消費効率の根拠（要件ア）'!$AB$43","v":"別添4_7_4"},{"$f":"'（別添４）エネルギー消費効率の根拠（要件ア）'!$AC$43","v":"比較指標/トップランナー基準"},{"$f":"'（別添４）エネルギー消費効率の根拠（要件ア）'!$AD$43","v":0}]
[358,{"$f":"'（別添４）エネルギー消費効率の根拠（要件ア）'!$AB$44","v":"別添4_7_5"},{"$f":"'（別添４）エネルギー消費効率の根拠（要件ア）'!$AC$44","v":"添付資料の根拠記載箇所"},{"$f":"'（別添４）エネルギー消費効率の根拠（要件ア）'!$AD$44","v":0}]
[359,{"$f":"'（別添４）エネルギー消費効率の根拠（要件ア）'!$AB$45","v":"別添4_7_6"},{"$f":"'（別添４）エネルギー消費効率の根拠（要件ア）'!$AC$45","v":"省エネ要因"},{"$f":"'（別添４）エネルギー消費効率の根拠（要件ア）'!$AD$45","v":0}]
[360,{"$f":"'（別添４）エネルギー消費効率の根拠（要件ア）'!$AB$46","v":"別添4_7_7"},{"$f":"'（別添４）エネルギー消費効率の根拠（要件ア）'!$AC$46","v":"導入設備_製品名"},{"$f":"'（別添４）エネルギー消費効率の根拠（要件ア）'!$AD$46","v":0}]
[361,{"$f":"'（別添４）エネルギー消費効率の根拠（要件ア）'!$AB$47","v":"別添4_7_8"},{"$f":"'（別添４）エネルギー消費効率の根拠（要件ア）'!$AC$47","v":"導入設備_製造メーカー"},{"$f":"'（別添４）エネルギー消費効率の根拠（要件ア）'!$AD$47","v":0}]
[362,{"$f":"'（別添４）エネルギー消費効率の根拠（要件ア）'!$AB$48","v":"別添4_7_9"},{"$f":"'（別添４）エネルギー消費効率の根拠（要件ア）'!$AC$48","v":"導入設備_型番"},{"$f":"'（別添４）エネルギー消費効率の根拠（要件ア）'!$AD$48","v":0}]
[363,{"$f":"'（別添４）エネルギー消費効率の根拠（要件ア）'!$AB$49","v":"別添4_7_10"},{"$f":"'（別添４）エネルギー消費効率の根拠（要件ア）'!$AC$49","v":"導入設備_導入台数"},{"$f":"'（別添４）エネルギー消費効率の根拠（要件ア）'!$AD$49","v":"台"}]
[364,{"$f":"'（別添４）エネルギー消費効率の根拠（要件ア）'!$AB$50","v":"別添4_7_11"},{"$f":"'（別添４）エネルギー消費効率の根拠（要件ア）'!$AC$50","v":"導入設備_1台あたりの使用エネルギー"},{"$f":"'（別添４）エネルギー消費効率の根拠（要件ア）'!$AD$50","v":0}]
[365,{"$f":"'（別添４）エネルギー消費効率の根拠（要件ア）'!$AB$51","v":"別添4_7_12"},{"$f":"'（別添４）エネルギー消費効率の根拠（要件ア）'!$AC$51","v":"導入設備_年間エネルギー使用量計算式"},{"$f":"'（別添４）エネルギー消費効率の根拠（要件ア）'!$AD$51","v":0}]
[366,{"$f":"'（別添４）エネルギー消費効率の根拠（要件ア）'!$AB$52","v":"別添4_7_13"},{"$f":"'（別添４）エネルギー消費効率の根拠（要件ア）'!$AC$52","v":"導入設備_計算結果"},{"$f":"'（別添４）エネルギー消費効率の根拠（要件ア）'!$AD$52","v":"単位を選択してください"}]
[367,{"$f":"'（別添４）エネルギー消費効率の根拠（要件ア）'!$AB$53","v":"別添4_7_14"},{"$f":"'（別添４）エネルギー消費効率の根拠（要件ア）'!$AC$53","v":"一代前モデル_製品名"},{"$f":"'（別添４）エネルギー消費効率の根拠（要件ア）'!$AD$53","v":0}]
[368,{"$f":"'（別添４）エネルギー消費効率の根拠（要件ア）'!$AB$54","v":"別添4_7_15"},{"$f":"'（別添４）エネルギー消費効率の根拠（要件ア）'!$AC$54","v":"一代前モデル_製造メーカー"},{"$f":"'（別添４）エネルギー消費効率の根拠（要件ア）'!$AD$54","v":0}]
[369,{"$f":"'（別添４）エネルギー消費効率の根拠（要件ア）'!$AB$55","v":"別添4_7_16"},{"$f":"'（別添４）エネルギー消費効率の根拠（要件ア）'!$AC$55","v":"一代前モデル_型番"},{"$f":"'（別添４）エネルギー消費効率の根拠（要件ア）'!$AD$55","v":0}]
[370,{"$f":"'（別添４）エネルギー消費効率の根拠（要件ア）'!$AB$56","v":"別添4_7_17"},{"$f":"'（別添４）エネルギー消費効率の根拠（要件ア）'!$AC$56","v":"一代前モデル_導入台数"},{"$f":"'（別添４）エネルギー消費効率の根拠（要件ア）'!$AD$56","v":"台"}]
[371,{"$f":"'（別添４）エネルギー消費効率の根拠（要件ア）'!$AB$57","v":"別添4_7_18"},{"$f":"'（別添４）エネルギー消費効率の根拠（要件ア）'!$AC$57","v":"一代前モデル_1台あたりの使用エネルギー"},{"$f":"'（別添４）エネルギー消費効率の根拠（要件ア）'!$AD$57","v":0}]
[372,{"$f":"'（別添４）エネルギー消費効率の根拠（要件ア）'!$AB$58","v":"別添4_7_19"},{"$f":"'（別添４）エネルギー消費効率の根拠（要件ア）'!$AC$58","v":"一代前モデル_年間エネルギー使用量計算式"},{"$f":"'（別添４）エネルギー消費効率の根拠（要件ア）'!$AD$58","v":0}]
[373,{"$f":"'（別添４）エネルギー消費効率の根拠（要件ア）'!$AB$59","v":"別添4_7_20"},{"$f":"'（別添４）エネルギー消費効率の根拠（要件ア）'!$AC$59","v":"一代前モデル_計算結果"},{"$f":"'（別添４）エネルギー消費効率の根拠（要件ア）'!$AD$59","v":"単位を選択してください"}]
[374,{"$f":"'（別添４）エネルギー消費効率の根拠（要件ア）'!$AB$60","v":"別添4_7_21"},{"$f":"'（別添４）エネルギー消費効率の根拠（要件ア）'!$AC$60","v":"年間見込み省エネルギー量__計算結果"},{"$f":"'（別添４）エネルギー消費効率の根拠（要件ア）'!$AD$60","v":"0単位を選択してください"}]
[375,{"$f":"'（別添４）エネルギー消費効率の根拠（要件ア）'!$AB$61","v":"別添4_7_22"},{"$f":"'（別添４）エネルギー消費効率の根拠（要件ア）'!$AC$61","v":"年間見込み省エネルギー量_原油換算計算式"},{"$f":"'（別添４）エネルギー消費効率の根拠（要件ア）'!$AD$61","v":0}]
[376,{"$f":"'（別添４）エネルギー消費効率の根拠（要件ア）'!$AB$62","v":"別添4_7_23"},{"$f":"'（別添４）エネルギー消費効率の根拠（要件ア）'!$AC$62","v":"年間見込み省エネルギー量原油換算計算結果"},{"$f":"'（別添４）エネルギー消費効率の根拠（要件ア）'!$AD$62","v":0}]
[377,{"$f":"'（別添４）エネルギー消費効率の根拠（要件ア）'!$AB$63","v":"別添4_7_24"},{"$f":"'（別添４）エネルギー消費効率の根拠（要件ア）'!$AC$63","v":"年間見込み省エネルギー率_自動計算"},{"$f":"'（別添４）エネルギー消費効率の根拠（要件ア）'!$AD$63","v":""}]
[378,{"$f":"'（別添４）エネルギー消費効率の根拠（要件ア）'!$AF$40","v":"別添4_8_1"},{"$f":"'（別添４）エネルギー消費効率の根拠（要件ア）'!$AG$40","v":"トップランナー基準"},{"$f":"'（別添４）エネルギー消費効率の根拠（要件ア）'!$AH$40","v":0}]
[379,{"$f":"'（別添４）エネルギー消費効率の根拠（要件ア）'!$AF$41","v":"別添4_8_2"},{"$f":"'（別添４）エネルギー消費効率の根拠（要件ア）'!$AG$41","v":"トップランナー基準の区分名又は数値"},{"$f":"'（別添４）エネルギー消費効率の根拠（要件ア）'!$AH$41","v":0}]
[380,{"$f":"'（別添４）エネルギー消費効率の根拠（要件ア）'!$AF$42","v":"別添4_8_3"},{"$f":"'（別添４）エネルギー消費効率の根拠（要件ア）'!$AG$42","v":"トップランナー基準の数値（導入設備）"},{"$f":"'（別添４）エネルギー消費効率の根拠（要件ア）'!$AH$42","v":0}]
[381,{"$f":"'（別添４）エネルギー消費効率の根拠（要件ア）'!$AF$43","v":"別添4_8_4"},{"$f":"'（別添４）エネルギー消費効率の根拠（要件ア）'!$AG$43","v":"比較指標/トップランナー基準"},{"$f":"'（別添４）エネルギー消費効率の根拠（要件ア）'!$AH$43","v":0}]
[382,{"$f":"'（別添４）エネルギー消費効率の根拠（要件ア）'!$AF$44","v":"別添4_8_5"},{"$f":"'（別添４）エネルギー消費効率の根拠（要件ア）'!$AG$44","v":"添付資料の根拠記載箇所"},{"$f":"'（別添４）エネルギー消費効率の根拠（要件ア）'!$AH$44","v":0}]
[383,{"$f":"'（別添４）エネルギー消費効率の根拠（要件ア）'!$AF$45","v":"別添4_8_6"},{"$f":"'（別添４）エネルギー消費効率の根拠（要件ア）'!$AG$45","v":"省エネ要因"},{"$f":"'（別添４）エネルギー消費効率の根拠（要件ア）'!$AH$45","v":0}]
[384,{"$f":"'（別添４）エネルギー消費効率の根拠（要件ア）'!$AF$46","v":"別添4_8_7"},{"$f":"'（別添４）エネルギー消費効率の根拠（要件ア）'!$AG$46","v":"導入設備_製品名"},{"$f":"'（別添４）エネルギー消費効率の根拠（要件ア）'!$AH$46","v":0}]
[385,{"$f":"'（別添４）エネルギー消費効率の根拠（要件ア）'!$AF$47","v":"別添4_8_8"},{"$f":"'（別添４）エネルギー消費効率の根拠（要件ア）'!$AG$47","v":"導入設備_製造メーカー"},{"$f":"'（別添４）エネルギー消費効率の根拠（要件ア）'!$AH$47","v":0}]
[386,{"$f":"'（別添４）エネルギー消費効率の根拠（要件ア）'!$AF$48","v":"別添4_8_9"},{"$f":"'（別添４）エネルギー消費効率の根拠（要件ア）'!$AG$48","v":"導入設備_型番"},{"$f":"'（別添４）エネルギー消費効率の根拠（要件ア）'!$AH$48","v":0}]
[387,{"$f":"'（別添４）エネルギー消費効率の根拠（要件ア）'!$AF$49","v":"別添4_8_10"},{"$f":"'（別添４）エネルギー消費効率の根拠（要件ア）'!$AG$49","v":"導入設備_導入台数"},{"$f":"'（別添４）エネルギー消費効率の根拠（要件ア）'!$AH$49","v":"台"}]
[388,{"$f":"'（別添４）エネルギー消費効率の根拠（要件ア）'!$AF$50","v":"別添4_8_11"},{"$f":"'（別添４）エネルギー消費効率の根拠（要件ア）'!$AG$50","v":"導入設備_1台あたりの使用エネルギー"},{"$f":"'（別添４）エネルギー消費効率の根拠（要件ア）'!$AH$50","v":0}]
[389,{"$f":"'（別添４）エネルギー消費効率の根拠（要件ア）'!$AF$51","v":"別添4_8_12"},{"$f":"'（別添４）エネルギー消費効率の根拠（要件ア）'!$AG$51","v":"導入設備_年間エネルギー使用量計算式"},{"$f":"'（別添４）エネルギー消費効率の根拠（要件ア）'!$AH$51","v":0}]
[390,{"$f":"'（別添４）エネルギー消費効率の根拠（要件ア）'!$AF$52","v":"別添4_8_13"},{"$f":"'（別添４）エネルギー消費効率の根拠（要件ア）'!$AG$52","v":"導入設備_計算結果"},{"$f":"'（別添４）エネルギー消費効率の根拠（要件ア）'!$AH$52","v":"単位を選択してください"}]
[391,{"$f":"'（別添４）エネルギー消費効率の根拠（要件ア）'!$AF$53","v":"別添4_8_14"},{"$f":"'（別添４）エネルギー消費効率の根拠（要件ア）'!$AG$53","v":"一代前モデル_製品名"},{"$f":"'（別添４）エネルギー消費効率の根拠（要件ア）'!$AH$53","v":0}]
[392,{"$f":"'（別添４）エネルギー消費効率の根拠（要件ア）'!$AF$54","v":"別添4_8_15"},{"$f":"'（別添４）エネルギー消費効率の根拠（要件ア）'!$AG$54","v":"一代前モデル_製造メーカー"},{"$f":"'（別添４）エネルギー消費効率の根拠（要件ア）'!$AH$54","v":0}]
[393,{"$f":"'（別添４）エネルギー消費効率の根拠（要件ア）'!$AF$55","v":"別添4_8_16"},{"$f":"'（別添４）エネルギー消費効率の根拠（要件ア）'!$AG$55","v":"一代前モデル_型番"},{"$f":"'（別添４）エネルギー消費効率の根拠（要件ア）'!$AH$55","v":0}]
[394,{"$f":"'（別添４）エネルギー消費効率の根拠（要件ア）'!$AF$56","v":"別添4_8_17"},{"$f":"'（別添４）エネルギー消費効率の根拠（要件ア）'!$AG$56","v":"一代前モデル_導入台数"},{"$f":"'（別添４）エネルギー消費効率の根拠（要件ア）'!$AH$56","v":"台"}]
[{"$f":"ROW()-1","v":395},{"$f":"'（別添４）エネルギー消費効率の根拠（要件ア）'!$AF$57","v":"別添4_8_18"},{"$f":"'（別添４）エネルギー消費効率の根拠（要件ア）'!$AG$57","v":"一代前モデル_1台あたりの使用エネルギー"},{"$f":"'（別添４）エネルギー消費効率の根拠（要件ア）'!$AH$57","v":0}]
[396,{"$f":"'（別添４）エネルギー消費効率の根拠（要件ア）'!$AF$58","v":"別添4_8_19"},{"$f":"'（別添４）エネルギー消費効率の根拠（要件ア）'!$AG$58","v":"一代前モデル_年間エネルギー使用量計算式"},{"$f":"'（別添４）エネルギー消費効率の根拠（要件ア）'!$AH$58","v":0}]
[397,{"$f":"'（別添４）エネルギー消費効率の根拠（要件ア）'!$AF$59","v":"別添4_8_20"},{"$f":"'（別添４）エネルギー消費効率の根拠（要件ア）'!$AG$59","v":"一代前モデル_計算結果"},{"$f":"'（別添４）エネルギー消費効率の根拠（要件ア）'!$AH$59","v":"単位を選択してください"}]
[398,{"$f":"'（別添４）エネルギー消費効率の根拠（要件ア）'!$AF$60","v":"別添4_8_21"},{"$f":"'（別添４）エネルギー消費効率の根拠（要件ア）'!$AG$60","v":"年間見込み省エネルギー量__計算結果"},{"$f":"'（別添４）エネルギー消費効率の根拠（要件ア）'!$AH$60","v":"0単位を選択してください"}]
[399,{"$f":"'（別添４）エネルギー消費効率の根拠（要件ア）'!$AF$61","v":"別添4_8_22"},{"$f":"'（別添４）エネルギー消費効率の根拠（要件ア）'!$AG$61","v":"年間見込み省エネルギー量_原油換算計算式"},{"$f":"'（別添４）エネルギー消費効率の根拠（要件ア）'!$AH$61","v":0}]
[400,{"$f":"'（別添４）エネルギー消費効率の根拠（要件ア）'!$AF$62","v":"別添4_8_23"},{"$f":"'（別添４）エネルギー消費効率の根拠（要件ア）'!$AG$62","v":"年間見込み省エネルギー量原油換算計算結果"},{"$f":"'（別添４）エネルギー消費効率の根拠（要件ア）'!$AH$62","v":0}]
[401,{"$f":"'（別添４）エネルギー消費効率の根拠（要件ア）'!$AF$63","v":"別添4_8_24"},{"$f":"'（別添４）エネルギー消費効率の根拠（要件ア）'!$AG$63","v":"年間見込み省エネルギー率_自動計算"},{"$f":"'（別添４）エネルギー消費効率の根拠（要件ア）'!$AH$63","v":""}]
[402,{"$f":"'（別添４）エネルギー消費効率の根拠（要件ア）'!$AJ$40","v":"別添4_9_1"},{"$f":"'（別添４）エネルギー消費効率の根拠（要件ア）'!$AK$40","v":"トップランナー基準"},{"$f":"'（別添４）エネルギー消費効率の根拠（要件ア）'!$AL$40","v":0}]
[403,{"$f":"'（別添４）エネルギー消費効率の根拠（要件ア）'!$AJ$41","v":"別添4_9_2"},{"$f":"'（別添４）エネルギー消費効率の根拠（要件ア）'!$AK$41","v":"トップランナー基準の区分名又は数値"},{"$f":"'（別添４）エネルギー消費効率の根拠（要件ア）'!$AL$41","v":0}]
[404,{"$f":"'（別添４）エネルギー消費効率の根拠（要件ア）'!$AJ$42","v":"別添4_9_3"},{"$f":"'（別添４）エネルギー消費効率の根拠（要件ア）'!$AK$42","v":"トップランナー基準の数値（導入設備）"},{"$f":"'（別添４）エネルギー消費効率の根拠（要件ア）'!$AL$42","v":0}]
[405,{"$f":"'（別添４）エネルギー消費効率の根拠（要件ア）'!$AJ$43","v":"別添4_9_4"},{"$f":"'（別添４）エネルギー消費効率の根拠（要件ア）'!$AK$43","v":"比較指標/トップランナー基準"},{"$f":"'（別添４）エネルギー消費効率の根拠（要件ア）'!$AL$43","v":0}]
[406,{"$f":"'（別添４）エネルギー消費効率の根拠（要件ア）'!$AJ$44","v":"別添4_9_5"},{"$f":"'（別添４）エネルギー消費効率の根拠（要件ア）'!$AK$44","v":"添付資料の根拠記載箇所"},{"$f":"'（別添４）エネルギー消費効率の根拠（要件ア）'!$AL$44","v":0}]
[407,{"$f":"'（別添４）エネルギー消費効率の根拠（要件ア）'!$AJ$45","v":"別添4_9_6"},{"$f":"'（別添４）エネルギー消費効率の根拠（要件ア）'!$AK$45","v":"省エネ要因"},{"$f":"'（別添４）エネルギー消費効率の根拠（要件ア）'!$AL$45","v":0}]
[408,{"$f":"'（別添４）エネルギー消費効率の根拠（要件ア）'!$AJ$46","v":"別添4_9_7"},{"$f":"'（別添４）エネルギー消費効率の根拠（要件ア）'!$AK$46","v":"導入設備_製品名"},{"$f":"'（別添４）エネルギー消費効率の根拠（要件ア）'!$AL$46","v":0}]
[409,{"$f":"'（別添４）エネルギー消費効率の根拠（要件ア）'!$AJ$47","v":"別添4_9_8"},{"$f":"'（別添４）エネルギー消費効率の根拠（要件ア）'!$AK$47","v":"導入設備_製造メーカー"},{"$f":"'（別添４）エネルギー消費効率の根拠（要件ア）'!$AL$47","v":0}]
[410,{"$f":"'（別添４）エネルギー消費効率の根拠（要件ア）'!$AJ$48","v":"別添4_9_9"},{"$f":"'（別添４）エネルギー消費効率の根拠（要件ア）'!$AK$48","v":"導入設備_型番"},{"$f":"'（別添４）エネルギー消費効率の根拠（要件ア）'!$AL$48","v":0}]
[411,{"$f":"'（別添４）エネルギー消費効率の根拠（要件ア）'!$AJ$49","v":"別添4_9_10"},{"$f":"'（別添４）エネルギー消費効率の根拠（要件ア）'!$AK$49","v":"導入設備_導入台数"},{"$f":"'（別添４）エネルギー消費効率の根拠（要件ア）'!$AL$49","v":"台"}]
[412,{"$f":"'（別添４）エネルギー消費効率の根拠（要件ア）'!$AJ$50","v":"別添4_9_11"},{"$f":"'（別添４）エネルギー消費効率の根拠（要件ア）'!$AK$50","v":"導入設備_1台あたりの使用エネルギー"},{"$f":"'（別添４）エネルギー消費効率の根拠（要件ア）'!$AL$50","v":0}]
[413,{"$f":"'（別添４）エネルギー消費効率の根拠（要件ア）'!$AJ$51","v":"別添4_9_12"},{"$f":"'（別添４）エネルギー消費効率の根拠（要件ア）'!$AK$51","v":"導入設備_年間エネルギー使用量計算式"},{"$f":"'（別添４）エネルギー消費効率の根拠（要件ア）'!$AL$51","v":0}]
[414,{"$f":"'（別添４）エネルギー消費効率の根拠（要件ア）'!$AJ$52","v":"別添4_9_13"},{"$f":"'（別添４）エネルギー消費効率の根拠（要件ア）'!$AK$52","v":"導入設備_計算結果"},{"$f":"'（別添４）エネルギー消費効率の根拠（要件ア）'!$AL$52","v":"単位を選択してください"}]
[415,{"$f":"'（別添４）エネルギー消費効率の根拠（要件ア）'!$AJ$53","v":"別添4_9_14"},{"$f":"'（別添４）エネルギー消費効率の根拠（要件ア）'!$AK$53","v":"一代前モデル_製品名"},{"$f":"'（別添４）エネルギー消費効率の根拠（要件ア）'!$AL$53","v":0}]
[416,{"$f":"'（別添４）エネルギー消費効率の根拠（要件ア）'!$AJ$54","v":"別添4_9_15"},{"$f":"'（別添４）エネルギー消費効率の根拠（要件ア）'!$AK$54","v":"一代前モデル_製造メーカー"},{"$f":"'（別添４）エネルギー消費効率の根拠（要件ア）'!$AL$54","v":0}]
[417,{"$f":"'（別添４）エネルギー消費効率の根拠（要件ア）'!$AJ$55","v":"別添4_9_16"},{"$f":"'（別添４）エネルギー消費効率の根拠（要件ア）'!$AK$55","v":"一代前モデル_型番"},{"$f":"'（別添４）エネルギー消費効率の根拠（要件ア）'!$AL$55","v":0}]
[418,{"$f":"'（別添４）エネルギー消費効率の根拠（要件ア）'!$AJ$56","v":"別添4_9_17"},{"$f":"'（別添４）エネルギー消費効率の根拠（要件ア）'!$AK$56","v":"一代前モデル_導入台数"},{"$f":"'（別添４）エネルギー消費効率の根拠（要件ア）'!$AL$56","v":"台"}]
[419,{"$f":"'（別添４）エネルギー消費効率の根拠（要件ア）'!$AJ$57","v":"別添4_9_18"},{"$f":"'（別添４）エネルギー消費効率の根拠（要件ア）'!$AK$57","v":"一代前モデル_1台あたりの使用エネルギー"},{"$f":"'（別添４）エネルギー消費効率の根拠（要件ア）'!$AL$57","v":0}]
[420,{"$f":"'（別添４）エネルギー消費効率の根拠（要件ア）'!$AJ$58","v":"別添4_9_19"},{"$f":"'（別添４）エネルギー消費効率の根拠（要件ア）'!$AK$58","v":"一代前モデル_年間エネルギー使用量計算式"},{"$f":"'（別添４）エネルギー消費効率の根拠（要件ア）'!$AL$58","v":0}]
[421,{"$f":"'（別添４）エネルギー消費効率の根拠（要件ア）'!$AJ$59","v":"別添4_9_20"},{"$f":"'（別添４）エネルギー消費効率の根拠（要件ア）'!$AK$59","v":"一代前モデル_計算結果"},{"$f":"'（別添４）エネルギー消費効率の根拠（要件ア）'!$AL$59","v":"単位を選択してください"}]
[422,{"$f":"'（別添４）エネルギー消費効率の根拠（要件ア）'!$AJ$60","v":"別添4_9_21"},{"$f":"'（別添４）エネルギー消費効率の根拠（要件ア）'!$AK$60","v":"年間見込み省エネルギー量__計算結果"},{"$f":"'（別添４）エネルギー消費効率の根拠（要件ア）'!$AL$60","v":"0単位を選択してください"}]
[423,{"$f":"'（別添４）エネルギー消費効率の根拠（要件ア）'!$AJ$61","v":"別添4_9_22"},{"$f":"'（別添４）エネルギー消費効率の根拠（要件ア）'!$AK$61","v":"年間見込み省エネルギー量_原油換算計算式"},{"$f":"'（別添４）エネルギー消費効率の根拠（要件ア）'!$AL$61","v":0}]
[424,{"$f":"'（別添４）エネルギー消費効率の根拠（要件ア）'!$AJ$62","v":"別添4_9_23"},{"$f":"'（別添４）エネルギー消費効率の根拠（要件ア）'!$AK$62","v":"年間見込み省エネルギー量原油換算計算結果"},{"$f":"'（別添４）エネルギー消費効率の根拠（要件ア）'!$AL$62","v":0}]
[425,{"$f":"'（別添４）エネルギー消費効率の根拠（要件ア）'!$AJ$63","v":"別添4_9_24"},{"$f":"'（別添４）エネルギー消費効率の根拠（要件ア）'!$AK$63","v":"年間見込み省エネルギー率_自動計算"},{"$f":"'（別添４）エネルギー消費効率の根拠（要件ア）'!$AL$63","v":""}]
[426,{"$f":"'（別添４）エネルギー消費効率の根拠（要件ア）'!$AN$40","v":"別添4_10_1"},{"$f":"'（別添４）エネルギー消費効率の根拠（要件ア）'!$AO$40","v":"トップランナー基準"},{"$f":"'（別添４）エネルギー消費効率の根拠（要件ア）'!$AP$40","v":0}]
[427,{"$f":"'（別添４）エネルギー消費効率の根拠（要件ア）'!$AN$41","v":"別添4_10_2"},{"$f":"'（別添４）エネルギー消費効率の根拠（要件ア）'!$AO$41","v":"トップランナー基準の区分名又は数値"},{"$f":"'（別添４）エネルギー消費効率の根拠（要件ア）'!$AP$41","v":0}]
[428,{"$f":"'（別添４）エネルギー消費効率の根拠（要件ア）'!$AN$42","v":"別添4_10_3"},{"$f":"'（別添４）エネルギー消費効率の根拠（要件ア）'!$AO$42","v":"トップランナー基準の数値（導入設備）"},{"$f":"'（別添４）エネルギー消費効率の根拠（要件ア）'!$AP$42","v":0}]
[429,{"$f":"'（別添４）エネルギー消費効率の根拠（要件ア）'!$AN$43","v":"別添4_10_4"},{"$f":"'（別添４）エネルギー消費効率の根拠（要件ア）'!$AO$43","v":"比較指標/トップランナー基準"},{"$f":"'（別添４）エネルギー消費効率の根拠（要件ア）'!$AP$43","v":0}]
[430,{"$f":"'（別添４）エネルギー消費効率の根拠（要件ア）'!$AN$44","v":"別添4_10_5"},{"$f":"'（別添４）エネルギー消費効率の根拠（要件ア）'!$AO$44","v":"添付資料の根拠記載箇所"},{"$f":"'（別添４）エネルギー消費効率の根拠（要件ア）'!$AP$44","v":0}]
[431,{"$f":"'（別添４）エネルギー消費効率の根拠（要件ア）'!$AN$45","v":"別添4_10_6"},{"$f":"'（別添４）エネルギー消費効率の根拠（要件ア）'!$AO$45","v":"省エネ要因"},{"$f":"'（別添４）エネルギー消費効率の根拠（要件ア）'!$AP$45","v":0}]
[432,{"$f":"'（別添４）エネルギー消費効率の根拠（要件ア）'!$AN$46","v":"別添4_10_7"},{"$f":"'（別添４）エネルギー消費効率の根拠（要件ア）'!$AO$46","v":"導入設備_製品名"},{"$f":"'（別添４）エネルギー消費効率の根拠（要件ア）'!$AP$46","v":0}]
[433,{"$f":"'（別添４）エネルギー消費効率の根拠（要件ア）'!$AN$47","v":"別添4_10_8"},{"$f":"'（別添４）エネルギー消費効率の根拠（要件ア）'!$AO$47","v":"導入設備_製造メーカー"},{"$f":"'（別添４）エネルギー消費効率の根拠（要件ア）'!$AP$47","v":0}]
[434,{"$f":"'（別添４）エネルギー消費効率の根拠（要件ア）'!$AN$48","v":"別添4_10_9"},{"$f":"'（別添４）エネルギー消費効率の根拠（要件ア）'!$AO$48","v":"導入設備_型番"},{"$f":"'（別添４）エネルギー消費効率の根拠（要件ア）'!$AP$48","v":0}]
[435,{"$f":"'（別添４）エネルギー消費効率の根拠（要件ア）'!$AN$49","v":"別添4_10_10"},{"$f":"'（別添４）エネルギー消費効率の根拠（要件ア）'!$AO$49","v":"導入設備_導入台数"},{"$f":"'（別添４）エネルギー消費効率の根拠（要件ア）'!$AP$49","v":"台"}]
[436,{"$f":"'（別添４）エネルギー消費効率の根拠（要件ア）'!$AN$50","v":"別添4_10_11"},{"$f":"'（別添４）エネルギー消費効率の根拠（要件ア）'!$AO$50","v":"導入設備_1台あたりの使用エネルギー"},{"$f":"'（別添４）エネルギー消費効率の根拠（要件ア）'!$AP$50","v":0}]
[437,{"$f":"'（別添４）エネルギー消費効率の根拠（要件ア）'!$AN$51","v":"別添4_10_12"},{"$f":"'（別添４）エネルギー消費効率の根拠（要件ア）'!$AO$51","v":"導入設備_年間エネルギー使用量計算式"},{"$f":"'（別添４）エネルギー消費効率の根拠（要件ア）'!$AP$51","v":0}]
[438,{"$f":"'（別添４）エネルギー消費効率の根拠（要件ア）'!$AN$52","v":"別添4_10_13"},{"$f":"'（別添４）エネルギー消費効率の根拠（要件ア）'!$AO$52","v":"導入設備_計算結果"},{"$f":"'（別添４）エネルギー消費効率の根拠（要件ア）'!$AP$52","v":"単位を選択してください"}]
[439,{"$f":"'（別添４）エネルギー消費効率の根拠（要件ア）'!$AN$53","v":"別添4_10_14"},{"$f":"'（別添４）エネルギー消費効率の根拠（要件ア）'!$AO$53","v":"一代前モデル_製品名"},{"$f":"'（別添４）エネルギー消費効率の根拠（要件ア）'!$AP$53","v":0}]
[440,{"$f":"'（別添４）エネルギー消費効率の根拠（要件ア）'!$AN$54","v":"別添4_10_15"},{"$f":"'（別添４）エネルギー消費効率の根拠（要件ア）'!$AO$54","v":"一代前モデル_製造メーカー"},{"$f":"'（別添４）エネルギー消費効率の根拠（要件ア）'!$AP$54","v":0}]
[441,{"$f":"'（別添４）エネルギー消費効率の根拠（要件ア）'!$AN$55","v":"別添4_10_16"},{"$f":"'（別添４）エネルギー消費効率の根拠（要件ア）'!$AO$55","v":"一代前モデル_型番"},{"$f":"'（別添４）エネルギー消費効率の根拠（要件ア）'!$AP$55","v":0}]
[442,{"$f":"'（別添４）エネルギー消費効率の根拠（要件ア）'!$AN$56","v":"別添4_10_17"},{"$f":"'（別添４）エネルギー消費効率の根拠（要件ア）'!$AO$56","v":"一代前モデル_導入台数"},{"$f":"'（別添４）エネルギー消費効率の根拠（要件ア）'!$AP$56","v":"台"}]
[443,{"$f":"'（別添４）エネルギー消費効率の根拠（要件ア）'!$AN$57","v":"別添4_10_18"},{"$f":"'（別添４）エネルギー消費効率の根拠（要件ア）'!$AO$57","v":"一代前モデル_1台あたりの使用エネルギー"},{"$f":"'（別添４）エネルギー消費効率の根拠（要件ア）'!$AP$57","v":0}]
[444,{"$f":"'（別添４）エネルギー消費効率の根拠（要件ア）'!$AN$58","v":"別添4_10_19"},{"$f":"'（別添４）エネルギー消費効率の根拠（要件ア）'!$AO$58","v":"一代前モデル_年間エネルギー使用量計算式"},{"$f":"'（別添４）エネルギー消費効率の根拠（要件ア）'!$AP$58","v":0}]
[445,{"$f":"'（別添４）エネルギー消費効率の根拠（要件ア）'!$AN$59","v":"別添4_10_20"},{"$f":"'（別添４）エネルギー消費効率の根拠（要件ア）'!$AO$59","v":"一代前モデル_計算結果"},{"$f":"'（別添４）エネルギー消費効率の根拠（要件ア）'!$AP$59","v":"単位を選択してください"}]
[446,{"$f":"'（別添４）エネルギー消費効率の根拠（要件ア）'!$AN$60","v":"別添4_10_21"},{"$f":"'（別添４）エネルギー消費効率の根拠（要件ア）'!$AO$60","v":"年間見込み省エネルギー量__計算結果"},{"$f":"'（別添４）エネルギー消費効率の根拠（要件ア）'!$AP$60","v":"0単位を選択してください"}]
[447,{"$f":"'（別添４）エネルギー消費効率の根拠（要件ア）'!$AN$61","v":"別添4_10_22"},{"$f":"'（別添４）エネルギー消費効率の根拠（要件ア）'!$AO$61","v":"年間見込み省エネルギー量_原油換算計算式"},{"$f":"'（別添４）エネルギー消費効率の根拠（要件ア）'!$AP$61","v":0}]
[448,{"$f":"'（別添４）エネルギー消費効率の根拠（要件ア）'!$AN$62","v":"別添4_10_23"},{"$f":"'（別添４）エネルギー消費効率の根拠（要件ア）'!$AO$62","v":"年間見込み省エネルギー量原油換算計算結果"},{"$f":"'（別添４）エネルギー消費効率の根拠（要件ア）'!$AP$62","v":0}]
[449,{"$f":"'（別添４）エネルギー消費効率の根拠（要件ア）'!$AN$63","v":"別添4_10_24"},{"$f":"'（別添４）エネルギー消費効率の根拠（要件ア）'!$AO$63","v":"年間見込み省エネルギー率_自動計算"},{"$f":"'（別添４）エネルギー消費効率の根拠（要件ア）'!$AP$63","v":""}]
[450,{"$f":"'（別添４）エネルギー消費効率の根拠（要件ア）'!$AR$40","v":"別添4_11_1"},{"$f":"'（別添４）エネルギー消費効率の根拠（要件ア）'!$AS$40","v":"トップランナー基準"},{"$f":"'（別添４）エネルギー消費効率の根拠（要件ア）'!$AT$40","v":0}]
[451,{"$f":"'（別添４）エネルギー消費効率の根拠（要件ア）'!$AR$41","v":"別添4_11_2"},{"$f":"'（別添４）エネルギー消費効率の根拠（要件ア）'!$AS$41","v":"トップランナー基準の区分名又は数値"},{"$f":"'（別添４）エネルギー消費効率の根拠（要件ア）'!$AT$41","v":0}]
[452,{"$f":"'（別添４）エネルギー消費効率の根拠（要件ア）'!$AR$42","v":"別添4_11_3"},{"$f":"'（別添４）エネルギー消費効率の根拠（要件ア）'!$AS$42","v":"トップランナー基準の数値（導入設備）"},{"$f":"'（別添４）エネルギー消費効率の根拠（要件ア）'!$AT$42","v":0}]
[453,{"$f":"'（別添４）エネルギー消費効率の根拠（要件ア）'!$AR$43","v":"別添4_11_4"},{"$f":"'（別添４）エネルギー消費効率の根拠（要件ア）'!$AS$43","v":"比較指標/トップランナー基準"},{"$f":"'（別添４）エネルギー消費効率の根拠（要件ア）'!$AT$43","v":0}]
[454,{"$f":"'（別添４）エネルギー消費効率の根拠（要件ア）'!$AR$44","v":"別添4_11_5"},{"$f":"'（別添４）エネルギー消費効率の根拠（要件ア）'!$AS$44","v":"添付資料の根拠記載箇所"},{"$f":"'（別添４）エネルギー消費効率の根拠（要件ア）'!$AT$44","v":0}]
[455,{"$f":"'（別添４）エネルギー消費効率の根拠（要件ア）'!$AR$45","v":"別添4_11_6"},{"$f":"'（別添４）エネルギー消費効率の根拠（要件ア）'!$AS$45","v":"省エネ要因"},{"$f":"'（別添４）エネルギー消費効率の根拠（要件ア）'!$AT$45","v":0}]
[456,{"$f":"'（別添４）エネルギー消費効率の根拠（要件ア）'!$AR$46","v":"別添4_11_7"},{"$f":"'（別添４）エネルギー消費効率の根拠（要件ア）'!$AS$46","v":"導入設備_製品名"},{"$f":"'（別添４）エネルギー消費効率の根拠（要件ア）'!$AT$46","v":0}]
[457,{"$f":"'（別添４）エネルギー消費効率の根拠（要件ア）'!$AR$47","v":"別添4_11_8"},{"$f":"'（別添４）エネルギー消費効率の根拠（要件ア）'!$AS$47","v":"導入設備_製造メーカー"},{"$f":"'（別添４）エネルギー消費効率の根拠（要件ア）'!$AT$47","v":0}]
[458,{"$f":"'（別添４）エネルギー消費効率の根拠（要件ア）'!$AR$48","v":"別添4_11_9"},{"$f":"'（別添４）エネルギー消費効率の根拠（要件ア）'!$AS$48","v":"導入設備_型番"},{"$f":"'（別添４）エネルギー消費効率の根拠（要件ア）'!$AT$48","v":0}]
[{"$f":"ROW()-1","v":459},{"$f":"'（別添４）エネルギー消費効率の根拠（要件ア）'!$AR$49","v":"別添4_11_10"},{"$f":"'（別添４）エネルギー消費効率の根拠（要件ア）'!$AS$49","v":"導入設備_導入台数"},{"$f":"'（別添４）エネルギー消費効率の根拠（要件ア）'!$AT$49","v":"台"}]
[460,{"$f":"'（別添４）エネルギー消費効率の根拠（要件ア）'!$AR$50","v":"別添4_11_11"},{"$f":"'（別添４）エネルギー消費効率の根拠（要件ア）'!$AS$50","v":"導入設備_1台あたりの使用エネルギー"},{"$f":"'（別添４）エネルギー消費効率の根拠（要件ア）'!$AT$50","v":0}]
[461,{"$f":"'（別添４）エネルギー消費効率の根拠（要件ア）'!$AR$51","v":"別添4_11_12"},{"$f":"'（別添４）エネルギー消費効率の根拠（要件ア）'!$AS$51","v":"導入設備_年間エネルギー使用量計算式"},{"$f":"'（別添４）エネルギー消費効率の根拠（要件ア）'!$AT$51","v":0}]
[462,{"$f":"'（別添４）エネルギー消費効率の根拠（要件ア）'!$AR$52","v":"別添4_11_13"},{"$f":"'（別添４）エネルギー消費効率の根拠（要件ア）'!$AS$52","v":"導入設備_計算結果"},{"$f":"'（別添４）エネルギー消費効率の根拠（要件ア）'!$AT$52","v":"単位を選択してください"}]
[463,{"$f":"'（別添４）エネルギー消費効率の根拠（要件ア）'!$AR$53","v":"別添4_11_14"},{"$f":"'（別添４）エネルギー消費効率の根拠（要件ア）'!$AS$53","v":"一代前モデル_製品名"},{"$f":"'（別添４）エネルギー消費効率の根拠（要件ア）'!$AT$53","v":0}]
[464,{"$f":"'（別添４）エネルギー消費効率の根拠（要件ア）'!$AR$54","v":"別添4_11_15"},{"$f":"'（別添４）エネルギー消費効率の根拠（要件ア）'!$AS$54","v":"一代前モデル_製造メーカー"},{"$f":"'（別添４）エネルギー消費効率の根拠（要件ア）'!$AT$54","v":0}]
[465,{"$f":"'（別添４）エネルギー消費効率の根拠（要件ア）'!$AR$55","v":"別添4_11_16"},{"$f":"'（別添４）エネルギー消費効率の根拠（要件ア）'!$AS$55","v":"一代前モデル_型番"},{"$f":"'（別添４）エネルギー消費効率の根拠（要件ア）'!$AT$55","v":0}]
[466,{"$f":"'（別添４）エネルギー消費効率の根拠（要件ア）'!$AR$56","v":"別添4_11_17"},{"$f":"'（別添４）エネルギー消費効率の根拠（要件ア）'!$AS$56","v":"一代前モデル_導入台数"},{"$f":"'（別添４）エネルギー消費効率の根拠（要件ア）'!$AT$56","v":"台"}]
[467,{"$f":"'（別添４）エネルギー消費効率の根拠（要件ア）'!$AR$57","v":"別添4_11_18"},{"$f":"'（別添４）エネルギー消費効率の根拠（要件ア）'!$AS$57","v":"一代前モデル_1台あたりの使用エネルギー"},{"$f":"'（別添４）エネルギー消費効率の根拠（要件ア）'!$AT$57","v":0}]
[468,{"$f":"'（別添４）エネルギー消費効率の根拠（要件ア）'!$AR$58","v":"別添4_11_19"},{"$f":"'（別添４）エネルギー消費効率の根拠（要件ア）'!$AS$58","v":"一代前モデル_年間エネルギー使用量計算式"},{"$f":"'（別添４）エネルギー消費効率の根拠（要件ア）'!$AT$58","v":0}]
[469,{"$f":"'（別添４）エネルギー消費効率の根拠（要件ア）'!$AR$59","v":"別添4_11_20"},{"$f":"'（別添４）エネルギー消費効率の根拠（要件ア）'!$AS$59","v":"一代前モデル_計算結果"},{"$f":"'（別添４）エネルギー消費効率の根拠（要件ア）'!$AT$59","v":"単位を選択してください"}]
[470,{"$f":"'（別添４）エネルギー消費効率の根拠（要件ア）'!$AR$60","v":"別添4_11_21"},{"$f":"'（別添４）エネルギー消費効率の根拠（要件ア）'!$AS$60","v":"年間見込み省エネルギー量__計算結果"},{"$f":"'（別添４）エネルギー消費効率の根拠（要件ア）'!$AT$60","v":"0単位を選択してください"}]
[471,{"$f":"'（別添４）エネルギー消費効率の根拠（要件ア）'!$AR$61","v":"別添4_11_22"},{"$f":"'（別添４）エネルギー消費効率の根拠（要件ア）'!$AS$61","v":"年間見込み省エネルギー量_原油換算計算式"},{"$f":"'（別添４）エネルギー消費効率の根拠（要件ア）'!$AT$61","v":0}]
[472,{"$f":"'（別添４）エネルギー消費効率の根拠（要件ア）'!$AR$62","v":"別添4_11_23"},{"$f":"'（別添４）エネルギー消費効率の根拠（要件ア）'!$AS$62","v":"年間見込み省エネルギー量原油換算計算結果"},{"$f":"'（別添４）エネルギー消費効率の根拠（要件ア）'!$AT$62","v":0}]
[473,{"$f":"'（別添４）エネルギー消費効率の根拠（要件ア）'!$AR$63","v":"別添4_11_24"},{"$f":"'（別添４）エネルギー消費効率の根拠（要件ア）'!$AS$63","v":"年間見込み省エネルギー率_自動計算"},{"$f":"'（別添４）エネルギー消費効率の根拠（要件ア）'!$AT$63","v":""}]
[474,{"$f":"'（別添４）エネルギー消費効率の根拠（要件ア）'!$AV$40","v":"別添4_12_1"},{"$f":"'（別添４）エネルギー消費効率の根拠（要件ア）'!$AW$40","v":"トップランナー基準"},{"$f":"'（別添４）エネルギー消費効率の根拠（要件ア）'!$AX$40","v":0}]
[475,{"$f":"'（別添４）エネルギー消費効率の根拠（要件ア）'!$AV$41","v":"別添4_12_2"},{"$f":"'（別添４）エネルギー消費効率の根拠（要件ア）'!$AW$41","v":"トップランナー基準の区分名又は数値"},{"$f":"'（別添４）エネルギー消費効率の根拠（要件ア）'!$AX$41","v":0}]
[476,{"$f":"'（別添４）エネルギー消費効率の根拠（要件ア）'!$AV$42","v":"別添4_12_3"},{"$f":"'（別添４）エネルギー消費効率の根拠（要件ア）'!$AW$42","v":"トップランナー基準の数値（導入設備）"},{"$f":"'（別添４）エネルギー消費効率の根拠（要件ア）'!$AX$42","v":0}]
[477,{"$f":"'（別添４）エネルギー消費効率の根拠（要件ア）'!$AV$43","v":"別添4_12_4"},{"$f":"'（別添４）エネルギー消費効率の根拠（要件ア）'!$AW$43","v":"比較指標/トップランナー基準"},{"$f":"'（別添４）エネルギー消費効率の根拠（要件ア）'!$AX$43","v":0}]
[478,{"$f":"'（別添４）エネルギー消費効率の根拠（要件ア）'!$AV$44","v":"別添4_12_5"},{"$f":"'（別添４）エネルギー消費効率の根拠（要件ア）'!$AW$44","v":"添付資料の根拠記載箇所"},{"$f":"'（別添４）エネルギー消費効率の根拠（要件ア）'!$AX$44","v":0}]
[479,{"$f":"'（別添４）エネルギー消費効率の根拠（要件ア）'!$AV$45","v":"別添4_12_6"},{"$f":"'（別添４）エネルギー消費効率の根拠（要件ア）'!$AW$45","v":"省エネ要因"},{"$f":"'（別添４）エネルギー消費効率の根拠（要件ア）'!$AX$45","v":0}]
[480,{"$f":"'（別添４）エネルギー消費効率の根拠（要件ア）'!$AV$46","v":"別添4_12_7"},{"$f":"'（別添４）エネルギー消費効率の根拠（要件ア）'!$AW$46","v":"導入設備_製品名"},{"$f":"'（別添４）エネルギー消費効率の根拠（要件ア）'!$AX$46","v":0}]
[481,{"$f":"'（別添４）エネルギー消費効率の根拠（要件ア）'!$AV$47","v":"別添4_12_8"},{"$f":"'（別添４）エネルギー消費効率の根拠（要件ア）'!$AW$47","v":"導入設備_製造メーカー"},{"$f":"'（別添４）エネルギー消費効率の根拠（要件ア）'!$AX$47","v":0}]
[482,{"$f":"'（別添４）エネルギー消費効率の根拠（要件ア）'!$AV$48","v":"別添4_12_9"},{"$f":"'（別添４）エネルギー消費効率の根拠（要件ア）'!$AW$48","v":"導入設備_型番"},{"$f":"'（別添４）エネルギー消費効率の根拠（要件ア）'!$AX$48","v":0}]
[483,{"$f":"'（別添４）エネルギー消費効率の根拠（要件ア）'!$AV$49","v":"別添4_12_10"},{"$f":"'（別添４）エネルギー消費効率の根拠（要件ア）'!$AW$49","v":"導入設備_導入台数"},{"$f":"'（別添４）エネルギー消費効率の根拠（要件ア）'!$AX$49","v":"台"}]
[484,{"$f":"'（別添４）エネルギー消費効率の根拠（要件ア）'!$AV$50","v":"別添4_12_11"},{"$f":"'（別添４）エネルギー消費効率の根拠（要件ア）'!$AW$50","v":"導入設備_1台あたりの使用エネルギー"},{"$f":"'（別添４）エネルギー消費効率の根拠（要件ア）'!$AX$50","v":0}]
[485,{"$f":"'（別添４）エネルギー消費効率の根拠（要件ア）'!$AV$51","v":"別添4_12_12"},{"$f":"'（別添４）エネルギー消費効率の根拠（要件ア）'!$AW$51","v":"導入設備_年間エネルギー使用量計算式"},{"$f":"'（別添４）エネルギー消費効率の根拠（要件ア）'!$AX$51","v":0}]
[486,{"$f":"'（別添４）エネルギー消費効率の根拠（要件ア）'!$AV$52","v":"別添4_12_13"},{"$f":"'（別添４）エネルギー消費効率の根拠（要件ア）'!$AW$52","v":"導入設備_計算結果"},{"$f":"'（別添４）エネルギー消費効率の根拠（要件ア）'!$AX$52","v":"単位を選択してください"}]
[487,{"$f":"'（別添４）エネルギー消費効率の根拠（要件ア）'!$AV$53","v":"別添4_12_14"},{"$f":"'（別添４）エネルギー消費効率の根拠（要件ア）'!$AW$53","v":"一代前モデル_製品名"},{"$f":"'（別添４）エネルギー消費効率の根拠（要件ア）'!$AX$53","v":0}]
[488,{"$f":"'（別添４）エネルギー消費効率の根拠（要件ア）'!$AV$54","v":"別添4_12_15"},{"$f":"'（別添４）エネルギー消費効率の根拠（要件ア）'!$AW$54","v":"一代前モデル_製造メーカー"},{"$f":"'（別添４）エネルギー消費効率の根拠（要件ア）'!$AX$54","v":0}]
[489,{"$f":"'（別添４）エネルギー消費効率の根拠（要件ア）'!$AV$55","v":"別添4_12_16"},{"$f":"'（別添４）エネルギー消費効率の根拠（要件ア）'!$AW$55","v":"一代前モデル_型番"},{"$f":"'（別添４）エネルギー消費効率の根拠（要件ア）'!$AX$55","v":0}]
[490,{"$f":"'（別添４）エネルギー消費効率の根拠（要件ア）'!$AV$56","v":"別添4_12_17"},{"$f":"'（別添４）エネルギー消費効率の根拠（要件ア）'!$AW$56","v":"一代前モデル_導入台数"},{"$f":"'（別添４）エネルギー消費効率の根拠（要件ア）'!$AX$56","v":"台"}]
[491,{"$f":"'（別添４）エネルギー消費効率の根拠（要件ア）'!$AV$57","v":"別添4_12_18"},{"$f":"'（別添４）エネルギー消費効率の根拠（要件ア）'!$AW$57","v":"一代前モデル_1台あたりの使用エネルギー"},{"$f":"'（別添４）エネルギー消費効率の根拠（要件ア）'!$AX$57","v":0}]
[492,{"$f":"'（別添４）エネルギー消費効率の根拠（要件ア）'!$AV$58","v":"別添4_12_19"},{"$f":"'（別添４）エネルギー消費効率の根拠（要件ア）'!$AW$58","v":"一代前モデル_年間エネルギー使用量計算式"},{"$f":"'（別添４）エネルギー消費効率の根拠（要件ア）'!$AX$58","v":0}]
[493,{"$f":"'（別添４）エネルギー消費効率の根拠（要件ア）'!$AV$59","v":"別添4_12_20"},{"$f":"'（別添４）エネルギー消費効率の根拠（要件ア）'!$AW$59","v":"一代前モデル_計算結果"},{"$f":"'（別添４）エネルギー消費効率の根拠（要件ア）'!$AX$59","v":"単位を選択してください"}]
[494,{"$f":"'（別添４）エネルギー消費効率の根拠（要件ア）'!$AV$60","v":"別添4_12_21"},{"$f":"'（別添４）エネルギー消費効率の根拠（要件ア）'!$AW$60","v":"年間見込み省エネルギー量__計算結果"},{"$f":"'（別添４）エネルギー消費効率の根拠（要件ア）'!$AX$60","v":"0単位を選択してください"}]
[495,{"$f":"'（別添４）エネルギー消費効率の根拠（要件ア）'!$AV$61","v":"別添4_12_22"},{"$f":"'（別添４）エネルギー消費効率の根拠（要件ア）'!$AW$61","v":"年間見込み省エネルギー量_原油換算計算式"},{"$f":"'（別添４）エネルギー消費効率の根拠（要件ア）'!$AX$61","v":0}]
[496,{"$f":"'（別添４）エネルギー消費効率の根拠（要件ア）'!$AV$62","v":"別添4_12_23"},{"$f":"'（別添４）エネルギー消費効率の根拠（要件ア）'!$AW$62","v":"年間見込み省エネルギー量原油換算計算結果"},{"$f":"'（別添４）エネルギー消費効率の根拠（要件ア）'!$AX$62","v":0}]
[497,{"$f":"'（別添４）エネルギー消費効率の根拠（要件ア）'!$AV$63","v":"別添4_12_24"},{"$f":"'（別添４）エネルギー消費効率の根拠（要件ア）'!$AW$63","v":"年間見込み省エネルギー率_自動計算"},{"$f":"'（別添４）エネルギー消費効率の根拠（要件ア）'!$AX$63","v":""}]
[498,{"$f":"'（別添４）エネルギー消費効率の根拠（要件ア）'!$AZ$40","v":"別添4_13_1"},{"$f":"'（別添４）エネルギー消費効率の根拠（要件ア）'!$BA$40","v":"トップランナー基準"},{"$f":"'（別添４）エネルギー消費効率の根拠（要件ア）'!$BB$40","v":0}]
[499,{"$f":"'（別添４）エネルギー消費効率の根拠（要件ア）'!$AZ$41","v":"別添4_13_2"},{"$f":"'（別添４）エネルギー消費効率の根拠（要件ア）'!$BA$41","v":"トップランナー基準の区分名又は数値"},{"$f":"'（別添４）エネルギー消費効率の根拠（要件ア）'!$BB$41","v":0}]
[500,{"$f":"'（別添４）エネルギー消費効率の根拠（要件ア）'!$AZ$42","v":"別添4_13_3"},{"$f":"'（別添４）エネルギー消費効率の根拠（要件ア）'!$BA$42","v":"トップランナー基準の数値（導入設備）"},{"$f":"'（別添４）エネルギー消費効率の根拠（要件ア）'!$BB$42","v":0}]
[501,{"$f":"'（別添４）エネルギー消費効率の根拠（要件ア）'!$AZ$43","v":"別添4_13_4"},{"$f":"'（別添４）エネルギー消費効率の根拠（要件ア）'!$BA$43","v":"比較指標/トップランナー基準"},{"$f":"'（別添４）エネルギー消費効率の根拠（要件ア）'!$BB$43","v":0}]
[502,{"$f":"'（別添４）エネルギー消費効率の根拠（要件ア）'!$AZ$44","v":"別添4_13_5"},{"$f":"'（別添４）エネルギー消費効率の根拠（要件ア）'!$BA$44","v":"添付資料の根拠記載箇所"},{"$f":"'（別添４）エネルギー消費効率の根拠（要件ア）'!$BB$44","v":0}]
[503,{"$f":"'（別添４）エネルギー消費効率の根拠（要件ア）'!$AZ$45","v":"別添4_13_6"},{"$f":"'（別添４）エネルギー消費効率の根拠（要件ア）'!$BA$45","v":"省エネ要因"},{"$f":"'（別添４）エネルギー消費効率の根拠（要件ア）'!$BB$45","v":0}]
[504,{"$f":"'（別添４）エネルギー消費効率の根拠（要件ア）'!$AZ$46","v":"別添4_13_7"},{"$f":"'（別添４）エネルギー消費効率の根拠（要件ア）'!$BA$46","v":"導入設備_製品名"},{"$f":"'（別添４）エネルギー消費効率の根拠（要件ア）'!$BB$46","v":0}]
[505,{"$f":"'（別添４）エネルギー消費効率の根拠（要件ア）'!$AZ$47","v":"別添4_13_8"},{"$f":"'（別添４）エネルギー消費効率の根拠（要件ア）'!$BA$47","v":"導入設備_製造メーカー"},{"$f":"'（別添４）エネルギー消費効率の根拠（要件ア）'!$BB$47","v":0}]
[506,{"$f":"'（別添４）エネルギー消費効率の根拠（要件ア）'!$AZ$48","v":"別添4_13_9"},{"$f":"'（別添４）エネルギー消費効率の根拠（要件ア）'!$BA$48","v":"導入設備_型番"},{"$f":"'（別添４）エネルギー消費効率の根拠（要件ア）'!$BB$48","v":0}]
[507,{"$f":"'（別添４）エネルギー消費効率の根拠（要件ア）'!$AZ$49","v":"別添4_13_10"},{"$f":"'（別添４）エネルギー消費効率の根拠（要件ア）'!$BA$49","v":"導入設備_導入台数"},{"$f":"'（別添４）エネルギー消費効率の根拠（要件ア）'!$BB$49","v":"台"}]
[508,{"$f":"'（別添４）エネルギー消費効率の根拠（要件ア）'!$AZ$50","v":"別添4_13_11"},{"$f":"'（別添４）エネルギー消費効率の根拠（要件ア）'!$BA$50","v":"導入設備_1台あたりの使用エネルギー"},{"$f":"'（別添４）エネルギー消費効率の根拠（要件ア）'!$BB$50","v":0}]
[509,{"$f":"'（別添４）エネルギー消費効率の根拠（要件ア）'!$AZ$51","v":"別添4_13_12"},{"$f":"'（別添４）エネルギー消費効率の根拠（要件ア）'!$BA$51","v":"導入設備_年間エネルギー使用量計算式"},{"$f":"'（別添４）エネルギー消費効率の根拠（要件ア）'!$BB$51","v":0}]
[510,{"$f":"'（別添４）エネルギー消費効率の根拠（要件ア）'!$AZ$52","v":"別添4_13_13"},{"$f":"'（別添４）エネルギー消費効率の根拠（要件ア）'!$BA$52","v":"導入設備_計算結果"},{"$f":"'（別添４）エネルギー消費効率の根拠（要件ア）'!$BB$52","v":"単位を選択してください"}]
[511,{"$f":"'（別添４）エネルギー消費効率の根拠（要件ア）'!$AZ$53","v":"別添4_13_14"},{"$f":"'（別添４）エネルギー消費効率の根拠（要件ア）'!$BA$53","v":"一代前モデル_製品名"},{"$f":"'（別添４）エネルギー消費効率の根拠（要件ア）'!$BB$53","v":0}]
[512,{"$f":"'（別添４）エネルギー消費効率の根拠（要件ア）'!$AZ$54","v":"別添4_13_15"},{"$f":"'（別添４）エネルギー消費効率の根拠（要件ア）'!$BA$54","v":"一代前モデル_製造メーカー"},{"$f":"'（別添４）エネルギー消費効率の根拠（要件ア）'!$BB$54","v":0}]
[513,{"$f":"'（別添４）エネルギー消費効率の根拠（要件ア）'!$AZ$55","v":"別添4_13_16"},{"$f":"'（別添４）エネルギー消費効率の根拠（要件ア）'!$BA$55","v":"一代前モデル_型番"},{"$f":"'（別添４）エネルギー消費効率の根拠（要件ア）'!$BB$55","v":0}]
[514,{"$f":"'（別添４）エネルギー消費効率の根拠（要件ア）'!$AZ$56","v":"別添4_13_17"},{"$f":"'（別添４）エネルギー消費効率の根拠（要件ア）'!$BA$56","v":"一代前モデル_導入台数"},{"$f":"'（別添４）エネルギー消費効率の根拠（要件ア）'!$BB$56","v":"台"}]
[515,{"$f":"'（別添４）エネルギー消費効率の根拠（要件ア）'!$AZ$57","v":"別添4_13_18"},{"$f":"'（別添４）エネルギー消費効率の根拠（要件ア）'!$BA$57","v":"一代前モデル_1台あたりの使用エネルギー"},{"$f":"'（別添４）エネルギー消費効率の根拠（要件ア）'!$BB$57","v":0}]
[516,{"$f":"'（別添４）エネルギー消費効率の根拠（要件ア）'!$AZ$58","v":"別添4_13_19"},{"$f":"'（別添４）エネルギー消費効率の根拠（要件ア）'!$BA$58","v":"一代前モデル_年間エネルギー使用量計算式"},{"$f":"'（別添４）エネルギー消費効率の根拠（要件ア）'!$BB$58","v":0}]
[517,{"$f":"'（別添４）エネルギー消費効率の根拠（要件ア）'!$AZ$59","v":"別添4_13_20"},{"$f":"'（別添４）エネルギー消費効率の根拠（要件ア）'!$BA$59","v":"一代前モデル_計算結果"},{"$f":"'（別添４）エネルギー消費効率の根拠（要件ア）'!$BB$59","v":"単位を選択してください"}]
[518,{"$f":"'（別添４）エネルギー消費効率の根拠（要件ア）'!$AZ$60","v":"別添4_13_21"},{"$f":"'（別添４）エネルギー消費効率の根拠（要件ア）'!$BA$60","v":"年間見込み省エネルギー量__計算結果"},{"$f":"'（別添４）エネルギー消費効率の根拠（要件ア）'!$BB$60","v":"0単位を選択してください"}]
[519,{"$f":"'（別添４）エネルギー消費効率の根拠（要件ア）'!$AZ$61","v":"別添4_13_22"},{"$f":"'（別添４）エネルギー消費効率の根拠（要件ア）'!$BA$61","v":"年間見込み省エネルギー量_原油換算計算式"},{"$f":"'（別添４）エネルギー消費効率の根拠（要件ア）'!$BB$61","v":0}]
[520,{"$f":"'（別添４）エネルギー消費効率の根拠（要件ア）'!$AZ$62","v":"別添4_13_23"},{"$f":"'（別添４）エネルギー消費効率の根拠（要件ア）'!$BA$62","v":"年間見込み省エネルギー量原油換算計算結果"},{"$f":"'（別添４）エネルギー消費効率の根拠（要件ア）'!$BB$62","v":0}]
[521,{"$f":"'（別添４）エネルギー消費効率の根拠（要件ア）'!$AZ$63","v":"別添4_13_24"},{"$f":"'（別添４）エネルギー消費効率の根拠（要件ア）'!$BA$63","v":"年間見込み省エネルギー率_自動計算"},{"$f":"'（別添４）エネルギー消費効率の根拠（要件ア）'!$BB$63","v":""}]
[522,{"$f":"'（別添４）エネルギー消費効率の根拠（要件ア）'!$BD$40","v":"別添4_14_1"},{"$f":"'（別添４）エネルギー消費効率の根拠（要件ア）'!$BE$40","v":"トップランナー基準"},{"$f":"'（別添４）エネルギー消費効率の根拠（要件ア）'!$BF$40","v":0}]
[{"$f":"ROW()-1","v":523},{"$f":"'（別添４）エネルギー消費効率の根拠（要件ア）'!$BD$41","v":"別添4_14_2"},{"$f":"'（別添４）エネルギー消費効率の根拠（要件ア）'!$BE$41","v":"トップランナー基準の区分名又は数値"},{"$f":"'（別添４）エネルギー消費効率の根拠（要件ア）'!$BF$41","v":0}]
[524,{"$f":"'（別添４）エネルギー消費効率の根拠（要件ア）'!$BD$42","v":"別添4_14_3"},{"$f":"'（別添４）エネルギー消費効率の根拠（要件ア）'!$BE$42","v":"トップランナー基準の数値（導入設備）"},{"$f":"'（別添４）エネルギー消費効率の根拠（要件ア）'!$BF$42","v":0}]
[525,{"$f":"'（別添４）エネルギー消費効率の根拠（要件ア）'!$BD$43","v":"別添4_14_4"},{"$f":"'（別添４）エネルギー消費効率の根拠（要件ア）'!$BE$43","v":"比較指標/トップランナー基準"},{"$f":"'（別添４）エネルギー消費効率の根拠（要件ア）'!$BF$43","v":0}]
[526,{"$f":"'（別添４）エネルギー消費効率の根拠（要件ア）'!$BD$44","v":"別添4_14_5"},{"$f":"'（別添４）エネルギー消費効率の根拠（要件ア）'!$BE$44","v":"添付資料の根拠記載箇所"},{"$f":"'（別添４）エネルギー消費効率の根拠（要件ア）'!$BF$44","v":0}]
[527,{"$f":"'（別添４）エネルギー消費効率の根拠（要件ア）'!$BD$45","v":"別添4_14_6"},{"$f":"'（別添４）エネルギー消費効率の根拠（要件ア）'!$BE$45","v":"省エネ要因"},{"$f":"'（別添４）エネルギー消費効率の根拠（要件ア）'!$BF$45","v":0}]
[528,{"$f":"'（別添４）エネルギー消費効率の根拠（要件ア）'!$BD$46","v":"別添4_14_7"},{"$f":"'（別添４）エネルギー消費効率の根拠（要件ア）'!$BE$46","v":"導入設備_製品名"},{"$f":"'（別添４）エネルギー消費効率の根拠（要件ア）'!$BF$46","v":0}]
[529,{"$f":"'（別添４）エネルギー消費効率の根拠（要件ア）'!$BD$47","v":"別添4_14_8"},{"$f":"'（別添４）エネルギー消費効率の根拠（要件ア）'!$BE$47","v":"導入設備_製造メーカー"},{"$f":"'（別添４）エネルギー消費効率の根拠（要件ア）'!$BF$47","v":0}]
[530,{"$f":"'（別添４）エネルギー消費効率の根拠（要件ア）'!$BD$48","v":"別添4_14_9"},{"$f":"'（別添４）エネルギー消費効率の根拠（要件ア）'!$BE$48","v":"導入設備_型番"},{"$f":"'（別添４）エネルギー消費効率の根拠（要件ア）'!$BF$48","v":0}]
[531,{"$f":"'（別添４）エネルギー消費効率の根拠（要件ア）'!$BD$49","v":"別添4_14_10"},{"$f":"'（別添４）エネルギー消費効率の根拠（要件ア）'!$BE$49","v":"導入設備_導入台数"},{"$f":"'（別添４）エネルギー消費効率の根拠（要件ア）'!$BF$49","v":"台"}]
[532,{"$f":"'（別添４）エネルギー消費効率の根拠（要件ア）'!$BD$50","v":"別添4_14_11"},{"$f":"'（別添４）エネルギー消費効率の根拠（要件ア）'!$BE$50","v":"導入設備_1台あたりの使用エネルギー"},{"$f":"'（別添４）エネルギー消費効率の根拠（要件ア）'!$BF$50","v":0}]
[533,{"$f":"'（別添４）エネルギー消費効率の根拠（要件ア）'!$BD$51","v":"別添4_14_12"},{"$f":"'（別添４）エネルギー消費効率の根拠（要件ア）'!$BE$51","v":"導入設備_年間エネルギー使用量計算式"},{"$f":"'（別添４）エネルギー消費効率の根拠（要件ア）'!$BF$51","v":0}]
[534,{"$f":"'（別添４）エネルギー消費効率の根拠（要件ア）'!$BD$52","v":"別添4_14_13"},{"$f":"'（別添４）エネルギー消費効率の根拠（要件ア）'!$BE$52","v":"導入設備_計算結果"},{"$f":"'（別添４）エネルギー消費効率の根拠（要件ア）'!$BF$52","v":"単位を選択してください"}]
[535,{"$f":"'（別添４）エネルギー消費効率の根拠（要件ア）'!$BD$53","v":"別添4_14_14"},{"$f":"'（別添４）エネルギー消費効率の根拠（要件ア）'!$BE$53","v":"一代前モデル_製品名"},{"$f":"'（別添４）エネルギー消費効率の根拠（要件ア）'!$BF$53","v":0}]
[536,{"$f":"'（別添４）エネルギー消費効率の根拠（要件ア）'!$BD$54","v":"別添4_14_15"},{"$f":"'（別添４）エネルギー消費効率の根拠（要件ア）'!$BE$54","v":"一代前モデル_製造メーカー"},{"$f":"'（別添４）エネルギー消費効率の根拠（要件ア）'!$BF$54","v":0}]
[537,{"$f":"'（別添４）エネルギー消費効率の根拠（要件ア）'!$BD$55","v":"別添4_14_16"},{"$f":"'（別添４）エネルギー消費効率の根拠（要件ア）'!$BE$55","v":"一代前モデル_型番"},{"$f":"'（別添４）エネルギー消費効率の根拠（要件ア）'!$BF$55","v":0}]
[538,{"$f":"'（別添４）エネルギー消費効率の根拠（要件ア）'!$BD$56","v":"別添4_14_17"},{"$f":"'（別添４）エネルギー消費効率の根拠（要件ア）'!$BE$56","v":"一代前モデル_導入台数"},{"$f":"'（別添４）エネルギー消費効率の根拠（要件ア）'!$BF$56","v":"台"}]
[539,{"$f":"'（別添４）エネルギー消費効率の根拠（要件ア）'!$BD$57","v":"別添4_14_18"},{"$f":"'（別添４）エネルギー消費効率の根拠（要件ア）'!$BE$57","v":"一代前モデル_1台あたりの使用エネルギー"},{"$f":"'（別添４）エネルギー消費効率の根拠（要件ア）'!$BF$57","v":0}]
[540,{"$f":"'（別添４）エネルギー消費効率の根拠（要件ア）'!$BD$58","v":"別添4_14_19"},{"$f":"'（別添４）エネルギー消費効率の根拠（要件ア）'!$BE$58","v":"一代前モデル_年間エネルギー使用量計算式"},{"$f":"'（別添４）エネルギー消費効率の根拠（要件ア）'!$BF$58","v":0}]
[541,{"$f":"'（別添４）エネルギー消費効率の根拠（要件ア）'!$BD$59","v":"別添4_14_20"},{"$f":"'（別添４）エネルギー消費効率の根拠（要件ア）'!$BE$59","v":"一代前モデル_計算結果"},{"$f":"'（別添４）エネルギー消費効率の根拠（要件ア）'!$BF$59","v":"単位を選択してください"}]
[542,{"$f":"'（別添４）エネルギー消費効率の根拠（要件ア）'!$BD$60","v":"別添4_14_21"},{"$f":"'（別添４）エネルギー消費効率の根拠（要件ア）'!$BE$60","v":"年間見込み省エネルギー量__計算結果"},{"$f":"'（別添４）エネルギー消費効率の根拠（要件ア）'!$BF$60","v":"0単位を選択してください"}]
[543,{"$f":"'（別添４）エネルギー消費効率の根拠（要件ア）'!$BD$61","v":"別添4_14_22"},{"$f":"'（別添４）エネルギー消費効率の根拠（要件ア）'!$BE$61","v":"年間見込み省エネルギー量_原油換算計算式"},{"$f":"'（別添４）エネルギー消費効率の根拠（要件ア）'!$BF$61","v":0}]
[544,{"$f":"'（別添４）エネルギー消費効率の根拠（要件ア）'!$BD$62","v":"別添4_14_23"},{"$f":"'（別添４）エネルギー消費効率の根拠（要件ア）'!$BE$62","v":"年間見込み省エネルギー量原油換算計算結果"},{"$f":"'（別添４）エネルギー消費効率の根拠（要件ア）'!$BF$62","v":0}]
[545,{"$f":"'（別添４）エネルギー消費効率の根拠（要件ア）'!$BD$63","v":"別添4_14_24"},{"$f":"'（別添４）エネルギー消費効率の根拠（要件ア）'!$BE$63","v":"年間見込み省エネルギー率_自動計算"},{"$f":"'（別添４）エネルギー消費効率の根拠（要件ア）'!$BF$63","v":""}]
[546,{"$f":"'（別添４）エネルギー消費効率の根拠（要件ア）'!$BH$40","v":"別添4_15_1"},{"$f":"'（別添４）エネルギー消費効率の根拠（要件ア）'!$BI$40","v":"トップランナー基準"},{"$f":"'（別添４）エネルギー消費効率の根拠（要件ア）'!$BJ$40","v":0}]
[547,{"$f":"'（別添４）エネルギー消費効率の根拠（要件ア）'!$BH$41","v":"別添4_15_2"},{"$f":"'（別添４）エネルギー消費効率の根拠（要件ア）'!$BI$41","v":"トップランナー基準の区分名又は数値"},{"$f":"'（別添４）エネルギー消費効率の根拠（要件ア）'!$BJ$41","v":0}]
[548,{"$f":"'（別添４）エネルギー消費効率の根拠（要件ア）'!$BH$42","v":"別添4_15_3"},{"$f":"'（別添４）エネルギー消費効率の根拠（要件ア）'!$BI$42","v":"トップランナー基準の数値（導入設備）"},{"$f":"'（別添４）エネルギー消費効率の根拠（要件ア）'!$BJ$42","v":0}]
[549,{"$f":"'（別添４）エネルギー消費効率の根拠（要件ア）'!$BH$43","v":"別添4_15_4"},{"$f":"'（別添４）エネルギー消費効率の根拠（要件ア）'!$BI$43","v":"比較指標/トップランナー基準"},{"$f":"'（別添４）エネルギー消費効率の根拠（要件ア）'!$BJ$43","v":0}]
[550,{"$f":"'（別添４）エネルギー消費効率の根拠（要件ア）'!$BH$44","v":"別添4_15_5"},{"$f":"'（別添４）エネルギー消費効率の根拠（要件ア）'!$BI$44","v":"添付資料の根拠記載箇所"},{"$f":"'（別添４）エネルギー消費効率の根拠（要件ア）'!$BJ$44","v":0}]
[551,{"$f":"'（別添４）エネルギー消費効率の根拠（要件ア）'!$BH$45","v":"別添4_15_6"},{"$f":"'（別添４）エネルギー消費効率の根拠（要件ア）'!$BI$45","v":"省エネ要因"},{"$f":"'（別添４）エネルギー消費効率の根拠（要件ア）'!$BJ$45","v":0}]
[552,{"$f":"'（別添４）エネルギー消費効率の根拠（要件ア）'!$BH$46","v":"別添4_15_7"},{"$f":"'（別添４）エネルギー消費効率の根拠（要件ア）'!$BI$46","v":"導入設備_製品名"},{"$f":"'（別添４）エネルギー消費効率の根拠（要件ア）'!$BJ$46","v":0}]
[553,{"$f":"'（別添４）エネルギー消費効率の根拠（要件ア）'!$BH$47","v":"別添4_15_8"},{"$f":"'（別添４）エネルギー消費効率の根拠（要件ア）'!$BI$47","v":"導入設備_製造メーカー"},{"$f":"'（別添４）エネルギー消費効率の根拠（要件ア）'!$BJ$47","v":0}]
[554,{"$f":"'（別添４）エネルギー消費効率の根拠（要件ア）'!$BH$48","v":"別添4_15_9"},{"$f":"'（別添４）エネルギー消費効率の根拠（要件ア）'!$BI$48","v":"導入設備_型番"},{"$f":"'（別添４）エネルギー消費効率の根拠（要件ア）'!$BJ$48","v":0}]
[555,{"$f":"'（別添４）エネルギー消費効率の根拠（要件ア）'!$BH$49","v":"別添4_15_10"},{"$f":"'（別添４）エネルギー消費効率の根拠（要件ア）'!$BI$49","v":"導入設備_導入台数"},{"$f":"'（別添４）エネルギー消費効率の根拠（要件ア）'!$BJ$49","v":"台"}]
[556,{"$f":"'（別添４）エネルギー消費効率の根拠（要件ア）'!$BH$50","v":"別添4_15_11"},{"$f":"'（別添４）エネルギー消費効率の根拠（要件ア）'!$BI$50","v":"導入設備_1台あたりの使用エネルギー"},{"$f":"'（別添４）エネルギー消費効率の根拠（要件ア）'!$BJ$50","v":0}]
[557,{"$f":"'（別添４）エネルギー消費効率の根拠（要件ア）'!$BH$51","v":"別添4_15_12"},{"$f":"'（別添４）エネルギー消費効率の根拠（要件ア）'!$BI$51","v":"導入設備_年間エネルギー使用量計算式"},{"$f":"'（別添４）エネルギー消費効率の根拠（要件ア）'!$BJ$51","v":0}]
[558,{"$f":"'（別添４）エネルギー消費効率の根拠（要件ア）'!$BH$52","v":"別添4_15_13"},{"$f":"'（別添４）エネルギー消費効率の根拠（要件ア）'!$BI$52","v":"導入設備_計算結果"},{"$f":"'（別添４）エネルギー消費効率の根拠（要件ア）'!$BJ$52","v":"単位を選択してください"}]
[559,{"$f":"'（別添４）エネルギー消費効率の根拠（要件ア）'!$BH$53","v":"別添4_15_14"},{"$f":"'（別添４）エネルギー消費効率の根拠（要件ア）'!$BI$53","v":"一代前モデル_製品名"},{"$f":"'（別添４）エネルギー消費効率の根拠（要件ア）'!$BJ$53","v":0}]
[560,{"$f":"'（別添４）エネルギー消費効率の根拠（要件ア）'!$BH$54","v":"別添4_15_15"},{"$f":"'（別添４）エネルギー消費効率の根拠（要件ア）'!$BI$54","v":"一代前モデル_製造メーカー"},{"$f":"'（別添４）エネルギー消費効率の根拠（要件ア）'!$BJ$54","v":0}]
[561,{"$f":"'（別添４）エネルギー消費効率の根拠（要件ア）'!$BH$55","v":"別添4_15_16"},{"$f":"'（別添４）エネルギー消費効率の根拠（要件ア）'!$BI$55","v":"一代前モデル_型番"},{"$f":"'（別添４）エネルギー消費効率の根拠（要件ア）'!$BJ$55","v":0}]
[562,{"$f":"'（別添４）エネルギー消費効率の根拠（要件ア）'!$BH$56","v":"別添4_15_17"},{"$f":"'（別添４）エネルギー消費効率の根拠（要件ア）'!$BI$56","v":"一代前モデル_導入台数"},{"$f":"'（別添４）エネルギー消費効率の根拠（要件ア）'!$BJ$56","v":"台"}]
[563,{"$f":"'（別添４）エネルギー消費効率の根拠（要件ア）'!$BH$57","v":"別添4_15_18"},{"$f":"'（別添４）エネルギー消費効率の根拠（要件ア）'!$BI$57","v":"一代前モデル_1台あたりの使用エネルギー"},{"$f":"'（別添４）エネルギー消費効率の根拠（要件ア）'!$BJ$57","v":0}]
[564,{"$f":"'（別添４）エネルギー消費効率の根拠（要件ア）'!$BH$58","v":"別添4_15_19"},{"$f":"'（別添４）エネルギー消費効率の根拠（要件ア）'!$BI$58","v":"一代前モデル_年間エネルギー使用量計算式"},{"$f":"'（別添４）エネルギー消費効率の根拠（要件ア）'!$BJ$58","v":0}]
[565,{"$f":"'（別添４）エネルギー消費効率の根拠（要件ア）'!$BH$59","v":"別添4_15_20"},{"$f":"'（別添４）エネルギー消費効率の根拠（要件ア）'!$BI$59","v":"一代前モデル_計算結果"},{"$f":"'（別添４）エネルギー消費効率の根拠（要件ア）'!$BJ$59","v":"単位を選択してください"}]
[566,{"$f":"'（別添４）エネルギー消費効率の根拠（要件ア）'!$BH$60","v":"別添4_15_21"},{"$f":"'（別添４）エネルギー消費効率の根拠（要件ア）'!$BI$60","v":"年間見込み省エネルギー量__計算結果"},{"$f":"'（別添４）エネルギー消費効率の根拠（要件ア）'!$BJ$60","v":"0単位を選択してください"}]
[567,{"$f":"'（別添４）エネルギー消費効率の根拠（要件ア）'!$BH$61","v":"別添4_15_22"},{"$f":"'（別添４）エネルギー消費効率の根拠（要件ア）'!$BI$61","v":"年間見込み省エネルギー量_原油換算計算式"},{"$f":"'（別添４）エネルギー消費効率の根拠（要件ア）'!$BJ$61","v":0}]
[568,{"$f":"'（別添４）エネルギー消費効率の根拠（要件ア）'!$BH$62","v":"別添4_15_23"},{"$f":"'（別添４）エネルギー消費効率の根拠（要件ア）'!$BI$62","v":"年間見込み省エネルギー量原油換算計算結果"},{"$f":"'（別添４）エネルギー消費効率の根拠（要件ア）'!$BJ$62","v":0}]
[569,{"$f":"'（別添４）エネルギー消費効率の根拠（要件ア）'!$BH$63","v":"別添4_15_24"},{"$f":"'（別添４）エネルギー消費効率の根拠（要件ア）'!$BI$63","v":"年間見込み省エネルギー率_自動計算"},{"$f":"'（別添４）エネルギー消費効率の根拠（要件ア）'!$BJ$63","v":""}]
[570,{"$f":"'（別添４）エネルギー消費効率の根拠（要件ア）'!$BL$40","v":"別添4_16_1"},{"$f":"'（別添４）エネルギー消費効率の根拠（要件ア）'!$BM$40","v":"トップランナー基準"},{"$f":"'（別添４）エネルギー消費効率の根拠（要件ア）'!$BN$40","v":0}]
[571,{"$f":"'（別添４）エネルギー消費効率の根拠（要件ア）'!$BL$41","v":"別添4_16_2"},{"$f":"'（別添４）エネルギー消費効率の根拠（要件ア）'!$BM$41","v":"トップランナー基準の区分名又は数値"},{"$f":"'（別添４）エネルギー消費効率の根拠（要件ア）'!$BN$41","v":0}]
[572,{"$f":"'（別添４）エネルギー消費効率の根拠（要件ア）'!$BL$42","v":"別添4_16_3"},{"$f":"'（別添４）エネルギー消費効率の根拠（要件ア）'!$BM$42","v":"トップランナー基準の数値（導入設備）"},{"$f":"'（別添４）エネルギー消費効率の根拠（要件ア）'!$BN$42","v":0}]
[573,{"$f":"'（別添４）エネルギー消費効率の根拠（要件ア）'!$BL$43","v":"別添4_16_4"},{"$f":"'（別添４）エネルギー消費効率の根拠（要件ア）'!$BM$43","v":"比較指標/トップランナー基準"},{"$f":"'（別添４）エネルギー消費効率の根拠（要件ア）'!$BN$43","v":0}]
[574,{"$f":"'（別添４）エネルギー消費効率の根拠（要件ア）'!$BL$44","v":"別添4_16_5"},{"$f":"'（別添４）エネルギー消費効率の根拠（要件ア）'!$BM$44","v":"添付資料の根拠記載箇所"},{"$f":"'（別添４）エネルギー消費効率の根拠（要件ア）'!$BN$44","v":0}]
[575,{"$f":"'（別添４）エネルギー消費効率の根拠（要件ア）'!$BL$45","v":"別添4_16_6"},{"$f":"'（別添４）エネルギー消費効率の根拠（要件ア）'!$BM$45","v":"省エネ要因"},{"$f":"'（別添４）エネルギー消費効率の根拠（要件ア）'!$BN$45","v":0}]
[576,{"$f":"'（別添４）エネルギー消費効率の根拠（要件ア）'!$BL$46","v":"別添4_16_7"},{"$f":"'（別添４）エネルギー消費効率の根拠（要件ア）'!$BM$46","v":"導入設備_製品名"},{"$f":"'（別添４）エネルギー消費効率の根拠（要件ア）'!$BN$46","v":0}]
[577,{"$f":"'（別添４）エネルギー消費効率の根拠（要件ア）'!$BL$47","v":"別添4_16_8"},{"$f":"'（別添４）エネルギー消費効率の根拠（要件ア）'!$BM$47","v":"導入設備_製造メーカー"},{"$f":"'（別添４）エネルギー消費効率の根拠（要件ア）'!$BN$47","v":0}]
[578,{"$f":"'（別添４）エネルギー消費効率の根拠（要件ア）'!$BL$48","v":"別添4_16_9"},{"$f":"'（別添４）エネルギー消費効率の根拠（要件ア）'!$BM$48","v":"導入設備_型番"},{"$f":"'（別添４）エネルギー消費効率の根拠（要件ア）'!$BN$48","v":0}]
[579,{"$f":"'（別添４）エネルギー消費効率の根拠（要件ア）'!$BL$49","v":"別添4_16_10"},{"$f":"'（別添４）エネルギー消費効率の根拠（要件ア）'!$BM$49","v":"導入設備_導入台数"},{"$f":"'（別添４）エネルギー消費効率の根拠（要件ア）'!$BN$49","v":"台"}]
[580,{"$f":"'（別添４）エネルギー消費効率の根拠（要件ア）'!$BL$50","v":"別添4_16_11"},{"$f":"'（別添４）エネルギー消費効率の根拠（要件ア）'!$BM$50","v":"導入設備_1台あたりの使用エネルギー"},{"$f":"'（別添４）エネルギー消費効率の根拠（要件ア）'!$BN$50","v":0}]
[581,{"$f":"'（別添４）エネルギー消費効率の根拠（要件ア）'!$BL$51","v":"別添4_16_12"},{"$f":"'（別添４）エネルギー消費効率の根拠（要件ア）'!$BM$51","v":"導入設備_年間エネルギー使用量計算式"},{"$f":"'（別添４）エネルギー消費効率の根拠（要件ア）'!$BN$51","v":0}]
[582,{"$f":"'（別添４）エネルギー消費効率の根拠（要件ア）'!$BL$52","v":"別添4_16_13"},{"$f":"'（別添４）エネルギー消費効率の根拠（要件ア）'!$BM$52","v":"導入設備_計算結果"},{"$f":"'（別添４）エネルギー消費効率の根拠（要件ア）'!$BN$52","v":"単位を選択してください"}]
[583,{"$f":"'（別添４）エネルギー消費効率の根拠（要件ア）'!$BL$53","v":"別添4_16_14"},{"$f":"'（別添４）エネルギー消費効率の根拠（要件ア）'!$BM$53","v":"一代前モデル_製品名"},{"$f":"'（別添４）エネルギー消費効率の根拠（要件ア）'!$BN$53","v":0}]
[584,{"$f":"'（別添４）エネルギー消費効率の根拠（要件ア）'!$BL$54","v":"別添4_16_15"},{"$f":"'（別添４）エネルギー消費効率の根拠（要件ア）'!$BM$54","v":"一代前モデル_製造メーカー"},{"$f":"'（別添４）エネルギー消費効率の根拠（要件ア）'!$BN$54","v":0}]
[585,{"$f":"'（別添４）エネルギー消費効率の根拠（要件ア）'!$BL$55","v":"別添4_16_16"},{"$f":"'（別添４）エネルギー消費効率の根拠（要件ア）'!$BM$55","v":"一代前モデル_型番"},{"$f":"'（別添４）エネルギー消費効率の根拠（要件ア）'!$BN$55","v":0}]
[586,{"$f":"'（別添４）エネルギー消費効率の根拠（要件ア）'!$BL$56","v":"別添4_16_17"},{"$f":"'（別添４）エネルギー消費効率の根拠（要件ア）'!$BM$56","v":"一代前モデル_導入台数"},{"$f":"'（別添４）エネルギー消費効率の根拠（要件ア）'!$BN$56","v":"台"}]
[{"$f":"ROW()-1","v":587},{"$f":"'（別添４）エネルギー消費効率の根拠（要件ア）'!$BL$57","v":"別添4_16_18"},{"$f":"'（別添４）エネルギー消費効率の根拠（要件ア）'!$BM$57","v":"一代前モデル_1台あたりの使用エネルギー"},{"$f":"'（別添４）エネルギー消費効率の根拠（要件ア）'!$BN$57","v":0}]
[588,{"$f":"'（別添４）エネルギー消費効率の根拠（要件ア）'!$BL$58","v":"別添4_16_19"},{"$f":"'（別添４）エネルギー消費効率の根拠（要件ア）'!$BM$58","v":"一代前モデル_年間エネルギー使用量計算式"},{"$f":"'（別添４）エネルギー消費効率の根拠（要件ア）'!$BN$58","v":0}]
[589,{"$f":"'（別添４）エネルギー消費効率の根拠（要件ア）'!$BL$59","v":"別添4_16_20"},{"$f":"'（別添４）エネルギー消費効率の根拠（要件ア）'!$BM$59","v":"一代前モデル_計算結果"},{"$f":"'（別添４）エネルギー消費効率の根拠（要件ア）'!$BN$59","v":"単位を選択してください"}]
[590,{"$f":"'（別添４）エネルギー消費効率の根拠（要件ア）'!$BL$60","v":"別添4_16_21"},{"$f":"'（別添４）エネルギー消費効率の根拠（要件ア）'!$BM$60","v":"年間見込み省エネルギー量__計算結果"},{"$f":"'（別添４）エネルギー消費効率の根拠（要件ア）'!$BN$60","v":"0単位を選択してください"}]
[591,{"$f":"'（別添４）エネルギー消費効率の根拠（要件ア）'!$BL$61","v":"別添4_16_22"},{"$f":"'（別添４）エネルギー消費効率の根拠（要件ア）'!$BM$61","v":"年間見込み省エネルギー量_原油換算計算式"},{"$f":"'（別添４）エネルギー消費効率の根拠（要件ア）'!$BN$61","v":0}]
[592,{"$f":"'（別添４）エネルギー消費効率の根拠（要件ア）'!$BL$62","v":"別添4_16_23"},{"$f":"'（別添４）エネルギー消費効率の根拠（要件ア）'!$BM$62","v":"年間見込み省エネルギー量原油換算計算結果"},{"$f":"'（別添４）エネルギー消費効率の根拠（要件ア）'!$BN$62","v":0}]
[593,{"$f":"'（別添４）エネルギー消費効率の根拠（要件ア）'!$BL$63","v":"別添4_16_24"},{"$f":"'（別添４）エネルギー消費効率の根拠（要件ア）'!$BM$63","v":"年間見込み省エネルギー率_自動計算"},{"$f":"'（別添４）エネルギー消費効率の根拠（要件ア）'!$BN$63","v":""}]
[594,{"$f":"'（別添４）エネルギー消費効率の根拠（要件ア）'!$BP$40","v":"別添4_17_1"},{"$f":"'（別添４）エネルギー消費効率の根拠（要件ア）'!$BQ$40","v":"トップランナー基準"},{"$f":"'（別添４）エネルギー消費効率の根拠（要件ア）'!$BR$40","v":0}]
[595,{"$f":"'（別添４）エネルギー消費効率の根拠（要件ア）'!$BP$41","v":"別添4_17_2"},{"$f":"'（別添４）エネルギー消費効率の根拠（要件ア）'!$BQ$41","v":"トップランナー基準の区分名又は数値"},{"$f":"'（別添４）エネルギー消費効率の根拠（要件ア）'!$BR$41","v":0}]
[596,{"$f":"'（別添４）エネルギー消費効率の根拠（要件ア）'!$BP$42","v":"別添4_17_3"},{"$f":"'（別添４）エネルギー消費効率の根拠（要件ア）'!$BQ$42","v":"トップランナー基準の数値（導入設備）"},{"$f":"'（別添４）エネルギー消費効率の根拠（要件ア）'!$BR$42","v":0}]
[597,{"$f":"'（別添４）エネルギー消費効率の根拠（要件ア）'!$BP$43","v":"別添4_17_4"},{"$f":"'（別添４）エネルギー消費効率の根拠（要件ア）'!$BQ$43","v":"比較指標/トップランナー基準"},{"$f":"'（別添４）エネルギー消費効率の根拠（要件ア）'!$BR$43","v":0}]
[598,{"$f":"'（別添４）エネルギー消費効率の根拠（要件ア）'!$BP$44","v":"別添4_17_5"},{"$f":"'（別添４）エネルギー消費効率の根拠（要件ア）'!$BQ$44","v":"添付資料の根拠記載箇所"},{"$f":"'（別添４）エネルギー消費効率の根拠（要件ア）'!$BR$44","v":0}]
[599,{"$f":"'（別添４）エネルギー消費効率の根拠（要件ア）'!$BP$45","v":"別添4_17_6"},{"$f":"'（別添４）エネルギー消費効率の根拠（要件ア）'!$BQ$45","v":"省エネ要因"},{"$f":"'（別添４）エネルギー消費効率の根拠（要件ア）'!$BR$45","v":0}]
[600,{"$f":"'（別添４）エネルギー消費効率の根拠（要件ア）'!$BP$46","v":"別添4_17_7"},{"$f":"'（別添４）エネルギー消費効率の根拠（要件ア）'!$BQ$46","v":"導入設備_製品名"},{"$f":"'（別添４）エネルギー消費効率の根拠（要件ア）'!$BR$46","v":0}]
[601,{"$f":"'（別添４）エネルギー消費効率の根拠（要件ア）'!$BP$47","v":"別添4_17_8"},{"$f":"'（別添４）エネルギー消費効率の根拠（要件ア）'!$BQ$47","v":"導入設備_製造メーカー"},{"$f":"'（別添４）エネルギー消費効率の根拠（要件ア）'!$BR$47","v":0}]
[602,{"$f":"'（別添４）エネルギー消費効率の根拠（要件ア）'!$BP$48","v":"別添4_17_9"},{"$f":"'（別添４）エネルギー消費効率の根拠（要件ア）'!$BQ$48","v":"導入設備_型番"},{"$f":"'（別添４）エネルギー消費効率の根拠（要件ア）'!$BR$48","v":0}]
[603,{"$f":"'（別添４）エネルギー消費効率の根拠（要件ア）'!$BP$49","v":"別添4_17_10"},{"$f":"'（別添４）エネルギー消費効率の根拠（要件ア）'!$BQ$49","v":"導入設備_導入台数"},{"$f":"'（別添４）エネルギー消費効率の根拠（要件ア）'!$BR$49","v":"台"}]
[604,{"$f":"'（別添４）エネルギー消費効率の根拠（要件ア）'!$BP$50","v":"別添4_17_11"},{"$f":"'（別添４）エネルギー消費効率の根拠（要件ア）'!$BQ$50","v":"導入設備_1台あたりの使用エネルギー"},{"$f":"'（別添４）エネルギー消費効率の根拠（要件ア）'!$BR$50","v":0}]
[605,{"$f":"'（別添４）エネルギー消費効率の根拠（要件ア）'!$BP$51","v":"別添4_17_12"},{"$f":"'（別添４）エネルギー消費効率の根拠（要件ア）'!$BQ$51","v":"導入設備_年間エネルギー使用量計算式"},{"$f":"'（別添４）エネルギー消費効率の根拠（要件ア）'!$BR$51","v":0}]
[606,{"$f":"'（別添４）エネルギー消費効率の根拠（要件ア）'!$BP$52","v":"別添4_17_13"},{"$f":"'（別添４）エネルギー消費効率の根拠（要件ア）'!$BQ$52","v":"導入設備_計算結果"},{"$f":"'（別添４）エネルギー消費効率の根拠（要件ア）'!$BR$52","v":"単位を選択してください"}]
[607,{"$f":"'（別添４）エネルギー消費効率の根拠（要件ア）'!$BP$53","v":"別添4_17_14"},{"$f":"'（別添４）エネルギー消費効率の根拠（要件ア）'!$BQ$53","v":"一代前モデル_製品名"},{"$f":"'（別添４）エネルギー消費効率の根拠（要件ア）'!$BR$53","v":0}]
[608,{"$f":"'（別添４）エネルギー消費効率の根拠（要件ア）'!$BP$54","v":"別添4_17_15"},{"$f":"'（別添４）エネルギー消費効率の根拠（要件ア）'!$BQ$54","v":"一代前モデル_製造メーカー"},{"$f":"'（別添４）エネルギー消費効率の根拠（要件ア）'!$BR$54","v":0}]
[609,{"$f":"'（別添４）エネルギー消費効率の根拠（要件ア）'!$BP$55","v":"別添4_17_16"},{"$f":"'（別添４）エネルギー消費効率の根拠（要件ア）'!$BQ$55","v":"一代前モデル_型番"},{"$f":"'（別添４）エネルギー消費効率の根拠（要件ア）'!$BR$55","v":0}]
[610,{"$f":"'（別添４）エネルギー消費効率の根拠（要件ア）'!$BP$56","v":"別添4_17_17"},{"$f":"'（別添４）エネルギー消費効率の根拠（要件ア）'!$BQ$56","v":"一代前モデル_導入台数"},{"$f":"'（別添４）エネルギー消費効率の根拠（要件ア）'!$BR$56","v":"台"}]
[611,{"$f":"'（別添４）エネルギー消費効率の根拠（要件ア）'!$BP$57","v":"別添4_17_18"},{"$f":"'（別添４）エネルギー消費効率の根拠（要件ア）'!$BQ$57","v":"一代前モデル_1台あたりの使用エネルギー"},{"$f":"'（別添４）エネルギー消費効率の根拠（要件ア）'!$BR$57","v":0}]
[612,{"$f":"'（別添４）エネルギー消費効率の根拠（要件ア）'!$BP$58","v":"別添4_17_19"},{"$f":"'（別添４）エネルギー消費効率の根拠（要件ア）'!$BQ$58","v":"一代前モデル_年間エネルギー使用量計算式"},{"$f":"'（別添４）エネルギー消費効率の根拠（要件ア）'!$BR$58","v":0}]
[613,{"$f":"'（別添４）エネルギー消費効率の根拠（要件ア）'!$BP$59","v":"別添4_17_20"},{"$f":"'（別添４）エネルギー消費効率の根拠（要件ア）'!$BQ$59","v":"一代前モデル_計算結果"},{"$f":"'（別添４）エネルギー消費効率の根拠（要件ア）'!$BR$59","v":"単位を選択してください"}]
[614,{"$f":"'（別添４）エネルギー消費効率の根拠（要件ア）'!$BP$60","v":"別添4_17_21"},{"$f":"'（別添４）エネルギー消費効率の根拠（要件ア）'!$BQ$60","v":"年間見込み省エネルギー量__計算結果"},{"$f":"'（別添４）エネルギー消費効率の根拠（要件ア）'!$BR$60","v":"0単位を選択してください"}]
[615,{"$f":"'（別添４）エネルギー消費効率の根拠（要件ア）'!$BP$61","v":"別添4_17_22"},{"$f":"'（別添４）エネルギー消費効率の根拠（要件ア）'!$BQ$61","v":"年間見込み省エネルギー量_原油換算計算式"},{"$f":"'（別添４）エネルギー消費効率の根拠（要件ア）'!$BR$61","v":0}]
[616,{"$f":"'（別添４）エネルギー消費効率の根拠（要件ア）'!$BP$62","v":"別添4_17_23"},{"$f":"'（別添４）エネルギー消費効率の根拠（要件ア）'!$BQ$62","v":"年間見込み省エネルギー量原油換算計算結果"},{"$f":"'（別添４）エネルギー消費効率の根拠（要件ア）'!$BR$62","v":0}]
[617,{"$f":"'（別添４）エネルギー消費効率の根拠（要件ア）'!$BP$63","v":"別添4_17_24"},{"$f":"'（別添４）エネルギー消費効率の根拠（要件ア）'!$BQ$63","v":"年間見込み省エネルギー率_自動計算"},{"$f":"'（別添４）エネルギー消費効率の根拠（要件ア）'!$BR$63","v":""}]
[618,{"$f":"'（別添４）エネルギー消費効率の根拠（要件ア）'!$BT$40","v":"別添4_18_1"},{"$f":"'（別添４）エネルギー消費効率の根拠（要件ア）'!$BU$40","v":"トップランナー基準"},{"$f":"'（別添４）エネルギー消費効率の根拠（要件ア）'!$BV$40","v":0}]
[619,{"$f":"'（別添４）エネルギー消費効率の根拠（要件ア）'!$BT$41","v":"別添4_18_2"},{"$f":"'（別添４）エネルギー消費効率の根拠（要件ア）'!$BU$41","v":"トップランナー基準の区分名又は数値"},{"$f":"'（別添４）エネルギー消費効率の根拠（要件ア）'!$BV$41","v":0}]
[620,{"$f":"'（別添４）エネルギー消費効率の根拠（要件ア）'!$BT$42","v":"別添4_18_3"},{"$f":"'（別添４）エネルギー消費効率の根拠（要件ア）'!$BU$42","v":"トップランナー基準の数値（導入設備）"},{"$f":"'（別添４）エネルギー消費効率の根拠（要件ア）'!$BV$42","v":0}]
[621,{"$f":"'（別添４）エネルギー消費効率の根拠（要件ア）'!$BT$43","v":"別添4_18_4"},{"$f":"'（別添４）エネルギー消費効率の根拠（要件ア）'!$BU$43","v":"比較指標/トップランナー基準"},{"$f":"'（別添４）エネルギー消費効率の根拠（要件ア）'!$BV$43","v":0}]
[622,{"$f":"'（別添４）エネルギー消費効率の根拠（要件ア）'!$BT$44","v":"別添4_18_5"},{"$f":"'（別添４）エネルギー消費効率の根拠（要件ア）'!$BU$44","v":"添付資料の根拠記載箇所"},{"$f":"'（別添４）エネルギー消費効率の根拠（要件ア）'!$BV$44","v":0}]
[623,{"$f":"'（別添４）エネルギー消費効率の根拠（要件ア）'!$BT$45","v":"別添4_18_6"},{"$f":"'（別添４）エネルギー消費効率の根拠（要件ア）'!$BU$45","v":"省エネ要因"},{"$f":"'（別添４）エネルギー消費効率の根拠（要件ア）'!$BV$45","v":0}]
[624,{"$f":"'（別添４）エネルギー消費効率の根拠（要件ア）'!$BT$46","v":"別添4_18_7"},{"$f":"'（別添４）エネルギー消費効率の根拠（要件ア）'!$BU$46","v":"導入設備_製品名"},{"$f":"'（別添４）エネルギー消費効率の根拠（要件ア）'!$BV$46","v":0}]
[625,{"$f":"'（別添４）エネルギー消費効率の根拠（要件ア）'!$BT$47","v":"別添4_18_8"},{"$f":"'（別添４）エネルギー消費効率の根拠（要件ア）'!$BU$47","v":"導入設備_製造メーカー"},{"$f":"'（別添４）エネルギー消費効率の根拠（要件ア）'!$BV$47","v":0}]
[626,{"$f":"'（別添４）エネルギー消費効率の根拠（要件ア）'!$BT$48","v":"別添4_18_9"},{"$f":"'（別添４）エネルギー消費効率の根拠（要件ア）'!$BU$48","v":"導入設備_型番"},{"$f":"'（別添４）エネルギー消費効率の根拠（要件ア）'!$BV$48","v":0}]
[627,{"$f":"'（別添４）エネルギー消費効率の根拠（要件ア）'!$BT$49","v":"別添4_18_10"},{"$f":"'（別添４）エネルギー消費効率の根拠（要件ア）'!$BU$49","v":"導入設備_導入台数"},{"$f":"'（別添４）エネルギー消費効率の根拠（要件ア）'!$BV$49","v":"台"}]
[628,{"$f":"'（別添４）エネルギー消費効率の根拠（要件ア）'!$BT$50","v":"別添4_18_11"},{"$f":"'（別添４）エネルギー消費効率の根拠（要件ア）'!$BU$50","v":"導入設備_1台あたりの使用エネルギー"},{"$f":"'（別添４）エネルギー消費効率の根拠（要件ア）'!$BV$50","v":0}]
[629,{"$f":"'（別添４）エネルギー消費効率の根拠（要件ア）'!$BT$51","v":"別添4_18_12"},{"$f":"'（別添４）エネルギー消費効率の根拠（要件ア）'!$BU$51","v":"導入設備_年間エネルギー使用量計算式"},{"$f":"'（別添４）エネルギー消費効率の根拠（要件ア）'!$BV$51","v":0}]
[630,{"$f":"'（別添４）エネルギー消費効率の根拠（要件ア）'!$BT$52","v":"別添4_18_13"},{"$f":"'（別添４）エネルギー消費効率の根拠（要件ア）'!$BU$52","v":"導入設備_計算結果"},{"$f":"'（別添４）エネルギー消費効率の根拠（要件ア）'!$BV$52","v":"単位を選択してください"}]
[631,{"$f":"'（別添４）エネルギー消費効率の根拠（要件ア）'!$BT$53","v":"別添4_18_14"},{"$f":"'（別添４）エネルギー消費効率の根拠（要件ア）'!$BU$53","v":"一代前モデル_製品名"},{"$f":"'（別添４）エネルギー消費効率の根拠（要件ア）'!$BV$53","v":0}]
[632,{"$f":"'（別添４）エネルギー消費効率の根拠（要件ア）'!$BT$54","v":"別添4_18_15"},{"$f":"'（別添４）エネルギー消費効率の根拠（要件ア）'!$BU$54","v":"一代前モデル_製造メーカー"},{"$f":"'（別添４）エネルギー消費効率の根拠（要件ア）'!$BV$54","v":0}]
[633,{"$f":"'（別添４）エネルギー消費効率の根拠（要件ア）'!$BT$55","v":"別添4_18_16"},{"$f":"'（別添４）エネルギー消費効率の根拠（要件ア）'!$BU$55","v":"一代前モデル_型番"},{"$f":"'（別添４）エネルギー消費効率の根拠（要件ア）'!$BV$55","v":0}]
[634,{"$f":"'（別添４）エネルギー消費効率の根拠（要件ア）'!$BT$56","v":"別添4_18_17"},{"$f":"'（別添４）エネルギー消費効率の根拠（要件ア）'!$BU$56","v":"一代前モデル_導入台数"},{"$f":"'（別添４）エネルギー消費効率の根拠（要件ア）'!$BV$56","v":"台"}]
[635,{"$f":"'（別添４）エネルギー消費効率の根拠（要件ア）'!$BT$57","v":"別添4_18_18"},{"$f":"'（別添４）エネルギー消費効率の根拠（要件ア）'!$BU$57","v":"一代前モデル_1台あたりの使用エネルギー"},{"$f":"'（別添４）エネルギー消費効率の根拠（要件ア）'!$BV$57","v":0}]
[636,{"$f":"'（別添４）エネルギー消費効率の根拠（要件ア）'!$BT$58","v":"別添4_18_19"},{"$f":"'（別添４）エネルギー消費効率の根拠（要件ア）'!$BU$58","v":"一代前モデル_年間エネルギー使用量計算式"},{"$f":"'（別添４）エネルギー消費効率の根拠（要件ア）'!$BV$58","v":0}]
[637,{"$f":"'（別添４）エネルギー消費効率の根拠（要件ア）'!$BT$59","v":"別添4_18_20"},{"$f":"'（別添４）エネルギー消費効率の根拠（要件ア）'!$BU$59","v":"一代前モデル_計算結果"},{"$f":"'（別添４）エネルギー消費効率の根拠（要件ア）'!$BV$59","v":"単位を選択してください"}]
[638,{"$f":"'（別添４）エネルギー消費効率の根拠（要件ア）'!$BT$60","v":"別添4_18_21"},{"$f":"'（別添４）エネルギー消費効率の根拠（要件ア）'!$BU$60","v":"年間見込み省エネルギー量__計算結果"},{"$f":"'（別添４）エネルギー消費効率の根拠（要件ア）'!$BV$60","v":"0単位を選択してください"}]
[639,{"$f":"'（別添４）エネルギー消費効率の根拠（要件ア）'!$BT$61","v":"別添4_18_22"},{"$f":"'（別添４）エネルギー消費効率の根拠（要件ア）'!$BU$61","v":"年間見込み省エネルギー量_原油換算計算式"},{"$f":"'（別添４）エネルギー消費効率の根拠（要件ア）'!$BV$61","v":0}]
[640,{"$f":"'（別添４）エネルギー消費効率の根拠（要件ア）'!$BT$62","v":"別添4_18_23"},{"$f":"'（別添４）エネルギー消費効率の根拠（要件ア）'!$BU$62","v":"年間見込み省エネルギー量原油換算計算結果"},{"$f":"'（別添４）エネルギー消費効率の根拠（要件ア）'!$BV$62","v":0}]
[641,{"$f":"'（別添４）エネルギー消費効率の根拠（要件ア）'!$BT$63","v":"別添4_18_24"},{"$f":"'（別添４）エネルギー消費効率の根拠（要件ア）'!$BU$63","v":"年間見込み省エネルギー率_自動計算"},{"$f":"'（別添４）エネルギー消費効率の根拠（要件ア）'!$BV$63","v":""}]
[642,{"$f":"'（別添４）エネルギー消費効率の根拠（要件ア）'!$BX$40","v":"別添4_19_1"},{"$f":"'（別添４）エネルギー消費効率の根拠（要件ア）'!$BY$40","v":"トップランナー基準"},{"$f":"'（別添４）エネルギー消費効率の根拠（要件ア）'!$BZ$40","v":0}]
[643,{"$f":"'（別添４）エネルギー消費効率の根拠（要件ア）'!$BX$41","v":"別添4_19_2"},{"$f":"'（別添４）エネルギー消費効率の根拠（要件ア）'!$BY$41","v":"トップランナー基準の区分名又は数値"},{"$f":"'（別添４）エネルギー消費効率の根拠（要件ア）'!$BZ$41","v":0}]
[644,{"$f":"'（別添４）エネルギー消費効率の根拠（要件ア）'!$BX$42","v":"別添4_19_3"},{"$f":"'（別添４）エネルギー消費効率の根拠（要件ア）'!$BY$42","v":"トップランナー基準の数値（導入設備）"},{"$f":"'（別添４）エネルギー消費効率の根拠（要件ア）'!$BZ$42","v":0}]
[645,{"$f":"'（別添４）エネルギー消費効率の根拠（要件ア）'!$BX$43","v":"別添4_19_4"},{"$f":"'（別添４）エネルギー消費効率の根拠（要件ア）'!$BY$43","v":"比較指標/トップランナー基準"},{"$f":"'（別添４）エネルギー消費効率の根拠（要件ア）'!$BZ$43","v":0}]
[646,{"$f":"'（別添４）エネルギー消費効率の根拠（要件ア）'!$BX$44","v":"別添4_19_5"},{"$f":"'（別添４）エネルギー消費効率の根拠（要件ア）'!$BY$44","v":"添付資料の根拠記載箇所"},{"$f":"'（別添４）エネルギー消費効率の根拠（要件ア）'!$BZ$44","v":0}]
[647,{"$f":"'（別添４）エネルギー消費効率の根拠（要件ア）'!$BX$45","v":"別添4_19_6"},{"$f":"'（別添４）エネルギー消費効率の根拠（要件ア）'!$BY$45","v":"省エネ要因"},{"$f":"'（別添４）エネルギー消費効率の根拠（要件ア）'!$BZ$45","v":0}]
[648,{"$f":"'（別添４）エネルギー消費効率の根拠（要件ア）'!$BX$46","v":"別添4_19_7"},{"$f":"'（別添４）エネルギー消費効率の根拠（要件ア）'!$BY$46","v":"導入設備_製品名"},{"$f":"'（別添４）エネルギー消費効率の根拠（要件ア）'!$BZ$46","v":0}]
[649,{"$f":"'（別添４）エネルギー消費効率の根拠（要件ア）'!$BX$47","v":"別添4_19_8"},{"$f":"'（別添４）エネルギー消費効率の根拠（要件ア）'!$BY$47","v":"導入設備_製造メーカー"},{"$f":"'（別添４）エネルギー消費効率の根拠（要件ア）'!$BZ$47","v":0}]
[650,{"$f":"'（別添４）エネルギー消費効率の根拠（要件ア）'!$BX$48","v":"別添4_19_9"},{"$f":"'（別添４）エネルギー消費効率の根拠（要件ア）'!$BY$48","v":"導入設備_型番"},{"$f":"'（別添４）エネルギー消費効率の根拠（要件ア）'!$BZ$48","v":0}]
[{"$f":"ROW()-1","v":651},{"$f":"'（別添４）エネルギー消費効率の根拠（要件ア）'!$BX$49","v":"別添4_19_10"},{"$f":"'（別添４）エネルギー消費効率の根拠（要件ア）'!$BY$49","v":"導入設備_導入台数"},{"$f":"'（別添４）エネルギー消費効率の根拠（要件ア）'!$BZ$49","v":"台"}]
[652,{"$f":"'（別添４）エネルギー消費効率の根拠（要件ア）'!$BX$50","v":"別添4_19_11"},{"$f":"'（別添４）エネルギー消費効率の根拠（要件ア）'!$BY$50","v":"導入設備_1台あたりの使用エネルギー"},{"$f":"'（別添４）エネルギー消費効率の根拠（要件ア）'!$BZ$50","v":0}]
[653,{"$f":"'（別添４）エネルギー消費効率の根拠（要件ア）'!$BX$51","v":"別添4_19_12"},{"$f":"'（別添４）エネルギー消費効率の根拠（要件ア）'!$BY$51","v":"導入設備_年間エネルギー使用量計算式"},{"$f":"'（別添４）エネルギー消費効率の根拠（要件ア）'!$BZ$51","v":0}]
[654,{"$f":"'（別添４）エネルギー消費効率の根拠（要件ア）'!$BX$52","v":"別添4_19_13"},{"$f":"'（別添４）エネルギー消費効率の根拠（要件ア）'!$BY$52","v":"導入設備_計算結果"},{"$f":"'（別添４）エネルギー消費効率の根拠（要件ア）'!$BZ$52","v":"単位を選択してください"}]
[655,{"$f":"'（別添４）エネルギー消費効率の根拠（要件ア）'!$BX$53","v":"別添4_19_14"},{"$f":"'（別添４）エネルギー消費効率の根拠（要件ア）'!$BY$53","v":"一代前モデル_製品名"},{"$f":"'（別添４）エネルギー消費効率の根拠（要件ア）'!$BZ$53","v":0}]
[656,{"$f":"'（別添４）エネルギー消費効率の根拠（要件ア）'!$BX$54","v":"別添4_19_15"},{"$f":"'（別添４）エネルギー消費効率の根拠（要件ア）'!$BY$54","v":"一代前モデル_製造メーカー"},{"$f":"'（別添４）エネルギー消費効率の根拠（要件ア）'!$BZ$54","v":0}]
[657,{"$f":"'（別添４）エネルギー消費効率の根拠（要件ア）'!$BX$55","v":"別添4_19_16"},{"$f":"'（別添４）エネルギー消費効率の根拠（要件ア）'!$BY$55","v":"一代前モデル_型番"},{"$f":"'（別添４）エネルギー消費効率の根拠（要件ア）'!$BZ$55","v":0}]
[658,{"$f":"'（別添４）エネルギー消費効率の根拠（要件ア）'!$BX$56","v":"別添4_19_17"},{"$f":"'（別添４）エネルギー消費効率の根拠（要件ア）'!$BY$56","v":"一代前モデル_導入台数"},{"$f":"'（別添４）エネルギー消費効率の根拠（要件ア）'!$BZ$56","v":"台"}]
[659,{"$f":"'（別添４）エネルギー消費効率の根拠（要件ア）'!$BX$57","v":"別添4_19_18"},{"$f":"'（別添４）エネルギー消費効率の根拠（要件ア）'!$BY$57","v":"一代前モデル_1台あたりの使用エネルギー"},{"$f":"'（別添４）エネルギー消費効率の根拠（要件ア）'!$BZ$57","v":0}]
[660,{"$f":"'（別添４）エネルギー消費効率の根拠（要件ア）'!$BX$58","v":"別添4_19_19"},{"$f":"'（別添４）エネルギー消費効率の根拠（要件ア）'!$BY$58","v":"一代前モデル_年間エネルギー使用量計算式"},{"$f":"'（別添４）エネルギー消費効率の根拠（要件ア）'!$BZ$58","v":0}]
[661,{"$f":"'（別添４）エネルギー消費効率の根拠（要件ア）'!$BX$59","v":"別添4_19_20"},{"$f":"'（別添４）エネルギー消費効率の根拠（要件ア）'!$BY$59","v":"一代前モデル_計算結果"},{"$f":"'（別添４）エネルギー消費効率の根拠（要件ア）'!$BZ$59","v":"単位を選択してください"}]
[662,{"$f":"'（別添４）エネルギー消費効率の根拠（要件ア）'!$BX$60","v":"別添4_19_21"},{"$f":"'（別添４）エネルギー消費効率の根拠（要件ア）'!$BY$60","v":"年間見込み省エネルギー量__計算結果"},{"$f":"'（別添４）エネルギー消費効率の根拠（要件ア）'!$BZ$60","v":"0単位を選択してください"}]
[663,{"$f":"'（別添４）エネルギー消費効率の根拠（要件ア）'!$BX$61","v":"別添4_19_22"},{"$f":"'（別添４）エネルギー消費効率の根拠（要件ア）'!$BY$61","v":"年間見込み省エネルギー量_原油換算計算式"},{"$f":"'（別添４）エネルギー消費効率の根拠（要件ア）'!$BZ$61","v":0}]
[664,{"$f":"'（別添４）エネルギー消費効率の根拠（要件ア）'!$BX$62","v":"別添4_19_23"},{"$f":"'（別添４）エネルギー消費効率の根拠（要件ア）'!$BY$62","v":"年間見込み省エネルギー量原油換算計算結果"},{"$f":"'（別添４）エネルギー消費効率の根拠（要件ア）'!$BZ$62","v":0}]
[665,{"$f":"'（別添４）エネルギー消費効率の根拠（要件ア）'!$BX$63","v":"別添4_19_24"},{"$f":"'（別添４）エネルギー消費効率の根拠（要件ア）'!$BY$63","v":"年間見込み省エネルギー率_自動計算"},{"$f":"'（別添４）エネルギー消費効率の根拠（要件ア）'!$BZ$63","v":""}]
[666,{"$f":"'（別添４）エネルギー消費効率の根拠（要件ア）'!$CB$40","v":"別添4_20_1"},{"$f":"'（別添４）エネルギー消費効率の根拠（要件ア）'!$CC$40","v":"トップランナー基準"},{"$f":"'（別添４）エネルギー消費効率の根拠（要件ア）'!$CD$40","v":0}]
[667,{"$f":"'（別添４）エネルギー消費効率の根拠（要件ア）'!$CB$41","v":"別添4_20_2"},{"$f":"'（別添４）エネルギー消費効率の根拠（要件ア）'!$CC$41","v":"トップランナー基準の区分名又は数値"},{"$f":"'（別添４）エネルギー消費効率の根拠（要件ア）'!$CD$41","v":0}]
[668,{"$f":"'（別添４）エネルギー消費効率の根拠（要件ア）'!$CB$42","v":"別添4_20_3"},{"$f":"'（別添４）エネルギー消費効率の根拠（要件ア）'!$CC$42","v":"トップランナー基準の数値（導入設備）"},{"$f":"'（別添４）エネルギー消費効率の根拠（要件ア）'!$CD$42","v":0}]
[669,{"$f":"'（別添４）エネルギー消費効率の根拠（要件ア）'!$CB$43","v":"別添4_20_4"},{"$f":"'（別添４）エネルギー消費効率の根拠（要件ア）'!$CC$43","v":"比較指標/トップランナー基準"},{"$f":"'（別添４）エネルギー消費効率の根拠（要件ア）'!$CD$43","v":0}]
[670,{"$f":"'（別添４）エネルギー消費効率の根拠（要件ア）'!$CB$44","v":"別添4_20_5"},{"$f":"'（別添４）エネルギー消費効率の根拠（要件ア）'!$CC$44","v":"添付資料の根拠記載箇所"},{"$f":"'（別添４）エネルギー消費効率の根拠（要件ア）'!$CD$44","v":0}]
[671,{"$f":"'（別添４）エネルギー消費効率の根拠（要件ア）'!$CB$45","v":"別添4_20_6"},{"$f":"'（別添４）エネルギー消費効率の根拠（要件ア）'!$CC$45","v":"省エネ要因"},{"$f":"'（別添４）エネルギー消費効率の根拠（要件ア）'!$CD$45","v":0}]
[672,{"$f":"'（別添４）エネルギー消費効率の根拠（要件ア）'!$CB$46","v":"別添4_20_7"},{"$f":"'（別添４）エネルギー消費効率の根拠（要件ア）'!$CC$46","v":"導入設備_製品名"},{"$f":"'（別添４）エネルギー消費効率の根拠（要件ア）'!$CD$46","v":0}]
[673,{"$f":"'（別添４）エネルギー消費効率の根拠（要件ア）'!$CB$47","v":"別添4_20_8"},{"$f":"'（別添４）エネルギー消費効率の根拠（要件ア）'!$CC$47","v":"導入設備_製造メーカー"},{"$f":"'（別添４）エネルギー消費効率の根拠（要件ア）'!$CD$47","v":0}]
[674,{"$f":"'（別添４）エネルギー消費効率の根拠（要件ア）'!$CB$48","v":"別添4_20_9"},{"$f":"'（別添４）エネルギー消費効率の根拠（要件ア）'!$CC$48","v":"導入設備_型番"},{"$f":"'（別添４）エネルギー消費効率の根拠（要件ア）'!$CD$48","v":0}]
[675,{"$f":"'（別添４）エネルギー消費効率の根拠（要件ア）'!$CB$49","v":"別添4_20_10"},{"$f":"'（別添４）エネルギー消費効率の根拠（要件ア）'!$CC$49","v":"導入設備_導入台数"},{"$f":"'（別添４）エネルギー消費効率の根拠（要件ア）'!$CD$49","v":"台"}]
[676,{"$f":"'（別添４）エネルギー消費効率の根拠（要件ア）'!$CB$50","v":"別添4_20_11"},{"$f":"'（別添４）エネルギー消費効率の根拠（要件ア）'!$CC$50","v":"導入設備_1台あたりの使用エネルギー"},{"$f":"'（別添４）エネルギー消費効率の根拠（要件ア）'!$CD$50","v":0}]
[677,{"$f":"'（別添４）エネルギー消費効率の根拠（要件ア）'!$CB$51","v":"別添4_20_12"},{"$f":"'（別添４）エネルギー消費効率の根拠（要件ア）'!$CC$51","v":"導入設備_年間エネルギー使用量計算式"},{"$f":"'（別添４）エネルギー消費効率の根拠（要件ア）'!$CD$51","v":0}]
[678,{"$f":"'（別添４）エネルギー消費効率の根拠（要件ア）'!$CB$52","v":"別添4_20_13"},{"$f":"'（別添４）エネルギー消費効率の根拠（要件ア）'!$CC$52","v":"導入設備_計算結果"},{"$f":"'（別添４）エネルギー消費効率の根拠（要件ア）'!$CD$52","v":"単位を選択してください"}]
[679,{"$f":"'（別添４）エネルギー消費効率の根拠（要件ア）'!$CB$53","v":"別添4_20_14"},{"$f":"'（別添４）エネルギー消費効率の根拠（要件ア）'!$CC$53","v":"一代前モデル_製品名"},{"$f":"'（別添４）エネルギー消費効率の根拠（要件ア）'!$CD$53","v":0}]
[680,{"$f":"'（別添４）エネルギー消費効率の根拠（要件ア）'!$CB$54","v":"別添4_20_15"},{"$f":"'（別添４）エネルギー消費効率の根拠（要件ア）'!$CC$54","v":"一代前モデル_製造メーカー"},{"$f":"'（別添４）エネルギー消費効率の根拠（要件ア）'!$CD$54","v":0}]
[681,{"$f":"'（別添４）エネルギー消費効率の根拠（要件ア）'!$CB$55","v":"別添4_20_16"},{"$f":"'（別添４）エネルギー消費効率の根拠（要件ア）'!$CC$55","v":"一代前モデル_型番"},{"$f":"'（別添４）エネルギー消費効率の根拠（要件ア）'!$CD$55","v":0}]
[682,{"$f":"'（別添４）エネルギー消費効率の根拠（要件ア）'!$CB$56","v":"別添4_20_17"},{"$f":"'（別添４）エネルギー消費効率の根拠（要件ア）'!$CC$56","v":"一代前モデル_導入台数"},{"$f":"'（別添４）エネルギー消費効率の根拠（要件ア）'!$CD$56","v":"台"}]
[683,{"$f":"'（別添４）エネルギー消費効率の根拠（要件ア）'!$CB$57","v":"別添4_20_18"},{"$f":"'（別添４）エネルギー消費効率の根拠（要件ア）'!$CC$57","v":"一代前モデル_1台あたりの使用エネルギー"},{"$f":"'（別添４）エネルギー消費効率の根拠（要件ア）'!$CD$57","v":0}]
[684,{"$f":"'（別添４）エネルギー消費効率の根拠（要件ア）'!$CB$58","v":"別添4_20_19"},{"$f":"'（別添４）エネルギー消費効率の根拠（要件ア）'!$CC$58","v":"一代前モデル_年間エネルギー使用量計算式"},{"$f":"'（別添４）エネルギー消費効率の根拠（要件ア）'!$CD$58","v":0}]
[685,{"$f":"'（別添４）エネルギー消費効率の根拠（要件ア）'!$CB$59","v":"別添4_20_20"},{"$f":"'（別添４）エネルギー消費効率の根拠（要件ア）'!$CC$59","v":"一代前モデル_計算結果"},{"$f":"'（別添４）エネルギー消費効率の根拠（要件ア）'!$CD$59","v":"単位を選択してください"}]
[686,{"$f":"'（別添４）エネルギー消費効率の根拠（要件ア）'!$CB$60","v":"別添4_20_21"},{"$f":"'（別添４）エネルギー消費効率の根拠（要件ア）'!$CC$60","v":"年間見込み省エネルギー量__計算結果"},{"$f":"'（別添４）エネルギー消費効率の根拠（要件ア）'!$CD$60","v":"0単位を選択してください"}]
[687,{"$f":"'（別添４）エネルギー消費効率の根拠（要件ア）'!$CB$61","v":"別添4_20_22"},{"$f":"'（別添４）エネルギー消費効率の根拠（要件ア）'!$CC$61","v":"年間見込み省エネルギー量_原油換算計算式"},{"$f":"'（別添４）エネルギー消費効率の根拠（要件ア）'!$CD$61","v":0}]
[688,{"$f":"'（別添４）エネルギー消費効率の根拠（要件ア）'!$CB$62","v":"別添4_20_23"},{"$f":"'（別添４）エネルギー消費効率の根拠（要件ア）'!$CC$62","v":"年間見込み省エネルギー量原油換算計算結果"},{"$f":"'（別添４）エネルギー消費効率の根拠（要件ア）'!$CD$62","v":0}]
[689,{"$f":"'（別添４）エネルギー消費効率の根拠（要件ア）'!$CB$63","v":"別添4_20_24"},{"$f":"'（別添４）エネルギー消費効率の根拠（要件ア）'!$CC$63","v":"年間見込み省エネルギー率_自動計算"},{"$f":"'（別添４）エネルギー消費効率の根拠（要件ア）'!$CD$63","v":""}]
[690,{"$f":"'（別添４）エネルギー消費効率の根拠（要件ア）'!$CF$40","v":"別添4_21_1"},{"$f":"'（別添４）エネルギー消費効率の根拠（要件ア）'!$CG$40","v":"トップランナー基準"},{"$f":"'（別添４）エネルギー消費効率の根拠（要件ア）'!$CH$40","v":0}]
[691,{"$f":"'（別添４）エネルギー消費効率の根拠（要件ア）'!$CF$41","v":"別添4_21_2"},{"$f":"'（別添４）エネルギー消費効率の根拠（要件ア）'!$CG$41","v":"トップランナー基準の区分名又は数値"},{"$f":"'（別添４）エネルギー消費効率の根拠（要件ア）'!$CH$41","v":0}]
[692,{"$f":"'（別添４）エネルギー消費効率の根拠（要件ア）'!$CF$42","v":"別添4_21_3"},{"$f":"'（別添４）エネルギー消費効率の根拠（要件ア）'!$CG$42","v":"トップランナー基準の数値（導入設備）"},{"$f":"'（別添４）エネルギー消費効率の根拠（要件ア）'!$CH$42","v":0}]
[693,{"$f":"'（別添４）エネルギー消費効率の根拠（要件ア）'!$CF$43","v":"別添4_21_4"},{"$f":"'（別添４）エネルギー消費効率の根拠（要件ア）'!$CG$43","v":"比較指標/トップランナー基準"},{"$f":"'（別添４）エネルギー消費効率の根拠（要件ア）'!$CH$43","v":0}]
[694,{"$f":"'（別添４）エネルギー消費効率の根拠（要件ア）'!$CF$44","v":"別添4_21_5"},{"$f":"'（別添４）エネルギー消費効率の根拠（要件ア）'!$CG$44","v":"添付資料の根拠記載箇所"},{"$f":"'（別添４）エネルギー消費効率の根拠（要件ア）'!$CH$44","v":0}]
[695,{"$f":"'（別添４）エネルギー消費効率の根拠（要件ア）'!$CF$45","v":"別添4_21_6"},{"$f":"'（別添４）エネルギー消費効率の根拠（要件ア）'!$CG$45","v":"省エネ要因"},{"$f":"'（別添４）エネルギー消費効率の根拠（要件ア）'!$CH$45","v":0}]
[696,{"$f":"'（別添４）エネルギー消費効率の根拠（要件ア）'!$CF$46","v":"別添4_21_7"},{"$f":"'（別添４）エネルギー消費効率の根拠（要件ア）'!$CG$46","v":"導入設備_製品名"},{"$f":"'（別添４）エネルギー消費効率の根拠（要件ア）'!$CH$46","v":0}]
[697,{"$f":"'（別添４）エネルギー消費効率の根拠（要件ア）'!$CF$47","v":"別添4_21_8"},{"$f":"'（別添４）エネルギー消費効率の根拠（要件ア）'!$CG$47","v":"導入設備_製造メーカー"},{"$f":"'（別添４）エネルギー消費効率の根拠（要件ア）'!$CH$47","v":0}]
[698,{"$f":"'（別添４）エネルギー消費効率の根拠（要件ア）'!$CF$48","v":"別添4_21_9"},{"$f":"'（別添４）エネルギー消費効率の根拠（要件ア）'!$CG$48","v":"導入設備_型番"},{"$f":"'（別添４）エネルギー消費効率の根拠（要件ア）'!$CH$48","v":0}]
[699,{"$f":"'（別添４）エネルギー消費効率の根拠（要件ア）'!$CF$49","v":"別添4_21_10"},{"$f":"'（別添４）エネルギー消費効率の根拠（要件ア）'!$CG$49","v":"導入設備_導入台数"},{"$f":"'（別添４）エネルギー消費効率の根拠（要件ア）'!$CH$49","v":"台"}]
[700,{"$f":"'（別添４）エネルギー消費効率の根拠（要件ア）'!$CF$50","v":"別添4_21_11"},{"$f":"'（別添４）エネルギー消費効率の根拠（要件ア）'!$CG$50","v":"導入設備_1台あたりの使用エネルギー"},{"$f":"'（別添４）エネルギー消費効率の根拠（要件ア）'!$CH$50","v":0}]
[701,{"$f":"'（別添４）エネルギー消費効率の根拠（要件ア）'!$CF$51","v":"別添4_21_12"},{"$f":"'（別添４）エネルギー消費効率の根拠（要件ア）'!$CG$51","v":"導入設備_年間エネルギー使用量計算式"},{"$f":"'（別添４）エネルギー消費効率の根拠（要件ア）'!$CH$51","v":0}]
[702,{"$f":"'（別添４）エネルギー消費効率の根拠（要件ア）'!$CF$52","v":"別添4_21_13"},{"$f":"'（別添４）エネルギー消費効率の根拠（要件ア）'!$CG$52","v":"導入設備_計算結果"},{"$f":"'（別添４）エネルギー消費効率の根拠（要件ア）'!$CH$52","v":"単位を選択してください"}]
[703,{"$f":"'（別添４）エネルギー消費効率の根拠（要件ア）'!$CF$53","v":"別添4_21_14"},{"$f":"'（別添４）エネルギー消費効率の根拠（要件ア）'!$CG$53","v":"一代前モデル_製品名"},{"$f":"'（別添４）エネルギー消費効率の根拠（要件ア）'!$CH$53","v":0}]
[704,{"$f":"'（別添４）エネルギー消費効率の根拠（要件ア）'!$CF$54","v":"別添4_21_15"},{"$f":"'（別添４）エネルギー消費効率の根拠（要件ア）'!$CG$54","v":"一代前モデル_製造メーカー"},{"$f":"'（別添４）エネルギー消費効率の根拠（要件ア）'!$CH$54","v":0}]
[705,{"$f":"'（別添４）エネルギー消費効率の根拠（要件ア）'!$CF$55","v":"別添4_21_16"},{"$f":"'（別添４）エネルギー消費効率の根拠（要件ア）'!$CG$55","v":"一代前モデル_型番"},{"$f":"'（別添４）エネルギー消費効率の根拠（要件ア）'!$CH$55","v":0}]
[706,{"$f":"'（別添４）エネルギー消費効率の根拠（要件ア）'!$CF$56","v":"別添4_21_17"},{"$f":"'（別添４）エネルギー消費効率の根拠（要件ア）'!$CG$56","v":"一代前モデル_導入台数"},{"$f":"'（別添４）エネルギー消費効率の根拠（要件ア）'!$CH$56","v":"台"}]
[707,{"$f":"'（別添４）エネルギー消費効率の根拠（要件ア）'!$CF$57","v":"別添4_21_18"},{"$f":"'（別添４）エネルギー消費効率の根拠（要件ア）'!$CG$57","v":"一代前モデル_1台あたりの使用エネルギー"},{"$f":"'（別添４）エネルギー消費効率の根拠（要件ア）'!$CH$57","v":0}]
[708,{"$f":"'（別添４）エネルギー消費効率の根拠（要件ア）'!$CF$58","v":"別添4_21_19"},{"$f":"'（別添４）エネルギー消費効率の根拠（要件ア）'!$CG$58","v":"一代前モデル_年間エネルギー使用量計算式"},{"$f":"'（別添４）エネルギー消費効率の根拠（要件ア）'!$CH$58","v":0}]
[709,{"$f":"'（別添４）エネルギー消費効率の根拠（要件ア）'!$CF$59","v":"別添4_21_20"},{"$f":"'（別添４）エネルギー消費効率の根拠（要件ア）'!$CG$59","v":"一代前モデル_計算結果"},{"$f":"'（別添４）エネルギー消費効率の根拠（要件ア）'!$CH$59","v":"単位を選択してください"}]
[710,{"$f":"'（別添４）エネルギー消費効率の根拠（要件ア）'!$CF$60","v":"別添4_21_21"},{"$f":"'（別添４）エネルギー消費効率の根拠（要件ア）'!$CG$60","v":"年間見込み省エネルギー量__計算結果"},{"$f":"'（別添４）エネルギー消費効率の根拠（要件ア）'!$CH$60","v":"0単位を選択してください"}]
[711,{"$f":"'（別添４）エネルギー消費効率の根拠（要件ア）'!$CF$61","v":"別添4_21_22"},{"$f":"'（別添４）エネルギー消費効率の根拠（要件ア）'!$CG$61","v":"年間見込み省エネルギー量_原油換算計算式"},{"$f":"'（別添４）エネルギー消費効率の根拠（要件ア）'!$CH$61","v":0}]
[712,{"$f":"'（別添４）エネルギー消費効率の根拠（要件ア）'!$CF$62","v":"別添4_21_23"},{"$f":"'（別添４）エネルギー消費効率の根拠（要件ア）'!$CG$62","v":"年間見込み省エネルギー量原油換算計算結果"},{"$f":"'（別添４）エネルギー消費効率の根拠（要件ア）'!$CH$62","v":0}]
[713,{"$f":"'（別添４）エネルギー消費効率の根拠（要件ア）'!$CF$63","v":"別添4_21_24"},{"$f":"'（別添４）エネルギー消費効率の根拠（要件ア）'!$CG$63","v":"年間見込み省エネルギー率_自動計算"},{"$f":"'（別添４）エネルギー消費効率の根拠（要件ア）'!$CH$63","v":""}]
[714,{"$f":"'（別添４）エネルギー消費効率の根拠（要件ア）'!$CJ$40","v":"別添4_22_1"},{"$f":"'（別添４）エネルギー消費効率の根拠（要件ア）'!$CK$40","v":"トップランナー基準"},{"$f":"'（別添４）エネルギー消費効率の根拠（要件ア）'!$CL$40","v":0}]
[{"$f":"ROW()-1","v":715},{"$f":"'（別添４）エネルギー消費効率の根拠（要件ア）'!$CJ$41","v":"別添4_22_2"},{"$f":"'（別添４）エネルギー消費効率の根拠（要件ア）'!$CK$41","v":"トップランナー基準の区分名又は数値"},{"$f":"'（別添４）エネルギー消費効率の根拠（要件ア）'!$CL$41","v":0}]
[716,{"$f":"'（別添４）エネルギー消費効率の根拠（要件ア）'!$CJ$42","v":"別添4_22_3"},{"$f":"'（別添４）エネルギー消費効率の根拠（要件ア）'!$CK$42","v":"トップランナー基準の数値（導入設備）"},{"$f":"'（別添４）エネルギー消費効率の根拠（要件ア）'!$CL$42","v":0}]
[717,{"$f":"'（別添４）エネルギー消費効率の根拠（要件ア）'!$CJ$43","v":"別添4_22_4"},{"$f":"'（別添４）エネルギー消費効率の根拠（要件ア）'!$CK$43","v":"比較指標/トップランナー基準"},{"$f":"'（別添４）エネルギー消費効率の根拠（要件ア）'!$CL$43","v":0}]
[718,{"$f":"'（別添４）エネルギー消費効率の根拠（要件ア）'!$CJ$44","v":"別添4_22_5"},{"$f":"'（別添４）エネルギー消費効率の根拠（要件ア）'!$CK$44","v":"添付資料の根拠記載箇所"},{"$f":"'（別添４）エネルギー消費効率の根拠（要件ア）'!$CL$44","v":0}]
[719,{"$f":"'（別添４）エネルギー消費効率の根拠（要件ア）'!$CJ$45","v":"別添4_22_6"},{"$f":"'（別添４）エネルギー消費効率の根拠（要件ア）'!$CK$45","v":"省エネ要因"},{"$f":"'（別添４）エネルギー消費効率の根拠（要件ア）'!$CL$45","v":0}]
[720,{"$f":"'（別添４）エネルギー消費効率の根拠（要件ア）'!$CJ$46","v":"別添4_22_7"},{"$f":"'（別添４）エネルギー消費効率の根拠（要件ア）'!$CK$46","v":"導入設備_製品名"},{"$f":"'（別添４）エネルギー消費効率の根拠（要件ア）'!$CL$46","v":0}]
[721,{"$f":"'（別添４）エネルギー消費効率の根拠（要件ア）'!$CJ$47","v":"別添4_22_8"},{"$f":"'（別添４）エネルギー消費効率の根拠（要件ア）'!$CK$47","v":"導入設備_製造メーカー"},{"$f":"'（別添４）エネルギー消費効率の根拠（要件ア）'!$CL$47","v":0}]
[722,{"$f":"'（別添４）エネルギー消費効率の根拠（要件ア）'!$CJ$48","v":"別添4_22_9"},{"$f":"'（別添４）エネルギー消費効率の根拠（要件ア）'!$CK$48","v":"導入設備_型番"},{"$f":"'（別添４）エネルギー消費効率の根拠（要件ア）'!$CL$48","v":0}]
[723,{"$f":"'（別添４）エネルギー消費効率の根拠（要件ア）'!$CJ$49","v":"別添4_22_10"},{"$f":"'（別添４）エネルギー消費効率の根拠（要件ア）'!$CK$49","v":"導入設備_導入台数"},{"$f":"'（別添４）エネルギー消費効率の根拠（要件ア）'!$CL$49","v":"台"}]
[724,{"$f":"'（別添４）エネルギー消費効率の根拠（要件ア）'!$CJ$50","v":"別添4_22_11"},{"$f":"'（別添４）エネルギー消費効率の根拠（要件ア）'!$CK$50","v":"導入設備_1台あたりの使用エネルギー"},{"$f":"'（別添４）エネルギー消費効率の根拠（要件ア）'!$CL$50","v":0}]
[725,{"$f":"'（別添４）エネルギー消費効率の根拠（要件ア）'!$CJ$51","v":"別添4_22_12"},{"$f":"'（別添４）エネルギー消費効率の根拠（要件ア）'!$CK$51","v":"導入設備_年間エネルギー使用量計算式"},{"$f":"'（別添４）エネルギー消費効率の根拠（要件ア）'!$CL$51","v":0}]
[726,{"$f":"'（別添４）エネルギー消費効率の根拠（要件ア）'!$CJ$52","v":"別添4_22_13"},{"$f":"'（別添４）エネルギー消費効率の根拠（要件ア）'!$CK$52","v":"導入設備_計算結果"},{"$f":"'（別添４）エネルギー消費効率の根拠（要件ア）'!$CL$52","v":"単位を選択してください"}]
[727,{"$f":"'（別添４）エネルギー消費効率の根拠（要件ア）'!$CJ$53","v":"別添4_22_14"},{"$f":"'（別添４）エネルギー消費効率の根拠（要件ア）'!$CK$53","v":"一代前モデル_製品名"},{"$f":"'（別添４）エネルギー消費効率の根拠（要件ア）'!$CL$53","v":0}]
[728,{"$f":"'（別添４）エネルギー消費効率の根拠（要件ア）'!$CJ$54","v":"別添4_22_15"},{"$f":"'（別添４）エネルギー消費効率の根拠（要件ア）'!$CK$54","v":"一代前モデル_製造メーカー"},{"$f":"'（別添４）エネルギー消費効率の根拠（要件ア）'!$CL$54","v":0}]
[729,{"$f":"'（別添４）エネルギー消費効率の根拠（要件ア）'!$CJ$55","v":"別添4_22_16"},{"$f":"'（別添４）エネルギー消費効率の根拠（要件ア）'!$CK$55","v":"一代前モデル_型番"},{"$f":"'（別添４）エネルギー消費効率の根拠（要件ア）'!$CL$55","v":0}]
[730,{"$f":"'（別添４）エネルギー消費効率の根拠（要件ア）'!$CJ$56","v":"別添4_22_17"},{"$f":"'（別添４）エネルギー消費効率の根拠（要件ア）'!$CK$56","v":"一代前モデル_導入台数"},{"$f":"'（別添４）エネルギー消費効率の根拠（要件ア）'!$CL$56","v":"台"}]
[731,{"$f":"'（別添４）エネルギー消費効率の根拠（要件ア）'!$CJ$57","v":"別添4_22_18"},{"$f":"'（別添４）エネルギー消費効率の根拠（要件ア）'!$CK$57","v":"一代前モデル_1台あたりの使用エネルギー"},{"$f":"'（別添４）エネルギー消費効率の根拠（要件ア）'!$CL$57","v":0}]
[732,{"$f":"'（別添４）エネルギー消費効率の根拠（要件ア）'!$CJ$58","v":"別添4_22_19"},{"$f":"'（別添４）エネルギー消費効率の根拠（要件ア）'!$CK$58","v":"一代前モデル_年間エネルギー使用量計算式"},{"$f":"'（別添４）エネルギー消費効率の根拠（要件ア）'!$CL$58","v":0}]
[733,{"$f":"'（別添４）エネルギー消費効率の根拠（要件ア）'!$CJ$59","v":"別添4_22_20"},{"$f":"'（別添４）エネルギー消費効率の根拠（要件ア）'!$CK$59","v":"一代前モデル_計算結果"},{"$f":"'（別添４）エネルギー消費効率の根拠（要件ア）'!$CL$59","v":"単位を選択してください"}]
[734,{"$f":"'（別添４）エネルギー消費効率の根拠（要件ア）'!$CJ$60","v":"別添4_22_21"},{"$f":"'（別添４）エネルギー消費効率の根拠（要件ア）'!$CK$60","v":"年間見込み省エネルギー量__計算結果"},{"$f":"'（別添４）エネルギー消費効率の根拠（要件ア）'!$CL$60","v":"0単位を選択してください"}]
[735,{"$f":"'（別添４）エネルギー消費効率の根拠（要件ア）'!$CJ$61","v":"別添4_22_22"},{"$f":"'（別添４）エネルギー消費効率の根拠（要件ア）'!$CK$61","v":"年間見込み省エネルギー量_原油換算計算式"},{"$f":"'（別添４）エネルギー消費効率の根拠（要件ア）'!$CL$61","v":0}]
[736,{"$f":"'（別添４）エネルギー消費効率の根拠（要件ア）'!$CJ$62","v":"別添4_22_23"},{"$f":"'（別添４）エネルギー消費効率の根拠（要件ア）'!$CK$62","v":"年間見込み省エネルギー量原油換算計算結果"},{"$f":"'（別添４）エネルギー消費効率の根拠（要件ア）'!$CL$62","v":0}]
[737,{"$f":"'（別添４）エネルギー消費効率の根拠（要件ア）'!$CJ$63","v":"別添4_22_24"},{"$f":"'（別添４）エネルギー消費効率の根拠（要件ア）'!$CK$63","v":"年間見込み省エネルギー率_自動計算"},{"$f":"'（別添４）エネルギー消費効率の根拠（要件ア）'!$CL$63","v":""}]
[738,{"$f":"'（別添４）エネルギー消費効率の根拠（要件ア）'!$CN$40","v":"別添4_23_1"},{"$f":"'（別添４）エネルギー消費効率の根拠（要件ア）'!$CO$40","v":"トップランナー基準"},{"$f":"'（別添４）エネルギー消費効率の根拠（要件ア）'!$CP$40","v":0}]
[739,{"$f":"'（別添４）エネルギー消費効率の根拠（要件ア）'!$CN$41","v":"別添4_23_2"},{"$f":"'（別添４）エネルギー消費効率の根拠（要件ア）'!$CO$41","v":"トップランナー基準の区分名又は数値"},{"$f":"'（別添４）エネルギー消費効率の根拠（要件ア）'!$CP$41","v":0}]
[740,{"$f":"'（別添４）エネルギー消費効率の根拠（要件ア）'!$CN$42","v":"別添4_23_3"},{"$f":"'（別添４）エネルギー消費効率の根拠（要件ア）'!$CO$42","v":"トップランナー基準の数値（導入設備）"},{"$f":"'（別添４）エネルギー消費効率の根拠（要件ア）'!$CP$42","v":0}]
[741,{"$f":"'（別添４）エネルギー消費効率の根拠（要件ア）'!$CN$43","v":"別添4_23_4"},{"$f":"'（別添４）エネルギー消費効率の根拠（要件ア）'!$CO$43","v":"比較指標/トップランナー基準"},{"$f":"'（別添４）エネルギー消費効率の根拠（要件ア）'!$CP$43","v":0}]
[742,{"$f":"'（別添４）エネルギー消費効率の根拠（要件ア）'!$CN$44","v":"別添4_23_5"},{"$f":"'（別添４）エネルギー消費効率の根拠（要件ア）'!$CO$44","v":"添付資料の根拠記載箇所"},{"$f":"'（別添４）エネルギー消費効率の根拠（要件ア）'!$CP$44","v":0}]
[743,{"$f":"'（別添４）エネルギー消費効率の根拠（要件ア）'!$CN$45","v":"別添4_23_6"},{"$f":"'（別添４）エネルギー消費効率の根拠（要件ア）'!$CO$45","v":"省エネ要因"},{"$f":"'（別添４）エネルギー消費効率の根拠（要件ア）'!$CP$45","v":0}]
[744,{"$f":"'（別添４）エネルギー消費効率の根拠（要件ア）'!$CN$46","v":"別添4_23_7"},{"$f":"'（別添４）エネルギー消費効率の根拠（要件ア）'!$CO$46","v":"導入設備_製品名"},{"$f":"'（別添４）エネルギー消費効率の根拠（要件ア）'!$CP$46","v":0}]
[745,{"$f":"'（別添４）エネルギー消費効率の根拠（要件ア）'!$CN$47","v":"別添4_23_8"},{"$f":"'（別添４）エネルギー消費効率の根拠（要件ア）'!$CO$47","v":"導入設備_製造メーカー"},{"$f":"'（別添４）エネルギー消費効率の根拠（要件ア）'!$CP$47","v":0}]
[746,{"$f":"'（別添４）エネルギー消費効率の根拠（要件ア）'!$CN$48","v":"別添4_23_9"},{"$f":"'（別添４）エネルギー消費効率の根拠（要件ア）'!$CO$48","v":"導入設備_型番"},{"$f":"'（別添４）エネルギー消費効率の根拠（要件ア）'!$CP$48","v":0}]
[747,{"$f":"'（別添４）エネルギー消費効率の根拠（要件ア）'!$CN$49","v":"別添4_23_10"},{"$f":"'（別添４）エネルギー消費効率の根拠（要件ア）'!$CO$49","v":"導入設備_導入台数"},{"$f":"'（別添４）エネルギー消費効率の根拠（要件ア）'!$CP$49","v":"台"}]
[748,{"$f":"'（別添４）エネルギー消費効率の根拠（要件ア）'!$CN$50","v":"別添4_23_11"},{"$f":"'（別添４）エネルギー消費効率の根拠（要件ア）'!$CO$50","v":"導入設備_1台あたりの使用エネルギー"},{"$f":"'（別添４）エネルギー消費効率の根拠（要件ア）'!$CP$50","v":0}]
[749,{"$f":"'（別添４）エネルギー消費効率の根拠（要件ア）'!$CN$51","v":"別添4_23_12"},{"$f":"'（別添４）エネルギー消費効率の根拠（要件ア）'!$CO$51","v":"導入設備_年間エネルギー使用量計算式"},{"$f":"'（別添４）エネルギー消費効率の根拠（要件ア）'!$CP$51","v":0}]
[750,{"$f":"'（別添４）エネルギー消費効率の根拠（要件ア）'!$CN$52","v":"別添4_23_13"},{"$f":"'（別添４）エネルギー消費効率の根拠（要件ア）'!$CO$52","v":"導入設備_計算結果"},{"$f":"'（別添４）エネルギー消費効率の根拠（要件ア）'!$CP$52","v":"単位を選択してください"}]
[751,{"$f":"'（別添４）エネルギー消費効率の根拠（要件ア）'!$CN$53","v":"別添4_23_14"},{"$f":"'（別添４）エネルギー消費効率の根拠（要件ア）'!$CO$53","v":"一代前モデル_製品名"},{"$f":"'（別添４）エネルギー消費効率の根拠（要件ア）'!$CP$53","v":0}]
[752,{"$f":"'（別添４）エネルギー消費効率の根拠（要件ア）'!$CN$54","v":"別添4_23_15"},{"$f":"'（別添４）エネルギー消費効率の根拠（要件ア）'!$CO$54","v":"一代前モデル_製造メーカー"},{"$f":"'（別添４）エネルギー消費効率の根拠（要件ア）'!$CP$54","v":0}]
[753,{"$f":"'（別添４）エネルギー消費効率の根拠（要件ア）'!$CN$55","v":"別添4_23_16"},{"$f":"'（別添４）エネルギー消費効率の根拠（要件ア）'!$CO$55","v":"一代前モデル_型番"},{"$f":"'（別添４）エネルギー消費効率の根拠（要件ア）'!$CP$55","v":0}]
[754,{"$f":"'（別添４）エネルギー消費効率の根拠（要件ア）'!$CN$56","v":"別添4_23_17"},{"$f":"'（別添４）エネルギー消費効率の根拠（要件ア）'!$CO$56","v":"一代前モデル_導入台数"},{"$f":"'（別添４）エネルギー消費効率の根拠（要件ア）'!$CP$56","v":"台"}]
[755,{"$f":"'（別添４）エネルギー消費効率の根拠（要件ア）'!$CN$57","v":"別添4_23_18"},{"$f":"'（別添４）エネルギー消費効率の根拠（要件ア）'!$CO$57","v":"一代前モデル_1台あたりの使用エネルギー"},{"$f":"'（別添４）エネルギー消費効率の根拠（要件ア）'!$CP$57","v":0}]
[756,{"$f":"'（別添４）エネルギー消費効率の根拠（要件ア）'!$CN$58","v":"別添4_23_19"},{"$f":"'（別添４）エネルギー消費効率の根拠（要件ア）'!$CO$58","v":"一代前モデル_年間エネルギー使用量計算式"},{"$f":"'（別添４）エネルギー消費効率の根拠（要件ア）'!$CP$58","v":0}]
[757,{"$f":"'（別添４）エネルギー消費効率の根拠（要件ア）'!$CN$59","v":"別添4_23_20"},{"$f":"'（別添４）エネルギー消費効率の根拠（要件ア）'!$CO$59","v":"一代前モデル_計算結果"},{"$f":"'（別添４）エネルギー消費効率の根拠（要件ア）'!$CP$59","v":"単位を選択してください"}]
[758,{"$f":"'（別添４）エネルギー消費効率の根拠（要件ア）'!$CN$60","v":"別添4_23_21"},{"$f":"'（別添４）エネルギー消費効率の根拠（要件ア）'!$CO$60","v":"年間見込み省エネルギー量__計算結果"},{"$f":"'（別添４）エネルギー消費効率の根拠（要件ア）'!$CP$60","v":"0単位を選択してください"}]
[759,{"$f":"'（別添４）エネルギー消費効率の根拠（要件ア）'!$CN$61","v":"別添4_23_22"},{"$f":"'（別添４）エネルギー消費効率の根拠（要件ア）'!$CO$61","v":"年間見込み省エネルギー量_原油換算計算式"},{"$f":"'（別添４）エネルギー消費効率の根拠（要件ア）'!$CP$61","v":0}]
[760,{"$f":"'（別添４）エネルギー消費効率の根拠（要件ア）'!$CN$62","v":"別添4_23_23"},{"$f":"'（別添４）エネルギー消費効率の根拠（要件ア）'!$CO$62","v":"年間見込み省エネルギー量原油換算計算結果"},{"$f":"'（別添４）エネルギー消費効率の根拠（要件ア）'!$CP$62","v":0}]
[761,{"$f":"'（別添４）エネルギー消費効率の根拠（要件ア）'!$CN$63","v":"別添4_23_24"},{"$f":"'（別添４）エネルギー消費効率の根拠（要件ア）'!$CO$63","v":"年間見込み省エネルギー率_自動計算"},{"$f":"'（別添４）エネルギー消費効率の根拠（要件ア）'!$CP$63","v":""}]
[762,{"$f":"'（別添４）エネルギー消費効率の根拠（要件ア）'!$CR$40","v":"別添4_24_1"},{"$f":"'（別添４）エネルギー消費効率の根拠（要件ア）'!$CS$40","v":"トップランナー基準"},{"$f":"'（別添４）エネルギー消費効率の根拠（要件ア）'!$CT$40","v":0}]
[763,{"$f":"'（別添４）エネルギー消費効率の根拠（要件ア）'!$CR$41","v":"別添4_24_2"},{"$f":"'（別添４）エネルギー消費効率の根拠（要件ア）'!$CS$41","v":"トップランナー基準の区分名又は数値"},{"$f":"'（別添４）エネルギー消費効率の根拠（要件ア）'!$CT$41","v":0}]
[764,{"$f":"'（別添４）エネルギー消費効率の根拠（要件ア）'!$CR$42","v":"別添4_24_3"},{"$f":"'（別添４）エネルギー消費効率の根拠（要件ア）'!$CS$42","v":"トップランナー基準の数値（導入設備）"},{"$f":"'（別添４）エネルギー消費効率の根拠（要件ア）'!$CT$42","v":0}]
[765,{"$f":"'（別添４）エネルギー消費効率の根拠（要件ア）'!$CR$43","v":"別添4_24_4"},{"$f":"'（別添４）エネルギー消費効率の根拠（要件ア）'!$CS$43","v":"比較指標/トップランナー基準"},{"$f":"'（別添４）エネルギー消費効率の根拠（要件ア）'!$CT$43","v":0}]
[766,{"$f":"'（別添４）エネルギー消費効率の根拠（要件ア）'!$CR$44","v":"別添4_24_5"},{"$f":"'（別添４）エネルギー消費効率の根拠（要件ア）'!$CS$44","v":"添付資料の根拠記載箇所"},{"$f":"'（別添４）エネルギー消費効率の根拠（要件ア）'!$CT$44","v":0}]
[767,{"$f":"'（別添４）エネルギー消費効率の根拠（要件ア）'!$CR$45","v":"別添4_24_6"},{"$f":"'（別添４）エネルギー消費効率の根拠（要件ア）'!$CS$45","v":"省エネ要因"},{"$f":"'（別添４）エネルギー消費効率の根拠（要件ア）'!$CT$45","v":0}]
[768,{"$f":"'（別添４）エネルギー消費効率の根拠（要件ア）'!$CR$46","v":"別添4_24_7"},{"$f":"'（別添４）エネルギー消費効率の根拠（要件ア）'!$CS$46","v":"導入設備_製品名"},{"$f":"'（別添４）エネルギー消費効率の根拠（要件ア）'!$CT$46","v":0}]
[769,{"$f":"'（別添４）エネルギー消費効率の根拠（要件ア）'!$CR$47","v":"別添4_24_8"},{"$f":"'（別添４）エネルギー消費効率の根拠（要件ア）'!$CS$47","v":"導入設備_製造メーカー"},{"$f":"'（別添４）エネルギー消費効率の根拠（要件ア）'!$CT$47","v":0}]
[770,{"$f":"'（別添４）エネルギー消費効率の根拠（要件ア）'!$CR$48","v":"別添4_24_9"},{"$f":"'（別添４）エネルギー消費効率の根拠（要件ア）'!$CS$48","v":"導入設備_型番"},{"$f":"'（別添４）エネルギー消費効率の根拠（要件ア）'!$CT$48","v":0}]
[771,{"$f":"'（別添４）エネルギー消費効率の根拠（要件ア）'!$CR$49","v":"別添4_24_10"},{"$f":"'（別添４）エネルギー消費効率の根拠（要件ア）'!$CS$49","v":"導入設備_導入台数"},{"$f":"'（別添４）エネルギー消費効率の根拠（要件ア）'!$CT$49","v":"台"}]
[772,{"$f":"'（別添４）エネルギー消費効率の根拠（要件ア）'!$CR$50","v":"別添4_24_11"},{"$f":"'（別添４）エネルギー消費効率の根拠（要件ア）'!$CS$50","v":"導入設備_1台あたりの使用エネルギー"},{"$f":"'（別添４）エネルギー消費効率の根拠（要件ア）'!$CT$50","v":0}]
[773,{"$f":"'（別添４）エネルギー消費効率の根拠（要件ア）'!$CR$51","v":"別添4_24_12"},{"$f":"'（別添４）エネルギー消費効率の根拠（要件ア）'!$CS$51","v":"導入設備_年間エネルギー使用量計算式"},{"$f":"'（別添４）エネルギー消費効率の根拠（要件ア）'!$CT$51","v":0}]
[774,{"$f":"'（別添４）エネルギー消費効率の根拠（要件ア）'!$CR$52","v":"別添4_24_13"},{"$f":"'（別添４）エネルギー消費効率の根拠（要件ア）'!$CS$52","v":"導入設備_計算結果"},{"$f":"'（別添４）エネルギー消費効率の根拠（要件ア）'!$CT$52","v":"単位を選択してください"}]
[775,{"$f":"'（別添４）エネルギー消費効率の根拠（要件ア）'!$CR$53","v":"別添4_24_14"},{"$f":"'（別添４）エネルギー消費効率の根拠（要件ア）'!$CS$53","v":"一代前モデル_製品名"},{"$f":"'（別添４）エネルギー消費効率の根拠（要件ア）'!$CT$53","v":0}]
[776,{"$f":"'（別添４）エネルギー消費効率の根拠（要件ア）'!$CR$54","v":"別添4_24_15"},{"$f":"'（別添４）エネルギー消費効率の根拠（要件ア）'!$CS$54","v":"一代前モデル_製造メーカー"},{"$f":"'（別添４）エネルギー消費効率の根拠（要件ア）'!$CT$54","v":0}]
[777,{"$f":"'（別添４）エネルギー消費効率の根拠（要件ア）'!$CR$55","v":"別添4_24_16"},{"$f":"'（別添４）エネルギー消費効率の根拠（要件ア）'!$CS$55","v":"一代前モデル_型番"},{"$f":"'（別添４）エネルギー消費効率の根拠（要件ア）'!$CT$55","v":0}]
[778,{"$f":"'（別添４）エネルギー消費効率の根拠（要件ア）'!$CR$56","v":"別添4_24_17"},{"$f":"'（別添４）エネルギー消費効率の根拠（要件ア）'!$CS$56","v":"一代前モデル_導入台数"},{"$f":"'（別添４）エネルギー消費効率の根拠（要件ア）'!$CT$56","v":"台"}]
[{"$f":"ROW()-1","v":779},{"$f":"'（別添４）エネルギー消費効率の根拠（要件ア）'!$CR$57","v":"別添4_24_18"},{"$f":"'（別添４）エネルギー消費効率の根拠（要件ア）'!$CS$57","v":"一代前モデル_1台あたりの使用エネルギー"},{"$f":"'（別添４）エネルギー消費効率の根拠（要件ア）'!$CT$57","v":0}]
[780,{"$f":"'（別添４）エネルギー消費効率の根拠（要件ア）'!$CR$58","v":"別添4_24_19"},{"$f":"'（別添４）エネルギー消費効率の根拠（要件ア）'!$CS$58","v":"一代前モデル_年間エネルギー使用量計算式"},{"$f":"'（別添４）エネルギー消費効率の根拠（要件ア）'!$CT$58","v":0}]
[781,{"$f":"'（別添４）エネルギー消費効率の根拠（要件ア）'!$CR$59","v":"別添4_24_20"},{"$f":"'（別添４）エネルギー消費効率の根拠（要件ア）'!$CS$59","v":"一代前モデル_計算結果"},{"$f":"'（別添４）エネルギー消費効率の根拠（要件ア）'!$CT$59","v":"単位を選択してください"}]
[782,{"$f":"'（別添４）エネルギー消費効率の根拠（要件ア）'!$CR$60","v":"別添4_24_21"},{"$f":"'（別添４）エネルギー消費効率の根拠（要件ア）'!$CS$60","v":"年間見込み省エネルギー量__計算結果"},{"$f":"'（別添４）エネルギー消費効率の根拠（要件ア）'!$CT$60","v":"0単位を選択してください"}]
[783,{"$f":"'（別添４）エネルギー消費効率の根拠（要件ア）'!$CR$61","v":"別添4_24_22"},{"$f":"'（別添４）エネルギー消費効率の根拠（要件ア）'!$CS$61","v":"年間見込み省エネルギー量_原油換算計算式"},{"$f":"'（別添４）エネルギー消費効率の根拠（要件ア）'!$CT$61","v":0}]
[784,{"$f":"'（別添４）エネルギー消費効率の根拠（要件ア）'!$CR$62","v":"別添4_24_23"},{"$f":"'（別添４）エネルギー消費効率の根拠（要件ア）'!$CS$62","v":"年間見込み省エネルギー量原油換算計算結果"},{"$f":"'（別添４）エネルギー消費効率の根拠（要件ア）'!$CT$62","v":0}]
[785,{"$f":"'（別添４）エネルギー消費効率の根拠（要件ア）'!$CR$63","v":"別添4_24_24"},{"$f":"'（別添４）エネルギー消費効率の根拠（要件ア）'!$CS$63","v":"年間見込み省エネルギー率_自動計算"},{"$f":"'（別添４）エネルギー消費効率の根拠（要件ア）'!$CT$63","v":""}]
[786,{"$f":"'（別添４）エネルギー消費効率の根拠（要件ア）'!$CV$40","v":"別添4_25_1"},{"$f":"'（別添４）エネルギー消費効率の根拠（要件ア）'!$CW$40","v":"トップランナー基準"},{"$f":"'（別添４）エネルギー消費効率の根拠（要件ア）'!$CX$40","v":0}]
[787,{"$f":"'（別添４）エネルギー消費効率の根拠（要件ア）'!$CV$41","v":"別添4_25_2"},{"$f":"'（別添４）エネルギー消費効率の根拠（要件ア）'!$CW$41","v":"トップランナー基準の区分名又は数値"},{"$f":"'（別添４）エネルギー消費効率の根拠（要件ア）'!$CX$41","v":0}]
[788,{"$f":"'（別添４）エネルギー消費効率の根拠（要件ア）'!$CV$42","v":"別添4_25_3"},{"$f":"'（別添４）エネルギー消費効率の根拠（要件ア）'!$CW$42","v":"トップランナー基準の数値（導入設備）"},{"$f":"'（別添４）エネルギー消費効率の根拠（要件ア）'!$CX$42","v":0}]
[789,{"$f":"'（別添４）エネルギー消費効率の根拠（要件ア）'!$CV$43","v":"別添4_25_4"},{"$f":"'（別添４）エネルギー消費効率の根拠（要件ア）'!$CW$43","v":"比較指標/トップランナー基準"},{"$f":"'（別添４）エネルギー消費効率の根拠（要件ア）'!$CX$43","v":0}]
[790,{"$f":"'（別添４）エネルギー消費効率の根拠（要件ア）'!$CV$44","v":"別添4_25_5"},{"$f":"'（別添４）エネルギー消費効率の根拠（要件ア）'!$CW$44","v":"添付資料の根拠記載箇所"},{"$f":"'（別添４）エネルギー消費効率の根拠（要件ア）'!$CX$44","v":0}]
[791,{"$f":"'（別添４）エネルギー消費効率の根拠（要件ア）'!$CV$45","v":"別添4_25_6"},{"$f":"'（別添４）エネルギー消費効率の根拠（要件ア）'!$CW$45","v":"省エネ要因"},{"$f":"'（別添４）エネルギー消費効率の根拠（要件ア）'!$CX$45","v":0}]
[792,{"$f":"'（別添４）エネルギー消費効率の根拠（要件ア）'!$CV$46","v":"別添4_25_7"},{"$f":"'（別添４）エネルギー消費効率の根拠（要件ア）'!$CW$46","v":"導入設備_製品名"},{"$f":"'（別添４）エネルギー消費効率の根拠（要件ア）'!$CX$46","v":0}]
[793,{"$f":"'（別添４）エネルギー消費効率の根拠（要件ア）'!$CV$47","v":"別添4_25_8"},{"$f":"'（別添４）エネルギー消費効率の根拠（要件ア）'!$CW$47","v":"導入設備_製造メーカー"},{"$f":"'（別添４）エネルギー消費効率の根拠（要件ア）'!$CX$47","v":0}]
[794,{"$f":"'（別添４）エネルギー消費効率の根拠（要件ア）'!$CV$48","v":"別添4_25_9"},{"$f":"'（別添４）エネルギー消費効率の根拠（要件ア）'!$CW$48","v":"導入設備_型番"},{"$f":"'（別添４）エネルギー消費効率の根拠（要件ア）'!$CX$48","v":0}]
[795,{"$f":"'（別添４）エネルギー消費効率の根拠（要件ア）'!$CV$49","v":"別添4_25_10"},{"$f":"'（別添４）エネルギー消費効率の根拠（要件ア）'!$CW$49","v":"導入設備_導入台数"},{"$f":"'（別添４）エネルギー消費効率の根拠（要件ア）'!$CX$49","v":"台"}]
[796,{"$f":"'（別添４）エネルギー消費効率の根拠（要件ア）'!$CV$50","v":"別添4_25_11"},{"$f":"'（別添４）エネルギー消費効率の根拠（要件ア）'!$CW$50","v":"導入設備_1台あたりの使用エネルギー"},{"$f":"'（別添４）エネルギー消費効率の根拠（要件ア）'!$CX$50","v":0}]
[797,{"$f":"'（別添４）エネルギー消費効率の根拠（要件ア）'!$CV$51","v":"別添4_25_12"},{"$f":"'（別添４）エネルギー消費効率の根拠（要件ア）'!$CW$51","v":"導入設備_年間エネルギー使用量計算式"},{"$f":"'（別添４）エネルギー消費効率の根拠（要件ア）'!$CX$51","v":0}]
[798,{"$f":"'（別添４）エネルギー消費効率の根拠（要件ア）'!$CV$52","v":"別添4_25_13"},{"$f":"'（別添４）エネルギー消費効率の根拠（要件ア）'!$CW$52","v":"導入設備_計算結果"},{"$f":"'（別添４）エネルギー消費効率の根拠（要件ア）'!$CX$52","v":"単位を選択してください"}]
[799,{"$f":"'（別添４）エネルギー消費効率の根拠（要件ア）'!$CV$53","v":"別添4_25_14"},{"$f":"'（別添４）エネルギー消費効率の根拠（要件ア）'!$CW$53","v":"一代前モデル_製品名"},{"$f":"'（別添４）エネルギー消費効率の根拠（要件ア）'!$CX$53","v":0}]
[800,{"$f":"'（別添４）エネルギー消費効率の根拠（要件ア）'!$CV$54","v":"別添4_25_15"},{"$f":"'（別添４）エネルギー消費効率の根拠（要件ア）'!$CW$54","v":"一代前モデル_製造メーカー"},{"$f":"'（別添４）エネルギー消費効率の根拠（要件ア）'!$CX$54","v":0}]
[801,{"$f":"'（別添４）エネルギー消費効率の根拠（要件ア）'!$CV$55","v":"別添4_25_16"},{"$f":"'（別添４）エネルギー消費効率の根拠（要件ア）'!$CW$55","v":"一代前モデル_型番"},{"$f":"'（別添４）エネルギー消費効率の根拠（要件ア）'!$CX$55","v":0}]
[802,{"$f":"'（別添４）エネルギー消費効率の根拠（要件ア）'!$CV$56","v":"別添4_25_17"},{"$f":"'（別添４）エネルギー消費効率の根拠（要件ア）'!$CW$56","v":"一代前モデル_導入台数"},{"$f":"'（別添４）エネルギー消費効率の根拠（要件ア）'!$CX$56","v":"台"}]
[803,{"$f":"'（別添４）エネルギー消費効率の根拠（要件ア）'!$CV$57","v":"別添4_25_18"},{"$f":"'（別添４）エネルギー消費効率の根拠（要件ア）'!$CW$57","v":"一代前モデル_1台あたりの使用エネルギー"},{"$f":"'（別添４）エネルギー消費効率の根拠（要件ア）'!$CX$57","v":0}]
[804,{"$f":"'（別添４）エネルギー消費効率の根拠（要件ア）'!$CV$58","v":"別添4_25_19"},{"$f":"'（別添４）エネルギー消費効率の根拠（要件ア）'!$CW$58","v":"一代前モデル_年間エネルギー使用量計算式"},{"$f":"'（別添４）エネルギー消費効率の根拠（要件ア）'!$CX$58","v":0}]
[805,{"$f":"'（別添４）エネルギー消費効率の根拠（要件ア）'!$CV$59","v":"別添4_25_20"},{"$f":"'（別添４）エネルギー消費効率の根拠（要件ア）'!$CW$59","v":"一代前モデル_計算結果"},{"$f":"'（別添４）エネルギー消費効率の根拠（要件ア）'!$CX$59","v":"単位を選択してください"}]
[806,{"$f":"'（別添４）エネルギー消費効率の根拠（要件ア）'!$CV$60","v":"別添4_25_21"},{"$f":"'（別添４）エネルギー消費効率の根拠（要件ア）'!$CW$60","v":"年間見込み省エネルギー量__計算結果"},{"$f":"'（別添４）エネルギー消費効率の根拠（要件ア）'!$CX$60","v":"0単位を選択してください"}]
[807,{"$f":"'（別添４）エネルギー消費効率の根拠（要件ア）'!$CV$61","v":"別添4_25_22"},{"$f":"'（別添４）エネルギー消費効率の根拠（要件ア）'!$CW$61","v":"年間見込み省エネルギー量_原油換算計算式"},{"$f":"'（別添４）エネルギー消費効率の根拠（要件ア）'!$CX$61","v":0}]
[808,{"$f":"'（別添４）エネルギー消費効率の根拠（要件ア）'!$CV$62","v":"別添4_25_23"},{"$f":"'（別添４）エネルギー消費効率の根拠（要件ア）'!$CW$62","v":"年間見込み省エネルギー量原油換算計算結果"},{"$f":"'（別添４）エネルギー消費効率の根拠（要件ア）'!$CX$62","v":0}]
[809,{"$f":"'（別添４）エネルギー消費効率の根拠（要件ア）'!$CV$63","v":"別添4_25_24"},{"$f":"'（別添４）エネルギー消費効率の根拠（要件ア）'!$CW$63","v":"年間見込み省エネルギー率_自動計算"},{"$f":"'（別添４）エネルギー消費効率の根拠（要件ア）'!$CX$63","v":""}]
[810,{"$f":"'（別添４）エネルギー消費効率の根拠（要件ア）'!$CZ$40","v":"別添4_26_1"},{"$f":"'（別添４）エネルギー消費効率の根拠（要件ア）'!$DA$40","v":"トップランナー基準"},{"$f":"'（別添４）エネルギー消費効率の根拠（要件ア）'!$DB$40","v":0}]
[811,{"$f":"'（別添４）エネルギー消費効率の根拠（要件ア）'!$CZ$41","v":"別添4_26_2"},{"$f":"'（別添４）エネルギー消費効率の根拠（要件ア）'!$DA$41","v":"トップランナー基準の区分名又は数値"},{"$f":"'（別添４）エネルギー消費効率の根拠（要件ア）'!$DB$41","v":0}]
[812,{"$f":"'（別添４）エネルギー消費効率の根拠（要件ア）'!$CZ$42","v":"別添4_26_3"},{"$f":"'（別添４）エネルギー消費効率の根拠（要件ア）'!$DA$42","v":"トップランナー基準の数値（導入設備）"},{"$f":"'（別添４）エネルギー消費効率の根拠（要件ア）'!$DB$42","v":0}]
[813,{"$f":"'（別添４）エネルギー消費効率の根拠（要件ア）'!$CZ$43","v":"別添4_26_4"},{"$f":"'（別添４）エネルギー消費効率の根拠（要件ア）'!$DA$43","v":"比較指標/トップランナー基準"},{"$f":"'（別添４）エネルギー消費効率の根拠（要件ア）'!$DB$43","v":0}]
[814,{"$f":"'（別添４）エネルギー消費効率の根拠（要件ア）'!$CZ$44","v":"別添4_26_5"},{"$f":"'（別添４）エネルギー消費効率の根拠（要件ア）'!$DA$44","v":"添付資料の根拠記載箇所"},{"$f":"'（別添４）エネルギー消費効率の根拠（要件ア）'!$DB$44","v":0}]
[815,{"$f":"'（別添４）エネルギー消費効率の根拠（要件ア）'!$CZ$45","v":"別添4_26_6"},{"$f":"'（別添４）エネルギー消費効率の根拠（要件ア）'!$DA$45","v":"省エネ要因"},{"$f":"'（別添４）エネルギー消費効率の根拠（要件ア）'!$DB$45","v":0}]
[816,{"$f":"'（別添４）エネルギー消費効率の根拠（要件ア）'!$CZ$46","v":"別添4_26_7"},{"$f":"'（別添４）エネルギー消費効率の根拠（要件ア）'!$DA$46","v":"導入設備_製品名"},{"$f":"'（別添４）エネルギー消費効率の根拠（要件ア）'!$DB$46","v":0}]
[817,{"$f":"'（別添４）エネルギー消費効率の根拠（要件ア）'!$CZ$47","v":"別添4_26_8"},{"$f":"'（別添４）エネルギー消費効率の根拠（要件ア）'!$DA$47","v":"導入設備_製造メーカー"},{"$f":"'（別添４）エネルギー消費効率の根拠（要件ア）'!$DB$47","v":0}]
[818,{"$f":"'（別添４）エネルギー消費効率の根拠（要件ア）'!$CZ$48","v":"別添4_26_9"},{"$f":"'（別添４）エネルギー消費効率の根拠（要件ア）'!$DA$48","v":"導入設備_型番"},{"$f":"'（別添４）エネルギー消費効率の根拠（要件ア）'!$DB$48","v":0}]
[819,{"$f":"'（別添４）エネルギー消費効率の根拠（要件ア）'!$CZ$49","v":"別添4_26_10"},{"$f":"'（別添４）エネルギー消費効率の根拠（要件ア）'!$DA$49","v":"導入設備_導入台数"},{"$f":"'（別添４）エネルギー消費効率の根拠（要件ア）'!$DB$49","v":"台"}]
[820,{"$f":"'（別添４）エネルギー消費効率の根拠（要件ア）'!$CZ$50","v":"別添4_26_11"},{"$f":"'（別添４）エネルギー消費効率の根拠（要件ア）'!$DA$50","v":"導入設備_1台あたりの使用エネルギー"},{"$f":"'（別添４）エネルギー消費効率の根拠（要件ア）'!$DB$50","v":0}]
[821,{"$f":"'（別添４）エネルギー消費効率の根拠（要件ア）'!$CZ$51","v":"別添4_26_12"},{"$f":"'（別添４）エネルギー消費効率の根拠（要件ア）'!$DA$51","v":"導入設備_年間エネルギー使用量計算式"},{"$f":"'（別添４）エネルギー消費効率の根拠（要件ア）'!$DB$51","v":0}]
[822,{"$f":"'（別添４）エネルギー消費効率の根拠（要件ア）'!$CZ$52","v":"別添4_26_13"},{"$f":"'（別添４）エネルギー消費効率の根拠（要件ア）'!$DA$52","v":"導入設備_計算結果"},{"$f":"'（別添４）エネルギー消費効率の根拠（要件ア）'!$DB$52","v":"単位を選択してください"}]
[823,{"$f":"'（別添４）エネルギー消費効率の根拠（要件ア）'!$CZ$53","v":"別添4_26_14"},{"$f":"'（別添４）エネルギー消費効率の根拠（要件ア）'!$DA$53","v":"一代前モデル_製品名"},{"$f":"'（別添４）エネルギー消費効率の根拠（要件ア）'!$DB$53","v":0}]
[824,{"$f":"'（別添４）エネルギー消費効率の根拠（要件ア）'!$CZ$54","v":"別添4_26_15"},{"$f":"'（別添４）エネルギー消費効率の根拠（要件ア）'!$DA$54","v":"一代前モデル_製造メーカー"},{"$f":"'（別添４）エネルギー消費効率の根拠（要件ア）'!$DB$54","v":0}]
[825,{"$f":"'（別添４）エネルギー消費効率の根拠（要件ア）'!$CZ$55","v":"別添4_26_16"},{"$f":"'（別添４）エネルギー消費効率の根拠（要件ア）'!$DA$55","v":"一代前モデル_型番"},{"$f":"'（別添４）エネルギー消費効率の根拠（要件ア）'!$DB$55","v":0}]
[826,{"$f":"'（別添４）エネルギー消費効率の根拠（要件ア）'!$CZ$56","v":"別添4_26_17"},{"$f":"'（別添４）エネルギー消費効率の根拠（要件ア）'!$DA$56","v":"一代前モデル_導入台数"},{"$f":"'（別添４）エネルギー消費効率の根拠（要件ア）'!$DB$56","v":"台"}]
[827,{"$f":"'（別添４）エネルギー消費効率の根拠（要件ア）'!$CZ$57","v":"別添4_26_18"},{"$f":"'（別添４）エネルギー消費効率の根拠（要件ア）'!$DA$57","v":"一代前モデル_1台あたりの使用エネルギー"},{"$f":"'（別添４）エネルギー消費効率の根拠（要件ア）'!$DB$57","v":0}]
[828,{"$f":"'（別添４）エネルギー消費効率の根拠（要件ア）'!$CZ$58","v":"別添4_26_19"},{"$f":"'（別添４）エネルギー消費効率の根拠（要件ア）'!$DA$58","v":"一代前モデル_年間エネルギー使用量計算式"},{"$f":"'（別添４）エネルギー消費効率の根拠（要件ア）'!$DB$58","v":0}]
[829,{"$f":"'（別添４）エネルギー消費効率の根拠（要件ア）'!$CZ$59","v":"別添4_26_20"},{"$f":"'（別添４）エネルギー消費効率の根拠（要件ア）'!$DA$59","v":"一代前モデル_計算結果"},{"$f":"'（別添４）エネルギー消費効率の根拠（要件ア）'!$DB$59","v":"単位を選択してください"}]
[830,{"$f":"'（別添４）エネルギー消費効率の根拠（要件ア）'!$CZ$60","v":"別添4_26_21"},{"$f":"'（別添４）エネルギー消費効率の根拠（要件ア）'!$DA$60","v":"年間見込み省エネルギー量__計算結果"},{"$f":"'（別添４）エネルギー消費効率の根拠（要件ア）'!$DB$60","v":"0単位を選択してください"}]
[831,{"$f":"'（別添４）エネルギー消費効率の根拠（要件ア）'!$CZ$61","v":"別添4_26_22"},{"$f":"'（別添４）エネルギー消費効率の根拠（要件ア）'!$DA$61","v":"年間見込み省エネルギー量_原油換算計算式"},{"$f":"'（別添４）エネルギー消費効率の根拠（要件ア）'!$DB$61","v":0}]
[832,{"$f":"'（別添４）エネルギー消費効率の根拠（要件ア）'!$CZ$62","v":"別添4_26_23"},{"$f":"'（別添４）エネルギー消費効率の根拠（要件ア）'!$DA$62","v":"年間見込み省エネルギー量原油換算計算結果"},{"$f":"'（別添４）エネルギー消費効率の根拠（要件ア）'!$DB$62","v":0}]
[833,{"$f":"'（別添４）エネルギー消費効率の根拠（要件ア）'!$CZ$63","v":"別添4_26_24"},{"$f":"'（別添４）エネルギー消費効率の根拠（要件ア）'!$DA$63","v":"年間見込み省エネルギー率_自動計算"},{"$f":"'（別添４）エネルギー消費効率の根拠（要件ア）'!$DB$63","v":""}]
[834,{"$f":"'（別添４）エネルギー消費効率の根拠（要件ア）'!$DD$40","v":"別添4_27_1"},{"$f":"'（別添４）エネルギー消費効率の根拠（要件ア）'!$DE$40","v":"トップランナー基準"},{"$f":"'（別添４）エネルギー消費効率の根拠（要件ア）'!$DF$40","v":0}]
[835,{"$f":"'（別添４）エネルギー消費効率の根拠（要件ア）'!$DD$41","v":"別添4_27_2"},{"$f":"'（別添４）エネルギー消費効率の根拠（要件ア）'!$DE$41","v":"トップランナー基準の区分名又は数値"},{"$f":"'（別添４）エネルギー消費効率の根拠（要件ア）'!$DF$41","v":0}]
[836,{"$f":"'（別添４）エネルギー消費効率の根拠（要件ア）'!$DD$42","v":"別添4_27_3"},{"$f":"'（別添４）エネルギー消費効率の根拠（要件ア）'!$DE$42","v":"トップランナー基準の数値（導入設備）"},{"$f":"'（別添４）エネルギー消費効率の根拠（要件ア）'!$DF$42","v":0}]
[837,{"$f":"'（別添４）エネルギー消費効率の根拠（要件ア）'!$DD$43","v":"別添4_27_4"},{"$f":"'（別添４）エネルギー消費効率の根拠（要件ア）'!$DE$43","v":"比較指標/トップランナー基準"},{"$f":"'（別添４）エネルギー消費効率の根拠（要件ア）'!$DF$43","v":0}]
[838,{"$f":"'（別添４）エネルギー消費効率の根拠（要件ア）'!$DD$44","v":"別添4_27_5"},{"$f":"'（別添４）エネルギー消費効率の根拠（要件ア）'!$DE$44","v":"添付資料の根拠記載箇所"},{"$f":"'（別添４）エネルギー消費効率の根拠（要件ア）'!$DF$44","v":0}]
[839,{"$f":"'（別添４）エネルギー消費効率の根拠（要件ア）'!$DD$45","v":"別添4_27_6"},{"$f":"'（別添４）エネルギー消費効率の根拠（要件ア）'!$DE$45","v":"省エネ要因"},{"$f":"'（別添４）エネルギー消費効率の根拠（要件ア）'!$DF$45","v":0}]
[840,{"$f":"'（別添４）エネルギー消費効率の根拠（要件ア）'!$DD$46","v":"別添4_27_7"},{"$f":"'（別添４）エネルギー消費効率の根拠（要件ア）'!$DE$46","v":"導入設備_製品名"},{"$f":"'（別添４）エネルギー消費効率の根拠（要件ア）'!$DF$46","v":0}]
[841,{"$f":"'（別添４）エネルギー消費効率の根拠（要件ア）'!$DD$47","v":"別添4_27_8"},{"$f":"'（別添４）エネルギー消費効率の根拠（要件ア）'!$DE$47","v":"導入設備_製造メーカー"},{"$f":"'（別添４）エネルギー消費効率の根拠（要件ア）'!$DF$47","v":0}]
[842,{"$f":"'（別添４）エネルギー消費効率の根拠（要件ア）'!$DD$48","v":"別添4_27_9"},{"$f":"'（別添４）エネルギー消費効率の根拠（要件ア）'!$DE$48","v":"導入設備_型番"},{"$f":"'（別添４）エネルギー消費効率の根拠（要件ア）'!$DF$48","v":0}]
[{"$f":"ROW()-1","v":843},{"$f":"'（別添４）エネルギー消費効率の根拠（要件ア）'!$DD$49","v":"別添4_27_10"},{"$f":"'（別添４）エネルギー消費効率の根拠（要件ア）'!$DE$49","v":"導入設備_導入台数"},{"$f":"'（別添４）エネルギー消費効率の根拠（要件ア）'!$DF$49","v":"台"}]
[844,{"$f":"'（別添４）エネルギー消費効率の根拠（要件ア）'!$DD$50","v":"別添4_27_11"},{"$f":"'（別添４）エネルギー消費効率の根拠（要件ア）'!$DE$50","v":"導入設備_1台あたりの使用エネルギー"},{"$f":"'（別添４）エネルギー消費効率の根拠（要件ア）'!$DF$50","v":0}]
[845,{"$f":"'（別添４）エネルギー消費効率の根拠（要件ア）'!$DD$51","v":"別添4_27_12"},{"$f":"'（別添４）エネルギー消費効率の根拠（要件ア）'!$DE$51","v":"導入設備_年間エネルギー使用量計算式"},{"$f":"'（別添４）エネルギー消費効率の根拠（要件ア）'!$DF$51","v":0}]
[846,{"$f":"'（別添４）エネルギー消費効率の根拠（要件ア）'!$DD$52","v":"別添4_27_13"},{"$f":"'（別添４）エネルギー消費効率の根拠（要件ア）'!$DE$52","v":"導入設備_計算結果"},{"$f":"'（別添４）エネルギー消費効率の根拠（要件ア）'!$DF$52","v":"単位を選択してください"}]
[847,{"$f":"'（別添４）エネルギー消費効率の根拠（要件ア）'!$DD$53","v":"別添4_27_14"},{"$f":"'（別添４）エネルギー消費効率の根拠（要件ア）'!$DE$53","v":"一代前モデル_製品名"},{"$f":"'（別添４）エネルギー消費効率の根拠（要件ア）'!$DF$53","v":0}]
[848,{"$f":"'（別添４）エネルギー消費効率の根拠（要件ア）'!$DD$54","v":"別添4_27_15"},{"$f":"'（別添４）エネルギー消費効率の根拠（要件ア）'!$DE$54","v":"一代前モデル_製造メーカー"},{"$f":"'（別添４）エネルギー消費効率の根拠（要件ア）'!$DF$54","v":0}]
[849,{"$f":"'（別添４）エネルギー消費効率の根拠（要件ア）'!$DD$55","v":"別添4_27_16"},{"$f":"'（別添４）エネルギー消費効率の根拠（要件ア）'!$DE$55","v":"一代前モデル_型番"},{"$f":"'（別添４）エネルギー消費効率の根拠（要件ア）'!$DF$55","v":0}]
[850,{"$f":"'（別添４）エネルギー消費効率の根拠（要件ア）'!$DD$56","v":"別添4_27_17"},{"$f":"'（別添４）エネルギー消費効率の根拠（要件ア）'!$DE$56","v":"一代前モデル_導入台数"},{"$f":"'（別添４）エネルギー消費効率の根拠（要件ア）'!$DF$56","v":"台"}]
[851,{"$f":"'（別添４）エネルギー消費効率の根拠（要件ア）'!$DD$57","v":"別添4_27_18"},{"$f":"'（別添４）エネルギー消費効率の根拠（要件ア）'!$DE$57","v":"一代前モデル_1台あたりの使用エネルギー"},{"$f":"'（別添４）エネルギー消費効率の根拠（要件ア）'!$DF$57","v":0}]
[852,{"$f":"'（別添４）エネルギー消費効率の根拠（要件ア）'!$DD$58","v":"別添4_27_19"},{"$f":"'（別添４）エネルギー消費効率の根拠（要件ア）'!$DE$58","v":"一代前モデル_年間エネルギー使用量計算式"},{"$f":"'（別添４）エネルギー消費効率の根拠（要件ア）'!$DF$58","v":0}]
[853,{"$f":"'（別添４）エネルギー消費効率の根拠（要件ア）'!$DD$59","v":"別添4_27_20"},{"$f":"'（別添４）エネルギー消費効率の根拠（要件ア）'!$DE$59","v":"一代前モデル_計算結果"},{"$f":"'（別添４）エネルギー消費効率の根拠（要件ア）'!$DF$59","v":"単位を選択してください"}]
[854,{"$f":"'（別添４）エネルギー消費効率の根拠（要件ア）'!$DD$60","v":"別添4_27_21"},{"$f":"'（別添４）エネルギー消費効率の根拠（要件ア）'!$DE$60","v":"年間見込み省エネルギー量__計算結果"},{"$f":"'（別添４）エネルギー消費効率の根拠（要件ア）'!$DF$60","v":"0単位を選択してください"}]
[855,{"$f":"'（別添４）エネルギー消費効率の根拠（要件ア）'!$DD$61","v":"別添4_27_22"},{"$f":"'（別添４）エネルギー消費効率の根拠（要件ア）'!$DE$61","v":"年間見込み省エネルギー量_原油換算計算式"},{"$f":"'（別添４）エネルギー消費効率の根拠（要件ア）'!$DF$61","v":0}]
[856,{"$f":"'（別添４）エネルギー消費効率の根拠（要件ア）'!$DD$62","v":"別添4_27_23"},{"$f":"'（別添４）エネルギー消費効率の根拠（要件ア）'!$DE$62","v":"年間見込み省エネルギー量原油換算計算結果"},{"$f":"'（別添４）エネルギー消費効率の根拠（要件ア）'!$DF$62","v":0}]
[857,{"$f":"'（別添４）エネルギー消費効率の根拠（要件ア）'!$DD$63","v":"別添4_27_24"},{"$f":"'（別添４）エネルギー消費効率の根拠（要件ア）'!$DE$63","v":"年間見込み省エネルギー率_自動計算"},{"$f":"'（別添４）エネルギー消費効率の根拠（要件ア）'!$DF$63","v":""}]
[858,{"$f":"'（別添４）エネルギー消費効率の根拠（要件ア）'!$DH$40","v":"別添4_28_1"},{"$f":"'（別添４）エネルギー消費効率の根拠（要件ア）'!$DI$40","v":"トップランナー基準"},{"$f":"'（別添４）エネルギー消費効率の根拠（要件ア）'!$DJ$40","v":0}]
[859,{"$f":"'（別添４）エネルギー消費効率の根拠（要件ア）'!$DH$41","v":"別添4_28_2"},{"$f":"'（別添４）エネルギー消費効率の根拠（要件ア）'!$DI$41","v":"トップランナー基準の区分名又は数値"},{"$f":"'（別添４）エネルギー消費効率の根拠（要件ア）'!$DJ$41","v":0}]
[860,{"$f":"'（別添４）エネルギー消費効率の根拠（要件ア）'!$DH$42","v":"別添4_28_3"},{"$f":"'（別添４）エネルギー消費効率の根拠（要件ア）'!$DI$42","v":"トップランナー基準の数値（導入設備）"},{"$f":"'（別添４）エネルギー消費効率の根拠（要件ア）'!$DJ$42","v":0}]
[861,{"$f":"'（別添４）エネルギー消費効率の根拠（要件ア）'!$DH$43","v":"別添4_28_4"},{"$f":"'（別添４）エネルギー消費効率の根拠（要件ア）'!$DI$43","v":"比較指標/トップランナー基準"},{"$f":"'（別添４）エネルギー消費効率の根拠（要件ア）'!$DJ$43","v":0}]
[862,{"$f":"'（別添４）エネルギー消費効率の根拠（要件ア）'!$DH$44","v":"別添4_28_5"},{"$f":"'（別添４）エネルギー消費効率の根拠（要件ア）'!$DI$44","v":"添付資料の根拠記載箇所"},{"$f":"'（別添４）エネルギー消費効率の根拠（要件ア）'!$DJ$44","v":0}]
[863,{"$f":"'（別添４）エネルギー消費効率の根拠（要件ア）'!$DH$45","v":"別添4_28_6"},{"$f":"'（別添４）エネルギー消費効率の根拠（要件ア）'!$DI$45","v":"省エネ要因"},{"$f":"'（別添４）エネルギー消費効率の根拠（要件ア）'!$DJ$45","v":0}]
[864,{"$f":"'（別添４）エネルギー消費効率の根拠（要件ア）'!$DH$46","v":"別添4_28_7"},{"$f":"'（別添４）エネルギー消費効率の根拠（要件ア）'!$DI$46","v":"導入設備_製品名"},{"$f":"'（別添４）エネルギー消費効率の根拠（要件ア）'!$DJ$46","v":0}]
[865,{"$f":"'（別添４）エネルギー消費効率の根拠（要件ア）'!$DH$47","v":"別添4_28_8"},{"$f":"'（別添４）エネルギー消費効率の根拠（要件ア）'!$DI$47","v":"導入設備_製造メーカー"},{"$f":"'（別添４）エネルギー消費効率の根拠（要件ア）'!$DJ$47","v":0}]
[866,{"$f":"'（別添４）エネルギー消費効率の根拠（要件ア）'!$DH$48","v":"別添4_28_9"},{"$f":"'（別添４）エネルギー消費効率の根拠（要件ア）'!$DI$48","v":"導入設備_型番"},{"$f":"'（別添４）エネルギー消費効率の根拠（要件ア）'!$DJ$48","v":0}]
[867,{"$f":"'（別添４）エネルギー消費効率の根拠（要件ア）'!$DH$49","v":"別添4_28_10"},{"$f":"'（別添４）エネルギー消費効率の根拠（要件ア）'!$DI$49","v":"導入設備_導入台数"},{"$f":"'（別添４）エネルギー消費効率の根拠（要件ア）'!$DJ$49","v":"台"}]
[868,{"$f":"'（別添４）エネルギー消費効率の根拠（要件ア）'!$DH$50","v":"別添4_28_11"},{"$f":"'（別添４）エネルギー消費効率の根拠（要件ア）'!$DI$50","v":"導入設備_1台あたりの使用エネルギー"},{"$f":"'（別添４）エネルギー消費効率の根拠（要件ア）'!$DJ$50","v":0}]
[869,{"$f":"'（別添４）エネルギー消費効率の根拠（要件ア）'!$DH$51","v":"別添4_28_12"},{"$f":"'（別添４）エネルギー消費効率の根拠（要件ア）'!$DI$51","v":"導入設備_年間エネルギー使用量計算式"},{"$f":"'（別添４）エネルギー消費効率の根拠（要件ア）'!$DJ$51","v":0}]
[870,{"$f":"'（別添４）エネルギー消費効率の根拠（要件ア）'!$DH$52","v":"別添4_28_13"},{"$f":"'（別添４）エネルギー消費効率の根拠（要件ア）'!$DI$52","v":"導入設備_計算結果"},{"$f":"'（別添４）エネルギー消費効率の根拠（要件ア）'!$DJ$52","v":"単位を選択してください"}]
[871,{"$f":"'（別添４）エネルギー消費効率の根拠（要件ア）'!$DH$53","v":"別添4_28_14"},{"$f":"'（別添４）エネルギー消費効率の根拠（要件ア）'!$DI$53","v":"一代前モデル_製品名"},{"$f":"'（別添４）エネルギー消費効率の根拠（要件ア）'!$DJ$53","v":0}]
[872,{"$f":"'（別添４）エネルギー消費効率の根拠（要件ア）'!$DH$54","v":"別添4_28_15"},{"$f":"'（別添４）エネルギー消費効率の根拠（要件ア）'!$DI$54","v":"一代前モデル_製造メーカー"},{"$f":"'（別添４）エネルギー消費効率の根拠（要件ア）'!$DJ$54","v":0}]
[873,{"$f":"'（別添４）エネルギー消費効率の根拠（要件ア）'!$DH$55","v":"別添4_28_16"},{"$f":"'（別添４）エネルギー消費効率の根拠（要件ア）'!$DI$55","v":"一代前モデル_型番"},{"$f":"'（別添４）エネルギー消費効率の根拠（要件ア）'!$DJ$55","v":0}]
[874,{"$f":"'（別添４）エネルギー消費効率の根拠（要件ア）'!$DH$56","v":"別添4_28_17"},{"$f":"'（別添４）エネルギー消費効率の根拠（要件ア）'!$DI$56","v":"一代前モデル_導入台数"},{"$f":"'（別添４）エネルギー消費効率の根拠（要件ア）'!$DJ$56","v":"台"}]
[875,{"$f":"'（別添４）エネルギー消費効率の根拠（要件ア）'!$DH$57","v":"別添4_28_18"},{"$f":"'（別添４）エネルギー消費効率の根拠（要件ア）'!$DI$57","v":"一代前モデル_1台あたりの使用エネルギー"},{"$f":"'（別添４）エネルギー消費効率の根拠（要件ア）'!$DJ$57","v":0}]
[876,{"$f":"'（別添４）エネルギー消費効率の根拠（要件ア）'!$DH$58","v":"別添4_28_19"},{"$f":"'（別添４）エネルギー消費効率の根拠（要件ア）'!$DI$58","v":"一代前モデル_年間エネルギー使用量計算式"},{"$f":"'（別添４）エネルギー消費効率の根拠（要件ア）'!$DJ$58","v":0}]
[877,{"$f":"'（別添４）エネルギー消費効率の根拠（要件ア）'!$DH$59","v":"別添4_28_20"},{"$f":"'（別添４）エネルギー消費効率の根拠（要件ア）'!$DI$59","v":"一代前モデル_計算結果"},{"$f":"'（別添４）エネルギー消費効率の根拠（要件ア）'!$DJ$59","v":"単位を選択してください"}]
[878,{"$f":"'（別添４）エネルギー消費効率の根拠（要件ア）'!$DH$60","v":"別添4_28_21"},{"$f":"'（別添４）エネルギー消費効率の根拠（要件ア）'!$DI$60","v":"年間見込み省エネルギー量__計算結果"},{"$f":"'（別添４）エネルギー消費効率の根拠（要件ア）'!$DJ$60","v":"0単位を選択してください"}]
[879,{"$f":"'（別添４）エネルギー消費効率の根拠（要件ア）'!$DH$61","v":"別添4_28_22"},{"$f":"'（別添４）エネルギー消費効率の根拠（要件ア）'!$DI$61","v":"年間見込み省エネルギー量_原油換算計算式"},{"$f":"'（別添４）エネルギー消費効率の根拠（要件ア）'!$DJ$61","v":0}]
[880,{"$f":"'（別添４）エネルギー消費効率の根拠（要件ア）'!$DH$62","v":"別添4_28_23"},{"$f":"'（別添４）エネルギー消費効率の根拠（要件ア）'!$DI$62","v":"年間見込み省エネルギー量原油換算計算結果"},{"$f":"'（別添４）エネルギー消費効率の根拠（要件ア）'!$DJ$62","v":0}]
[881,{"$f":"'（別添４）エネルギー消費効率の根拠（要件ア）'!$DH$63","v":"別添4_28_24"},{"$f":"'（別添４）エネルギー消費効率の根拠（要件ア）'!$DI$63","v":"年間見込み省エネルギー率_自動計算"},{"$f":"'（別添４）エネルギー消費効率の根拠（要件ア）'!$DJ$63","v":""}]
[882,{"$f":"'（別添４）エネルギー消費効率の根拠（要件ア）'!$DL$40","v":"別添4_29_1"},{"$f":"'（別添４）エネルギー消費効率の根拠（要件ア）'!$DM$40","v":"トップランナー基準"},{"$f":"'（別添４）エネルギー消費効率の根拠（要件ア）'!$DN$40","v":0}]
[883,{"$f":"'（別添４）エネルギー消費効率の根拠（要件ア）'!$DL$41","v":"別添4_29_2"},{"$f":"'（別添４）エネルギー消費効率の根拠（要件ア）'!$DM$41","v":"トップランナー基準の区分名又は数値"},{"$f":"'（別添４）エネルギー消費効率の根拠（要件ア）'!$DN$41","v":0}]
[884,{"$f":"'（別添４）エネルギー消費効率の根拠（要件ア）'!$DL$42","v":"別添4_29_3"},{"$f":"'（別添４）エネルギー消費効率の根拠（要件ア）'!$DM$42","v":"トップランナー基準の数値（導入設備）"},{"$f":"'（別添４）エネルギー消費効率の根拠（要件ア）'!$DN$42","v":0}]
[885,{"$f":"'（別添４）エネルギー消費効率の根拠（要件ア）'!$DL$43","v":"別添4_29_4"},{"$f":"'（別添４）エネルギー消費効率の根拠（要件ア）'!$DM$43","v":"比較指標/トップランナー基準"},{"$f":"'（別添４）エネルギー消費効率の根拠（要件ア）'!$DN$43","v":0}]
[886,{"$f":"'（別添４）エネルギー消費効率の根拠（要件ア）'!$DL$44","v":"別添4_29_5"},{"$f":"'（別添４）エネルギー消費効率の根拠（要件ア）'!$DM$44","v":"添付資料の根拠記載箇所"},{"$f":"'（別添４）エネルギー消費効率の根拠（要件ア）'!$DN$44","v":0}]
[887,{"$f":"'（別添４）エネルギー消費効率の根拠（要件ア）'!$DL$45","v":"別添4_29_6"},{"$f":"'（別添４）エネルギー消費効率の根拠（要件ア）'!$DM$45","v":"省エネ要因"},{"$f":"'（別添４）エネルギー消費効率の根拠（要件ア）'!$DN$45","v":0}]
[888,{"$f":"'（別添４）エネルギー消費効率の根拠（要件ア）'!$DL$46","v":"別添4_29_7"},{"$f":"'（別添４）エネルギー消費効率の根拠（要件ア）'!$DM$46","v":"導入設備_製品名"},{"$f":"'（別添４）エネルギー消費効率の根拠（要件ア）'!$DN$46","v":0}]
[889,{"$f":"'（別添４）エネルギー消費効率の根拠（要件ア）'!$DL$47","v":"別添4_29_8"},{"$f":"'（別添４）エネルギー消費効率の根拠（要件ア）'!$DM$47","v":"導入設備_製造メーカー"},{"$f":"'（別添４）エネルギー消費効率の根拠（要件ア）'!$DN$47","v":0}]
[890,{"$f":"'（別添４）エネルギー消費効率の根拠（要件ア）'!$DL$48","v":"別添4_29_9"},{"$f":"'（別添４）エネルギー消費効率の根拠（要件ア）'!$DM$48","v":"導入設備_型番"},{"$f":"'（別添４）エネルギー消費効率の根拠（要件ア）'!$DN$48","v":0}]
[891,{"$f":"'（別添４）エネルギー消費効率の根拠（要件ア）'!$DL$49","v":"別添4_29_10"},{"$f":"'（別添４）エネルギー消費効率の根拠（要件ア）'!$DM$49","v":"導入設備_導入台数"},{"$f":"'（別添４）エネルギー消費効率の根拠（要件ア）'!$DN$49","v":"台"}]
[892,{"$f":"'（別添４）エネルギー消費効率の根拠（要件ア）'!$DL$50","v":"別添4_29_11"},{"$f":"'（別添４）エネルギー消費効率の根拠（要件ア）'!$DM$50","v":"導入設備_1台あたりの使用エネルギー"},{"$f":"'（別添４）エネルギー消費効率の根拠（要件ア）'!$DN$50","v":0}]
[893,{"$f":"'（別添４）エネルギー消費効率の根拠（要件ア）'!$DL$51","v":"別添4_29_12"},{"$f":"'（別添４）エネルギー消費効率の根拠（要件ア）'!$DM$51","v":"導入設備_年間エネルギー使用量計算式"},{"$f":"'（別添４）エネルギー消費効率の根拠（要件ア）'!$DN$51","v":0}]
[894,{"$f":"'（別添４）エネルギー消費効率の根拠（要件ア）'!$DL$52","v":"別添4_29_13"},{"$f":"'（別添４）エネルギー消費効率の根拠（要件ア）'!$DM$52","v":"導入設備_計算結果"},{"$f":"'（別添４）エネルギー消費効率の根拠（要件ア）'!$DN$52","v":"単位を選択してください"}]
[895,{"$f":"'（別添４）エネルギー消費効率の根拠（要件ア）'!$DL$53","v":"別添4_29_14"},{"$f":"'（別添４）エネルギー消費効率の根拠（要件ア）'!$DM$53","v":"一代前モデル_製品名"},{"$f":"'（別添４）エネルギー消費効率の根拠（要件ア）'!$DN$53","v":0}]
[896,{"$f":"'（別添４）エネルギー消費効率の根拠（要件ア）'!$DL$54","v":"別添4_29_15"},{"$f":"'（別添４）エネルギー消費効率の根拠（要件ア）'!$DM$54","v":"一代前モデル_製造メーカー"},{"$f":"'（別添４）エネルギー消費効率の根拠（要件ア）'!$DN$54","v":0}]
[897,{"$f":"'（別添４）エネルギー消費効率の根拠（要件ア）'!$DL$55","v":"別添4_29_16"},{"$f":"'（別添４）エネルギー消費効率の根拠（要件ア）'!$DM$55","v":"一代前モデル_型番"},{"$f":"'（別添４）エネルギー消費効率の根拠（要件ア）'!$DN$55","v":0}]
[898,{"$f":"'（別添４）エネルギー消費効率の根拠（要件ア）'!$DL$56","v":"別添4_29_17"},{"$f":"'（別添４）エネルギー消費効率の根拠（要件ア）'!$DM$56","v":"一代前モデル_導入台数"},{"$f":"'（別添４）エネルギー消費効率の根拠（要件ア）'!$DN$56","v":"台"}]
[899,{"$f":"'（別添４）エネルギー消費効率の根拠（要件ア）'!$DL$57","v":"別添4_29_18"},{"$f":"'（別添４）エネルギー消費効率の根拠（要件ア）'!$DM$57","v":"一代前モデル_1台あたりの使用エネルギー"},{"$f":"'（別添４）エネルギー消費効率の根拠（要件ア）'!$DN$57","v":0}]
[900,{"$f":"'（別添４）エネルギー消費効率の根拠（要件ア）'!$DL$58","v":"別添4_29_19"},{"$f":"'（別添４）エネルギー消費効率の根拠（要件ア）'!$DM$58","v":"一代前モデル_年間エネルギー使用量計算式"},{"$f":"'（別添４）エネルギー消費効率の根拠（要件ア）'!$DN$58","v":0}]
[901,{"$f":"'（別添４）エネルギー消費効率の根拠（要件ア）'!$DL$59","v":"別添4_29_20"},{"$f":"'（別添４）エネルギー消費効率の根拠（要件ア）'!$DM$59","v":"一代前モデル_計算結果"},{"$f":"'（別添４）エネルギー消費効率の根拠（要件ア）'!$DN$59","v":"単位を選択してください"}]
[902,{"$f":"'（別添４）エネルギー消費効率の根拠（要件ア）'!$DL$60","v":"別添4_29_21"},{"$f":"'（別添４）エネルギー消費効率の根拠（要件ア）'!$DM$60","v":"年間見込み省エネルギー量__計算結果"},{"$f":"'（別添４）エネルギー消費効率の根拠（要件ア）'!$DN$60","v":"0単位を選択してください"}]
[903,{"$f":"'（別添４）エネルギー消費効率の根拠（要件ア）'!$DL$61","v":"別添4_29_22"},{"$f":"'（別添４）エネルギー消費効率の根拠（要件ア）'!$DM$61","v":"年間見込み省エネルギー量_原油換算計算式"},{"$f":"'（別添４）エネルギー消費効率の根拠（要件ア）'!$DN$61","v":0}]
[904,{"$f":"'（別添４）エネルギー消費効率の根拠（要件ア）'!$DL$62","v":"別添4_29_23"},{"$f":"'（別添４）エネルギー消費効率の根拠（要件ア）'!$DM$62","v":"年間見込み省エネルギー量原油換算計算結果"},{"$f":"'（別添４）エネルギー消費効率の根拠（要件ア）'!$DN$62","v":0}]
[905,{"$f":"'（別添４）エネルギー消費効率の根拠（要件ア）'!$DL$63","v":"別添4_29_24"},{"$f":"'（別添４）エネルギー消費効率の根拠（要件ア）'!$DM$63","v":"年間見込み省エネルギー率_自動計算"},{"$f":"'（別添４）エネルギー消費効率の根拠（要件ア）'!$DN$63","v":""}]
[906,{"$f":"'（別添４）エネルギー消費効率の根拠（要件ア）'!$DP$40","v":"別添4_30_1"},{"$f":"'（別添４）エネルギー消費効率の根拠（要件ア）'!$DQ$40","v":"トップランナー基準"},{"$f":"'（別添４）エネルギー消費効率の根拠（要件ア）'!$DR$40","v":0}]
[{"$f":"ROW()-1","v":907},{"$f":"'（別添４）エネルギー消費効率の根拠（要件ア）'!$DP$41","v":"別添4_30_2"},{"$f":"'（別添４）エネルギー消費効率の根拠（要件ア）'!$DQ$41","v":"トップランナー基準の区分名又は数値"},{"$f":"'（別添４）エネルギー消費効率の根拠（要件ア）'!$DR$41","v":0}]
[908,{"$f":"'（別添４）エネルギー消費効率の根拠（要件ア）'!$DP$42","v":"別添4_30_3"},{"$f":"'（別添４）エネルギー消費効率の根拠（要件ア）'!$DQ$42","v":"トップランナー基準の数値（導入設備）"},{"$f":"'（別添４）エネルギー消費効率の根拠（要件ア）'!$DR$42","v":0}]
[909,{"$f":"'（別添４）エネルギー消費効率の根拠（要件ア）'!$DP$43","v":"別添4_30_4"},{"$f":"'（別添４）エネルギー消費効率の根拠（要件ア）'!$DQ$43","v":"比較指標/トップランナー基準"},{"$f":"'（別添４）エネルギー消費効率の根拠（要件ア）'!$DR$43","v":0}]
[910,{"$f":"'（別添４）エネルギー消費効率の根拠（要件ア）'!$DP$44","v":"別添4_30_5"},{"$f":"'（別添４）エネルギー消費効率の根拠（要件ア）'!$DQ$44","v":"添付資料の根拠記載箇所"},{"$f":"'（別添４）エネルギー消費効率の根拠（要件ア）'!$DR$44","v":0}]
[911,{"$f":"'（別添４）エネルギー消費効率の根拠（要件ア）'!$DP$45","v":"別添4_30_6"},{"$f":"'（別添４）エネルギー消費効率の根拠（要件ア）'!$DQ$45","v":"省エネ要因"},{"$f":"'（別添４）エネルギー消費効率の根拠（要件ア）'!$DR$45","v":0}]
[912,{"$f":"'（別添４）エネルギー消費効率の根拠（要件ア）'!$DP$46","v":"別添4_30_7"},{"$f":"'（別添４）エネルギー消費効率の根拠（要件ア）'!$DQ$46","v":"導入設備_製品名"},{"$f":"'（別添４）エネルギー消費効率の根拠（要件ア）'!$DR$46","v":0}]
[913,{"$f":"'（別添４）エネルギー消費効率の根拠（要件ア）'!$DP$47","v":"別添4_30_8"},{"$f":"'（別添４）エネルギー消費効率の根拠（要件ア）'!$DQ$47","v":"導入設備_製造メーカー"},{"$f":"'（別添４）エネルギー消費効率の根拠（要件ア）'!$DR$47","v":0}]
[914,{"$f":"'（別添４）エネルギー消費効率の根拠（要件ア）'!$DP$48","v":"別添4_30_9"},{"$f":"'（別添４）エネルギー消費効率の根拠（要件ア）'!$DQ$48","v":"導入設備_型番"},{"$f":"'（別添４）エネルギー消費効率の根拠（要件ア）'!$DR$48","v":0}]
[915,{"$f":"'（別添４）エネルギー消費効率の根拠（要件ア）'!$DP$49","v":"別添4_30_10"},{"$f":"'（別添４）エネルギー消費効率の根拠（要件ア）'!$DQ$49","v":"導入設備_導入台数"},{"$f":"'（別添４）エネルギー消費効率の根拠（要件ア）'!$DR$49","v":"台"}]
[916,{"$f":"'（別添４）エネルギー消費効率の根拠（要件ア）'!$DP$50","v":"別添4_30_11"},{"$f":"'（別添４）エネルギー消費効率の根拠（要件ア）'!$DQ$50","v":"導入設備_1台あたりの使用エネルギー"},{"$f":"'（別添４）エネルギー消費効率の根拠（要件ア）'!$DR$50","v":0}]
[917,{"$f":"'（別添４）エネルギー消費効率の根拠（要件ア）'!$DP$51","v":"別添4_30_12"},{"$f":"'（別添４）エネルギー消費効率の根拠（要件ア）'!$DQ$51","v":"導入設備_年間エネルギー使用量計算式"},{"$f":"'（別添４）エネルギー消費効率の根拠（要件ア）'!$DR$51","v":0}]
[918,{"$f":"'（別添４）エネルギー消費効率の根拠（要件ア）'!$DP$52","v":"別添4_30_13"},{"$f":"'（別添４）エネルギー消費効率の根拠（要件ア）'!$DQ$52","v":"導入設備_計算結果"},{"$f":"'（別添４）エネルギー消費効率の根拠（要件ア）'!$DR$52","v":"単位を選択してください"}]
[919,{"$f":"'（別添４）エネルギー消費効率の根拠（要件ア）'!$DP$53","v":"別添4_30_14"},{"$f":"'（別添４）エネルギー消費効率の根拠（要件ア）'!$DQ$53","v":"一代前モデル_製品名"},{"$f":"'（別添４）エネルギー消費効率の根拠（要件ア）'!$DR$53","v":0}]
[920,{"$f":"'（別添４）エネルギー消費効率の根拠（要件ア）'!$DP$54","v":"別添4_30_15"},{"$f":"'（別添４）エネルギー消費効率の根拠（要件ア）'!$DQ$54","v":"一代前モデル_製造メーカー"},{"$f":"'（別添４）エネルギー消費効率の根拠（要件ア）'!$DR$54","v":0}]
[921,{"$f":"'（別添４）エネルギー消費効率の根拠（要件ア）'!$DP$55","v":"別添4_30_16"},{"$f":"'（別添４）エネルギー消費効率の根拠（要件ア）'!$DQ$55","v":"一代前モデル_型番"},{"$f":"'（別添４）エネルギー消費効率の根拠（要件ア）'!$DR$55","v":0}]
[922,{"$f":"'（別添４）エネルギー消費効率の根拠（要件ア）'!$DP$56","v":"別添4_30_17"},{"$f":"'（別添４）エネルギー消費効率の根拠（要件ア）'!$DQ$56","v":"一代前モデル_導入台数"},{"$f":"'（別添４）エネルギー消費効率の根拠（要件ア）'!$DR$56","v":"台"}]
[923,{"$f":"'（別添４）エネルギー消費効率の根拠（要件ア）'!$DP$57","v":"別添4_30_18"},{"$f":"'（別添４）エネルギー消費効率の根拠（要件ア）'!$DQ$57","v":"一代前モデル_1台あたりの使用エネルギー"},{"$f":"'（別添４）エネルギー消費効率の根拠（要件ア）'!$DR$57","v":0}]
[924,{"$f":"'（別添４）エネルギー消費効率の根拠（要件ア）'!$DP$58","v":"別添4_30_19"},{"$f":"'（別添４）エネルギー消費効率の根拠（要件ア）'!$DQ$58","v":"一代前モデル_年間エネルギー使用量計算式"},{"$f":"'（別添４）エネルギー消費効率の根拠（要件ア）'!$DR$58","v":0}]
[925,{"$f":"'（別添４）エネルギー消費効率の根拠（要件ア）'!$DP$59","v":"別添4_30_20"},{"$f":"'（別添４）エネルギー消費効率の根拠（要件ア）'!$DQ$59","v":"一代前モデル_計算結果"},{"$f":"'（別添４）エネルギー消費効率の根拠（要件ア）'!$DR$59","v":"単位を選択してください"}]
[926,{"$f":"'（別添４）エネルギー消費効率の根拠（要件ア）'!$DP$60","v":"別添4_30_21"},{"$f":"'（別添４）エネルギー消費効率の根拠（要件ア）'!$DQ$60","v":"年間見込み省エネルギー量__計算結果"},{"$f":"'（別添４）エネルギー消費効率の根拠（要件ア）'!$DR$60","v":"0単位を選択してください"}]
[927,{"$f":"'（別添４）エネルギー消費効率の根拠（要件ア）'!$DP$61","v":"別添4_30_22"},{"$f":"'（別添４）エネルギー消費効率の根拠（要件ア）'!$DQ$61","v":"年間見込み省エネルギー量_原油換算計算式"},{"$f":"'（別添４）エネルギー消費効率の根拠（要件ア）'!$DR$61","v":0}]
[928,{"$f":"'（別添４）エネルギー消費効率の根拠（要件ア）'!$DP$62","v":"別添4_30_23"},{"$f":"'（別添４）エネルギー消費効率の根拠（要件ア）'!$DQ$62","v":"年間見込み省エネルギー量原油換算計算結果"},{"$f":"'（別添４）エネルギー消費効率の根拠（要件ア）'!$DR$62","v":0}]
[929,{"$f":"'（別添４）エネルギー消費効率の根拠（要件ア）'!$DP$63","v":"別添4_30_24"},{"$f":"'（別添４）エネルギー消費効率の根拠（要件ア）'!$DQ$63","v":"年間見込み省エネルギー率_自動計算"},{"$f":"'（別添４）エネルギー消費効率の根拠（要件ア）'!$DR$63","v":""}]
[930,{"$f":"'（別添４）エネルギー消費効率の根拠（要件ア）'!$DT$40","v":"別添4_31_1"},{"$f":"'（別添４）エネルギー消費効率の根拠（要件ア）'!$DU$40","v":"トップランナー基準"},{"$f":"'（別添４）エネルギー消費効率の根拠（要件ア）'!$DV$40","v":0}]
[931,{"$f":"'（別添４）エネルギー消費効率の根拠（要件ア）'!$DT$41","v":"別添4_31_2"},{"$f":"'（別添４）エネルギー消費効率の根拠（要件ア）'!$DU$41","v":"トップランナー基準の区分名又は数値"},{"$f":"'（別添４）エネルギー消費効率の根拠（要件ア）'!$DV$41","v":0}]
[932,{"$f":"'（別添４）エネルギー消費効率の根拠（要件ア）'!$DT$42","v":"別添4_31_3"},{"$f":"'（別添４）エネルギー消費効率の根拠（要件ア）'!$DU$42","v":"トップランナー基準の数値（導入設備）"},{"$f":"'（別添４）エネルギー消費効率の根拠（要件ア）'!$DV$42","v":0}]
[933,{"$f":"'（別添４）エネルギー消費効率の根拠（要件ア）'!$DT$43","v":"別添4_31_4"},{"$f":"'（別添４）エネルギー消費効率の根拠（要件ア）'!$DU$43","v":"比較指標/トップランナー基準"},{"$f":"'（別添４）エネルギー消費効率の根拠（要件ア）'!$DV$43","v":0}]
[934,{"$f":"'（別添４）エネルギー消費効率の根拠（要件ア）'!$DT$44","v":"別添4_31_5"},{"$f":"'（別添４）エネルギー消費効率の根拠（要件ア）'!$DU$44","v":"添付資料の根拠記載箇所"},{"$f":"'（別添４）エネルギー消費効率の根拠（要件ア）'!$DV$44","v":0}]
[935,{"$f":"'（別添４）エネルギー消費効率の根拠（要件ア）'!$DT$45","v":"別添4_31_6"},{"$f":"'（別添４）エネルギー消費効率の根拠（要件ア）'!$DU$45","v":"省エネ要因"},{"$f":"'（別添４）エネルギー消費効率の根拠（要件ア）'!$DV$45","v":0}]
[936,{"$f":"'（別添４）エネルギー消費効率の根拠（要件ア）'!$DT$46","v":"別添4_31_7"},{"$f":"'（別添４）エネルギー消費効率の根拠（要件ア）'!$DU$46","v":"導入設備_製品名"},{"$f":"'（別添４）エネルギー消費効率の根拠（要件ア）'!$DV$46","v":0}]
[937,{"$f":"'（別添４）エネルギー消費効率の根拠（要件ア）'!$DT$47","v":"別添4_31_8"},{"$f":"'（別添４）エネルギー消費効率の根拠（要件ア）'!$DU$47","v":"導入設備_製造メーカー"},{"$f":"'（別添４）エネルギー消費効率の根拠（要件ア）'!$DV$47","v":0}]
[938,{"$f":"'（別添４）エネルギー消費効率の根拠（要件ア）'!$DT$48","v":"別添4_31_9"},{"$f":"'（別添４）エネルギー消費効率の根拠（要件ア）'!$DU$48","v":"導入設備_型番"},{"$f":"'（別添４）エネルギー消費効率の根拠（要件ア）'!$DV$48","v":0}]
[939,{"$f":"'（別添４）エネルギー消費効率の根拠（要件ア）'!$DT$49","v":"別添4_31_10"},{"$f":"'（別添４）エネルギー消費効率の根拠（要件ア）'!$DU$49","v":"導入設備_導入台数"},{"$f":"'（別添４）エネルギー消費効率の根拠（要件ア）'!$DV$49","v":"台"}]
[940,{"$f":"'（別添４）エネルギー消費効率の根拠（要件ア）'!$DT$50","v":"別添4_31_11"},{"$f":"'（別添４）エネルギー消費効率の根拠（要件ア）'!$DU$50","v":"導入設備_1台あたりの使用エネルギー"},{"$f":"'（別添４）エネルギー消費効率の根拠（要件ア）'!$DV$50","v":0}]
[941,{"$f":"'（別添４）エネルギー消費効率の根拠（要件ア）'!$DT$51","v":"別添4_31_12"},{"$f":"'（別添４）エネルギー消費効率の根拠（要件ア）'!$DU$51","v":"導入設備_年間エネルギー使用量計算式"},{"$f":"'（別添４）エネルギー消費効率の根拠（要件ア）'!$DV$51","v":0}]
[942,{"$f":"'（別添４）エネルギー消費効率の根拠（要件ア）'!$DT$52","v":"別添4_31_13"},{"$f":"'（別添４）エネルギー消費効率の根拠（要件ア）'!$DU$52","v":"導入設備_計算結果"},{"$f":"'（別添４）エネルギー消費効率の根拠（要件ア）'!$DV$52","v":"単位を選択してください"}]
[943,{"$f":"'（別添４）エネルギー消費効率の根拠（要件ア）'!$DT$53","v":"別添4_31_14"},{"$f":"'（別添４）エネルギー消費効率の根拠（要件ア）'!$DU$53","v":"一代前モデル_製品名"},{"$f":"'（別添４）エネルギー消費効率の根拠（要件ア）'!$DV$53","v":0}]
[944,{"$f":"'（別添４）エネルギー消費効率の根拠（要件ア）'!$DT$54","v":"別添4_31_15"},{"$f":"'（別添４）エネルギー消費効率の根拠（要件ア）'!$DU$54","v":"一代前モデル_製造メーカー"},{"$f":"'（別添４）エネルギー消費効率の根拠（要件ア）'!$DV$54","v":0}]
[945,{"$f":"'（別添４）エネルギー消費効率の根拠（要件ア）'!$DT$55","v":"別添4_31_16"},{"$f":"'（別添４）エネルギー消費効率の根拠（要件ア）'!$DU$55","v":"一代前モデル_型番"},{"$f":"'（別添４）エネルギー消費効率の根拠（要件ア）'!$DV$55","v":0}]
[946,{"$f":"'（別添４）エネルギー消費効率の根拠（要件ア）'!$DT$56","v":"別添4_31_17"},{"$f":"'（別添４）エネルギー消費効率の根拠（要件ア）'!$DU$56","v":"一代前モデル_導入台数"},{"$f":"'（別添４）エネルギー消費効率の根拠（要件ア）'!$DV$56","v":"台"}]
[947,{"$f":"'（別添４）エネルギー消費効率の根拠（要件ア）'!$DT$57","v":"別添4_31_18"},{"$f":"'（別添４）エネルギー消費効率の根拠（要件ア）'!$DU$57","v":"一代前モデル_1台あたりの使用エネルギー"},{"$f":"'（別添４）エネルギー消費効率の根拠（要件ア）'!$DV$57","v":0}]
[948,{"$f":"'（別添４）エネルギー消費効率の根拠（要件ア）'!$DT$58","v":"別添4_31_19"},{"$f":"'（別添４）エネルギー消費効率の根拠（要件ア）'!$DU$58","v":"一代前モデル_年間エネルギー使用量計算式"},{"$f":"'（別添４）エネルギー消費効率の根拠（要件ア）'!$DV$58","v":0}]
[949,{"$f":"'（別添４）エネルギー消費効率の根拠（要件ア）'!$DT$59","v":"別添4_31_20"},{"$f":"'（別添４）エネルギー消費効率の根拠（要件ア）'!$DU$59","v":"一代前モデル_計算結果"},{"$f":"'（別添４）エネルギー消費効率の根拠（要件ア）'!$DV$59","v":"単位を選択してください"}]
[950,{"$f":"'（別添４）エネルギー消費効率の根拠（要件ア）'!$DT$60","v":"別添4_31_21"},{"$f":"'（別添４）エネルギー消費効率の根拠（要件ア）'!$DU$60","v":"年間見込み省エネルギー量__計算結果"},{"$f":"'（別添４）エネルギー消費効率の根拠（要件ア）'!$DV$60","v":"0単位を選択してください"}]
[951,{"$f":"'（別添４）エネルギー消費効率の根拠（要件ア）'!$DT$61","v":"別添4_31_22"},{"$f":"'（別添４）エネルギー消費効率の根拠（要件ア）'!$DU$61","v":"年間見込み省エネルギー量_原油換算計算式"},{"$f":"'（別添４）エネルギー消費効率の根拠（要件ア）'!$DV$61","v":0}]
[952,{"$f":"'（別添４）エネルギー消費効率の根拠（要件ア）'!$DT$62","v":"別添4_31_23"},{"$f":"'（別添４）エネルギー消費効率の根拠（要件ア）'!$DU$62","v":"年間見込み省エネルギー量原油換算計算結果"},{"$f":"'（別添４）エネルギー消費効率の根拠（要件ア）'!$DV$62","v":0}]
[953,{"$f":"'（別添４）エネルギー消費効率の根拠（要件ア）'!$DT$63","v":"別添4_31_24"},{"$f":"'（別添４）エネルギー消費効率の根拠（要件ア）'!$DU$63","v":"年間見込み省エネルギー率_自動計算"},{"$f":"'（別添４）エネルギー消費効率の根拠（要件ア）'!$DV$63","v":""}]
[954,{"$f":"'（別添４）エネルギー消費効率の根拠（要件ア）'!$DX$40","v":"別添4_32_1"},{"$f":"'（別添４）エネルギー消費効率の根拠（要件ア）'!$DY$40","v":"トップランナー基準"},{"$f":"'（別添４）エネルギー消費効率の根拠（要件ア）'!$DZ$40","v":0}]
[955,{"$f":"'（別添４）エネルギー消費効率の根拠（要件ア）'!$DX$41","v":"別添4_32_2"},{"$f":"'（別添４）エネルギー消費効率の根拠（要件ア）'!$DY$41","v":"トップランナー基準の区分名又は数値"},{"$f":"'（別添４）エネルギー消費効率の根拠（要件ア）'!$DZ$41","v":0}]
[956,{"$f":"'（別添４）エネルギー消費効率の根拠（要件ア）'!$DX$42","v":"別添4_32_3"},{"$f":"'（別添４）エネルギー消費効率の根拠（要件ア）'!$DY$42","v":"トップランナー基準の数値（導入設備）"},{"$f":"'（別添４）エネルギー消費効率の根拠（要件ア）'!$DZ$42","v":0}]
[957,{"$f":"'（別添４）エネルギー消費効率の根拠（要件ア）'!$DX$43","v":"別添4_32_4"},{"$f":"'（別添４）エネルギー消費効率の根拠（要件ア）'!$DY$43","v":"比較指標/トップランナー基準"},{"$f":"'（別添４）エネルギー消費効率の根拠（要件ア）'!$DZ$43","v":0}]
[958,{"$f":"'（別添４）エネルギー消費効率の根拠（要件ア）'!$DX$44","v":"別添4_32_5"},{"$f":"'（別添４）エネルギー消費効率の根拠（要件ア）'!$DY$44","v":"添付資料の根拠記載箇所"},{"$f":"'（別添４）エネルギー消費効率の根拠（要件ア）'!$DZ$44","v":0}]
[959,{"$f":"'（別添４）エネルギー消費効率の根拠（要件ア）'!$DX$45","v":"別添4_32_6"},{"$f":"'（別添４）エネルギー消費効率の根拠（要件ア）'!$DY$45","v":"省エネ要因"},{"$f":"'（別添４）エネルギー消費効率の根拠（要件ア）'!$DZ$45","v":0}]
[960,{"$f":"'（別添４）エネルギー消費効率の根拠（要件ア）'!$DX$46","v":"別添4_32_7"},{"$f":"'（別添４）エネルギー消費効率の根拠（要件ア）'!$DY$46","v":"導入設備_製品名"},{"$f":"'（別添４）エネルギー消費効率の根拠（要件ア）'!$DZ$46","v":0}]
[961,{"$f":"'（別添４）エネルギー消費効率の根拠（要件ア）'!$DX$47","v":"別添4_32_8"},{"$f":"'（別添４）エネルギー消費効率の根拠（要件ア）'!$DY$47","v":"導入設備_製造メーカー"},{"$f":"'（別添４）エネルギー消費効率の根拠（要件ア）'!$DZ$47","v":0}]
[962,{"$f":"'（別添４）エネルギー消費効率の根拠（要件ア）'!$DX$48","v":"別添4_32_9"},{"$f":"'（別添４）エネルギー消費効率の根拠（要件ア）'!$DY$48","v":"導入設備_型番"},{"$f":"'（別添４）エネルギー消費効率の根拠（要件ア）'!$DZ$48","v":0}]
[963,{"$f":"'（別添４）エネルギー消費効率の根拠（要件ア）'!$DX$49","v":"別添4_32_10"},{"$f":"'（別添４）エネルギー消費効率の根拠（要件ア）'!$DY$49","v":"導入設備_導入台数"},{"$f":"'（別添４）エネルギー消費効率の根拠（要件ア）'!$DZ$49","v":"台"}]
[964,{"$f":"'（別添４）エネルギー消費効率の根拠（要件ア）'!$DX$50","v":"別添4_32_11"},{"$f":"'（別添４）エネルギー消費効率の根拠（要件ア）'!$DY$50","v":"導入設備_1台あたりの使用エネルギー"},{"$f":"'（別添４）エネルギー消費効率の根拠（要件ア）'!$DZ$50","v":0}]
[965,{"$f":"'（別添４）エネルギー消費効率の根拠（要件ア）'!$DX$51","v":"別添4_32_12"},{"$f":"'（別添４）エネルギー消費効率の根拠（要件ア）'!$DY$51","v":"導入設備_年間エネルギー使用量計算式"},{"$f":"'（別添４）エネルギー消費効率の根拠（要件ア）'!$DZ$51","v":0}]
[966,{"$f":"'（別添４）エネルギー消費効率の根拠（要件ア）'!$DX$52","v":"別添4_32_13"},{"$f":"'（別添４）エネルギー消費効率の根拠（要件ア）'!$DY$52","v":"導入設備_計算結果"},{"$f":"'（別添４）エネルギー消費効率の根拠（要件ア）'!$DZ$52","v":"単位を選択してください"}]
[967,{"$f":"'（別添４）エネルギー消費効率の根拠（要件ア）'!$DX$53","v":"別添4_32_14"},{"$f":"'（別添４）エネルギー消費効率の根拠（要件ア）'!$DY$53","v":"一代前モデル_製品名"},{"$f":"'（別添４）エネルギー消費効率の根拠（要件ア）'!$DZ$53","v":0}]
[968,{"$f":"'（別添４）エネルギー消費効率の根拠（要件ア）'!$DX$54","v":"別添4_32_15"},{"$f":"'（別添４）エネルギー消費効率の根拠（要件ア）'!$DY$54","v":"一代前モデル_製造メーカー"},{"$f":"'（別添４）エネルギー消費効率の根拠（要件ア）'!$DZ$54","v":0}]
[969,{"$f":"'（別添４）エネルギー消費効率の根拠（要件ア）'!$DX$55","v":"別添4_32_16"},{"$f":"'（別添４）エネルギー消費効率の根拠（要件ア）'!$DY$55","v":"一代前モデル_型番"},{"$f":"'（別添４）エネルギー消費効率の根拠（要件ア）'!$DZ$55","v":0}]
[970,{"$f":"'（別添４）エネルギー消費効率の根拠（要件ア）'!$DX$56","v":"別添4_32_17"},{"$f":"'（別添４）エネルギー消費効率の根拠（要件ア）'!$DY$56","v":"一代前モデル_導入台数"},{"$f":"'（別添４）エネルギー消費効率の根拠（要件ア）'!$DZ$56","v":"台"}]
[{"$f":"ROW()-1","v":971},{"$f":"'（別添４）エネルギー消費効率の根拠（要件ア）'!$DX$57","v":"別添4_32_18"},{"$f":"'（別添４）エネルギー消費効率の根拠（要件ア）'!$DY$57","v":"一代前モデル_1台あたりの使用エネルギー"},{"$f":"'（別添４）エネルギー消費効率の根拠（要件ア）'!$DZ$57","v":0}]
[972,{"$f":"'（別添４）エネルギー消費効率の根拠（要件ア）'!$DX$58","v":"別添4_32_19"},{"$f":"'（別添４）エネルギー消費効率の根拠（要件ア）'!$DY$58","v":"一代前モデル_年間エネルギー使用量計算式"},{"$f":"'（別添４）エネルギー消費効率の根拠（要件ア）'!$DZ$58","v":0}]
[973,{"$f":"'（別添４）エネルギー消費効率の根拠（要件ア）'!$DX$59","v":"別添4_32_20"},{"$f":"'（別添４）エネルギー消費効率の根拠（要件ア）'!$DY$59","v":"一代前モデル_計算結果"},{"$f":"'（別添４）エネルギー消費効率の根拠（要件ア）'!$DZ$59","v":"単位を選択してください"}]
[974,{"$f":"'（別添４）エネルギー消費効率の根拠（要件ア）'!$DX$60","v":"別添4_32_21"},{"$f":"'（別添４）エネルギー消費効率の根拠（要件ア）'!$DY$60","v":"年間見込み省エネルギー量__計算結果"},{"$f":"'（別添４）エネルギー消費効率の根拠（要件ア）'!$DZ$60","v":"0単位を選択してください"}]
[975,{"$f":"'（別添４）エネルギー消費効率の根拠（要件ア）'!$DX$61","v":"別添4_32_22"},{"$f":"'（別添４）エネルギー消費効率の根拠（要件ア）'!$DY$61","v":"年間見込み省エネルギー量_原油換算計算式"},{"$f":"'（別添４）エネルギー消費効率の根拠（要件ア）'!$DZ$61","v":0}]
[976,{"$f":"'（別添４）エネルギー消費効率の根拠（要件ア）'!$DX$62","v":"別添4_32_23"},{"$f":"'（別添４）エネルギー消費効率の根拠（要件ア）'!$DY$62","v":"年間見込み省エネルギー量原油換算計算結果"},{"$f":"'（別添４）エネルギー消費効率の根拠（要件ア）'!$DZ$62","v":0}]
[977,{"$f":"'（別添４）エネルギー消費効率の根拠（要件ア）'!$DX$63","v":"別添4_32_24"},{"$f":"'（別添４）エネルギー消費効率の根拠（要件ア）'!$DY$63","v":"年間見込み省エネルギー率_自動計算"},{"$f":"'（別添４）エネルギー消費効率の根拠（要件ア）'!$DZ$63","v":""}]
[978,{"$f":"'（別添４）エネルギー消費効率の根拠（要件ア）'!$EB$40","v":"別添4_33_1"},{"$f":"'（別添４）エネルギー消費効率の根拠（要件ア）'!$EC$40","v":"トップランナー基準"},{"$f":"'（別添４）エネルギー消費効率の根拠（要件ア）'!$ED$40","v":0}]
[979,{"$f":"'（別添４）エネルギー消費効率の根拠（要件ア）'!$EB$41","v":"別添4_33_2"},{"$f":"'（別添４）エネルギー消費効率の根拠（要件ア）'!$EC$41","v":"トップランナー基準の区分名又は数値"},{"$f":"'（別添４）エネルギー消費効率の根拠（要件ア）'!$ED$41","v":0}]
[980,{"$f":"'（別添４）エネルギー消費効率の根拠（要件ア）'!$EB$42","v":"別添4_33_3"},{"$f":"'（別添４）エネルギー消費効率の根拠（要件ア）'!$EC$42","v":"トップランナー基準の数値（導入設備）"},{"$f":"'（別添４）エネルギー消費効率の根拠（要件ア）'!$ED$42","v":0}]
[981,{"$f":"'（別添４）エネルギー消費効率の根拠（要件ア）'!$EB$43","v":"別添4_33_4"},{"$f":"'（別添４）エネルギー消費効率の根拠（要件ア）'!$EC$43","v":"比較指標/トップランナー基準"},{"$f":"'（別添４）エネルギー消費効率の根拠（要件ア）'!$ED$43","v":0}]
[982,{"$f":"'（別添４）エネルギー消費効率の根拠（要件ア）'!$EB$44","v":"別添4_33_5"},{"$f":"'（別添４）エネルギー消費効率の根拠（要件ア）'!$EC$44","v":"添付資料の根拠記載箇所"},{"$f":"'（別添４）エネルギー消費効率の根拠（要件ア）'!$ED$44","v":0}]
[983,{"$f":"'（別添４）エネルギー消費効率の根拠（要件ア）'!$EB$45","v":"別添4_33_6"},{"$f":"'（別添４）エネルギー消費効率の根拠（要件ア）'!$EC$45","v":"省エネ要因"},{"$f":"'（別添４）エネルギー消費効率の根拠（要件ア）'!$ED$45","v":0}]
[984,{"$f":"'（別添４）エネルギー消費効率の根拠（要件ア）'!$EB$46","v":"別添4_33_7"},{"$f":"'（別添４）エネルギー消費効率の根拠（要件ア）'!$EC$46","v":"導入設備_製品名"},{"$f":"'（別添４）エネルギー消費効率の根拠（要件ア）'!$ED$46","v":0}]
[985,{"$f":"'（別添４）エネルギー消費効率の根拠（要件ア）'!$EB$47","v":"別添4_33_8"},{"$f":"'（別添４）エネルギー消費効率の根拠（要件ア）'!$EC$47","v":"導入設備_製造メーカー"},{"$f":"'（別添４）エネルギー消費効率の根拠（要件ア）'!$ED$47","v":0}]
[986,{"$f":"'（別添４）エネルギー消費効率の根拠（要件ア）'!$EB$48","v":"別添4_33_9"},{"$f":"'（別添４）エネルギー消費効率の根拠（要件ア）'!$EC$48","v":"導入設備_型番"},{"$f":"'（別添４）エネルギー消費効率の根拠（要件ア）'!$ED$48","v":0}]
[987,{"$f":"'（別添４）エネルギー消費効率の根拠（要件ア）'!$EB$49","v":"別添4_33_10"},{"$f":"'（別添４）エネルギー消費効率の根拠（要件ア）'!$EC$49","v":"導入設備_導入台数"},{"$f":"'（別添４）エネルギー消費効率の根拠（要件ア）'!$ED$49","v":"台"}]
[988,{"$f":"'（別添４）エネルギー消費効率の根拠（要件ア）'!$EB$50","v":"別添4_33_11"},{"$f":"'（別添４）エネルギー消費効率の根拠（要件ア）'!$EC$50","v":"導入設備_1台あたりの使用エネルギー"},{"$f":"'（別添４）エネルギー消費効率の根拠（要件ア）'!$ED$50","v":0}]
[989,{"$f":"'（別添４）エネルギー消費効率の根拠（要件ア）'!$EB$51","v":"別添4_33_12"},{"$f":"'（別添４）エネルギー消費効率の根拠（要件ア）'!$EC$51","v":"導入設備_年間エネルギー使用量計算式"},{"$f":"'（別添４）エネルギー消費効率の根拠（要件ア）'!$ED$51","v":0}]
[990,{"$f":"'（別添４）エネルギー消費効率の根拠（要件ア）'!$EB$52","v":"別添4_33_13"},{"$f":"'（別添４）エネルギー消費効率の根拠（要件ア）'!$EC$52","v":"導入設備_計算結果"},{"$f":"'（別添４）エネルギー消費効率の根拠（要件ア）'!$ED$52","v":"単位を選択してください"}]
[991,{"$f":"'（別添４）エネルギー消費効率の根拠（要件ア）'!$EB$53","v":"別添4_33_14"},{"$f":"'（別添４）エネルギー消費効率の根拠（要件ア）'!$EC$53","v":"一代前モデル_製品名"},{"$f":"'（別添４）エネルギー消費効率の根拠（要件ア）'!$ED$53","v":0}]
[992,{"$f":"'（別添４）エネルギー消費効率の根拠（要件ア）'!$EB$54","v":"別添4_33_15"},{"$f":"'（別添４）エネルギー消費効率の根拠（要件ア）'!$EC$54","v":"一代前モデル_製造メーカー"},{"$f":"'（別添４）エネルギー消費効率の根拠（要件ア）'!$ED$54","v":0}]
[993,{"$f":"'（別添４）エネルギー消費効率の根拠（要件ア）'!$EB$55","v":"別添4_33_16"},{"$f":"'（別添４）エネルギー消費効率の根拠（要件ア）'!$EC$55","v":"一代前モデル_型番"},{"$f":"'（別添４）エネルギー消費効率の根拠（要件ア）'!$ED$55","v":0}]
[994,{"$f":"'（別添４）エネルギー消費効率の根拠（要件ア）'!$EB$56","v":"別添4_33_17"},{"$f":"'（別添４）エネルギー消費効率の根拠（要件ア）'!$EC$56","v":"一代前モデル_導入台数"},{"$f":"'（別添４）エネルギー消費効率の根拠（要件ア）'!$ED$56","v":"台"}]
[995,{"$f":"'（別添４）エネルギー消費効率の根拠（要件ア）'!$EB$57","v":"別添4_33_18"},{"$f":"'（別添４）エネルギー消費効率の根拠（要件ア）'!$EC$57","v":"一代前モデル_1台あたりの使用エネルギー"},{"$f":"'（別添４）エネルギー消費効率の根拠（要件ア）'!$ED$57","v":0}]
[996,{"$f":"'（別添４）エネルギー消費効率の根拠（要件ア）'!$EB$58","v":"別添4_33_19"},{"$f":"'（別添４）エネルギー消費効率の根拠（要件ア）'!$EC$58","v":"一代前モデル_年間エネルギー使用量計算式"},{"$f":"'（別添４）エネルギー消費効率の根拠（要件ア）'!$ED$58","v":0}]
[997,{"$f":"'（別添４）エネルギー消費効率の根拠（要件ア）'!$EB$59","v":"別添4_33_20"},{"$f":"'（別添４）エネルギー消費効率の根拠（要件ア）'!$EC$59","v":"一代前モデル_計算結果"},{"$f":"'（別添４）エネルギー消費効率の根拠（要件ア）'!$ED$59","v":"単位を選択してください"}]
[998,{"$f":"'（別添４）エネルギー消費効率の根拠（要件ア）'!$EB$60","v":"別添4_33_21"},{"$f":"'（別添４）エネルギー消費効率の根拠（要件ア）'!$EC$60","v":"年間見込み省エネルギー量__計算結果"},{"$f":"'（別添４）エネルギー消費効率の根拠（要件ア）'!$ED$60","v":"0単位を選択してください"}]
[999,{"$f":"'（別添４）エネルギー消費効率の根拠（要件ア）'!$EB$61","v":"別添4_33_22"},{"$f":"'（別添４）エネルギー消費効率の根拠（要件ア）'!$EC$61","v":"年間見込み省エネルギー量_原油換算計算式"},{"$f":"'（別添４）エネルギー消費効率の根拠（要件ア）'!$ED$61","v":0}]
[1000,{"$f":"'（別添４）エネルギー消費効率の根拠（要件ア）'!$EB$62","v":"別添4_33_23"},{"$f":"'（別添４）エネルギー消費効率の根拠（要件ア）'!$EC$62","v":"年間見込み省エネルギー量原油換算計算結果"},{"$f":"'（別添４）エネルギー消費効率の根拠（要件ア）'!$ED$62","v":0}]
[1001,{"$f":"'（別添４）エネルギー消費効率の根拠（要件ア）'!$EB$63","v":"別添4_33_24"},{"$f":"'（別添４）エネルギー消費効率の根拠（要件ア）'!$EC$63","v":"年間見込み省エネルギー率_自動計算"},{"$f":"'（別添４）エネルギー消費効率の根拠（要件ア）'!$ED$63","v":""}]
[1002,{"$f":"'（別添４）エネルギー消費効率の根拠（要件ア）'!$EF$40","v":"別添4_34_1"},{"$f":"'（別添４）エネルギー消費効率の根拠（要件ア）'!$EG$40","v":"トップランナー基準"},{"$f":"'（別添４）エネルギー消費効率の根拠（要件ア）'!$EH$40","v":0}]
[1003,{"$f":"'（別添４）エネルギー消費効率の根拠（要件ア）'!$EF$41","v":"別添4_34_2"},{"$f":"'（別添４）エネルギー消費効率の根拠（要件ア）'!$EG$41","v":"トップランナー基準の区分名又は数値"},{"$f":"'（別添４）エネルギー消費効率の根拠（要件ア）'!$EH$41","v":0}]
[1004,{"$f":"'（別添４）エネルギー消費効率の根拠（要件ア）'!$EF$42","v":"別添4_34_3"},{"$f":"'（別添４）エネルギー消費効率の根拠（要件ア）'!$EG$42","v":"トップランナー基準の数値（導入設備）"},{"$f":"'（別添４）エネルギー消費効率の根拠（要件ア）'!$EH$42","v":0}]
[1005,{"$f":"'（別添４）エネルギー消費効率の根拠（要件ア）'!$EF$43","v":"別添4_34_4"},{"$f":"'（別添４）エネルギー消費効率の根拠（要件ア）'!$EG$43","v":"比較指標/トップランナー基準"},{"$f":"'（別添４）エネルギー消費効率の根拠（要件ア）'!$EH$43","v":0}]
[1006,{"$f":"'（別添４）エネルギー消費効率の根拠（要件ア）'!$EF$44","v":"別添4_34_5"},{"$f":"'（別添４）エネルギー消費効率の根拠（要件ア）'!$EG$44","v":"添付資料の根拠記載箇所"},{"$f":"'（別添４）エネルギー消費効率の根拠（要件ア）'!$EH$44","v":0}]
[1007,{"$f":"'（別添４）エネルギー消費効率の根拠（要件ア）'!$EF$45","v":"別添4_34_6"},{"$f":"'（別添４）エネルギー消費効率の根拠（要件ア）'!$EG$45","v":"省エネ要因"},{"$f":"'（別添４）エネルギー消費効率の根拠（要件ア）'!$EH$45","v":0}]
[1008,{"$f":"'（別添４）エネルギー消費効率の根拠（要件ア）'!$EF$46","v":"別添4_34_7"},{"$f":"'（別添４）エネルギー消費効率の根拠（要件ア）'!$EG$46","v":"導入設備_製品名"},{"$f":"'（別添４）エネルギー消費効率の根拠（要件ア）'!$EH$46","v":0}]
[1009,{"$f":"'（別添４）エネルギー消費効率の根拠（要件ア）'!$EF$47","v":"別添4_34_8"},{"$f":"'（別添４）エネルギー消費効率の根拠（要件ア）'!$EG$47","v":"導入設備_製造メーカー"},{"$f":"'（別添４）エネルギー消費効率の根拠（要件ア）'!$EH$47","v":0}]
[1010,{"$f":"'（別添４）エネルギー消費効率の根拠（要件ア）'!$EF$48","v":"別添4_34_9"},{"$f":"'（別添４）エネルギー消費効率の根拠（要件ア）'!$EG$48","v":"導入設備_型番"},{"$f":"'（別添４）エネルギー消費効率の根拠（要件ア）'!$EH$48","v":0}]
[1011,{"$f":"'（別添４）エネルギー消費効率の根拠（要件ア）'!$EF$49","v":"別添4_34_10"},{"$f":"'（別添４）エネルギー消費効率の根拠（要件ア）'!$EG$49","v":"導入設備_導入台数"},{"$f":"'（別添４）エネルギー消費効率の根拠（要件ア）'!$EH$49","v":"台"}]
[1012,{"$f":"'（別添４）エネルギー消費効率の根拠（要件ア）'!$EF$50","v":"別添4_34_11"},{"$f":"'（別添４）エネルギー消費効率の根拠（要件ア）'!$EG$50","v":"導入設備_1台あたりの使用エネルギー"},{"$f":"'（別添４）エネルギー消費効率の根拠（要件ア）'!$EH$50","v":0}]
[1013,{"$f":"'（別添４）エネルギー消費効率の根拠（要件ア）'!$EF$51","v":"別添4_34_12"},{"$f":"'（別添４）エネルギー消費効率の根拠（要件ア）'!$EG$51","v":"導入設備_年間エネルギー使用量計算式"},{"$f":"'（別添４）エネルギー消費効率の根拠（要件ア）'!$EH$51","v":0}]
[1014,{"$f":"'（別添４）エネルギー消費効率の根拠（要件ア）'!$EF$52","v":"別添4_34_13"},{"$f":"'（別添４）エネルギー消費効率の根拠（要件ア）'!$EG$52","v":"導入設備_計算結果"},{"$f":"'（別添４）エネルギー消費効率の根拠（要件ア）'!$EH$52","v":"単位を選択してください"}]
[1015,{"$f":"'（別添４）エネルギー消費効率の根拠（要件ア）'!$EF$53","v":"別添4_34_14"},{"$f":"'（別添４）エネルギー消費効率の根拠（要件ア）'!$EG$53","v":"一代前モデル_製品名"},{"$f":"'（別添４）エネルギー消費効率の根拠（要件ア）'!$EH$53","v":0}]
[1016,{"$f":"'（別添４）エネルギー消費効率の根拠（要件ア）'!$EF$54","v":"別添4_34_15"},{"$f":"'（別添４）エネルギー消費効率の根拠（要件ア）'!$EG$54","v":"一代前モデル_製造メーカー"},{"$f":"'（別添４）エネルギー消費効率の根拠（要件ア）'!$EH$54","v":0}]
[1017,{"$f":"'（別添４）エネルギー消費効率の根拠（要件ア）'!$EF$55","v":"別添4_34_16"},{"$f":"'（別添４）エネルギー消費効率の根拠（要件ア）'!$EG$55","v":"一代前モデル_型番"},{"$f":"'（別添４）エネルギー消費効率の根拠（要件ア）'!$EH$55","v":0}]
[1018,{"$f":"'（別添４）エネルギー消費効率の根拠（要件ア）'!$EF$56","v":"別添4_34_17"},{"$f":"'（別添４）エネルギー消費効率の根拠（要件ア）'!$EG$56","v":"一代前モデル_導入台数"},{"$f":"'（別添４）エネルギー消費効率の根拠（要件ア）'!$EH$56","v":"台"}]
[1019,{"$f":"'（別添４）エネルギー消費効率の根拠（要件ア）'!$EF$57","v":"別添4_34_18"},{"$f":"'（別添４）エネルギー消費効率の根拠（要件ア）'!$EG$57","v":"一代前モデル_1台あたりの使用エネルギー"},{"$f":"'（別添４）エネルギー消費効率の根拠（要件ア）'!$EH$57","v":0}]
[1020,{"$f":"'（別添４）エネルギー消費効率の根拠（要件ア）'!$EF$58","v":"別添4_34_19"},{"$f":"'（別添４）エネルギー消費効率の根拠（要件ア）'!$EG$58","v":"一代前モデル_年間エネルギー使用量計算式"},{"$f":"'（別添４）エネルギー消費効率の根拠（要件ア）'!$EH$58","v":0}]
[1021,{"$f":"'（別添４）エネルギー消費効率の根拠（要件ア）'!$EF$59","v":"別添4_34_20"},{"$f":"'（別添４）エネルギー消費効率の根拠（要件ア）'!$EG$59","v":"一代前モデル_計算結果"},{"$f":"'（別添４）エネルギー消費効率の根拠（要件ア）'!$EH$59","v":"単位を選択してください"}]
[1022,{"$f":"'（別添４）エネルギー消費効率の根拠（要件ア）'!$EF$60","v":"別添4_34_21"},{"$f":"'（別添４）エネルギー消費効率の根拠（要件ア）'!$EG$60","v":"年間見込み省エネルギー量__計算結果"},{"$f":"'（別添４）エネルギー消費効率の根拠（要件ア）'!$EH$60","v":"0単位を選択してください"}]
[1023,{"$f":"'（別添４）エネルギー消費効率の根拠（要件ア）'!$EF$61","v":"別添4_34_22"},{"$f":"'（別添４）エネルギー消費効率の根拠（要件ア）'!$EG$61","v":"年間見込み省エネルギー量_原油換算計算式"},{"$f":"'（別添４）エネルギー消費効率の根拠（要件ア）'!$EH$61","v":0}]
[1024,{"$f":"'（別添４）エネルギー消費効率の根拠（要件ア）'!$EF$62","v":"別添4_34_23"},{"$f":"'（別添４）エネルギー消費効率の根拠（要件ア）'!$EG$62","v":"年間見込み省エネルギー量原油換算計算結果"},{"$f":"'（別添４）エネルギー消費効率の根拠（要件ア）'!$EH$62","v":0}]
[1025,{"$f":"'（別添４）エネルギー消費効率の根拠（要件ア）'!$EF$63","v":"別添4_34_24"},{"$f":"'（別添４）エネルギー消費効率の根拠（要件ア）'!$EG$63","v":"年間見込み省エネルギー率_自動計算"},{"$f":"'（別添４）エネルギー消費効率の根拠（要件ア）'!$EH$63","v":""}]
[1026,{"$f":"'（別添４）エネルギー消費効率の根拠（要件ア）'!$EJ$40","v":"別添4_35_1"},{"$f":"'（別添４）エネルギー消費効率の根拠（要件ア）'!$EK$40","v":"トップランナー基準"},{"$f":"'（別添４）エネルギー消費効率の根拠（要件ア）'!$EL$40","v":0}]
[1027,{"$f":"'（別添４）エネルギー消費効率の根拠（要件ア）'!$EJ$41","v":"別添4_35_2"},{"$f":"'（別添４）エネルギー消費効率の根拠（要件ア）'!$EK$41","v":"トップランナー基準の区分名又は数値"},{"$f":"'（別添４）エネルギー消費効率の根拠（要件ア）'!$EL$41","v":0}]
[1028,{"$f":"'（別添４）エネルギー消費効率の根拠（要件ア）'!$EJ$42","v":"別添4_35_3"},{"$f":"'（別添４）エネルギー消費効率の根拠（要件ア）'!$EK$42","v":"トップランナー基準の数値（導入設備）"},{"$f":"'（別添４）エネルギー消費効率の根拠（要件ア）'!$EL$42","v":0}]
[1029,{"$f":"'（別添４）エネルギー消費効率の根拠（要件ア）'!$EJ$43","v":"別添4_35_4"},{"$f":"'（別添４）エネルギー消費効率の根拠（要件ア）'!$EK$43","v":"比較指標/トップランナー基準"},{"$f":"'（別添４）エネルギー消費効率の根拠（要件ア）'!$EL$43","v":0}]
[1030,{"$f":"'（別添４）エネルギー消費効率の根拠（要件ア）'!$EJ$44","v":"別添4_35_5"},{"$f":"'（別添４）エネルギー消費効率の根拠（要件ア）'!$EK$44","v":"添付資料の根拠記載箇所"},{"$f":"'（別添４）エネルギー消費効率の根拠（要件ア）'!$EL$44","v":0}]
[1031,{"$f":"'（別添４）エネルギー消費効率の根拠（要件ア）'!$EJ$45","v":"別添4_35_6"},{"$f":"'（別添４）エネルギー消費効率の根拠（要件ア）'!$EK$45","v":"省エネ要因"},{"$f":"'（別添４）エネルギー消費効率の根拠（要件ア）'!$EL$45","v":0}]
[1032,{"$f":"'（別添４）エネルギー消費効率の根拠（要件ア）'!$EJ$46","v":"別添4_35_7"},{"$f":"'（別添４）エネルギー消費効率の根拠（要件ア）'!$EK$46","v":"導入設備_製品名"},{"$f":"'（別添４）エネルギー消費効率の根拠（要件ア）'!$EL$46","v":0}]
[1033,{"$f":"'（別添４）エネルギー消費効率の根拠（要件ア）'!$EJ$47","v":"別添4_35_8"},{"$f":"'（別添４）エネルギー消費効率の根拠（要件ア）'!$EK$47","v":"導入設備_製造メーカー"},{"$f":"'（別添４）エネルギー消費効率の根拠（要件ア）'!$EL$47","v":0}]
[1034,{"$f":"'（別添４）エネルギー消費効率の根拠（要件ア）'!$EJ$48","v":"別添4_35_9"},{"$f":"'（別添４）エネルギー消費効率の根拠（要件ア）'!$EK$48","v":"導入設備_型番"},{"$f":"'（別添４）エネルギー消費効率の根拠（要件ア）'!$EL$48","v":0}]
[{"$f":"ROW()-1","v":1035},{"$f":"'（別添４）エネルギー消費効率の根拠（要件ア）'!$EJ$49","v":"別添4_35_10"},{"$f":"'（別添４）エネルギー消費効率の根拠（要件ア）'!$EK$49","v":"導入設備_導入台数"},{"$f":"'（別添４）エネルギー消費効率の根拠（要件ア）'!$EL$49","v":"台"}]
[1036,{"$f":"'（別添４）エネルギー消費効率の根拠（要件ア）'!$EJ$50","v":"別添4_35_11"},{"$f":"'（別添４）エネルギー消費効率の根拠（要件ア）'!$EK$50","v":"導入設備_1台あたりの使用エネルギー"},{"$f":"'（別添４）エネルギー消費効率の根拠（要件ア）'!$EL$50","v":0}]
[1037,{"$f":"'（別添４）エネルギー消費効率の根拠（要件ア）'!$EJ$51","v":"別添4_35_12"},{"$f":"'（別添４）エネルギー消費効率の根拠（要件ア）'!$EK$51","v":"導入設備_年間エネルギー使用量計算式"},{"$f":"'（別添４）エネルギー消費効率の根拠（要件ア）'!$EL$51","v":0}]
[1038,{"$f":"'（別添４）エネルギー消費効率の根拠（要件ア）'!$EJ$52","v":"別添4_35_13"},{"$f":"'（別添４）エネルギー消費効率の根拠（要件ア）'!$EK$52","v":"導入設備_計算結果"},{"$f":"'（別添４）エネルギー消費効率の根拠（要件ア）'!$EL$52","v":"単位を選択してください"}]
[1039,{"$f":"'（別添４）エネルギー消費効率の根拠（要件ア）'!$EJ$53","v":"別添4_35_14"},{"$f":"'（別添４）エネルギー消費効率の根拠（要件ア）'!$EK$53","v":"一代前モデル_製品名"},{"$f":"'（別添４）エネルギー消費効率の根拠（要件ア）'!$EL$53","v":0}]
[1040,{"$f":"'（別添４）エネルギー消費効率の根拠（要件ア）'!$EJ$54","v":"別添4_35_15"},{"$f":"'（別添４）エネルギー消費効率の根拠（要件ア）'!$EK$54","v":"一代前モデル_製造メーカー"},{"$f":"'（別添４）エネルギー消費効率の根拠（要件ア）'!$EL$54","v":0}]
[1041,{"$f":"'（別添４）エネルギー消費効率の根拠（要件ア）'!$EJ$55","v":"別添4_35_16"},{"$f":"'（別添４）エネルギー消費効率の根拠（要件ア）'!$EK$55","v":"一代前モデル_型番"},{"$f":"'（別添４）エネルギー消費効率の根拠（要件ア）'!$EL$55","v":0}]
[1042,{"$f":"'（別添４）エネルギー消費効率の根拠（要件ア）'!$EJ$56","v":"別添4_35_17"},{"$f":"'（別添４）エネルギー消費効率の根拠（要件ア）'!$EK$56","v":"一代前モデル_導入台数"},{"$f":"'（別添４）エネルギー消費効率の根拠（要件ア）'!$EL$56","v":"台"}]
[1043,{"$f":"'（別添４）エネルギー消費効率の根拠（要件ア）'!$EJ$57","v":"別添4_35_18"},{"$f":"'（別添４）エネルギー消費効率の根拠（要件ア）'!$EK$57","v":"一代前モデル_1台あたりの使用エネルギー"},{"$f":"'（別添４）エネルギー消費効率の根拠（要件ア）'!$EL$57","v":0}]
[1044,{"$f":"'（別添４）エネルギー消費効率の根拠（要件ア）'!$EJ$58","v":"別添4_35_19"},{"$f":"'（別添４）エネルギー消費効率の根拠（要件ア）'!$EK$58","v":"一代前モデル_年間エネルギー使用量計算式"},{"$f":"'（別添４）エネルギー消費効率の根拠（要件ア）'!$EL$58","v":0}]
[1045,{"$f":"'（別添４）エネルギー消費効率の根拠（要件ア）'!$EJ$59","v":"別添4_35_20"},{"$f":"'（別添４）エネルギー消費効率の根拠（要件ア）'!$EK$59","v":"一代前モデル_計算結果"},{"$f":"'（別添４）エネルギー消費効率の根拠（要件ア）'!$EL$59","v":"単位を選択してください"}]
[1046,{"$f":"'（別添４）エネルギー消費効率の根拠（要件ア）'!$EJ$60","v":"別添4_35_21"},{"$f":"'（別添４）エネルギー消費効率の根拠（要件ア）'!$EK$60","v":"年間見込み省エネルギー量__計算結果"},{"$f":"'（別添４）エネルギー消費効率の根拠（要件ア）'!$EL$60","v":"0単位を選択してください"}]
[1047,{"$f":"'（別添４）エネルギー消費効率の根拠（要件ア）'!$EJ$61","v":"別添4_35_22"},{"$f":"'（別添４）エネルギー消費効率の根拠（要件ア）'!$EK$61","v":"年間見込み省エネルギー量_原油換算計算式"},{"$f":"'（別添４）エネルギー消費効率の根拠（要件ア）'!$EL$61","v":0}]
[1048,{"$f":"'（別添４）エネルギー消費効率の根拠（要件ア）'!$EJ$62","v":"別添4_35_23"},{"$f":"'（別添４）エネルギー消費効率の根拠（要件ア）'!$EK$62","v":"年間見込み省エネルギー量原油換算計算結果"},{"$f":"'（別添４）エネルギー消費効率の根拠（要件ア）'!$EL$62","v":0}]
[1049,{"$f":"'（別添４）エネルギー消費効率の根拠（要件ア）'!$EJ$63","v":"別添4_35_24"},{"$f":"'（別添４）エネルギー消費効率の根拠（要件ア）'!$EK$63","v":"年間見込み省エネルギー率_自動計算"},{"$f":"'（別添４）エネルギー消費効率の根拠（要件ア）'!$EL$63","v":""}]
[1050,{"$f":"'（別添４）エネルギー消費効率の根拠（要件ア）'!$EN$40","v":"別添4_36_1"},{"$f":"'（別添４）エネルギー消費効率の根拠（要件ア）'!$EO$40","v":"トップランナー基準"},{"$f":"'（別添４）エネルギー消費効率の根拠（要件ア）'!$EP$40","v":0}]
[1051,{"$f":"'（別添４）エネルギー消費効率の根拠（要件ア）'!$EN$41","v":"別添4_36_2"},{"$f":"'（別添４）エネルギー消費効率の根拠（要件ア）'!$EO$41","v":"トップランナー基準の区分名又は数値"},{"$f":"'（別添４）エネルギー消費効率の根拠（要件ア）'!$EP$41","v":0}]
[1052,{"$f":"'（別添４）エネルギー消費効率の根拠（要件ア）'!$EN$42","v":"別添4_36_3"},{"$f":"'（別添４）エネルギー消費効率の根拠（要件ア）'!$EO$42","v":"トップランナー基準の数値（導入設備）"},{"$f":"'（別添４）エネルギー消費効率の根拠（要件ア）'!$EP$42","v":0}]
[1053,{"$f":"'（別添４）エネルギー消費効率の根拠（要件ア）'!$EN$43","v":"別添4_36_4"},{"$f":"'（別添４）エネルギー消費効率の根拠（要件ア）'!$EO$43","v":"比較指標/トップランナー基準"},{"$f":"'（別添４）エネルギー消費効率の根拠（要件ア）'!$EP$43","v":0}]
[1054,{"$f":"'（別添４）エネルギー消費効率の根拠（要件ア）'!$EN$44","v":"別添4_36_5"},{"$f":"'（別添４）エネルギー消費効率の根拠（要件ア）'!$EO$44","v":"添付資料の根拠記載箇所"},{"$f":"'（別添４）エネルギー消費効率の根拠（要件ア）'!$EP$44","v":0}]
[1055,{"$f":"'（別添４）エネルギー消費効率の根拠（要件ア）'!$EN$45","v":"別添4_36_6"},{"$f":"'（別添４）エネルギー消費効率の根拠（要件ア）'!$EO$45","v":"省エネ要因"},{"$f":"'（別添４）エネルギー消費効率の根拠（要件ア）'!$EP$45","v":0}]
[1056,{"$f":"'（別添４）エネルギー消費効率の根拠（要件ア）'!$EN$46","v":"別添4_36_7"},{"$f":"'（別添４）エネルギー消費効率の根拠（要件ア）'!$EO$46","v":"導入設備_製品名"},{"$f":"'（別添４）エネルギー消費効率の根拠（要件ア）'!$EP$46","v":0}]
[1057,{"$f":"'（別添４）エネルギー消費効率の根拠（要件ア）'!$EN$47","v":"別添4_36_8"},{"$f":"'（別添４）エネルギー消費効率の根拠（要件ア）'!$EO$47","v":"導入設備_製造メーカー"},{"$f":"'（別添４）エネルギー消費効率の根拠（要件ア）'!$EP$47","v":0}]
[1058,{"$f":"'（別添４）エネルギー消費効率の根拠（要件ア）'!$EN$48","v":"別添4_36_9"},{"$f":"'（別添４）エネルギー消費効率の根拠（要件ア）'!$EO$48","v":"導入設備_型番"},{"$f":"'（別添４）エネルギー消費効率の根拠（要件ア）'!$EP$48","v":0}]
[1059,{"$f":"'（別添４）エネルギー消費効率の根拠（要件ア）'!$EN$49","v":"別添4_36_10"},{"$f":"'（別添４）エネルギー消費効率の根拠（要件ア）'!$EO$49","v":"導入設備_導入台数"},{"$f":"'（別添４）エネルギー消費効率の根拠（要件ア）'!$EP$49","v":"台"}]
[1060,{"$f":"'（別添４）エネルギー消費効率の根拠（要件ア）'!$EN$50","v":"別添4_36_11"},{"$f":"'（別添４）エネルギー消費効率の根拠（要件ア）'!$EO$50","v":"導入設備_1台あたりの使用エネルギー"},{"$f":"'（別添４）エネルギー消費効率の根拠（要件ア）'!$EP$50","v":0}]
[1061,{"$f":"'（別添４）エネルギー消費効率の根拠（要件ア）'!$EN$51","v":"別添4_36_12"},{"$f":"'（別添４）エネルギー消費効率の根拠（要件ア）'!$EO$51","v":"導入設備_年間エネルギー使用量計算式"},{"$f":"'（別添４）エネルギー消費効率の根拠（要件ア）'!$EP$51","v":0}]
[1062,{"$f":"'（別添４）エネルギー消費効率の根拠（要件ア）'!$EN$52","v":"別添4_36_13"},{"$f":"'（別添４）エネルギー消費効率の根拠（要件ア）'!$EO$52","v":"導入設備_計算結果"},{"$f":"'（別添４）エネルギー消費効率の根拠（要件ア）'!$EP$52","v":"単位を選択してください"}]
[1063,{"$f":"'（別添４）エネルギー消費効率の根拠（要件ア）'!$EN$53","v":"別添4_36_14"},{"$f":"'（別添４）エネルギー消費効率の根拠（要件ア）'!$EO$53","v":"一代前モデル_製品名"},{"$f":"'（別添４）エネルギー消費効率の根拠（要件ア）'!$EP$53","v":0}]
[1064,{"$f":"'（別添４）エネルギー消費効率の根拠（要件ア）'!$EN$54","v":"別添4_36_15"},{"$f":"'（別添４）エネルギー消費効率の根拠（要件ア）'!$EO$54","v":"一代前モデル_製造メーカー"},{"$f":"'（別添４）エネルギー消費効率の根拠（要件ア）'!$EP$54","v":0}]
[1065,{"$f":"'（別添４）エネルギー消費効率の根拠（要件ア）'!$EN$55","v":"別添4_36_16"},{"$f":"'（別添４）エネルギー消費効率の根拠（要件ア）'!$EO$55","v":"一代前モデル_型番"},{"$f":"'（別添４）エネルギー消費効率の根拠（要件ア）'!$EP$55","v":0}]
[1066,{"$f":"'（別添４）エネルギー消費効率の根拠（要件ア）'!$EN$56","v":"別添4_36_17"},{"$f":"'（別添４）エネルギー消費効率の根拠（要件ア）'!$EO$56","v":"一代前モデル_導入台数"},{"$f":"'（別添４）エネルギー消費効率の根拠（要件ア）'!$EP$56","v":"台"}]
[1067,{"$f":"'（別添４）エネルギー消費効率の根拠（要件ア）'!$EN$57","v":"別添4_36_18"},{"$f":"'（別添４）エネルギー消費効率の根拠（要件ア）'!$EO$57","v":"一代前モデル_1台あたりの使用エネルギー"},{"$f":"'（別添４）エネルギー消費効率の根拠（要件ア）'!$EP$57","v":0}]
[1068,{"$f":"'（別添４）エネルギー消費効率の根拠（要件ア）'!$EN$58","v":"別添4_36_19"},{"$f":"'（別添４）エネルギー消費効率の根拠（要件ア）'!$EO$58","v":"一代前モデル_年間エネルギー使用量計算式"},{"$f":"'（別添４）エネルギー消費効率の根拠（要件ア）'!$EP$58","v":0}]
[1069,{"$f":"'（別添４）エネルギー消費効率の根拠（要件ア）'!$EN$59","v":"別添4_36_20"},{"$f":"'（別添４）エネルギー消費効率の根拠（要件ア）'!$EO$59","v":"一代前モデル_計算結果"},{"$f":"'（別添４）エネルギー消費効率の根拠（要件ア）'!$EP$59","v":"単位を選択してください"}]
[1070,{"$f":"'（別添４）エネルギー消費効率の根拠（要件ア）'!$EN$60","v":"別添4_36_21"},{"$f":"'（別添４）エネルギー消費効率の根拠（要件ア）'!$EO$60","v":"年間見込み省エネルギー量__計算結果"},{"$f":"'（別添４）エネルギー消費効率の根拠（要件ア）'!$EP$60","v":"0単位を選択してください"}]
[1071,{"$f":"'（別添４）エネルギー消費効率の根拠（要件ア）'!$EN$61","v":"別添4_36_22"},{"$f":"'（別添４）エネルギー消費効率の根拠（要件ア）'!$EO$61","v":"年間見込み省エネルギー量_原油換算計算式"},{"$f":"'（別添４）エネルギー消費効率の根拠（要件ア）'!$EP$61","v":0}]
[1072,{"$f":"'（別添４）エネルギー消費効率の根拠（要件ア）'!$EN$62","v":"別添4_36_23"},{"$f":"'（別添４）エネルギー消費効率の根拠（要件ア）'!$EO$62","v":"年間見込み省エネルギー量原油換算計算結果"},{"$f":"'（別添４）エネルギー消費効率の根拠（要件ア）'!$EP$62","v":0}]
[1073,{"$f":"'（別添４）エネルギー消費効率の根拠（要件ア）'!$EN$63","v":"別添4_36_24"},{"$f":"'（別添４）エネルギー消費効率の根拠（要件ア）'!$EO$63","v":"年間見込み省エネルギー率_自動計算"},{"$f":"'（別添４）エネルギー消費効率の根拠（要件ア）'!$EP$63","v":""}]
[1074,{"$f":"'（別添４）エネルギー消費効率の根拠（要件ア）'!$ER$40","v":"別添4_37_1"},{"$f":"'（別添４）エネルギー消費効率の根拠（要件ア）'!$ES$40","v":"トップランナー基準"},{"$f":"'（別添４）エネルギー消費効率の根拠（要件ア）'!$ET$40","v":0}]
[1075,{"$f":"'（別添４）エネルギー消費効率の根拠（要件ア）'!$ER$41","v":"別添4_37_2"},{"$f":"'（別添４）エネルギー消費効率の根拠（要件ア）'!$ES$41","v":"トップランナー基準の区分名又は数値"},{"$f":"'（別添４）エネルギー消費効率の根拠（要件ア）'!$ET$41","v":0}]
[1076,{"$f":"'（別添４）エネルギー消費効率の根拠（要件ア）'!$ER$42","v":"別添4_37_3"},{"$f":"'（別添４）エネルギー消費効率の根拠（要件ア）'!$ES$42","v":"トップランナー基準の数値（導入設備）"},{"$f":"'（別添４）エネルギー消費効率の根拠（要件ア）'!$ET$42","v":0}]
[1077,{"$f":"'（別添４）エネルギー消費効率の根拠（要件ア）'!$ER$43","v":"別添4_37_4"},{"$f":"'（別添４）エネルギー消費効率の根拠（要件ア）'!$ES$43","v":"比較指標/トップランナー基準"},{"$f":"'（別添４）エネルギー消費効率の根拠（要件ア）'!$ET$43","v":0}]
[1078,{"$f":"'（別添４）エネルギー消費効率の根拠（要件ア）'!$ER$44","v":"別添4_37_5"},{"$f":"'（別添４）エネルギー消費効率の根拠（要件ア）'!$ES$44","v":"添付資料の根拠記載箇所"},{"$f":"'（別添４）エネルギー消費効率の根拠（要件ア）'!$ET$44","v":0}]
[1079,{"$f":"'（別添４）エネルギー消費効率の根拠（要件ア）'!$ER$45","v":"別添4_37_6"},{"$f":"'（別添４）エネルギー消費効率の根拠（要件ア）'!$ES$45","v":"省エネ要因"},{"$f":"'（別添４）エネルギー消費効率の根拠（要件ア）'!$ET$45","v":0}]
[1080,{"$f":"'（別添４）エネルギー消費効率の根拠（要件ア）'!$ER$46","v":"別添4_37_7"},{"$f":"'（別添４）エネルギー消費効率の根拠（要件ア）'!$ES$46","v":"導入設備_製品名"},{"$f":"'（別添４）エネルギー消費効率の根拠（要件ア）'!$ET$46","v":0}]
[1081,{"$f":"'（別添４）エネルギー消費効率の根拠（要件ア）'!$ER$47","v":"別添4_37_8"},{"$f":"'（別添４）エネルギー消費効率の根拠（要件ア）'!$ES$47","v":"導入設備_製造メーカー"},{"$f":"'（別添４）エネルギー消費効率の根拠（要件ア）'!$ET$47","v":0}]
[1082,{"$f":"'（別添４）エネルギー消費効率の根拠（要件ア）'!$ER$48","v":"別添4_37_9"},{"$f":"'（別添４）エネルギー消費効率の根拠（要件ア）'!$ES$48","v":"導入設備_型番"},{"$f":"'（別添４）エネルギー消費効率の根拠（要件ア）'!$ET$48","v":0}]
[1083,{"$f":"'（別添４）エネルギー消費効率の根拠（要件ア）'!$ER$49","v":"別添4_37_10"},{"$f":"'（別添４）エネルギー消費効率の根拠（要件ア）'!$ES$49","v":"導入設備_導入台数"},{"$f":"'（別添４）エネルギー消費効率の根拠（要件ア）'!$ET$49","v":"台"}]
[1084,{"$f":"'（別添４）エネルギー消費効率の根拠（要件ア）'!$ER$50","v":"別添4_37_11"},{"$f":"'（別添４）エネルギー消費効率の根拠（要件ア）'!$ES$50","v":"導入設備_1台あたりの使用エネルギー"},{"$f":"'（別添４）エネルギー消費効率の根拠（要件ア）'!$ET$50","v":0}]
[1085,{"$f":"'（別添４）エネルギー消費効率の根拠（要件ア）'!$ER$51","v":"別添4_37_12"},{"$f":"'（別添４）エネルギー消費効率の根拠（要件ア）'!$ES$51","v":"導入設備_年間エネルギー使用量計算式"},{"$f":"'（別添４）エネルギー消費効率の根拠（要件ア）'!$ET$51","v":0}]
[1086,{"$f":"'（別添４）エネルギー消費効率の根拠（要件ア）'!$ER$52","v":"別添4_37_13"},{"$f":"'（別添４）エネルギー消費効率の根拠（要件ア）'!$ES$52","v":"導入設備_計算結果"},{"$f":"'（別添４）エネルギー消費効率の根拠（要件ア）'!$ET$52","v":"単位を選択してください"}]
[1087,{"$f":"'（別添４）エネルギー消費効率の根拠（要件ア）'!$ER$53","v":"別添4_37_14"},{"$f":"'（別添４）エネルギー消費効率の根拠（要件ア）'!$ES$53","v":"一代前モデル_製品名"},{"$f":"'（別添４）エネルギー消費効率の根拠（要件ア）'!$ET$53","v":0}]
[1088,{"$f":"'（別添４）エネルギー消費効率の根拠（要件ア）'!$ER$54","v":"別添4_37_15"},{"$f":"'（別添４）エネルギー消費効率の根拠（要件ア）'!$ES$54","v":"一代前モデル_製造メーカー"},{"$f":"'（別添４）エネルギー消費効率の根拠（要件ア）'!$ET$54","v":0}]
[1089,{"$f":"'（別添４）エネルギー消費効率の根拠（要件ア）'!$ER$55","v":"別添4_37_16"},{"$f":"'（別添４）エネルギー消費効率の根拠（要件ア）'!$ES$55","v":"一代前モデル_型番"},{"$f":"'（別添４）エネルギー消費効率の根拠（要件ア）'!$ET$55","v":0}]
[1090,{"$f":"'（別添４）エネルギー消費効率の根拠（要件ア）'!$ER$56","v":"別添4_37_17"},{"$f":"'（別添４）エネルギー消費効率の根拠（要件ア）'!$ES$56","v":"一代前モデル_導入台数"},{"$f":"'（別添４）エネルギー消費効率の根拠（要件ア）'!$ET$56","v":"台"}]
[1091,{"$f":"'（別添４）エネルギー消費効率の根拠（要件ア）'!$ER$57","v":"別添4_37_18"},{"$f":"'（別添４）エネルギー消費効率の根拠（要件ア）'!$ES$57","v":"一代前モデル_1台あたりの使用エネルギー"},{"$f":"'（別添４）エネルギー消費効率の根拠（要件ア）'!$ET$57","v":0}]
[1092,{"$f":"'（別添４）エネルギー消費効率の根拠（要件ア）'!$ER$58","v":"別添4_37_19"},{"$f":"'（別添４）エネルギー消費効率の根拠（要件ア）'!$ES$58","v":"一代前モデル_年間エネルギー使用量計算式"},{"$f":"'（別添４）エネルギー消費効率の根拠（要件ア）'!$ET$58","v":0}]
[1093,{"$f":"'（別添４）エネルギー消費効率の根拠（要件ア）'!$ER$59","v":"別添4_37_20"},{"$f":"'（別添４）エネルギー消費効率の根拠（要件ア）'!$ES$59","v":"一代前モデル_計算結果"},{"$f":"'（別添４）エネルギー消費効率の根拠（要件ア）'!$ET$59","v":"単位を選択してください"}]
[1094,{"$f":"'（別添４）エネルギー消費効率の根拠（要件ア）'!$ER$60","v":"別添4_37_21"},{"$f":"'（別添４）エネルギー消費効率の根拠（要件ア）'!$ES$60","v":"年間見込み省エネルギー量__計算結果"},{"$f":"'（別添４）エネルギー消費効率の根拠（要件ア）'!$ET$60","v":"0単位を選択してください"}]
[1095,{"$f":"'（別添４）エネルギー消費効率の根拠（要件ア）'!$ER$61","v":"別添4_37_22"},{"$f":"'（別添４）エネルギー消費効率の根拠（要件ア）'!$ES$61","v":"年間見込み省エネルギー量_原油換算計算式"},{"$f":"'（別添４）エネルギー消費効率の根拠（要件ア）'!$ET$61","v":0}]
[1096,{"$f":"'（別添４）エネルギー消費効率の根拠（要件ア）'!$ER$62","v":"別添4_37_23"},{"$f":"'（別添４）エネルギー消費効率の根拠（要件ア）'!$ES$62","v":"年間見込み省エネルギー量原油換算計算結果"},{"$f":"'（別添４）エネルギー消費効率の根拠（要件ア）'!$ET$62","v":0}]
[1097,{"$f":"'（別添４）エネルギー消費効率の根拠（要件ア）'!$ER$63","v":"別添4_37_24"},{"$f":"'（別添４）エネルギー消費効率の根拠（要件ア）'!$ES$63","v":"年間見込み省エネルギー率_自動計算"},{"$f":"'（別添４）エネルギー消費効率の根拠（要件ア）'!$ET$63","v":""}]
[1098,{"$f":"'（別添４）エネルギー消費効率の根拠（要件ア）'!$EV$40","v":"別添4_38_1"},{"$f":"'（別添４）エネルギー消費効率の根拠（要件ア）'!$EW$40","v":"トップランナー基準"},{"$f":"'（別添４）エネルギー消費効率の根拠（要件ア）'!$EX$40","v":0}]
[{"$f":"ROW()-1","v":1099},{"$f":"'（別添４）エネルギー消費効率の根拠（要件ア）'!$EV$41","v":"別添4_38_2"},{"$f":"'（別添４）エネルギー消費効率の根拠（要件ア）'!$EW$41","v":"トップランナー基準の区分名又は数値"},{"$f":"'（別添４）エネルギー消費効率の根拠（要件ア）'!$EX$41","v":0}]
[1100,{"$f":"'（別添４）エネルギー消費効率の根拠（要件ア）'!$EV$42","v":"別添4_38_3"},{"$f":"'（別添４）エネルギー消費効率の根拠（要件ア）'!$EW$42","v":"トップランナー基準の数値（導入設備）"},{"$f":"'（別添４）エネルギー消費効率の根拠（要件ア）'!$EX$42","v":0}]
[1101,{"$f":"'（別添４）エネルギー消費効率の根拠（要件ア）'!$EV$43","v":"別添4_38_4"},{"$f":"'（別添４）エネルギー消費効率の根拠（要件ア）'!$EW$43","v":"比較指標/トップランナー基準"},{"$f":"'（別添４）エネルギー消費効率の根拠（要件ア）'!$EX$43","v":0}]
[1102,{"$f":"'（別添４）エネルギー消費効率の根拠（要件ア）'!$EV$44","v":"別添4_38_5"},{"$f":"'（別添４）エネルギー消費効率の根拠（要件ア）'!$EW$44","v":"添付資料の根拠記載箇所"},{"$f":"'（別添４）エネルギー消費効率の根拠（要件ア）'!$EX$44","v":0}]
[1103,{"$f":"'（別添４）エネルギー消費効率の根拠（要件ア）'!$EV$45","v":"別添4_38_6"},{"$f":"'（別添４）エネルギー消費効率の根拠（要件ア）'!$EW$45","v":"省エネ要因"},{"$f":"'（別添４）エネルギー消費効率の根拠（要件ア）'!$EX$45","v":0}]
[1104,{"$f":"'（別添４）エネルギー消費効率の根拠（要件ア）'!$EV$46","v":"別添4_38_7"},{"$f":"'（別添４）エネルギー消費効率の根拠（要件ア）'!$EW$46","v":"導入設備_製品名"},{"$f":"'（別添４）エネルギー消費効率の根拠（要件ア）'!$EX$46","v":0}]
[1105,{"$f":"'（別添４）エネルギー消費効率の根拠（要件ア）'!$EV$47","v":"別添4_38_8"},{"$f":"'（別添４）エネルギー消費効率の根拠（要件ア）'!$EW$47","v":"導入設備_製造メーカー"},{"$f":"'（別添４）エネルギー消費効率の根拠（要件ア）'!$EX$47","v":0}]
[1106,{"$f":"'（別添４）エネルギー消費効率の根拠（要件ア）'!$EV$48","v":"別添4_38_9"},{"$f":"'（別添４）エネルギー消費効率の根拠（要件ア）'!$EW$48","v":"導入設備_型番"},{"$f":"'（別添４）エネルギー消費効率の根拠（要件ア）'!$EX$48","v":0}]
[1107,{"$f":"'（別添４）エネルギー消費効率の根拠（要件ア）'!$EV$49","v":"別添4_38_10"},{"$f":"'（別添４）エネルギー消費効率の根拠（要件ア）'!$EW$49","v":"導入設備_導入台数"},{"$f":"'（別添４）エネルギー消費効率の根拠（要件ア）'!$EX$49","v":"台"}]
[1108,{"$f":"'（別添４）エネルギー消費効率の根拠（要件ア）'!$EV$50","v":"別添4_38_11"},{"$f":"'（別添４）エネルギー消費効率の根拠（要件ア）'!$EW$50","v":"導入設備_1台あたりの使用エネルギー"},{"$f":"'（別添４）エネルギー消費効率の根拠（要件ア）'!$EX$50","v":0}]
[1109,{"$f":"'（別添４）エネルギー消費効率の根拠（要件ア）'!$EV$51","v":"別添4_38_12"},{"$f":"'（別添４）エネルギー消費効率の根拠（要件ア）'!$EW$51","v":"導入設備_年間エネルギー使用量計算式"},{"$f":"'（別添４）エネルギー消費効率の根拠（要件ア）'!$EX$51","v":0}]
[1110,{"$f":"'（別添４）エネルギー消費効率の根拠（要件ア）'!$EV$52","v":"別添4_38_13"},{"$f":"'（別添４）エネルギー消費効率の根拠（要件ア）'!$EW$52","v":"導入設備_計算結果"},{"$f":"'（別添４）エネルギー消費効率の根拠（要件ア）'!$EX$52","v":"単位を選択してください"}]
[1111,{"$f":"'（別添４）エネルギー消費効率の根拠（要件ア）'!$EV$53","v":"別添4_38_14"},{"$f":"'（別添４）エネルギー消費効率の根拠（要件ア）'!$EW$53","v":"一代前モデル_製品名"},{"$f":"'（別添４）エネルギー消費効率の根拠（要件ア）'!$EX$53","v":0}]
[1112,{"$f":"'（別添４）エネルギー消費効率の根拠（要件ア）'!$EV$54","v":"別添4_38_15"},{"$f":"'（別添４）エネルギー消費効率の根拠（要件ア）'!$EW$54","v":"一代前モデル_製造メーカー"},{"$f":"'（別添４）エネルギー消費効率の根拠（要件ア）'!$EX$54","v":0}]
[1113,{"$f":"'（別添４）エネルギー消費効率の根拠（要件ア）'!$EV$55","v":"別添4_38_16"},{"$f":"'（別添４）エネルギー消費効率の根拠（要件ア）'!$EW$55","v":"一代前モデル_型番"},{"$f":"'（別添４）エネルギー消費効率の根拠（要件ア）'!$EX$55","v":0}]
[1114,{"$f":"'（別添４）エネルギー消費効率の根拠（要件ア）'!$EV$56","v":"別添4_38_17"},{"$f":"'（別添４）エネルギー消費効率の根拠（要件ア）'!$EW$56","v":"一代前モデル_導入台数"},{"$f":"'（別添４）エネルギー消費効率の根拠（要件ア）'!$EX$56","v":"台"}]
[1115,{"$f":"'（別添４）エネルギー消費効率の根拠（要件ア）'!$EV$57","v":"別添4_38_18"},{"$f":"'（別添４）エネルギー消費効率の根拠（要件ア）'!$EW$57","v":"一代前モデル_1台あたりの使用エネルギー"},{"$f":"'（別添４）エネルギー消費効率の根拠（要件ア）'!$EX$57","v":0}]
[1116,{"$f":"'（別添４）エネルギー消費効率の根拠（要件ア）'!$EV$58","v":"別添4_38_19"},{"$f":"'（別添４）エネルギー消費効率の根拠（要件ア）'!$EW$58","v":"一代前モデル_年間エネルギー使用量計算式"},{"$f":"'（別添４）エネルギー消費効率の根拠（要件ア）'!$EX$58","v":0}]
[1117,{"$f":"'（別添４）エネルギー消費効率の根拠（要件ア）'!$EV$59","v":"別添4_38_20"},{"$f":"'（別添４）エネルギー消費効率の根拠（要件ア）'!$EW$59","v":"一代前モデル_計算結果"},{"$f":"'（別添４）エネルギー消費効率の根拠（要件ア）'!$EX$59","v":"単位を選択してください"}]
[1118,{"$f":"'（別添４）エネルギー消費効率の根拠（要件ア）'!$EV$60","v":"別添4_38_21"},{"$f":"'（別添４）エネルギー消費効率の根拠（要件ア）'!$EW$60","v":"年間見込み省エネルギー量__計算結果"},{"$f":"'（別添４）エネルギー消費効率の根拠（要件ア）'!$EX$60","v":"0単位を選択してください"}]
[1119,{"$f":"'（別添４）エネルギー消費効率の根拠（要件ア）'!$EV$61","v":"別添4_38_22"},{"$f":"'（別添４）エネルギー消費効率の根拠（要件ア）'!$EW$61","v":"年間見込み省エネルギー量_原油換算計算式"},{"$f":"'（別添４）エネルギー消費効率の根拠（要件ア）'!$EX$61","v":0}]
[1120,{"$f":"'（別添４）エネルギー消費効率の根拠（要件ア）'!$EV$62","v":"別添4_38_23"},{"$f":"'（別添４）エネルギー消費効率の根拠（要件ア）'!$EW$62","v":"年間見込み省エネルギー量原油換算計算結果"},{"$f":"'（別添４）エネルギー消費効率の根拠（要件ア）'!$EX$62","v":0}]
[1121,{"$f":"'（別添４）エネルギー消費効率の根拠（要件ア）'!$EV$63","v":"別添4_38_24"},{"$f":"'（別添４）エネルギー消費効率の根拠（要件ア）'!$EW$63","v":"年間見込み省エネルギー率_自動計算"},{"$f":"'（別添４）エネルギー消費効率の根拠（要件ア）'!$EX$63","v":""}]
[1122,{"$f":"'（別添４）エネルギー消費効率の根拠（要件ア）'!$EZ$40","v":"別添4_39_1"},{"$f":"'（別添４）エネルギー消費効率の根拠（要件ア）'!$FA$40","v":"トップランナー基準"},{"$f":"'（別添４）エネルギー消費効率の根拠（要件ア）'!$FB$40","v":0}]
[1123,{"$f":"'（別添４）エネルギー消費効率の根拠（要件ア）'!$EZ$41","v":"別添4_39_2"},{"$f":"'（別添４）エネルギー消費効率の根拠（要件ア）'!$FA$41","v":"トップランナー基準の区分名又は数値"},{"$f":"'（別添４）エネルギー消費効率の根拠（要件ア）'!$FB$41","v":0}]
[1124,{"$f":"'（別添４）エネルギー消費効率の根拠（要件ア）'!$EZ$42","v":"別添4_39_3"},{"$f":"'（別添４）エネルギー消費効率の根拠（要件ア）'!$FA$42","v":"トップランナー基準の数値（導入設備）"},{"$f":"'（別添４）エネルギー消費効率の根拠（要件ア）'!$FB$42","v":0}]
[1125,{"$f":"'（別添４）エネルギー消費効率の根拠（要件ア）'!$EZ$43","v":"別添4_39_4"},{"$f":"'（別添４）エネルギー消費効率の根拠（要件ア）'!$FA$43","v":"比較指標/トップランナー基準"},{"$f":"'（別添４）エネルギー消費効率の根拠（要件ア）'!$FB$43","v":0}]
[1126,{"$f":"'（別添４）エネルギー消費効率の根拠（要件ア）'!$EZ$44","v":"別添4_39_5"},{"$f":"'（別添４）エネルギー消費効率の根拠（要件ア）'!$FA$44","v":"添付資料の根拠記載箇所"},{"$f":"'（別添４）エネルギー消費効率の根拠（要件ア）'!$FB$44","v":0}]
[1127,{"$f":"'（別添４）エネルギー消費効率の根拠（要件ア）'!$EZ$45","v":"別添4_39_6"},{"$f":"'（別添４）エネルギー消費効率の根拠（要件ア）'!$FA$45","v":"省エネ要因"},{"$f":"'（別添４）エネルギー消費効率の根拠（要件ア）'!$FB$45","v":0}]
[1128,{"$f":"'（別添４）エネルギー消費効率の根拠（要件ア）'!$EZ$46","v":"別添4_39_7"},{"$f":"'（別添４）エネルギー消費効率の根拠（要件ア）'!$FA$46","v":"導入設備_製品名"},{"$f":"'（別添４）エネルギー消費効率の根拠（要件ア）'!$FB$46","v":0}]
[1129,{"$f":"'（別添４）エネルギー消費効率の根拠（要件ア）'!$EZ$47","v":"別添4_39_8"},{"$f":"'（別添４）エネルギー消費効率の根拠（要件ア）'!$FA$47","v":"導入設備_製造メーカー"},{"$f":"'（別添４）エネルギー消費効率の根拠（要件ア）'!$FB$47","v":0}]
[1130,{"$f":"'（別添４）エネルギー消費効率の根拠（要件ア）'!$EZ$48","v":"別添4_39_9"},{"$f":"'（別添４）エネルギー消費効率の根拠（要件ア）'!$FA$48","v":"導入設備_型番"},{"$f":"'（別添４）エネルギー消費効率の根拠（要件ア）'!$FB$48","v":0}]
[1131,{"$f":"'（別添４）エネルギー消費効率の根拠（要件ア）'!$EZ$49","v":"別添4_39_10"},{"$f":"'（別添４）エネルギー消費効率の根拠（要件ア）'!$FA$49","v":"導入設備_導入台数"},{"$f":"'（別添４）エネルギー消費効率の根拠（要件ア）'!$FB$49","v":"台"}]
[1132,{"$f":"'（別添４）エネルギー消費効率の根拠（要件ア）'!$EZ$50","v":"別添4_39_11"},{"$f":"'（別添４）エネルギー消費効率の根拠（要件ア）'!$FA$50","v":"導入設備_1台あたりの使用エネルギー"},{"$f":"'（別添４）エネルギー消費効率の根拠（要件ア）'!$FB$50","v":0}]
[1133,{"$f":"'（別添４）エネルギー消費効率の根拠（要件ア）'!$EZ$51","v":"別添4_39_12"},{"$f":"'（別添４）エネルギー消費効率の根拠（要件ア）'!$FA$51","v":"導入設備_年間エネルギー使用量計算式"},{"$f":"'（別添４）エネルギー消費効率の根拠（要件ア）'!$FB$51","v":0}]
[1134,{"$f":"'（別添４）エネルギー消費効率の根拠（要件ア）'!$EZ$52","v":"別添4_39_13"},{"$f":"'（別添４）エネルギー消費効率の根拠（要件ア）'!$FA$52","v":"導入設備_計算結果"},{"$f":"'（別添４）エネルギー消費効率の根拠（要件ア）'!$FB$52","v":"単位を選択してください"}]
[1135,{"$f":"'（別添４）エネルギー消費効率の根拠（要件ア）'!$EZ$53","v":"別添4_39_14"},{"$f":"'（別添４）エネルギー消費効率の根拠（要件ア）'!$FA$53","v":"一代前モデル_製品名"},{"$f":"'（別添４）エネルギー消費効率の根拠（要件ア）'!$FB$53","v":0}]
[1136,{"$f":"'（別添４）エネルギー消費効率の根拠（要件ア）'!$EZ$54","v":"別添4_39_15"},{"$f":"'（別添４）エネルギー消費効率の根拠（要件ア）'!$FA$54","v":"一代前モデル_製造メーカー"},{"$f":"'（別添４）エネルギー消費効率の根拠（要件ア）'!$FB$54","v":0}]
[1137,{"$f":"'（別添４）エネルギー消費効率の根拠（要件ア）'!$EZ$55","v":"別添4_39_16"},{"$f":"'（別添４）エネルギー消費効率の根拠（要件ア）'!$FA$55","v":"一代前モデル_型番"},{"$f":"'（別添４）エネルギー消費効率の根拠（要件ア）'!$FB$55","v":0}]
[1138,{"$f":"'（別添４）エネルギー消費効率の根拠（要件ア）'!$EZ$56","v":"別添4_39_17"},{"$f":"'（別添４）エネルギー消費効率の根拠（要件ア）'!$FA$56","v":"一代前モデル_導入台数"},{"$f":"'（別添４）エネルギー消費効率の根拠（要件ア）'!$FB$56","v":"台"}]
[1139,{"$f":"'（別添４）エネルギー消費効率の根拠（要件ア）'!$EZ$57","v":"別添4_39_18"},{"$f":"'（別添４）エネルギー消費効率の根拠（要件ア）'!$FA$57","v":"一代前モデル_1台あたりの使用エネルギー"},{"$f":"'（別添４）エネルギー消費効率の根拠（要件ア）'!$FB$57","v":0}]
[1140,{"$f":"'（別添４）エネルギー消費効率の根拠（要件ア）'!$EZ$58","v":"別添4_39_19"},{"$f":"'（別添４）エネルギー消費効率の根拠（要件ア）'!$FA$58","v":"一代前モデル_年間エネルギー使用量計算式"},{"$f":"'（別添４）エネルギー消費効率の根拠（要件ア）'!$FB$58","v":0}]
[1141,{"$f":"'（別添４）エネルギー消費効率の根拠（要件ア）'!$EZ$59","v":"別添4_39_20"},{"$f":"'（別添４）エネルギー消費効率の根拠（要件ア）'!$FA$59","v":"一代前モデル_計算結果"},{"$f":"'（別添４）エネルギー消費効率の根拠（要件ア）'!$FB$59","v":"単位を選択してください"}]
[1142,{"$f":"'（別添４）エネルギー消費効率の根拠（要件ア）'!$EZ$60","v":"別添4_39_21"},{"$f":"'（別添４）エネルギー消費効率の根拠（要件ア）'!$FA$60","v":"年間見込み省エネルギー量__計算結果"},{"$f":"'（別添４）エネルギー消費効率の根拠（要件ア）'!$FB$60","v":"0単位を選択してください"}]
[1143,{"$f":"'（別添４）エネルギー消費効率の根拠（要件ア）'!$EZ$61","v":"別添4_39_22"},{"$f":"'（別添４）エネルギー消費効率の根拠（要件ア）'!$FA$61","v":"年間見込み省エネルギー量_原油換算計算式"},{"$f":"'（別添４）エネルギー消費効率の根拠（要件ア）'!$FB$61","v":0}]
[1144,{"$f":"'（別添４）エネルギー消費効率の根拠（要件ア）'!$EZ$62","v":"別添4_39_23"},{"$f":"'（別添４）エネルギー消費効率の根拠（要件ア）'!$FA$62","v":"年間見込み省エネルギー量原油換算計算結果"},{"$f":"'（別添４）エネルギー消費効率の根拠（要件ア）'!$FB$62","v":0}]
[1145,{"$f":"'（別添４）エネルギー消費効率の根拠（要件ア）'!$EZ$63","v":"別添4_39_24"},{"$f":"'（別添４）エネルギー消費効率の根拠（要件ア）'!$FA$63","v":"年間見込み省エネルギー率_自動計算"},{"$f":"'（別添４）エネルギー消費効率の根拠（要件ア）'!$FB$63","v":""}]
[1146,{"$f":"'（別添４）エネルギー消費効率の根拠（要件ア）'!$FD$40","v":"別添4_40_1"},{"$f":"'（別添４）エネルギー消費効率の根拠（要件ア）'!$FE$40","v":"トップランナー基準"},{"$f":"'（別添４）エネルギー消費効率の根拠（要件ア）'!$FF$40","v":0}]
[1147,{"$f":"'（別添４）エネルギー消費効率の根拠（要件ア）'!$FD$41","v":"別添4_40_2"},{"$f":"'（別添４）エネルギー消費効率の根拠（要件ア）'!$FE$41","v":"トップランナー基準の区分名又は数値"},{"$f":"'（別添４）エネルギー消費効率の根拠（要件ア）'!$FF$41","v":0}]
[1148,{"$f":"'（別添４）エネルギー消費効率の根拠（要件ア）'!$FD$42","v":"別添4_40_3"},{"$f":"'（別添４）エネルギー消費効率の根拠（要件ア）'!$FE$42","v":"トップランナー基準の数値（導入設備）"},{"$f":"'（別添４）エネルギー消費効率の根拠（要件ア）'!$FF$42","v":0}]
[1149,{"$f":"'（別添４）エネルギー消費効率の根拠（要件ア）'!$FD$43","v":"別添4_40_4"},{"$f":"'（別添４）エネルギー消費効率の根拠（要件ア）'!$FE$43","v":"比較指標/トップランナー基準"},{"$f":"'（別添４）エネルギー消費効率の根拠（要件ア）'!$FF$43","v":0}]
[1150,{"$f":"'（別添４）エネルギー消費効率の根拠（要件ア）'!$FD$44","v":"別添4_40_5"},{"$f":"'（別添４）エネルギー消費効率の根拠（要件ア）'!$FE$44","v":"添付資料の根拠記載箇所"},{"$f":"'（別添４）エネルギー消費効率の根拠（要件ア）'!$FF$44","v":0}]
[1151,{"$f":"'（別添４）エネルギー消費効率の根拠（要件ア）'!$FD$45","v":"別添4_40_6"},{"$f":"'（別添４）エネルギー消費効率の根拠（要件ア）'!$FE$45","v":"省エネ要因"},{"$f":"'（別添４）エネルギー消費効率の根拠（要件ア）'!$FF$45","v":0}]
[1152,{"$f":"'（別添４）エネルギー消費効率の根拠（要件ア）'!$FD$46","v":"別添4_40_7"},{"$f":"'（別添４）エネルギー消費効率の根拠（要件ア）'!$FE$46","v":"導入設備_製品名"},{"$f":"'（別添４）エネルギー消費効率の根拠（要件ア）'!$FF$46","v":0}]
[1153,{"$f":"'（別添４）エネルギー消費効率の根拠（要件ア）'!$FD$47","v":"別添4_40_8"},{"$f":"'（別添４）エネルギー消費効率の根拠（要件ア）'!$FE$47","v":"導入設備_製造メーカー"},{"$f":"'（別添４）エネルギー消費効率の根拠（要件ア）'!$FF$47","v":0}]
[1154,{"$f":"'（別添４）エネルギー消費効率の根拠（要件ア）'!$FD$48","v":"別添4_40_9"},{"$f":"'（別添４）エネルギー消費効率の根拠（要件ア）'!$FE$48","v":"導入設備_型番"},{"$f":"'（別添４）エネルギー消費効率の根拠（要件ア）'!$FF$48","v":0}]
[1155,{"$f":"'（別添４）エネルギー消費効率の根拠（要件ア）'!$FD$49","v":"別添4_40_10"},{"$f":"'（別添４）エネルギー消費効率の根拠（要件ア）'!$FE$49","v":"導入設備_導入台数"},{"$f":"'（別添４）エネルギー消費効率の根拠（要件ア）'!$FF$49","v":"台"}]
[1156,{"$f":"'（別添４）エネルギー消費効率の根拠（要件ア）'!$FD$50","v":"別添4_40_11"},{"$f":"'（別添４）エネルギー消費効率の根拠（要件ア）'!$FE$50","v":"導入設備_1台あたりの使用エネルギー"},{"$f":"'（別添４）エネルギー消費効率の根拠（要件ア）'!$FF$50","v":0}]
[1157,{"$f":"'（別添４）エネルギー消費効率の根拠（要件ア）'!$FD$51","v":"別添4_40_12"},{"$f":"'（別添４）エネルギー消費効率の根拠（要件ア）'!$FE$51","v":"導入設備_年間エネルギー使用量計算式"},{"$f":"'（別添４）エネルギー消費効率の根拠（要件ア）'!$FF$51","v":0}]
[1158,{"$f":"'（別添４）エネルギー消費効率の根拠（要件ア）'!$FD$52","v":"別添4_40_13"},{"$f":"'（別添４）エネルギー消費効率の根拠（要件ア）'!$FE$52","v":"導入設備_計算結果"},{"$f":"'（別添４）エネルギー消費効率の根拠（要件ア）'!$FF$52","v":"単位を選択してください"}]
[1159,{"$f":"'（別添４）エネルギー消費効率の根拠（要件ア）'!$FD$53","v":"別添4_40_14"},{"$f":"'（別添４）エネルギー消費効率の根拠（要件ア）'!$FE$53","v":"一代前モデル_製品名"},{"$f":"'（別添４）エネルギー消費効率の根拠（要件ア）'!$FF$53","v":0}]
[1160,{"$f":"'（別添４）エネルギー消費効率の根拠（要件ア）'!$FD$54","v":"別添4_40_15"},{"$f":"'（別添４）エネルギー消費効率の根拠（要件ア）'!$FE$54","v":"一代前モデル_製造メーカー"},{"$f":"'（別添４）エネルギー消費効率の根拠（要件ア）'!$FF$54","v":0}]
[1161,{"$f":"'（別添４）エネルギー消費効率の根拠（要件ア）'!$FD$55","v":"別添4_40_16"},{"$f":"'（別添４）エネルギー消費効率の根拠（要件ア）'!$FE$55","v":"一代前モデル_型番"},{"$f":"'（別添４）エネルギー消費効率の根拠（要件ア）'!$FF$55","v":0}]
[1162,{"$f":"'（別添４）エネルギー消費効率の根拠（要件ア）'!$FD$56","v":"別添4_40_17"},{"$f":"'（別添４）エネルギー消費効率の根拠（要件ア）'!$FE$56","v":"一代前モデル_導入台数"},{"$f":"'（別添４）エネルギー消費効率の根拠（要件ア）'!$FF$56","v":"台"}]
[{"$f":"ROW()-1","v":1163},{"$f":"'（別添４）エネルギー消費効率の根拠（要件ア）'!$FD$57","v":"別添4_40_18"},{"$f":"'（別添４）エネルギー消費効率の根拠（要件ア）'!$FE$57","v":"一代前モデル_1台あたりの使用エネルギー"},{"$f":"'（別添４）エネルギー消費効率の根拠（要件ア）'!$FF$57","v":0}]
[1164,{"$f":"'（別添４）エネルギー消費効率の根拠（要件ア）'!$FD$58","v":"別添4_40_19"},{"$f":"'（別添４）エネルギー消費効率の根拠（要件ア）'!$FE$58","v":"一代前モデル_年間エネルギー使用量計算式"},{"$f":"'（別添４）エネルギー消費効率の根拠（要件ア）'!$FF$58","v":0}]
[1165,{"$f":"'（別添４）エネルギー消費効率の根拠（要件ア）'!$FD$59","v":"別添4_40_20"},{"$f":"'（別添４）エネルギー消費効率の根拠（要件ア）'!$FE$59","v":"一代前モデル_計算結果"},{"$f":"'（別添４）エネルギー消費効率の根拠（要件ア）'!$FF$59","v":"単位を選択してください"}]
[1166,{"$f":"'（別添４）エネルギー消費効率の根拠（要件ア）'!$FD$60","v":"別添4_40_21"},{"$f":"'（別添４）エネルギー消費効率の根拠（要件ア）'!$FE$60","v":"年間見込み省エネルギー量__計算結果"},{"$f":"'（別添４）エネルギー消費効率の根拠（要件ア）'!$FF$60","v":"0単位を選択してください"}]
[1167,{"$f":"'（別添４）エネルギー消費効率の根拠（要件ア）'!$FD$61","v":"別添4_40_22"},{"$f":"'（別添４）エネルギー消費効率の根拠（要件ア）'!$FE$61","v":"年間見込み省エネルギー量_原油換算計算式"},{"$f":"'（別添４）エネルギー消費効率の根拠（要件ア）'!$FF$61","v":0}]
[1168,{"$f":"'（別添４）エネルギー消費効率の根拠（要件ア）'!$FD$62","v":"別添4_40_23"},{"$f":"'（別添４）エネルギー消費効率の根拠（要件ア）'!$FE$62","v":"年間見込み省エネルギー量原油換算計算結果"},{"$f":"'（別添４）エネルギー消費効率の根拠（要件ア）'!$FF$62","v":0}]
[1169,{"$f":"'（別添４）エネルギー消費効率の根拠（要件ア）'!$FD$63","v":"別添4_40_24"},{"$f":"'（別添４）エネルギー消費効率の根拠（要件ア）'!$FE$63","v":"年間見込み省エネルギー率_自動計算"},{"$f":"'（別添４）エネルギー消費効率の根拠（要件ア）'!$FF$63","v":""}]
[1170,{"$f":"'（別添４）エネルギー消費効率の根拠（要件ア）'!$FH$40","v":"別添4_41_1"},{"$f":"'（別添４）エネルギー消費効率の根拠（要件ア）'!$FI$40","v":"トップランナー基準"},{"$f":"'（別添４）エネルギー消費効率の根拠（要件ア）'!$FJ$40","v":0}]
[1171,{"$f":"'（別添４）エネルギー消費効率の根拠（要件ア）'!$FH$41","v":"別添4_41_2"},{"$f":"'（別添４）エネルギー消費効率の根拠（要件ア）'!$FI$41","v":"トップランナー基準の区分名又は数値"},{"$f":"'（別添４）エネルギー消費効率の根拠（要件ア）'!$FJ$41","v":0}]
[1172,{"$f":"'（別添４）エネルギー消費効率の根拠（要件ア）'!$FH$42","v":"別添4_41_3"},{"$f":"'（別添４）エネルギー消費効率の根拠（要件ア）'!$FI$42","v":"トップランナー基準の数値（導入設備）"},{"$f":"'（別添４）エネルギー消費効率の根拠（要件ア）'!$FJ$42","v":0}]
[1173,{"$f":"'（別添４）エネルギー消費効率の根拠（要件ア）'!$FH$43","v":"別添4_41_4"},{"$f":"'（別添４）エネルギー消費効率の根拠（要件ア）'!$FI$43","v":"比較指標/トップランナー基準"},{"$f":"'（別添４）エネルギー消費効率の根拠（要件ア）'!$FJ$43","v":0}]
[1174,{"$f":"'（別添４）エネルギー消費効率の根拠（要件ア）'!$FH$44","v":"別添4_41_5"},{"$f":"'（別添４）エネルギー消費効率の根拠（要件ア）'!$FI$44","v":"添付資料の根拠記載箇所"},{"$f":"'（別添４）エネルギー消費効率の根拠（要件ア）'!$FJ$44","v":0}]
[1175,{"$f":"'（別添４）エネルギー消費効率の根拠（要件ア）'!$FH$45","v":"別添4_41_6"},{"$f":"'（別添４）エネルギー消費効率の根拠（要件ア）'!$FI$45","v":"省エネ要因"},{"$f":"'（別添４）エネルギー消費効率の根拠（要件ア）'!$FJ$45","v":0}]
[1176,{"$f":"'（別添４）エネルギー消費効率の根拠（要件ア）'!$FH$46","v":"別添4_41_7"},{"$f":"'（別添４）エネルギー消費効率の根拠（要件ア）'!$FI$46","v":"導入設備_製品名"},{"$f":"'（別添４）エネルギー消費効率の根拠（要件ア）'!$FJ$46","v":0}]
[1177,{"$f":"'（別添４）エネルギー消費効率の根拠（要件ア）'!$FH$47","v":"別添4_41_8"},{"$f":"'（別添４）エネルギー消費効率の根拠（要件ア）'!$FI$47","v":"導入設備_製造メーカー"},{"$f":"'（別添４）エネルギー消費効率の根拠（要件ア）'!$FJ$47","v":0}]
[1178,{"$f":"'（別添４）エネルギー消費効率の根拠（要件ア）'!$FH$48","v":"別添4_41_9"},{"$f":"'（別添４）エネルギー消費効率の根拠（要件ア）'!$FI$48","v":"導入設備_型番"},{"$f":"'（別添４）エネルギー消費効率の根拠（要件ア）'!$FJ$48","v":0}]
[1179,{"$f":"'（別添４）エネルギー消費効率の根拠（要件ア）'!$FH$49","v":"別添4_41_10"},{"$f":"'（別添４）エネルギー消費効率の根拠（要件ア）'!$FI$49","v":"導入設備_導入台数"},{"$f":"'（別添４）エネルギー消費効率の根拠（要件ア）'!$FJ$49","v":"台"}]
[1180,{"$f":"'（別添４）エネルギー消費効率の根拠（要件ア）'!$FH$50","v":"別添4_41_11"},{"$f":"'（別添４）エネルギー消費効率の根拠（要件ア）'!$FI$50","v":"導入設備_1台あたりの使用エネルギー"},{"$f":"'（別添４）エネルギー消費効率の根拠（要件ア）'!$FJ$50","v":0}]
[1181,{"$f":"'（別添４）エネルギー消費効率の根拠（要件ア）'!$FH$51","v":"別添4_41_12"},{"$f":"'（別添４）エネルギー消費効率の根拠（要件ア）'!$FI$51","v":"導入設備_年間エネルギー使用量計算式"},{"$f":"'（別添４）エネルギー消費効率の根拠（要件ア）'!$FJ$51","v":0}]
[1182,{"$f":"'（別添４）エネルギー消費効率の根拠（要件ア）'!$FH$52","v":"別添4_41_13"},{"$f":"'（別添４）エネルギー消費効率の根拠（要件ア）'!$FI$52","v":"導入設備_計算結果"},{"$f":"'（別添４）エネルギー消費効率の根拠（要件ア）'!$FJ$52","v":"単位を選択してください"}]
[1183,{"$f":"'（別添４）エネルギー消費効率の根拠（要件ア）'!$FH$53","v":"別添4_41_14"},{"$f":"'（別添４）エネルギー消費効率の根拠（要件ア）'!$FI$53","v":"一代前モデル_製品名"},{"$f":"'（別添４）エネルギー消費効率の根拠（要件ア）'!$FJ$53","v":0}]
[1184,{"$f":"'（別添４）エネルギー消費効率の根拠（要件ア）'!$FH$54","v":"別添4_41_15"},{"$f":"'（別添４）エネルギー消費効率の根拠（要件ア）'!$FI$54","v":"一代前モデル_製造メーカー"},{"$f":"'（別添４）エネルギー消費効率の根拠（要件ア）'!$FJ$54","v":0}]
[1185,{"$f":"'（別添４）エネルギー消費効率の根拠（要件ア）'!$FH$55","v":"別添4_41_16"},{"$f":"'（別添４）エネルギー消費効率の根拠（要件ア）'!$FI$55","v":"一代前モデル_型番"},{"$f":"'（別添４）エネルギー消費効率の根拠（要件ア）'!$FJ$55","v":0}]
[1186,{"$f":"'（別添４）エネルギー消費効率の根拠（要件ア）'!$FH$56","v":"別添4_41_17"},{"$f":"'（別添４）エネルギー消費効率の根拠（要件ア）'!$FI$56","v":"一代前モデル_導入台数"},{"$f":"'（別添４）エネルギー消費効率の根拠（要件ア）'!$FJ$56","v":"台"}]
[1187,{"$f":"'（別添４）エネルギー消費効率の根拠（要件ア）'!$FH$57","v":"別添4_41_18"},{"$f":"'（別添４）エネルギー消費効率の根拠（要件ア）'!$FI$57","v":"一代前モデル_1台あたりの使用エネルギー"},{"$f":"'（別添４）エネルギー消費効率の根拠（要件ア）'!$FJ$57","v":0}]
[1188,{"$f":"'（別添４）エネルギー消費効率の根拠（要件ア）'!$FH$58","v":"別添4_41_19"},{"$f":"'（別添４）エネルギー消費効率の根拠（要件ア）'!$FI$58","v":"一代前モデル_年間エネルギー使用量計算式"},{"$f":"'（別添４）エネルギー消費効率の根拠（要件ア）'!$FJ$58","v":0}]
[1189,{"$f":"'（別添４）エネルギー消費効率の根拠（要件ア）'!$FH$59","v":"別添4_41_20"},{"$f":"'（別添４）エネルギー消費効率の根拠（要件ア）'!$FI$59","v":"一代前モデル_計算結果"},{"$f":"'（別添４）エネルギー消費効率の根拠（要件ア）'!$FJ$59","v":"単位を選択してください"}]
[1190,{"$f":"'（別添４）エネルギー消費効率の根拠（要件ア）'!$FH$60","v":"別添4_41_21"},{"$f":"'（別添４）エネルギー消費効率の根拠（要件ア）'!$FI$60","v":"年間見込み省エネルギー量__計算結果"},{"$f":"'（別添４）エネルギー消費効率の根拠（要件ア）'!$FJ$60","v":"0単位を選択してください"}]
[1191,{"$f":"'（別添４）エネルギー消費効率の根拠（要件ア）'!$FH$61","v":"別添4_41_22"},{"$f":"'（別添４）エネルギー消費効率の根拠（要件ア）'!$FI$61","v":"年間見込み省エネルギー量_原油換算計算式"},{"$f":"'（別添４）エネルギー消費効率の根拠（要件ア）'!$FJ$61","v":0}]
[1192,{"$f":"'（別添４）エネルギー消費効率の根拠（要件ア）'!$FH$62","v":"別添4_41_23"},{"$f":"'（別添４）エネルギー消費効率の根拠（要件ア）'!$FI$62","v":"年間見込み省エネルギー量原油換算計算結果"},{"$f":"'（別添４）エネルギー消費効率の根拠（要件ア）'!$FJ$62","v":0}]
[1193,{"$f":"'（別添４）エネルギー消費効率の根拠（要件ア）'!$FH$63","v":"別添4_41_24"},{"$f":"'（別添４）エネルギー消費効率の根拠（要件ア）'!$FI$63","v":"年間見込み省エネルギー率_自動計算"},{"$f":"'（別添４）エネルギー消費効率の根拠（要件ア）'!$FJ$63","v":""}]
[1194,{"$f":"'（別添４）エネルギー消費効率の根拠（要件ア）'!$FL$40","v":"別添4_42_1"},{"$f":"'（別添４）エネルギー消費効率の根拠（要件ア）'!$FM$40","v":"トップランナー基準"},{"$f":"'（別添４）エネルギー消費効率の根拠（要件ア）'!$FN$40","v":0}]
[1195,{"$f":"'（別添４）エネルギー消費効率の根拠（要件ア）'!$FL$41","v":"別添4_42_2"},{"$f":"'（別添４）エネルギー消費効率の根拠（要件ア）'!$FM$41","v":"トップランナー基準の区分名又は数値"},{"$f":"'（別添４）エネルギー消費効率の根拠（要件ア）'!$FN$41","v":0}]
[1196,{"$f":"'（別添４）エネルギー消費効率の根拠（要件ア）'!$FL$42","v":"別添4_42_3"},{"$f":"'（別添４）エネルギー消費効率の根拠（要件ア）'!$FM$42","v":"トップランナー基準の数値（導入設備）"},{"$f":"'（別添４）エネルギー消費効率の根拠（要件ア）'!$FN$42","v":0}]
[1197,{"$f":"'（別添４）エネルギー消費効率の根拠（要件ア）'!$FL$43","v":"別添4_42_4"},{"$f":"'（別添４）エネルギー消費効率の根拠（要件ア）'!$FM$43","v":"比較指標/トップランナー基準"},{"$f":"'（別添４）エネルギー消費効率の根拠（要件ア）'!$FN$43","v":0}]
[1198,{"$f":"'（別添４）エネルギー消費効率の根拠（要件ア）'!$FL$44","v":"別添4_42_5"},{"$f":"'（別添４）エネルギー消費効率の根拠（要件ア）'!$FM$44","v":"添付資料の根拠記載箇所"},{"$f":"'（別添４）エネルギー消費効率の根拠（要件ア）'!$FN$44","v":0}]
[1199,{"$f":"'（別添４）エネルギー消費効率の根拠（要件ア）'!$FL$45","v":"別添4_42_6"},{"$f":"'（別添４）エネルギー消費効率の根拠（要件ア）'!$FM$45","v":"省エネ要因"},{"$f":"'（別添４）エネルギー消費効率の根拠（要件ア）'!$FN$45","v":0}]
[1200,{"$f":"'（別添４）エネルギー消費効率の根拠（要件ア）'!$FL$46","v":"別添4_42_7"},{"$f":"'（別添４）エネルギー消費効率の根拠（要件ア）'!$FM$46","v":"導入設備_製品名"},{"$f":"'（別添４）エネルギー消費効率の根拠（要件ア）'!$FN$46","v":0}]
[1201,{"$f":"'（別添４）エネルギー消費効率の根拠（要件ア）'!$FL$47","v":"別添4_42_8"},{"$f":"'（別添４）エネルギー消費効率の根拠（要件ア）'!$FM$47","v":"導入設備_製造メーカー"},{"$f":"'（別添４）エネルギー消費効率の根拠（要件ア）'!$FN$47","v":0}]
[1202,{"$f":"'（別添４）エネルギー消費効率の根拠（要件ア）'!$FL$48","v":"別添4_42_9"},{"$f":"'（別添４）エネルギー消費効率の根拠（要件ア）'!$FM$48","v":"導入設備_型番"},{"$f":"'（別添４）エネルギー消費効率の根拠（要件ア）'!$FN$48","v":0}]
[1203,{"$f":"'（別添４）エネルギー消費効率の根拠（要件ア）'!$FL$49","v":"別添4_42_10"},{"$f":"'（別添４）エネルギー消費効率の根拠（要件ア）'!$FM$49","v":"導入設備_導入台数"},{"$f":"'（別添４）エネルギー消費効率の根拠（要件ア）'!$FN$49","v":"台"}]
[1204,{"$f":"'（別添４）エネルギー消費効率の根拠（要件ア）'!$FL$50","v":"別添4_42_11"},{"$f":"'（別添４）エネルギー消費効率の根拠（要件ア）'!$FM$50","v":"導入設備_1台あたりの使用エネルギー"},{"$f":"'（別添４）エネルギー消費効率の根拠（要件ア）'!$FN$50","v":0}]
[1205,{"$f":"'（別添４）エネルギー消費効率の根拠（要件ア）'!$FL$51","v":"別添4_42_12"},{"$f":"'（別添４）エネルギー消費効率の根拠（要件ア）'!$FM$51","v":"導入設備_年間エネルギー使用量計算式"},{"$f":"'（別添４）エネルギー消費効率の根拠（要件ア）'!$FN$51","v":0}]
[1206,{"$f":"'（別添４）エネルギー消費効率の根拠（要件ア）'!$FL$52","v":"別添4_42_13"},{"$f":"'（別添４）エネルギー消費効率の根拠（要件ア）'!$FM$52","v":"導入設備_計算結果"},{"$f":"'（別添４）エネルギー消費効率の根拠（要件ア）'!$FN$52","v":"単位を選択してください"}]
[1207,{"$f":"'（別添４）エネルギー消費効率の根拠（要件ア）'!$FL$53","v":"別添4_42_14"},{"$f":"'（別添４）エネルギー消費効率の根拠（要件ア）'!$FM$53","v":"一代前モデル_製品名"},{"$f":"'（別添４）エネルギー消費効率の根拠（要件ア）'!$FN$53","v":0}]
[1208,{"$f":"'（別添４）エネルギー消費効率の根拠（要件ア）'!$FL$54","v":"別添4_42_15"},{"$f":"'（別添４）エネルギー消費効率の根拠（要件ア）'!$FM$54","v":"一代前モデル_製造メーカー"},{"$f":"'（別添４）エネルギー消費効率の根拠（要件ア）'!$FN$54","v":0}]
[1209,{"$f":"'（別添４）エネルギー消費効率の根拠（要件ア）'!$FL$55","v":"別添4_42_16"},{"$f":"'（別添４）エネルギー消費効率の根拠（要件ア）'!$FM$55","v":"一代前モデル_型番"},{"$f":"'（別添４）エネルギー消費効率の根拠（要件ア）'!$FN$55","v":0}]
[1210,{"$f":"'（別添４）エネルギー消費効率の根拠（要件ア）'!$FL$56","v":"別添4_42_17"},{"$f":"'（別添４）エネルギー消費効率の根拠（要件ア）'!$FM$56","v":"一代前モデル_導入台数"},{"$f":"'（別添４）エネルギー消費効率の根拠（要件ア）'!$FN$56","v":"台"}]
[1211,{"$f":"'（別添４）エネルギー消費効率の根拠（要件ア）'!$FL$57","v":"別添4_42_18"},{"$f":"'（別添４）エネルギー消費効率の根拠（要件ア）'!$FM$57","v":"一代前モデル_1台あたりの使用エネルギー"},{"$f":"'（別添４）エネルギー消費効率の根拠（要件ア）'!$FN$57","v":0}]
[1212,{"$f":"'（別添４）エネルギー消費効率の根拠（要件ア）'!$FL$58","v":"別添4_42_19"},{"$f":"'（別添４）エネルギー消費効率の根拠（要件ア）'!$FM$58","v":"一代前モデル_年間エネルギー使用量計算式"},{"$f":"'（別添４）エネルギー消費効率の根拠（要件ア）'!$FN$58","v":0}]
[1213,{"$f":"'（別添４）エネルギー消費効率の根拠（要件ア）'!$FL$59","v":"別添4_42_20"},{"$f":"'（別添４）エネルギー消費効率の根拠（要件ア）'!$FM$59","v":"一代前モデル_計算結果"},{"$f":"'（別添４）エネルギー消費効率の根拠（要件ア）'!$FN$59","v":"単位を選択してください"}]
[1214,{"$f":"'（別添４）エネルギー消費効率の根拠（要件ア）'!$FL$60","v":"別添4_42_21"},{"$f":"'（別添４）エネルギー消費効率の根拠（要件ア）'!$FM$60","v":"年間見込み省エネルギー量__計算結果"},{"$f":"'（別添４）エネルギー消費効率の根拠（要件ア）'!$FN$60","v":"0単位を選択してください"}]
[1215,{"$f":"'（別添４）エネルギー消費効率の根拠（要件ア）'!$FL$61","v":"別添4_42_22"},{"$f":"'（別添４）エネルギー消費効率の根拠（要件ア）'!$FM$61","v":"年間見込み省エネルギー量_原油換算計算式"},{"$f":"'（別添４）エネルギー消費効率の根拠（要件ア）'!$FN$61","v":0}]
[1216,{"$f":"'（別添４）エネルギー消費効率の根拠（要件ア）'!$FL$62","v":"別添4_42_23"},{"$f":"'（別添４）エネルギー消費効率の根拠（要件ア）'!$FM$62","v":"年間見込み省エネルギー量原油換算計算結果"},{"$f":"'（別添４）エネルギー消費効率の根拠（要件ア）'!$FN$62","v":0}]
[1217,{"$f":"'（別添４）エネルギー消費効率の根拠（要件ア）'!$FL$63","v":"別添4_42_24"},{"$f":"'（別添４）エネルギー消費効率の根拠（要件ア）'!$FM$63","v":"年間見込み省エネルギー率_自動計算"},{"$f":"'（別添４）エネルギー消費効率の根拠（要件ア）'!$FN$63","v":""}]
[1218,{"$f":"'（別添４）エネルギー消費効率の根拠（要件ア）'!$FP$40","v":"別添4_43_1"},{"$f":"'（別添４）エネルギー消費効率の根拠（要件ア）'!$FQ$40","v":"トップランナー基準"},{"$f":"'（別添４）エネルギー消費効率の根拠（要件ア）'!$FR$40","v":0}]
[1219,{"$f":"'（別添４）エネルギー消費効率の根拠（要件ア）'!$FP$41","v":"別添4_43_2"},{"$f":"'（別添４）エネルギー消費効率の根拠（要件ア）'!$FQ$41","v":"トップランナー基準の区分名又は数値"},{"$f":"'（別添４）エネルギー消費効率の根拠（要件ア）'!$FR$41","v":0}]
[1220,{"$f":"'（別添４）エネルギー消費効率の根拠（要件ア）'!$FP$42","v":"別添4_43_3"},{"$f":"'（別添４）エネルギー消費効率の根拠（要件ア）'!$FQ$42","v":"トップランナー基準の数値（導入設備）"},{"$f":"'（別添４）エネルギー消費効率の根拠（要件ア）'!$FR$42","v":0}]
[1221,{"$f":"'（別添４）エネルギー消費効率の根拠（要件ア）'!$FP$43","v":"別添4_43_4"},{"$f":"'（別添４）エネルギー消費効率の根拠（要件ア）'!$FQ$43","v":"比較指標/トップランナー基準"},{"$f":"'（別添４）エネルギー消費効率の根拠（要件ア）'!$FR$43","v":0}]
[1222,{"$f":"'（別添４）エネルギー消費効率の根拠（要件ア）'!$FP$44","v":"別添4_43_5"},{"$f":"'（別添４）エネルギー消費効率の根拠（要件ア）'!$FQ$44","v":"添付資料の根拠記載箇所"},{"$f":"'（別添４）エネルギー消費効率の根拠（要件ア）'!$FR$44","v":0}]
[1223,{"$f":"'（別添４）エネルギー消費効率の根拠（要件ア）'!$FP$45","v":"別添4_43_6"},{"$f":"'（別添４）エネルギー消費効率の根拠（要件ア）'!$FQ$45","v":"省エネ要因"},{"$f":"'（別添４）エネルギー消費効率の根拠（要件ア）'!$FR$45","v":0}]
[1224,{"$f":"'（別添４）エネルギー消費効率の根拠（要件ア）'!$FP$46","v":"別添4_43_7"},{"$f":"'（別添４）エネルギー消費効率の根拠（要件ア）'!$FQ$46","v":"導入設備_製品名"},{"$f":"'（別添４）エネルギー消費効率の根拠（要件ア）'!$FR$46","v":0}]
[1225,{"$f":"'（別添４）エネルギー消費効率の根拠（要件ア）'!$FP$47","v":"別添4_43_8"},{"$f":"'（別添４）エネルギー消費効率の根拠（要件ア）'!$FQ$47","v":"導入設備_製造メーカー"},{"$f":"'（別添４）エネルギー消費効率の根拠（要件ア）'!$FR$47","v":0}]
[1226,{"$f":"'（別添４）エネルギー消費効率の根拠（要件ア）'!$FP$48","v":"別添4_43_9"},{"$f":"'（別添４）エネルギー消費効率の根拠（要件ア）'!$FQ$48","v":"導入設備_型番"},{"$f":"'（別添４）エネルギー消費効率の根拠（要件ア）'!$FR$48","v":0}]
[{"$f":"ROW()-1","v":1227},{"$f":"'（別添４）エネルギー消費効率の根拠（要件ア）'!$FP$49","v":"別添4_43_10"},{"$f":"'（別添４）エネルギー消費効率の根拠（要件ア）'!$FQ$49","v":"導入設備_導入台数"},{"$f":"'（別添４）エネルギー消費効率の根拠（要件ア）'!$FR$49","v":"台"}]
[1228,{"$f":"'（別添４）エネルギー消費効率の根拠（要件ア）'!$FP$50","v":"別添4_43_11"},{"$f":"'（別添４）エネルギー消費効率の根拠（要件ア）'!$FQ$50","v":"導入設備_1台あたりの使用エネルギー"},{"$f":"'（別添４）エネルギー消費効率の根拠（要件ア）'!$FR$50","v":0}]
[1229,{"$f":"'（別添４）エネルギー消費効率の根拠（要件ア）'!$FP$51","v":"別添4_43_12"},{"$f":"'（別添４）エネルギー消費効率の根拠（要件ア）'!$FQ$51","v":"導入設備_年間エネルギー使用量計算式"},{"$f":"'（別添４）エネルギー消費効率の根拠（要件ア）'!$FR$51","v":0}]
[1230,{"$f":"'（別添４）エネルギー消費効率の根拠（要件ア）'!$FP$52","v":"別添4_43_13"},{"$f":"'（別添４）エネルギー消費効率の根拠（要件ア）'!$FQ$52","v":"導入設備_計算結果"},{"$f":"'（別添４）エネルギー消費効率の根拠（要件ア）'!$FR$52","v":"単位を選択してください"}]
[1231,{"$f":"'（別添４）エネルギー消費効率の根拠（要件ア）'!$FP$53","v":"別添4_43_14"},{"$f":"'（別添４）エネルギー消費効率の根拠（要件ア）'!$FQ$53","v":"一代前モデル_製品名"},{"$f":"'（別添４）エネルギー消費効率の根拠（要件ア）'!$FR$53","v":0}]
[1232,{"$f":"'（別添４）エネルギー消費効率の根拠（要件ア）'!$FP$54","v":"別添4_43_15"},{"$f":"'（別添４）エネルギー消費効率の根拠（要件ア）'!$FQ$54","v":"一代前モデル_製造メーカー"},{"$f":"'（別添４）エネルギー消費効率の根拠（要件ア）'!$FR$54","v":0}]
[1233,{"$f":"'（別添４）エネルギー消費効率の根拠（要件ア）'!$FP$55","v":"別添4_43_16"},{"$f":"'（別添４）エネルギー消費効率の根拠（要件ア）'!$FQ$55","v":"一代前モデル_型番"},{"$f":"'（別添４）エネルギー消費効率の根拠（要件ア）'!$FR$55","v":0}]
[1234,{"$f":"'（別添４）エネルギー消費効率の根拠（要件ア）'!$FP$56","v":"別添4_43_17"},{"$f":"'（別添４）エネルギー消費効率の根拠（要件ア）'!$FQ$56","v":"一代前モデル_導入台数"},{"$f":"'（別添４）エネルギー消費効率の根拠（要件ア）'!$FR$56","v":"台"}]
[1235,{"$f":"'（別添４）エネルギー消費効率の根拠（要件ア）'!$FP$57","v":"別添4_43_18"},{"$f":"'（別添４）エネルギー消費効率の根拠（要件ア）'!$FQ$57","v":"一代前モデル_1台あたりの使用エネルギー"},{"$f":"'（別添４）エネルギー消費効率の根拠（要件ア）'!$FR$57","v":0}]
[1236,{"$f":"'（別添４）エネルギー消費効率の根拠（要件ア）'!$FP$58","v":"別添4_43_19"},{"$f":"'（別添４）エネルギー消費効率の根拠（要件ア）'!$FQ$58","v":"一代前モデル_年間エネルギー使用量計算式"},{"$f":"'（別添４）エネルギー消費効率の根拠（要件ア）'!$FR$58","v":0}]
[1237,{"$f":"'（別添４）エネルギー消費効率の根拠（要件ア）'!$FP$59","v":"別添4_43_20"},{"$f":"'（別添４）エネルギー消費効率の根拠（要件ア）'!$FQ$59","v":"一代前モデル_計算結果"},{"$f":"'（別添４）エネルギー消費効率の根拠（要件ア）'!$FR$59","v":"単位を選択してください"}]
[1238,{"$f":"'（別添４）エネルギー消費効率の根拠（要件ア）'!$FP$60","v":"別添4_43_21"},{"$f":"'（別添４）エネルギー消費効率の根拠（要件ア）'!$FQ$60","v":"年間見込み省エネルギー量__計算結果"},{"$f":"'（別添４）エネルギー消費効率の根拠（要件ア）'!$FR$60","v":"0単位を選択してください"}]
[1239,{"$f":"'（別添４）エネルギー消費効率の根拠（要件ア）'!$FP$61","v":"別添4_43_22"},{"$f":"'（別添４）エネルギー消費効率の根拠（要件ア）'!$FQ$61","v":"年間見込み省エネルギー量_原油換算計算式"},{"$f":"'（別添４）エネルギー消費効率の根拠（要件ア）'!$FR$61","v":0}]
[1240,{"$f":"'（別添４）エネルギー消費効率の根拠（要件ア）'!$FP$62","v":"別添4_43_23"},{"$f":"'（別添４）エネルギー消費効率の根拠（要件ア）'!$FQ$62","v":"年間見込み省エネルギー量原油換算計算結果"},{"$f":"'（別添４）エネルギー消費効率の根拠（要件ア）'!$FR$62","v":0}]
[1241,{"$f":"'（別添４）エネルギー消費効率の根拠（要件ア）'!$FP$63","v":"別添4_43_24"},{"$f":"'（別添４）エネルギー消費効率の根拠（要件ア）'!$FQ$63","v":"年間見込み省エネルギー率_自動計算"},{"$f":"'（別添４）エネルギー消費効率の根拠（要件ア）'!$FR$63","v":""}]
[1242,{"$f":"'（別添４）エネルギー消費効率の根拠（要件ア）'!$FT$40","v":"別添4_44_1"},{"$f":"'（別添４）エネルギー消費効率の根拠（要件ア）'!$FU$40","v":"トップランナー基準"},{"$f":"'（別添４）エネルギー消費効率の根拠（要件ア）'!$FV$40","v":0}]
[1243,{"$f":"'（別添４）エネルギー消費効率の根拠（要件ア）'!$FT$41","v":"別添4_44_2"},{"$f":"'（別添４）エネルギー消費効率の根拠（要件ア）'!$FU$41","v":"トップランナー基準の区分名又は数値"},{"$f":"'（別添４）エネルギー消費効率の根拠（要件ア）'!$FV$41","v":0}]
[1244,{"$f":"'（別添４）エネルギー消費効率の根拠（要件ア）'!$FT$42","v":"別添4_44_3"},{"$f":"'（別添４）エネルギー消費効率の根拠（要件ア）'!$FU$42","v":"トップランナー基準の数値（導入設備）"},{"$f":"'（別添４）エネルギー消費効率の根拠（要件ア）'!$FV$42","v":0}]
[1245,{"$f":"'（別添４）エネルギー消費効率の根拠（要件ア）'!$FT$43","v":"別添4_44_4"},{"$f":"'（別添４）エネルギー消費効率の根拠（要件ア）'!$FU$43","v":"比較指標/トップランナー基準"},{"$f":"'（別添４）エネルギー消費効率の根拠（要件ア）'!$FV$43","v":0}]
[1246,{"$f":"'（別添４）エネルギー消費効率の根拠（要件ア）'!$FT$44","v":"別添4_44_5"},{"$f":"'（別添４）エネルギー消費効率の根拠（要件ア）'!$FU$44","v":"添付資料の根拠記載箇所"},{"$f":"'（別添４）エネルギー消費効率の根拠（要件ア）'!$FV$44","v":0}]
[1247,{"$f":"'（別添４）エネルギー消費効率の根拠（要件ア）'!$FT$45","v":"別添4_44_6"},{"$f":"'（別添４）エネルギー消費効率の根拠（要件ア）'!$FU$45","v":"省エネ要因"},{"$f":"'（別添４）エネルギー消費効率の根拠（要件ア）'!$FV$45","v":0}]
[1248,{"$f":"'（別添４）エネルギー消費効率の根拠（要件ア）'!$FT$46","v":"別添4_44_7"},{"$f":"'（別添４）エネルギー消費効率の根拠（要件ア）'!$FU$46","v":"導入設備_製品名"},{"$f":"'（別添４）エネルギー消費効率の根拠（要件ア）'!$FV$46","v":0}]
[1249,{"$f":"'（別添４）エネルギー消費効率の根拠（要件ア）'!$FT$47","v":"別添4_44_8"},{"$f":"'（別添４）エネルギー消費効率の根拠（要件ア）'!$FU$47","v":"導入設備_製造メーカー"},{"$f":"'（別添４）エネルギー消費効率の根拠（要件ア）'!$FV$47","v":0}]
[1250,{"$f":"'（別添４）エネルギー消費効率の根拠（要件ア）'!$FT$48","v":"別添4_44_9"},{"$f":"'（別添４）エネルギー消費効率の根拠（要件ア）'!$FU$48","v":"導入設備_型番"},{"$f":"'（別添４）エネルギー消費効率の根拠（要件ア）'!$FV$48","v":0}]
[1251,{"$f":"'（別添４）エネルギー消費効率の根拠（要件ア）'!$FT$49","v":"別添4_44_10"},{"$f":"'（別添４）エネルギー消費効率の根拠（要件ア）'!$FU$49","v":"導入設備_導入台数"},{"$f":"'（別添４）エネルギー消費効率の根拠（要件ア）'!$FV$49","v":"台"}]
[1252,{"$f":"'（別添４）エネルギー消費効率の根拠（要件ア）'!$FT$50","v":"別添4_44_11"},{"$f":"'（別添４）エネルギー消費効率の根拠（要件ア）'!$FU$50","v":"導入設備_1台あたりの使用エネルギー"},{"$f":"'（別添４）エネルギー消費効率の根拠（要件ア）'!$FV$50","v":0}]
[1253,{"$f":"'（別添４）エネルギー消費効率の根拠（要件ア）'!$FT$51","v":"別添4_44_12"},{"$f":"'（別添４）エネルギー消費効率の根拠（要件ア）'!$FU$51","v":"導入設備_年間エネルギー使用量計算式"},{"$f":"'（別添４）エネルギー消費効率の根拠（要件ア）'!$FV$51","v":0}]
[1254,{"$f":"'（別添４）エネルギー消費効率の根拠（要件ア）'!$FT$52","v":"別添4_44_13"},{"$f":"'（別添４）エネルギー消費効率の根拠（要件ア）'!$FU$52","v":"導入設備_計算結果"},{"$f":"'（別添４）エネルギー消費効率の根拠（要件ア）'!$FV$52","v":"単位を選択してください"}]
[1255,{"$f":"'（別添４）エネルギー消費効率の根拠（要件ア）'!$FT$53","v":"別添4_44_14"},{"$f":"'（別添４）エネルギー消費効率の根拠（要件ア）'!$FU$53","v":"一代前モデル_製品名"},{"$f":"'（別添４）エネルギー消費効率の根拠（要件ア）'!$FV$53","v":0}]
[1256,{"$f":"'（別添４）エネルギー消費効率の根拠（要件ア）'!$FT$54","v":"別添4_44_15"},{"$f":"'（別添４）エネルギー消費効率の根拠（要件ア）'!$FU$54","v":"一代前モデル_製造メーカー"},{"$f":"'（別添４）エネルギー消費効率の根拠（要件ア）'!$FV$54","v":0}]
[1257,{"$f":"'（別添４）エネルギー消費効率の根拠（要件ア）'!$FT$55","v":"別添4_44_16"},{"$f":"'（別添４）エネルギー消費効率の根拠（要件ア）'!$FU$55","v":"一代前モデル_型番"},{"$f":"'（別添４）エネルギー消費効率の根拠（要件ア）'!$FV$55","v":0}]
[1258,{"$f":"'（別添４）エネルギー消費効率の根拠（要件ア）'!$FT$56","v":"別添4_44_17"},{"$f":"'（別添４）エネルギー消費効率の根拠（要件ア）'!$FU$56","v":"一代前モデル_導入台数"},{"$f":"'（別添４）エネルギー消費効率の根拠（要件ア）'!$FV$56","v":"台"}]
[1259,{"$f":"'（別添４）エネルギー消費効率の根拠（要件ア）'!$FT$57","v":"別添4_44_18"},{"$f":"'（別添４）エネルギー消費効率の根拠（要件ア）'!$FU$57","v":"一代前モデル_1台あたりの使用エネルギー"},{"$f":"'（別添４）エネルギー消費効率の根拠（要件ア）'!$FV$57","v":0}]
[1260,{"$f":"'（別添４）エネルギー消費効率の根拠（要件ア）'!$FT$58","v":"別添4_44_19"},{"$f":"'（別添４）エネルギー消費効率の根拠（要件ア）'!$FU$58","v":"一代前モデル_年間エネルギー使用量計算式"},{"$f":"'（別添４）エネルギー消費効率の根拠（要件ア）'!$FV$58","v":0}]
[1261,{"$f":"'（別添４）エネルギー消費効率の根拠（要件ア）'!$FT$59","v":"別添4_44_20"},{"$f":"'（別添４）エネルギー消費効率の根拠（要件ア）'!$FU$59","v":"一代前モデル_計算結果"},{"$f":"'（別添４）エネルギー消費効率の根拠（要件ア）'!$FV$59","v":"単位を選択してください"}]
[1262,{"$f":"'（別添４）エネルギー消費効率の根拠（要件ア）'!$FT$60","v":"別添4_44_21"},{"$f":"'（別添４）エネルギー消費効率の根拠（要件ア）'!$FU$60","v":"年間見込み省エネルギー量__計算結果"},{"$f":"'（別添４）エネルギー消費効率の根拠（要件ア）'!$FV$60","v":"0単位を選択してください"}]
[1263,{"$f":"'（別添４）エネルギー消費効率の根拠（要件ア）'!$FT$61","v":"別添4_44_22"},{"$f":"'（別添４）エネルギー消費効率の根拠（要件ア）'!$FU$61","v":"年間見込み省エネルギー量_原油換算計算式"},{"$f":"'（別添４）エネルギー消費効率の根拠（要件ア）'!$FV$61","v":0}]
[1264,{"$f":"'（別添４）エネルギー消費効率の根拠（要件ア）'!$FT$62","v":"別添4_44_23"},{"$f":"'（別添４）エネルギー消費効率の根拠（要件ア）'!$FU$62","v":"年間見込み省エネルギー量原油換算計算結果"},{"$f":"'（別添４）エネルギー消費効率の根拠（要件ア）'!$FV$62","v":0}]
[1265,{"$f":"'（別添４）エネルギー消費効率の根拠（要件ア）'!$FT$63","v":"別添4_44_24"},{"$f":"'（別添４）エネルギー消費効率の根拠（要件ア）'!$FU$63","v":"年間見込み省エネルギー率_自動計算"},{"$f":"'（別添４）エネルギー消費効率の根拠（要件ア）'!$FV$63","v":""}]
[1266,{"$f":"'（別添４）エネルギー消費効率の根拠（要件ア）'!$FX$40","v":"別添4_45_1"},{"$f":"'（別添４）エネルギー消費効率の根拠（要件ア）'!$FY$40","v":"トップランナー基準"},{"$f":"'（別添４）エネルギー消費効率の根拠（要件ア）'!$FZ$40","v":0}]
[1267,{"$f":"'（別添４）エネルギー消費効率の根拠（要件ア）'!$FX$41","v":"別添4_45_2"},{"$f":"'（別添４）エネルギー消費効率の根拠（要件ア）'!$FY$41","v":"トップランナー基準の区分名又は数値"},{"$f":"'（別添４）エネルギー消費効率の根拠（要件ア）'!$FZ$41","v":0}]
[1268,{"$f":"'（別添４）エネルギー消費効率の根拠（要件ア）'!$FX$42","v":"別添4_45_3"},{"$f":"'（別添４）エネルギー消費効率の根拠（要件ア）'!$FY$42","v":"トップランナー基準の数値（導入設備）"},{"$f":"'（別添４）エネルギー消費効率の根拠（要件ア）'!$FZ$42","v":0}]
[1269,{"$f":"'（別添４）エネルギー消費効率の根拠（要件ア）'!$FX$43","v":"別添4_45_4"},{"$f":"'（別添４）エネルギー消費効率の根拠（要件ア）'!$FY$43","v":"比較指標/トップランナー基準"},{"$f":"'（別添４）エネルギー消費効率の根拠（要件ア）'!$FZ$43","v":0}]
[1270,{"$f":"'（別添４）エネルギー消費効率の根拠（要件ア）'!$FX$44","v":"別添4_45_5"},{"$f":"'（別添４）エネルギー消費効率の根拠（要件ア）'!$FY$44","v":"添付資料の根拠記載箇所"},{"$f":"'（別添４）エネルギー消費効率の根拠（要件ア）'!$FZ$44","v":0}]
[1271,{"$f":"'（別添４）エネルギー消費効率の根拠（要件ア）'!$FX$45","v":"別添4_45_6"},{"$f":"'（別添４）エネルギー消費効率の根拠（要件ア）'!$FY$45","v":"省エネ要因"},{"$f":"'（別添４）エネルギー消費効率の根拠（要件ア）'!$FZ$45","v":0}]
[1272,{"$f":"'（別添４）エネルギー消費効率の根拠（要件ア）'!$FX$46","v":"別添4_45_7"},{"$f":"'（別添４）エネルギー消費効率の根拠（要件ア）'!$FY$46","v":"導入設備_製品名"},{"$f":"'（別添４）エネルギー消費効率の根拠（要件ア）'!$FZ$46","v":0}]
[1273,{"$f":"'（別添４）エネルギー消費効率の根拠（要件ア）'!$FX$47","v":"別添4_45_8"},{"$f":"'（別添４）エネルギー消費効率の根拠（要件ア）'!$FY$47","v":"導入設備_製造メーカー"},{"$f":"'（別添４）エネルギー消費効率の根拠（要件ア）'!$FZ$47","v":0}]
[1274,{"$f":"'（別添４）エネルギー消費効率の根拠（要件ア）'!$FX$48","v":"別添4_45_9"},{"$f":"'（別添４）エネルギー消費効率の根拠（要件ア）'!$FY$48","v":"導入設備_型番"},{"$f":"'（別添４）エネルギー消費効率の根拠（要件ア）'!$FZ$48","v":0}]
[1275,{"$f":"'（別添４）エネルギー消費効率の根拠（要件ア）'!$FX$49","v":"別添4_45_10"},{"$f":"'（別添４）エネルギー消費効率の根拠（要件ア）'!$FY$49","v":"導入設備_導入台数"},{"$f":"'（別添４）エネルギー消費効率の根拠（要件ア）'!$FZ$49","v":"台"}]
[1276,{"$f":"'（別添４）エネルギー消費効率の根拠（要件ア）'!$FX$50","v":"別添4_45_11"},{"$f":"'（別添４）エネルギー消費効率の根拠（要件ア）'!$FY$50","v":"導入設備_1台あたりの使用エネルギー"},{"$f":"'（別添４）エネルギー消費効率の根拠（要件ア）'!$FZ$50","v":0}]
[1277,{"$f":"'（別添４）エネルギー消費効率の根拠（要件ア）'!$FX$51","v":"別添4_45_12"},{"$f":"'（別添４）エネルギー消費効率の根拠（要件ア）'!$FY$51","v":"導入設備_年間エネルギー使用量計算式"},{"$f":"'（別添４）エネルギー消費効率の根拠（要件ア）'!$FZ$51","v":0}]
[1278,{"$f":"'（別添４）エネルギー消費効率の根拠（要件ア）'!$FX$52","v":"別添4_45_13"},{"$f":"'（別添４）エネルギー消費効率の根拠（要件ア）'!$FY$52","v":"導入設備_計算結果"},{"$f":"'（別添４）エネルギー消費効率の根拠（要件ア）'!$FZ$52","v":"単位を選択してください"}]
[1279,{"$f":"'（別添４）エネルギー消費効率の根拠（要件ア）'!$FX$53","v":"別添4_45_14"},{"$f":"'（別添４）エネルギー消費効率の根拠（要件ア）'!$FY$53","v":"一代前モデル_製品名"},{"$f":"'（別添４）エネルギー消費効率の根拠（要件ア）'!$FZ$53","v":0}]
[1280,{"$f":"'（別添４）エネルギー消費効率の根拠（要件ア）'!$FX$54","v":"別添4_45_15"},{"$f":"'（別添４）エネルギー消費効率の根拠（要件ア）'!$FY$54","v":"一代前モデル_製造メーカー"},{"$f":"'（別添４）エネルギー消費効率の根拠（要件ア）'!$FZ$54","v":0}]
[1281,{"$f":"'（別添４）エネルギー消費効率の根拠（要件ア）'!$FX$55","v":"別添4_45_16"},{"$f":"'（別添４）エネルギー消費効率の根拠（要件ア）'!$FY$55","v":"一代前モデル_型番"},{"$f":"'（別添４）エネルギー消費効率の根拠（要件ア）'!$FZ$55","v":0}]
[1282,{"$f":"'（別添４）エネルギー消費効率の根拠（要件ア）'!$FX$56","v":"別添4_45_17"},{"$f":"'（別添４）エネルギー消費効率の根拠（要件ア）'!$FY$56","v":"一代前モデル_導入台数"},{"$f":"'（別添４）エネルギー消費効率の根拠（要件ア）'!$FZ$56","v":"台"}]
[1283,{"$f":"'（別添４）エネルギー消費効率の根拠（要件ア）'!$FX$57","v":"別添4_45_18"},{"$f":"'（別添４）エネルギー消費効率の根拠（要件ア）'!$FY$57","v":"一代前モデル_1台あたりの使用エネルギー"},{"$f":"'（別添４）エネルギー消費効率の根拠（要件ア）'!$FZ$57","v":0}]
[1284,{"$f":"'（別添４）エネルギー消費効率の根拠（要件ア）'!$FX$58","v":"別添4_45_19"},{"$f":"'（別添４）エネルギー消費効率の根拠（要件ア）'!$FY$58","v":"一代前モデル_年間エネルギー使用量計算式"},{"$f":"'（別添４）エネルギー消費効率の根拠（要件ア）'!$FZ$58","v":0}]
[1285,{"$f":"'（別添４）エネルギー消費効率の根拠（要件ア）'!$FX$59","v":"別添4_45_20"},{"$f":"'（別添４）エネルギー消費効率の根拠（要件ア）'!$FY$59","v":"一代前モデル_計算結果"},{"$f":"'（別添４）エネルギー消費効率の根拠（要件ア）'!$FZ$59","v":"単位を選択してください"}]
[1286,{"$f":"'（別添４）エネルギー消費効率の根拠（要件ア）'!$FX$60","v":"別添4_45_21"},{"$f":"'（別添４）エネルギー消費効率の根拠（要件ア）'!$FY$60","v":"年間見込み省エネルギー量__計算結果"},{"$f":"'（別添４）エネルギー消費効率の根拠（要件ア）'!$FZ$60","v":"0単位を選択してください"}]
[1287,{"$f":"'（別添４）エネルギー消費効率の根拠（要件ア）'!$FX$61","v":"別添4_45_22"},{"$f":"'（別添４）エネルギー消費効率の根拠（要件ア）'!$FY$61","v":"年間見込み省エネルギー量_原油換算計算式"},{"$f":"'（別添４）エネルギー消費効率の根拠（要件ア）'!$FZ$61","v":0}]
[1288,{"$f":"'（別添４）エネルギー消費効率の根拠（要件ア）'!$FX$62","v":"別添4_45_23"},{"$f":"'（別添４）エネルギー消費効率の根拠（要件ア）'!$FY$62","v":"年間見込み省エネルギー量原油換算計算結果"},{"$f":"'（別添４）エネルギー消費効率の根拠（要件ア）'!$FZ$62","v":0}]
[1289,{"$f":"'（別添４）エネルギー消費効率の根拠（要件ア）'!$FX$63","v":"別添4_45_24"},{"$f":"'（別添４）エネルギー消費効率の根拠（要件ア）'!$FY$63","v":"年間見込み省エネルギー率_自動計算"},{"$f":"'（別添４）エネルギー消費効率の根拠（要件ア）'!$FZ$63","v":""}]
[1290,{"$f":"'（別添４）エネルギー消費効率の根拠（要件ア）'!$GB$40","v":"別添4_46_1"},{"$f":"'（別添４）エネルギー消費効率の根拠（要件ア）'!$GC$40","v":"トップランナー基準"},{"$f":"'（別添４）エネルギー消費効率の根拠（要件ア）'!$GD$40","v":0}]
[{"$f":"ROW()-1","v":1291},{"$f":"'（別添４）エネルギー消費効率の根拠（要件ア）'!$GB$41","v":"別添4_46_2"},{"$f":"'（別添４）エネルギー消費効率の根拠（要件ア）'!$GC$41","v":"トップランナー基準の区分名又は数値"},{"$f":"'（別添４）エネルギー消費効率の根拠（要件ア）'!$GD$41","v":0}]
[1292,{"$f":"'（別添４）エネルギー消費効率の根拠（要件ア）'!$GB$42","v":"別添4_46_3"},{"$f":"'（別添４）エネルギー消費効率の根拠（要件ア）'!$GC$42","v":"トップランナー基準の数値（導入設備）"},{"$f":"'（別添４）エネルギー消費効率の根拠（要件ア）'!$GD$42","v":0}]
[1293,{"$f":"'（別添４）エネルギー消費効率の根拠（要件ア）'!$GB$43","v":"別添4_46_4"},{"$f":"'（別添４）エネルギー消費効率の根拠（要件ア）'!$GC$43","v":"比較指標/トップランナー基準"},{"$f":"'（別添４）エネルギー消費効率の根拠（要件ア）'!$GD$43","v":0}]
[1294,{"$f":"'（別添４）エネルギー消費効率の根拠（要件ア）'!$GB$44","v":"別添4_46_5"},{"$f":"'（別添４）エネルギー消費効率の根拠（要件ア）'!$GC$44","v":"添付資料の根拠記載箇所"},{"$f":"'（別添４）エネルギー消費効率の根拠（要件ア）'!$GD$44","v":0}]
[1295,{"$f":"'（別添４）エネルギー消費効率の根拠（要件ア）'!$GB$45","v":"別添4_46_6"},{"$f":"'（別添４）エネルギー消費効率の根拠（要件ア）'!$GC$45","v":"省エネ要因"},{"$f":"'（別添４）エネルギー消費効率の根拠（要件ア）'!$GD$45","v":0}]
[1296,{"$f":"'（別添４）エネルギー消費効率の根拠（要件ア）'!$GB$46","v":"別添4_46_7"},{"$f":"'（別添４）エネルギー消費効率の根拠（要件ア）'!$GC$46","v":"導入設備_製品名"},{"$f":"'（別添４）エネルギー消費効率の根拠（要件ア）'!$GD$46","v":0}]
[1297,{"$f":"'（別添４）エネルギー消費効率の根拠（要件ア）'!$GB$47","v":"別添4_46_8"},{"$f":"'（別添４）エネルギー消費効率の根拠（要件ア）'!$GC$47","v":"導入設備_製造メーカー"},{"$f":"'（別添４）エネルギー消費効率の根拠（要件ア）'!$GD$47","v":0}]
[1298,{"$f":"'（別添４）エネルギー消費効率の根拠（要件ア）'!$GB$48","v":"別添4_46_9"},{"$f":"'（別添４）エネルギー消費効率の根拠（要件ア）'!$GC$48","v":"導入設備_型番"},{"$f":"'（別添４）エネルギー消費効率の根拠（要件ア）'!$GD$48","v":0}]
[1299,{"$f":"'（別添４）エネルギー消費効率の根拠（要件ア）'!$GB$49","v":"別添4_46_10"},{"$f":"'（別添４）エネルギー消費効率の根拠（要件ア）'!$GC$49","v":"導入設備_導入台数"},{"$f":"'（別添４）エネルギー消費効率の根拠（要件ア）'!$GD$49","v":"台"}]
[1300,{"$f":"'（別添４）エネルギー消費効率の根拠（要件ア）'!$GB$50","v":"別添4_46_11"},{"$f":"'（別添４）エネルギー消費効率の根拠（要件ア）'!$GC$50","v":"導入設備_1台あたりの使用エネルギー"},{"$f":"'（別添４）エネルギー消費効率の根拠（要件ア）'!$GD$50","v":0}]
[1301,{"$f":"'（別添４）エネルギー消費効率の根拠（要件ア）'!$GB$51","v":"別添4_46_12"},{"$f":"'（別添４）エネルギー消費効率の根拠（要件ア）'!$GC$51","v":"導入設備_年間エネルギー使用量計算式"},{"$f":"'（別添４）エネルギー消費効率の根拠（要件ア）'!$GD$51","v":0}]
[1302,{"$f":"'（別添４）エネルギー消費効率の根拠（要件ア）'!$GB$52","v":"別添4_46_13"},{"$f":"'（別添４）エネルギー消費効率の根拠（要件ア）'!$GC$52","v":"導入設備_計算結果"},{"$f":"'（別添４）エネルギー消費効率の根拠（要件ア）'!$GD$52","v":"単位を選択してください"}]
[1303,{"$f":"'（別添４）エネルギー消費効率の根拠（要件ア）'!$GB$53","v":"別添4_46_14"},{"$f":"'（別添４）エネルギー消費効率の根拠（要件ア）'!$GC$53","v":"一代前モデル_製品名"},{"$f":"'（別添４）エネルギー消費効率の根拠（要件ア）'!$GD$53","v":0}]
[1304,{"$f":"'（別添４）エネルギー消費効率の根拠（要件ア）'!$GB$54","v":"別添4_46_15"},{"$f":"'（別添４）エネルギー消費効率の根拠（要件ア）'!$GC$54","v":"一代前モデル_製造メーカー"},{"$f":"'（別添４）エネルギー消費効率の根拠（要件ア）'!$GD$54","v":0}]
[1305,{"$f":"'（別添４）エネルギー消費効率の根拠（要件ア）'!$GB$55","v":"別添4_46_16"},{"$f":"'（別添４）エネルギー消費効率の根拠（要件ア）'!$GC$55","v":"一代前モデル_型番"},{"$f":"'（別添４）エネルギー消費効率の根拠（要件ア）'!$GD$55","v":0}]
[1306,{"$f":"'（別添４）エネルギー消費効率の根拠（要件ア）'!$GB$56","v":"別添4_46_17"},{"$f":"'（別添４）エネルギー消費効率の根拠（要件ア）'!$GC$56","v":"一代前モデル_導入台数"},{"$f":"'（別添４）エネルギー消費効率の根拠（要件ア）'!$GD$56","v":"台"}]
[1307,{"$f":"'（別添４）エネルギー消費効率の根拠（要件ア）'!$GB$57","v":"別添4_46_18"},{"$f":"'（別添４）エネルギー消費効率の根拠（要件ア）'!$GC$57","v":"一代前モデル_1台あたりの使用エネルギー"},{"$f":"'（別添４）エネルギー消費効率の根拠（要件ア）'!$GD$57","v":0}]
[1308,{"$f":"'（別添４）エネルギー消費効率の根拠（要件ア）'!$GB$58","v":"別添4_46_19"},{"$f":"'（別添４）エネルギー消費効率の根拠（要件ア）'!$GC$58","v":"一代前モデル_年間エネルギー使用量計算式"},{"$f":"'（別添４）エネルギー消費効率の根拠（要件ア）'!$GD$58","v":0}]
[1309,{"$f":"'（別添４）エネルギー消費効率の根拠（要件ア）'!$GB$59","v":"別添4_46_20"},{"$f":"'（別添４）エネルギー消費効率の根拠（要件ア）'!$GC$59","v":"一代前モデル_計算結果"},{"$f":"'（別添４）エネルギー消費効率の根拠（要件ア）'!$GD$59","v":"単位を選択してください"}]
[1310,{"$f":"'（別添４）エネルギー消費効率の根拠（要件ア）'!$GB$60","v":"別添4_46_21"},{"$f":"'（別添４）エネルギー消費効率の根拠（要件ア）'!$GC$60","v":"年間見込み省エネルギー量__計算結果"},{"$f":"'（別添４）エネルギー消費効率の根拠（要件ア）'!$GD$60","v":"0単位を選択してください"}]
[1311,{"$f":"'（別添４）エネルギー消費効率の根拠（要件ア）'!$GB$61","v":"別添4_46_22"},{"$f":"'（別添４）エネルギー消費効率の根拠（要件ア）'!$GC$61","v":"年間見込み省エネルギー量_原油換算計算式"},{"$f":"'（別添４）エネルギー消費効率の根拠（要件ア）'!$GD$61","v":0}]
[1312,{"$f":"'（別添４）エネルギー消費効率の根拠（要件ア）'!$GB$62","v":"別添4_46_23"},{"$f":"'（別添４）エネルギー消費効率の根拠（要件ア）'!$GC$62","v":"年間見込み省エネルギー量原油換算計算結果"},{"$f":"'（別添４）エネルギー消費効率の根拠（要件ア）'!$GD$62","v":0}]
[1313,{"$f":"'（別添４）エネルギー消費効率の根拠（要件ア）'!$GB$63","v":"別添4_46_24"},{"$f":"'（別添４）エネルギー消費効率の根拠（要件ア）'!$GC$63","v":"年間見込み省エネルギー率_自動計算"},{"$f":"'（別添４）エネルギー消費効率の根拠（要件ア）'!$GD$63","v":""}]
[1314,{"$f":"'（別添４）エネルギー消費効率の根拠（要件ア）'!$GF$40","v":"別添4_47_1"},{"$f":"'（別添４）エネルギー消費効率の根拠（要件ア）'!$GG$40","v":"トップランナー基準"},{"$f":"'（別添４）エネルギー消費効率の根拠（要件ア）'!$GH$40","v":0}]
[1315,{"$f":"'（別添４）エネルギー消費効率の根拠（要件ア）'!$GF$41","v":"別添4_47_2"},{"$f":"'（別添４）エネルギー消費効率の根拠（要件ア）'!$GG$41","v":"トップランナー基準の区分名又は数値"},{"$f":"'（別添４）エネルギー消費効率の根拠（要件ア）'!$GH$41","v":0}]
[1316,{"$f":"'（別添４）エネルギー消費効率の根拠（要件ア）'!$GF$42","v":"別添4_47_3"},{"$f":"'（別添４）エネルギー消費効率の根拠（要件ア）'!$GG$42","v":"トップランナー基準の数値（導入設備）"},{"$f":"'（別添４）エネルギー消費効率の根拠（要件ア）'!$GH$42","v":0}]
[1317,{"$f":"'（別添４）エネルギー消費効率の根拠（要件ア）'!$GF$43","v":"別添4_47_4"},{"$f":"'（別添４）エネルギー消費効率の根拠（要件ア）'!$GG$43","v":"比較指標/トップランナー基準"},{"$f":"'（別添４）エネルギー消費効率の根拠（要件ア）'!$GH$43","v":0}]
[1318,{"$f":"'（別添４）エネルギー消費効率の根拠（要件ア）'!$GF$44","v":"別添4_47_5"},{"$f":"'（別添４）エネルギー消費効率の根拠（要件ア）'!$GG$44","v":"添付資料の根拠記載箇所"},{"$f":"'（別添４）エネルギー消費効率の根拠（要件ア）'!$GH$44","v":0}]
[1319,{"$f":"'（別添４）エネルギー消費効率の根拠（要件ア）'!$GF$45","v":"別添4_47_6"},{"$f":"'（別添４）エネルギー消費効率の根拠（要件ア）'!$GG$45","v":"省エネ要因"},{"$f":"'（別添４）エネルギー消費効率の根拠（要件ア）'!$GH$45","v":0}]
[1320,{"$f":"'（別添４）エネルギー消費効率の根拠（要件ア）'!$GF$46","v":"別添4_47_7"},{"$f":"'（別添４）エネルギー消費効率の根拠（要件ア）'!$GG$46","v":"導入設備_製品名"},{"$f":"'（別添４）エネルギー消費効率の根拠（要件ア）'!$GH$46","v":0}]
[1321,{"$f":"'（別添４）エネルギー消費効率の根拠（要件ア）'!$GF$47","v":"別添4_47_8"},{"$f":"'（別添４）エネルギー消費効率の根拠（要件ア）'!$GG$47","v":"導入設備_製造メーカー"},{"$f":"'（別添４）エネルギー消費効率の根拠（要件ア）'!$GH$47","v":0}]
[1322,{"$f":"'（別添４）エネルギー消費効率の根拠（要件ア）'!$GF$48","v":"別添4_47_9"},{"$f":"'（別添４）エネルギー消費効率の根拠（要件ア）'!$GG$48","v":"導入設備_型番"},{"$f":"'（別添４）エネルギー消費効率の根拠（要件ア）'!$GH$48","v":0}]
[1323,{"$f":"'（別添４）エネルギー消費効率の根拠（要件ア）'!$GF$49","v":"別添4_47_10"},{"$f":"'（別添４）エネルギー消費効率の根拠（要件ア）'!$GG$49","v":"導入設備_導入台数"},{"$f":"'（別添４）エネルギー消費効率の根拠（要件ア）'!$GH$49","v":"台"}]
[1324,{"$f":"'（別添４）エネルギー消費効率の根拠（要件ア）'!$GF$50","v":"別添4_47_11"},{"$f":"'（別添４）エネルギー消費効率の根拠（要件ア）'!$GG$50","v":"導入設備_1台あたりの使用エネルギー"},{"$f":"'（別添４）エネルギー消費効率の根拠（要件ア）'!$GH$50","v":0}]
[1325,{"$f":"'（別添４）エネルギー消費効率の根拠（要件ア）'!$GF$51","v":"別添4_47_12"},{"$f":"'（別添４）エネルギー消費効率の根拠（要件ア）'!$GG$51","v":"導入設備_年間エネルギー使用量計算式"},{"$f":"'（別添４）エネルギー消費効率の根拠（要件ア）'!$GH$51","v":0}]
[1326,{"$f":"'（別添４）エネルギー消費効率の根拠（要件ア）'!$GF$52","v":"別添4_47_13"},{"$f":"'（別添４）エネルギー消費効率の根拠（要件ア）'!$GG$52","v":"導入設備_計算結果"},{"$f":"'（別添４）エネルギー消費効率の根拠（要件ア）'!$GH$52","v":"単位を選択してください"}]
[1327,{"$f":"'（別添４）エネルギー消費効率の根拠（要件ア）'!$GF$53","v":"別添4_47_14"},{"$f":"'（別添４）エネルギー消費効率の根拠（要件ア）'!$GG$53","v":"一代前モデル_製品名"},{"$f":"'（別添４）エネルギー消費効率の根拠（要件ア）'!$GH$53","v":0}]
[1328,{"$f":"'（別添４）エネルギー消費効率の根拠（要件ア）'!$GF$54","v":"別添4_47_15"},{"$f":"'（別添４）エネルギー消費効率の根拠（要件ア）'!$GG$54","v":"一代前モデル_製造メーカー"},{"$f":"'（別添４）エネルギー消費効率の根拠（要件ア）'!$GH$54","v":0}]
[1329,{"$f":"'（別添４）エネルギー消費効率の根拠（要件ア）'!$GF$55","v":"別添4_47_16"},{"$f":"'（別添４）エネルギー消費効率の根拠（要件ア）'!$GG$55","v":"一代前モデル_型番"},{"$f":"'（別添４）エネルギー消費効率の根拠（要件ア）'!$GH$55","v":0}]
[1330,{"$f":"'（別添４）エネルギー消費効率の根拠（要件ア）'!$GF$56","v":"別添4_47_17"},{"$f":"'（別添４）エネルギー消費効率の根拠（要件ア）'!$GG$56","v":"一代前モデル_導入台数"},{"$f":"'（別添４）エネルギー消費効率の根拠（要件ア）'!$GH$56","v":"台"}]
[1331,{"$f":"'（別添４）エネルギー消費効率の根拠（要件ア）'!$GF$57","v":"別添4_47_18"},{"$f":"'（別添４）エネルギー消費効率の根拠（要件ア）'!$GG$57","v":"一代前モデル_1台あたりの使用エネルギー"},{"$f":"'（別添４）エネルギー消費効率の根拠（要件ア）'!$GH$57","v":0}]
[1332,{"$f":"'（別添４）エネルギー消費効率の根拠（要件ア）'!$GF$58","v":"別添4_47_19"},{"$f":"'（別添４）エネルギー消費効率の根拠（要件ア）'!$GG$58","v":"一代前モデル_年間エネルギー使用量計算式"},{"$f":"'（別添４）エネルギー消費効率の根拠（要件ア）'!$GH$58","v":0}]
[1333,{"$f":"'（別添４）エネルギー消費効率の根拠（要件ア）'!$GF$59","v":"別添4_47_20"},{"$f":"'（別添４）エネルギー消費効率の根拠（要件ア）'!$GG$59","v":"一代前モデル_計算結果"},{"$f":"'（別添４）エネルギー消費効率の根拠（要件ア）'!$GH$59","v":"単位を選択してください"}]
[1334,{"$f":"'（別添４）エネルギー消費効率の根拠（要件ア）'!$GF$60","v":"別添4_47_21"},{"$f":"'（別添４）エネルギー消費効率の根拠（要件ア）'!$GG$60","v":"年間見込み省エネルギー量__計算結果"},{"$f":"'（別添４）エネルギー消費効率の根拠（要件ア）'!$GH$60","v":"0単位を選択してください"}]
[1335,{"$f":"'（別添４）エネルギー消費効率の根拠（要件ア）'!$GF$61","v":"別添4_47_22"},{"$f":"'（別添４）エネルギー消費効率の根拠（要件ア）'!$GG$61","v":"年間見込み省エネルギー量_原油換算計算式"},{"$f":"'（別添４）エネルギー消費効率の根拠（要件ア）'!$GH$61","v":0}]
[1336,{"$f":"'（別添４）エネルギー消費効率の根拠（要件ア）'!$GF$62","v":"別添4_47_23"},{"$f":"'（別添４）エネルギー消費効率の根拠（要件ア）'!$GG$62","v":"年間見込み省エネルギー量原油換算計算結果"},{"$f":"'（別添４）エネルギー消費効率の根拠（要件ア）'!$GH$62","v":0}]
[1337,{"$f":"'（別添４）エネルギー消費効率の根拠（要件ア）'!$GF$63","v":"別添4_47_24"},{"$f":"'（別添４）エネルギー消費効率の根拠（要件ア）'!$GG$63","v":"年間見込み省エネルギー率_自動計算"},{"$f":"'（別添４）エネルギー消費効率の根拠（要件ア）'!$GH$63","v":""}]
[1338,{"$f":"'（別添４）エネルギー消費効率の根拠（要件ア）'!$GJ$40","v":"別添4_48_1"},{"$f":"'（別添４）エネルギー消費効率の根拠（要件ア）'!$GK$40","v":"トップランナー基準"},{"$f":"'（別添４）エネルギー消費効率の根拠（要件ア）'!$GL$40","v":0}]
[1339,{"$f":"'（別添４）エネルギー消費効率の根拠（要件ア）'!$GJ$41","v":"別添4_48_2"},{"$f":"'（別添４）エネルギー消費効率の根拠（要件ア）'!$GK$41","v":"トップランナー基準の区分名又は数値"},{"$f":"'（別添４）エネルギー消費効率の根拠（要件ア）'!$GL$41","v":0}]
[1340,{"$f":"'（別添４）エネルギー消費効率の根拠（要件ア）'!$GJ$42","v":"別添4_48_3"},{"$f":"'（別添４）エネルギー消費効率の根拠（要件ア）'!$GK$42","v":"トップランナー基準の数値（導入設備）"},{"$f":"'（別添４）エネルギー消費効率の根拠（要件ア）'!$GL$42","v":0}]
[1341,{"$f":"'（別添４）エネルギー消費効率の根拠（要件ア）'!$GJ$43","v":"別添4_48_4"},{"$f":"'（別添４）エネルギー消費効率の根拠（要件ア）'!$GK$43","v":"比較指標/トップランナー基準"},{"$f":"'（別添４）エネルギー消費効率の根拠（要件ア）'!$GL$43","v":0}]
[1342,{"$f":"'（別添４）エネルギー消費効率の根拠（要件ア）'!$GJ$44","v":"別添4_48_5"},{"$f":"'（別添４）エネルギー消費効率の根拠（要件ア）'!$GK$44","v":"添付資料の根拠記載箇所"},{"$f":"'（別添４）エネルギー消費効率の根拠（要件ア）'!$GL$44","v":0}]
[1343,{"$f":"'（別添４）エネルギー消費効率の根拠（要件ア）'!$GJ$45","v":"別添4_48_6"},{"$f":"'（別添４）エネルギー消費効率の根拠（要件ア）'!$GK$45","v":"省エネ要因"},{"$f":"'（別添４）エネルギー消費効率の根拠（要件ア）'!$GL$45","v":0}]
[1344,{"$f":"'（別添４）エネルギー消費効率の根拠（要件ア）'!$GJ$46","v":"別添4_48_7"},{"$f":"'（別添４）エネルギー消費効率の根拠（要件ア）'!$GK$46","v":"導入設備_製品名"},{"$f":"'（別添４）エネルギー消費効率の根拠（要件ア）'!$GL$46","v":0}]
[1345,{"$f":"'（別添４）エネルギー消費効率の根拠（要件ア）'!$GJ$47","v":"別添4_48_8"},{"$f":"'（別添４）エネルギー消費効率の根拠（要件ア）'!$GK$47","v":"導入設備_製造メーカー"},{"$f":"'（別添４）エネルギー消費効率の根拠（要件ア）'!$GL$47","v":0}]
[1346,{"$f":"'（別添４）エネルギー消費効率の根拠（要件ア）'!$GJ$48","v":"別添4_48_9"},{"$f":"'（別添４）エネルギー消費効率の根拠（要件ア）'!$GK$48","v":"導入設備_型番"},{"$f":"'（別添４）エネルギー消費効率の根拠（要件ア）'!$GL$48","v":0}]
[1347,{"$f":"'（別添４）エネルギー消費効率の根拠（要件ア）'!$GJ$49","v":"別添4_48_10"},{"$f":"'（別添４）エネルギー消費効率の根拠（要件ア）'!$GK$49","v":"導入設備_導入台数"},{"$f":"'（別添４）エネルギー消費効率の根拠（要件ア）'!$GL$49","v":"台"}]
[1348,{"$f":"'（別添４）エネルギー消費効率の根拠（要件ア）'!$GJ$50","v":"別添4_48_11"},{"$f":"'（別添４）エネルギー消費効率の根拠（要件ア）'!$GK$50","v":"導入設備_1台あたりの使用エネルギー"},{"$f":"'（別添４）エネルギー消費効率の根拠（要件ア）'!$GL$50","v":0}]
[1349,{"$f":"'（別添４）エネルギー消費効率の根拠（要件ア）'!$GJ$51","v":"別添4_48_12"},{"$f":"'（別添４）エネルギー消費効率の根拠（要件ア）'!$GK$51","v":"導入設備_年間エネルギー使用量計算式"},{"$f":"'（別添４）エネルギー消費効率の根拠（要件ア）'!$GL$51","v":0}]
[1350,{"$f":"'（別添４）エネルギー消費効率の根拠（要件ア）'!$GJ$52","v":"別添4_48_13"},{"$f":"'（別添４）エネルギー消費効率の根拠（要件ア）'!$GK$52","v":"導入設備_計算結果"},{"$f":"'（別添４）エネルギー消費効率の根拠（要件ア）'!$GL$52","v":"単位を選択してください"}]
[1351,{"$f":"'（別添４）エネルギー消費効率の根拠（要件ア）'!$GJ$53","v":"別添4_48_14"},{"$f":"'（別添４）エネルギー消費効率の根拠（要件ア）'!$GK$53","v":"一代前モデル_製品名"},{"$f":"'（別添４）エネルギー消費効率の根拠（要件ア）'!$GL$53","v":0}]
[1352,{"$f":"'（別添４）エネルギー消費効率の根拠（要件ア）'!$GJ$54","v":"別添4_48_15"},{"$f":"'（別添４）エネルギー消費効率の根拠（要件ア）'!$GK$54","v":"一代前モデル_製造メーカー"},{"$f":"'（別添４）エネルギー消費効率の根拠（要件ア）'!$GL$54","v":0}]
[1353,{"$f":"'（別添４）エネルギー消費効率の根拠（要件ア）'!$GJ$55","v":"別添4_48_16"},{"$f":"'（別添４）エネルギー消費効率の根拠（要件ア）'!$GK$55","v":"一代前モデル_型番"},{"$f":"'（別添４）エネルギー消費効率の根拠（要件ア）'!$GL$55","v":0}]
[1354,{"$f":"'（別添４）エネルギー消費効率の根拠（要件ア）'!$GJ$56","v":"別添4_48_17"},{"$f":"'（別添４）エネルギー消費効率の根拠（要件ア）'!$GK$56","v":"一代前モデル_導入台数"},{"$f":"'（別添４）エネルギー消費効率の根拠（要件ア）'!$GL$56","v":"台"}]
[{"$f":"ROW()-1","v":1355},{"$f":"'（別添４）エネルギー消費効率の根拠（要件ア）'!$GJ$57","v":"別添4_48_18"},{"$f":"'（別添４）エネルギー消費効率の根拠（要件ア）'!$GK$57","v":"一代前モデル_1台あたりの使用エネルギー"},{"$f":"'（別添４）エネルギー消費効率の根拠（要件ア）'!$GL$57","v":0}]
[1356,{"$f":"'（別添４）エネルギー消費効率の根拠（要件ア）'!$GJ$58","v":"別添4_48_19"},{"$f":"'（別添４）エネルギー消費効率の根拠（要件ア）'!$GK$58","v":"一代前モデル_年間エネルギー使用量計算式"},{"$f":"'（別添４）エネルギー消費効率の根拠（要件ア）'!$GL$58","v":0}]
[1357,{"$f":"'（別添４）エネルギー消費効率の根拠（要件ア）'!$GJ$59","v":"別添4_48_20"},{"$f":"'（別添４）エネルギー消費効率の根拠（要件ア）'!$GK$59","v":"一代前モデル_計算結果"},{"$f":"'（別添４）エネルギー消費効率の根拠（要件ア）'!$GL$59","v":"単位を選択してください"}]
[1358,{"$f":"'（別添４）エネルギー消費効率の根拠（要件ア）'!$GJ$60","v":"別添4_48_21"},{"$f":"'（別添４）エネルギー消費効率の根拠（要件ア）'!$GK$60","v":"年間見込み省エネルギー量__計算結果"},{"$f":"'（別添４）エネルギー消費効率の根拠（要件ア）'!$GL$60","v":"0単位を選択してください"}]
[1359,{"$f":"'（別添４）エネルギー消費効率の根拠（要件ア）'!$GJ$61","v":"別添4_48_22"},{"$f":"'（別添４）エネルギー消費効率の根拠（要件ア）'!$GK$61","v":"年間見込み省エネルギー量_原油換算計算式"},{"$f":"'（別添４）エネルギー消費効率の根拠（要件ア）'!$GL$61","v":0}]
[1360,{"$f":"'（別添４）エネルギー消費効率の根拠（要件ア）'!$GJ$62","v":"別添4_48_23"},{"$f":"'（別添４）エネルギー消費効率の根拠（要件ア）'!$GK$62","v":"年間見込み省エネルギー量原油換算計算結果"},{"$f":"'（別添４）エネルギー消費効率の根拠（要件ア）'!$GL$62","v":0}]
[1361,{"$f":"'（別添４）エネルギー消費効率の根拠（要件ア）'!$GJ$63","v":"別添4_48_24"},{"$f":"'（別添４）エネルギー消費効率の根拠（要件ア）'!$GK$63","v":"年間見込み省エネルギー率_自動計算"},{"$f":"'（別添４）エネルギー消費効率の根拠（要件ア）'!$GL$63","v":""}]
[1362,{"$f":"'（別添４）エネルギー消費効率の根拠（要件ア）'!$GN$40","v":"別添4_49_1"},{"$f":"'（別添４）エネルギー消費効率の根拠（要件ア）'!$GO$40","v":"トップランナー基準"},{"$f":"'（別添４）エネルギー消費効率の根拠（要件ア）'!$GP$40","v":0}]
[1363,{"$f":"'（別添４）エネルギー消費効率の根拠（要件ア）'!$GN$41","v":"別添4_49_2"},{"$f":"'（別添４）エネルギー消費効率の根拠（要件ア）'!$GO$41","v":"トップランナー基準の区分名又は数値"},{"$f":"'（別添４）エネルギー消費効率の根拠（要件ア）'!$GP$41","v":0}]
[1364,{"$f":"'（別添４）エネルギー消費効率の根拠（要件ア）'!$GN$42","v":"別添4_49_3"},{"$f":"'（別添４）エネルギー消費効率の根拠（要件ア）'!$GO$42","v":"トップランナー基準の数値（導入設備）"},{"$f":"'（別添４）エネルギー消費効率の根拠（要件ア）'!$GP$42","v":0}]
[1365,{"$f":"'（別添４）エネルギー消費効率の根拠（要件ア）'!$GN$43","v":"別添4_49_4"},{"$f":"'（別添４）エネルギー消費効率の根拠（要件ア）'!$GO$43","v":"比較指標/トップランナー基準"},{"$f":"'（別添４）エネルギー消費効率の根拠（要件ア）'!$GP$43","v":0}]
[1366,{"$f":"'（別添４）エネルギー消費効率の根拠（要件ア）'!$GN$44","v":"別添4_49_5"},{"$f":"'（別添４）エネルギー消費効率の根拠（要件ア）'!$GO$44","v":"添付資料の根拠記載箇所"},{"$f":"'（別添４）エネルギー消費効率の根拠（要件ア）'!$GP$44","v":0}]
[1367,{"$f":"'（別添４）エネルギー消費効率の根拠（要件ア）'!$GN$45","v":"別添4_49_6"},{"$f":"'（別添４）エネルギー消費効率の根拠（要件ア）'!$GO$45","v":"省エネ要因"},{"$f":"'（別添４）エネルギー消費効率の根拠（要件ア）'!$GP$45","v":0}]
[1368,{"$f":"'（別添４）エネルギー消費効率の根拠（要件ア）'!$GN$46","v":"別添4_49_7"},{"$f":"'（別添４）エネルギー消費効率の根拠（要件ア）'!$GO$46","v":"導入設備_製品名"},{"$f":"'（別添４）エネルギー消費効率の根拠（要件ア）'!$GP$46","v":0}]
[1369,{"$f":"'（別添４）エネルギー消費効率の根拠（要件ア）'!$GN$47","v":"別添4_49_8"},{"$f":"'（別添４）エネルギー消費効率の根拠（要件ア）'!$GO$47","v":"導入設備_製造メーカー"},{"$f":"'（別添４）エネルギー消費効率の根拠（要件ア）'!$GP$47","v":0}]
[1370,{"$f":"'（別添４）エネルギー消費効率の根拠（要件ア）'!$GN$48","v":"別添4_49_9"},{"$f":"'（別添４）エネルギー消費効率の根拠（要件ア）'!$GO$48","v":"導入設備_型番"},{"$f":"'（別添４）エネルギー消費効率の根拠（要件ア）'!$GP$48","v":0}]
[1371,{"$f":"'（別添４）エネルギー消費効率の根拠（要件ア）'!$GN$49","v":"別添4_49_10"},{"$f":"'（別添４）エネルギー消費効率の根拠（要件ア）'!$GO$49","v":"導入設備_導入台数"},{"$f":"'（別添４）エネルギー消費効率の根拠（要件ア）'!$GP$49","v":"台"}]
[1372,{"$f":"'（別添４）エネルギー消費効率の根拠（要件ア）'!$GN$50","v":"別添4_49_11"},{"$f":"'（別添４）エネルギー消費効率の根拠（要件ア）'!$GO$50","v":"導入設備_1台あたりの使用エネルギー"},{"$f":"'（別添４）エネルギー消費効率の根拠（要件ア）'!$GP$50","v":0}]
[1373,{"$f":"'（別添４）エネルギー消費効率の根拠（要件ア）'!$GN$51","v":"別添4_49_12"},{"$f":"'（別添４）エネルギー消費効率の根拠（要件ア）'!$GO$51","v":"導入設備_年間エネルギー使用量計算式"},{"$f":"'（別添４）エネルギー消費効率の根拠（要件ア）'!$GP$51","v":0}]
[1374,{"$f":"'（別添４）エネルギー消費効率の根拠（要件ア）'!$GN$52","v":"別添4_49_13"},{"$f":"'（別添４）エネルギー消費効率の根拠（要件ア）'!$GO$52","v":"導入設備_計算結果"},{"$f":"'（別添４）エネルギー消費効率の根拠（要件ア）'!$GP$52","v":"単位を選択してください"}]
[1375,{"$f":"'（別添４）エネルギー消費効率の根拠（要件ア）'!$GN$53","v":"別添4_49_14"},{"$f":"'（別添４）エネルギー消費効率の根拠（要件ア）'!$GO$53","v":"一代前モデル_製品名"},{"$f":"'（別添４）エネルギー消費効率の根拠（要件ア）'!$GP$53","v":0}]
[1376,{"$f":"'（別添４）エネルギー消費効率の根拠（要件ア）'!$GN$54","v":"別添4_49_15"},{"$f":"'（別添４）エネルギー消費効率の根拠（要件ア）'!$GO$54","v":"一代前モデル_製造メーカー"},{"$f":"'（別添４）エネルギー消費効率の根拠（要件ア）'!$GP$54","v":0}]
[1377,{"$f":"'（別添４）エネルギー消費効率の根拠（要件ア）'!$GN$55","v":"別添4_49_16"},{"$f":"'（別添４）エネルギー消費効率の根拠（要件ア）'!$GO$55","v":"一代前モデル_型番"},{"$f":"'（別添４）エネルギー消費効率の根拠（要件ア）'!$GP$55","v":0}]
[1378,{"$f":"'（別添４）エネルギー消費効率の根拠（要件ア）'!$GN$56","v":"別添4_49_17"},{"$f":"'（別添４）エネルギー消費効率の根拠（要件ア）'!$GO$56","v":"一代前モデル_導入台数"},{"$f":"'（別添４）エネルギー消費効率の根拠（要件ア）'!$GP$56","v":"台"}]
[1379,{"$f":"'（別添４）エネルギー消費効率の根拠（要件ア）'!$GN$57","v":"別添4_49_18"},{"$f":"'（別添４）エネルギー消費効率の根拠（要件ア）'!$GO$57","v":"一代前モデル_1台あたりの使用エネルギー"},{"$f":"'（別添４）エネルギー消費効率の根拠（要件ア）'!$GP$57","v":0}]
[1380,{"$f":"'（別添４）エネルギー消費効率の根拠（要件ア）'!$GN$58","v":"別添4_49_19"},{"$f":"'（別添４）エネルギー消費効率の根拠（要件ア）'!$GO$58","v":"一代前モデル_年間エネルギー使用量計算式"},{"$f":"'（別添４）エネルギー消費効率の根拠（要件ア）'!$GP$58","v":0}]
[1381,{"$f":"'（別添４）エネルギー消費効率の根拠（要件ア）'!$GN$59","v":"別添4_49_20"},{"$f":"'（別添４）エネルギー消費効率の根拠（要件ア）'!$GO$59","v":"一代前モデル_計算結果"},{"$f":"'（別添４）エネルギー消費効率の根拠（要件ア）'!$GP$59","v":"単位を選択してください"}]
[1382,{"$f":"'（別添４）エネルギー消費効率の根拠（要件ア）'!$GN$60","v":"別添4_49_21"},{"$f":"'（別添４）エネルギー消費効率の根拠（要件ア）'!$GO$60","v":"年間見込み省エネルギー量__計算結果"},{"$f":"'（別添４）エネルギー消費効率の根拠（要件ア）'!$GP$60","v":"0単位を選択してください"}]
[1383,{"$f":"'（別添４）エネルギー消費効率の根拠（要件ア）'!$GN$61","v":"別添4_49_22"},{"$f":"'（別添４）エネルギー消費効率の根拠（要件ア）'!$GO$61","v":"年間見込み省エネルギー量_原油換算計算式"},{"$f":"'（別添４）エネルギー消費効率の根拠（要件ア）'!$GP$61","v":0}]
[1384,{"$f":"'（別添４）エネルギー消費効率の根拠（要件ア）'!$GN$62","v":"別添4_49_23"},{"$f":"'（別添４）エネルギー消費効率の根拠（要件ア）'!$GO$62","v":"年間見込み省エネルギー量原油換算計算結果"},{"$f":"'（別添４）エネルギー消費効率の根拠（要件ア）'!$GP$62","v":0}]
[1385,{"$f":"'（別添４）エネルギー消費効率の根拠（要件ア）'!$GN$63","v":"別添4_49_24"},{"$f":"'（別添４）エネルギー消費効率の根拠（要件ア）'!$GO$63","v":"年間見込み省エネルギー率_自動計算"},{"$f":"'（別添４）エネルギー消費効率の根拠（要件ア）'!$GP$63","v":""}]
[1386,{"$f":"'（別添４）エネルギー消費効率の根拠（要件ア）'!$GR$40","v":"別添4_50_1"},{"$f":"'（別添４）エネルギー消費効率の根拠（要件ア）'!$GS$40","v":"トップランナー基準"},{"$f":"'（別添４）エネルギー消費効率の根拠（要件ア）'!$GT$40","v":0}]
[1387,{"$f":"'（別添４）エネルギー消費効率の根拠（要件ア）'!$GR$41","v":"別添4_50_2"},{"$f":"'（別添４）エネルギー消費効率の根拠（要件ア）'!$GS$41","v":"トップランナー基準の区分名又は数値"},{"$f":"'（別添４）エネルギー消費効率の根拠（要件ア）'!$GT$41","v":0}]
[1388,{"$f":"'（別添４）エネルギー消費効率の根拠（要件ア）'!$GR$42","v":"別添4_50_3"},{"$f":"'（別添４）エネルギー消費効率の根拠（要件ア）'!$GS$42","v":"トップランナー基準の数値（導入設備）"},{"$f":"'（別添４）エネルギー消費効率の根拠（要件ア）'!$GT$42","v":0}]
[1389,{"$f":"'（別添４）エネルギー消費効率の根拠（要件ア）'!$GR$43","v":"別添4_50_4"},{"$f":"'（別添４）エネルギー消費効率の根拠（要件ア）'!$GS$43","v":"比較指標/トップランナー基準"},{"$f":"'（別添４）エネルギー消費効率の根拠（要件ア）'!$GT$43","v":0}]
[1390,{"$f":"'（別添４）エネルギー消費効率の根拠（要件ア）'!$GR$44","v":"別添4_50_5"},{"$f":"'（別添４）エネルギー消費効率の根拠（要件ア）'!$GS$44","v":"添付資料の根拠記載箇所"},{"$f":"'（別添４）エネルギー消費効率の根拠（要件ア）'!$GT$44","v":0}]
[1391,{"$f":"'（別添４）エネルギー消費効率の根拠（要件ア）'!$GR$45","v":"別添4_50_6"},{"$f":"'（別添４）エネルギー消費効率の根拠（要件ア）'!$GS$45","v":"省エネ要因"},{"$f":"'（別添４）エネルギー消費効率の根拠（要件ア）'!$GT$45","v":0}]
[1392,{"$f":"'（別添４）エネルギー消費効率の根拠（要件ア）'!$GR$46","v":"別添4_50_7"},{"$f":"'（別添４）エネルギー消費効率の根拠（要件ア）'!$GS$46","v":"導入設備_製品名"},{"$f":"'（別添４）エネルギー消費効率の根拠（要件ア）'!$GT$46","v":0}]
[1393,{"$f":"'（別添４）エネルギー消費効率の根拠（要件ア）'!$GR$47","v":"別添4_50_8"},{"$f":"'（別添４）エネルギー消費効率の根拠（要件ア）'!$GS$47","v":"導入設備_製造メーカー"},{"$f":"'（別添４）エネルギー消費効率の根拠（要件ア）'!$GT$47","v":0}]
[1394,{"$f":"'（別添４）エネルギー消費効率の根拠（要件ア）'!$GR$48","v":"別添4_50_9"},{"$f":"'（別添４）エネルギー消費効率の根拠（要件ア）'!$GS$48","v":"導入設備_型番"},{"$f":"'（別添４）エネルギー消費効率の根拠（要件ア）'!$GT$48","v":0}]
[1395,{"$f":"'（別添４）エネルギー消費効率の根拠（要件ア）'!$GR$49","v":"別添4_50_10"},{"$f":"'（別添４）エネルギー消費効率の根拠（要件ア）'!$GS$49","v":"導入設備_導入台数"},{"$f":"'（別添４）エネルギー消費効率の根拠（要件ア）'!$GT$49","v":"台"}]
[1396,{"$f":"'（別添４）エネルギー消費効率の根拠（要件ア）'!$GR$50","v":"別添4_50_11"},{"$f":"'（別添４）エネルギー消費効率の根拠（要件ア）'!$GS$50","v":"導入設備_1台あたりの使用エネルギー"},{"$f":"'（別添４）エネルギー消費効率の根拠（要件ア）'!$GT$50","v":0}]
[1397,{"$f":"'（別添４）エネルギー消費効率の根拠（要件ア）'!$GR$51","v":"別添4_50_12"},{"$f":"'（別添４）エネルギー消費効率の根拠（要件ア）'!$GS$51","v":"導入設備_年間エネルギー使用量計算式"},{"$f":"'（別添４）エネルギー消費効率の根拠（要件ア）'!$GT$51","v":0}]
[1398,{"$f":"'（別添４）エネルギー消費効率の根拠（要件ア）'!$GR$52","v":"別添4_50_13"},{"$f":"'（別添４）エネルギー消費効率の根拠（要件ア）'!$GS$52","v":"導入設備_計算結果"},{"$f":"'（別添４）エネルギー消費効率の根拠（要件ア）'!$GT$52","v":"単位を選択してください"}]
[1399,{"$f":"'（別添４）エネルギー消費効率の根拠（要件ア）'!$GR$53","v":"別添4_50_14"},{"$f":"'（別添４）エネルギー消費効率の根拠（要件ア）'!$GS$53","v":"一代前モデル_製品名"},{"$f":"'（別添４）エネルギー消費効率の根拠（要件ア）'!$GT$53","v":0}]
[1400,{"$f":"'（別添４）エネルギー消費効率の根拠（要件ア）'!$GR$54","v":"別添4_50_15"},{"$f":"'（別添４）エネルギー消費効率の根拠（要件ア）'!$GS$54","v":"一代前モデル_製造メーカー"},{"$f":"'（別添４）エネルギー消費効率の根拠（要件ア）'!$GT$54","v":0}]
[1401,{"$f":"'（別添４）エネルギー消費効率の根拠（要件ア）'!$GR$55","v":"別添4_50_16"},{"$f":"'（別添４）エネルギー消費効率の根拠（要件ア）'!$GS$55","v":"一代前モデル_型番"},{"$f":"'（別添４）エネルギー消費効率の根拠（要件ア）'!$GT$55","v":0}]
[1402,{"$f":"'（別添４）エネルギー消費効率の根拠（要件ア）'!$GR$56","v":"別添4_50_17"},{"$f":"'（別添４）エネルギー消費効率の根拠（要件ア）'!$GS$56","v":"一代前モデル_導入台数"},{"$f":"'（別添４）エネルギー消費効率の根拠（要件ア）'!$GT$56","v":"台"}]
[1403,{"$f":"'（別添４）エネルギー消費効率の根拠（要件ア）'!$GR$57","v":"別添4_50_18"},{"$f":"'（別添４）エネルギー消費効率の根拠（要件ア）'!$GS$57","v":"一代前モデル_1台あたりの使用エネルギー"},{"$f":"'（別添４）エネルギー消費効率の根拠（要件ア）'!$GT$57","v":0}]
[1404,{"$f":"'（別添４）エネルギー消費効率の根拠（要件ア）'!$GR$58","v":"別添4_50_19"},{"$f":"'（別添４）エネルギー消費効率の根拠（要件ア）'!$GS$58","v":"一代前モデル_年間エネルギー使用量計算式"},{"$f":"'（別添４）エネルギー消費効率の根拠（要件ア）'!$GT$58","v":0}]
[1405,{"$f":"'（別添４）エネルギー消費効率の根拠（要件ア）'!$GR$59","v":"別添4_50_20"},{"$f":"'（別添４）エネルギー消費効率の根拠（要件ア）'!$GS$59","v":"一代前モデル_計算結果"},{"$f":"'（別添４）エネルギー消費効率の根拠（要件ア）'!$GT$59","v":"単位を選択してください"}]
[1406,{"$f":"'（別添４）エネルギー消費効率の根拠（要件ア）'!$GR$60","v":"別添4_50_21"},{"$f":"'（別添４）エネルギー消費効率の根拠（要件ア）'!$GS$60","v":"年間見込み省エネルギー量__計算結果"},{"$f":"'（別添４）エネルギー消費効率の根拠（要件ア）'!$GT$60","v":"0単位を選択してください"}]
[1407,{"$f":"'（別添４）エネルギー消費効率の根拠（要件ア）'!$GR$61","v":"別添4_50_22"},{"$f":"'（別添４）エネルギー消費効率の根拠（要件ア）'!$GS$61","v":"年間見込み省エネルギー量_原油換算計算式"},{"$f":"'（別添４）エネルギー消費効率の根拠（要件ア）'!$GT$61","v":0}]
[1408,{"$f":"'（別添４）エネルギー消費効率の根拠（要件ア）'!$GR$62","v":"別添4_50_23"},{"$f":"'（別添４）エネルギー消費効率の根拠（要件ア）'!$GS$62","v":"年間見込み省エネルギー量原油換算計算結果"},{"$f":"'（別添４）エネルギー消費効率の根拠（要件ア）'!$GT$62","v":0}]
[1409,{"$f":"'（別添４）エネルギー消費効率の根拠（要件ア）'!$GR$63","v":"別添4_50_24"},{"$f":"'（別添４）エネルギー消費効率の根拠（要件ア）'!$GS$63","v":"年間見込み省エネルギー率_自動計算"},{"$f":"'（別添４）エネルギー消費効率の根拠（要件ア）'!$GT$63","v":""}]
[1410,{"$f":"'（別添４）エネルギー消費効率の根拠（要件ア）'!$GV$40","v":"別添4_51_1"},{"$f":"'（別添４）エネルギー消費効率の根拠（要件ア）'!$GW$40","v":"トップランナー基準"},{"$f":"'（別添４）エネルギー消費効率の根拠（要件ア）'!$GX$40","v":0}]
[1411,{"$f":"'（別添４）エネルギー消費効率の根拠（要件ア）'!$GV$41","v":"別添4_51_2"},{"$f":"'（別添４）エネルギー消費効率の根拠（要件ア）'!$GW$41","v":"トップランナー基準の区分名又は数値"},{"$f":"'（別添４）エネルギー消費効率の根拠（要件ア）'!$GX$41","v":0}]
[1412,{"$f":"'（別添４）エネルギー消費効率の根拠（要件ア）'!$GV$42","v":"別添4_51_3"},{"$f":"'（別添４）エネルギー消費効率の根拠（要件ア）'!$GW$42","v":"トップランナー基準の数値（導入設備）"},{"$f":"'（別添４）エネルギー消費効率の根拠（要件ア）'!$GX$42","v":0}]
[1413,{"$f":"'（別添４）エネルギー消費効率の根拠（要件ア）'!$GV$43","v":"別添4_51_4"},{"$f":"'（別添４）エネルギー消費効率の根拠（要件ア）'!$GW$43","v":"比較指標/トップランナー基準"},{"$f":"'（別添４）エネルギー消費効率の根拠（要件ア）'!$GX$43","v":0}]
[1414,{"$f":"'（別添４）エネルギー消費効率の根拠（要件ア）'!$GV$44","v":"別添4_51_5"},{"$f":"'（別添４）エネルギー消費効率の根拠（要件ア）'!$GW$44","v":"添付資料の根拠記載箇所"},{"$f":"'（別添４）エネルギー消費効率の根拠（要件ア）'!$GX$44","v":0}]
[1415,{"$f":"'（別添４）エネルギー消費効率の根拠（要件ア）'!$GV$45","v":"別添4_51_6"},{"$f":"'（別添４）エネルギー消費効率の根拠（要件ア）'!$GW$45","v":"省エネ要因"},{"$f":"'（別添４）エネルギー消費効率の根拠（要件ア）'!$GX$45","v":0}]
[1416,{"$f":"'（別添４）エネルギー消費効率の根拠（要件ア）'!$GV$46","v":"別添4_51_7"},{"$f":"'（別添４）エネルギー消費効率の根拠（要件ア）'!$GW$46","v":"導入設備_製品名"},{"$f":"'（別添４）エネルギー消費効率の根拠（要件ア）'!$GX$46","v":0}]
[1417,{"$f":"'（別添４）エネルギー消費効率の根拠（要件ア）'!$GV$47","v":"別添4_51_8"},{"$f":"'（別添４）エネルギー消費効率の根拠（要件ア）'!$GW$47","v":"導入設備_製造メーカー"},{"$f":"'（別添４）エネルギー消費効率の根拠（要件ア）'!$GX$47","v":0}]
[1418,{"$f":"'（別添４）エネルギー消費効率の根拠（要件ア）'!$GV$48","v":"別添4_51_9"},{"$f":"'（別添４）エネルギー消費効率の根拠（要件ア）'!$GW$48","v":"導入設備_型番"},{"$f":"'（別添４）エネルギー消費効率の根拠（要件ア）'!$GX$48","v":0}]
[{"$f":"ROW()-1","v":1419},{"$f":"'（別添４）エネルギー消費効率の根拠（要件ア）'!$GV$49","v":"別添4_51_10"},{"$f":"'（別添４）エネルギー消費効率の根拠（要件ア）'!$GW$49","v":"導入設備_導入台数"},{"$f":"'（別添４）エネルギー消費効率の根拠（要件ア）'!$GX$49","v":"台"}]
[1420,{"$f":"'（別添４）エネルギー消費効率の根拠（要件ア）'!$GV$50","v":"別添4_51_11"},{"$f":"'（別添４）エネルギー消費効率の根拠（要件ア）'!$GW$50","v":"導入設備_1台あたりの使用エネルギー"},{"$f":"'（別添４）エネルギー消費効率の根拠（要件ア）'!$GX$50","v":0}]
[1421,{"$f":"'（別添４）エネルギー消費効率の根拠（要件ア）'!$GV$51","v":"別添4_51_12"},{"$f":"'（別添４）エネルギー消費効率の根拠（要件ア）'!$GW$51","v":"導入設備_年間エネルギー使用量計算式"},{"$f":"'（別添４）エネルギー消費効率の根拠（要件ア）'!$GX$51","v":0}]
[1422,{"$f":"'（別添４）エネルギー消費効率の根拠（要件ア）'!$GV$52","v":"別添4_51_13"},{"$f":"'（別添４）エネルギー消費効率の根拠（要件ア）'!$GW$52","v":"導入設備_計算結果"},{"$f":"'（別添４）エネルギー消費効率の根拠（要件ア）'!$GX$52","v":"単位を選択してください"}]
[1423,{"$f":"'（別添４）エネルギー消費効率の根拠（要件ア）'!$GV$53","v":"別添4_51_14"},{"$f":"'（別添４）エネルギー消費効率の根拠（要件ア）'!$GW$53","v":"一代前モデル_製品名"},{"$f":"'（別添４）エネルギー消費効率の根拠（要件ア）'!$GX$53","v":0}]
[1424,{"$f":"'（別添４）エネルギー消費効率の根拠（要件ア）'!$GV$54","v":"別添4_51_15"},{"$f":"'（別添４）エネルギー消費効率の根拠（要件ア）'!$GW$54","v":"一代前モデル_製造メーカー"},{"$f":"'（別添４）エネルギー消費効率の根拠（要件ア）'!$GX$54","v":0}]
[1425,{"$f":"'（別添４）エネルギー消費効率の根拠（要件ア）'!$GV$55","v":"別添4_51_16"},{"$f":"'（別添４）エネルギー消費効率の根拠（要件ア）'!$GW$55","v":"一代前モデル_型番"},{"$f":"'（別添４）エネルギー消費効率の根拠（要件ア）'!$GX$55","v":0}]
[1426,{"$f":"'（別添４）エネルギー消費効率の根拠（要件ア）'!$GV$56","v":"別添4_51_17"},{"$f":"'（別添４）エネルギー消費効率の根拠（要件ア）'!$GW$56","v":"一代前モデル_導入台数"},{"$f":"'（別添４）エネルギー消費効率の根拠（要件ア）'!$GX$56","v":"台"}]
[1427,{"$f":"'（別添４）エネルギー消費効率の根拠（要件ア）'!$GV$57","v":"別添4_51_18"},{"$f":"'（別添４）エネルギー消費効率の根拠（要件ア）'!$GW$57","v":"一代前モデル_1台あたりの使用エネルギー"},{"$f":"'（別添４）エネルギー消費効率の根拠（要件ア）'!$GX$57","v":0}]
[1428,{"$f":"'（別添４）エネルギー消費効率の根拠（要件ア）'!$GV$58","v":"別添4_51_19"},{"$f":"'（別添４）エネルギー消費効率の根拠（要件ア）'!$GW$58","v":"一代前モデル_年間エネルギー使用量計算式"},{"$f":"'（別添４）エネルギー消費効率の根拠（要件ア）'!$GX$58","v":0}]
[1429,{"$f":"'（別添４）エネルギー消費効率の根拠（要件ア）'!$GV$59","v":"別添4_51_20"},{"$f":"'（別添４）エネルギー消費効率の根拠（要件ア）'!$GW$59","v":"一代前モデル_計算結果"},{"$f":"'（別添４）エネルギー消費効率の根拠（要件ア）'!$GX$59","v":"単位を選択してください"}]
[1430,{"$f":"'（別添４）エネルギー消費効率の根拠（要件ア）'!$GV$60","v":"別添4_51_21"},{"$f":"'（別添４）エネルギー消費効率の根拠（要件ア）'!$GW$60","v":"年間見込み省エネルギー量__計算結果"},{"$f":"'（別添４）エネルギー消費効率の根拠（要件ア）'!$GX$60","v":"0単位を選択してください"}]
[1431,{"$f":"'（別添４）エネルギー消費効率の根拠（要件ア）'!$GV$61","v":"別添4_51_22"},{"$f":"'（別添４）エネルギー消費効率の根拠（要件ア）'!$GW$61","v":"年間見込み省エネルギー量_原油換算計算式"},{"$f":"'（別添４）エネルギー消費効率の根拠（要件ア）'!$GX$61","v":0}]
[1432,{"$f":"'（別添４）エネルギー消費効率の根拠（要件ア）'!$GV$62","v":"別添4_51_23"},{"$f":"'（別添４）エネルギー消費効率の根拠（要件ア）'!$GW$62","v":"年間見込み省エネルギー量原油換算計算結果"},{"$f":"'（別添４）エネルギー消費効率の根拠（要件ア）'!$GX$62","v":0}]
[1433,{"$f":"'（別添４）エネルギー消費効率の根拠（要件ア）'!$GV$63","v":"別添4_51_24"},{"$f":"'（別添４）エネルギー消費効率の根拠（要件ア）'!$GW$63","v":"年間見込み省エネルギー率_自動計算"},{"$f":"'（別添４）エネルギー消費効率の根拠（要件ア）'!$GX$63","v":""}]
[1434,{"$f":"'（別添４）エネルギー消費効率の根拠（要件ア）'!$GZ$40","v":"別添4_52_1"},{"$f":"'（別添４）エネルギー消費効率の根拠（要件ア）'!$HA$40","v":"トップランナー基準"},{"$f":"'（別添４）エネルギー消費効率の根拠（要件ア）'!$HB$40","v":0}]
[1435,{"$f":"'（別添４）エネルギー消費効率の根拠（要件ア）'!$GZ$41","v":"別添4_52_2"},{"$f":"'（別添４）エネルギー消費効率の根拠（要件ア）'!$HA$41","v":"トップランナー基準の区分名又は数値"},{"$f":"'（別添４）エネルギー消費効率の根拠（要件ア）'!$HB$41","v":0}]
[1436,{"$f":"'（別添４）エネルギー消費効率の根拠（要件ア）'!$GZ$42","v":"別添4_52_3"},{"$f":"'（別添４）エネルギー消費効率の根拠（要件ア）'!$HA$42","v":"トップランナー基準の数値（導入設備）"},{"$f":"'（別添４）エネルギー消費効率の根拠（要件ア）'!$HB$42","v":0}]
[1437,{"$f":"'（別添４）エネルギー消費効率の根拠（要件ア）'!$GZ$43","v":"別添4_52_4"},{"$f":"'（別添４）エネルギー消費効率の根拠（要件ア）'!$HA$43","v":"比較指標/トップランナー基準"},{"$f":"'（別添４）エネルギー消費効率の根拠（要件ア）'!$HB$43","v":0}]
[1438,{"$f":"'（別添４）エネルギー消費効率の根拠（要件ア）'!$GZ$44","v":"別添4_52_5"},{"$f":"'（別添４）エネルギー消費効率の根拠（要件ア）'!$HA$44","v":"添付資料の根拠記載箇所"},{"$f":"'（別添４）エネルギー消費効率の根拠（要件ア）'!$HB$44","v":0}]
[1439,{"$f":"'（別添４）エネルギー消費効率の根拠（要件ア）'!$GZ$45","v":"別添4_52_6"},{"$f":"'（別添４）エネルギー消費効率の根拠（要件ア）'!$HA$45","v":"省エネ要因"},{"$f":"'（別添４）エネルギー消費効率の根拠（要件ア）'!$HB$45","v":0}]
[1440,{"$f":"'（別添４）エネルギー消費効率の根拠（要件ア）'!$GZ$46","v":"別添4_52_7"},{"$f":"'（別添４）エネルギー消費効率の根拠（要件ア）'!$HA$46","v":"導入設備_製品名"},{"$f":"'（別添４）エネルギー消費効率の根拠（要件ア）'!$HB$46","v":0}]
[1441,{"$f":"'（別添４）エネルギー消費効率の根拠（要件ア）'!$GZ$47","v":"別添4_52_8"},{"$f":"'（別添４）エネルギー消費効率の根拠（要件ア）'!$HA$47","v":"導入設備_製造メーカー"},{"$f":"'（別添４）エネルギー消費効率の根拠（要件ア）'!$HB$47","v":0}]
[1442,{"$f":"'（別添４）エネルギー消費効率の根拠（要件ア）'!$GZ$48","v":"別添4_52_9"},{"$f":"'（別添４）エネルギー消費効率の根拠（要件ア）'!$HA$48","v":"導入設備_型番"},{"$f":"'（別添４）エネルギー消費効率の根拠（要件ア）'!$HB$48","v":0}]
[1443,{"$f":"'（別添４）エネルギー消費効率の根拠（要件ア）'!$GZ$49","v":"別添4_52_10"},{"$f":"'（別添４）エネルギー消費効率の根拠（要件ア）'!$HA$49","v":"導入設備_導入台数"},{"$f":"'（別添４）エネルギー消費効率の根拠（要件ア）'!$HB$49","v":"台"}]
[1444,{"$f":"'（別添４）エネルギー消費効率の根拠（要件ア）'!$GZ$50","v":"別添4_52_11"},{"$f":"'（別添４）エネルギー消費効率の根拠（要件ア）'!$HA$50","v":"導入設備_1台あたりの使用エネルギー"},{"$f":"'（別添４）エネルギー消費効率の根拠（要件ア）'!$HB$50","v":0}]
[1445,{"$f":"'（別添４）エネルギー消費効率の根拠（要件ア）'!$GZ$51","v":"別添4_52_12"},{"$f":"'（別添４）エネルギー消費効率の根拠（要件ア）'!$HA$51","v":"導入設備_年間エネルギー使用量計算式"},{"$f":"'（別添４）エネルギー消費効率の根拠（要件ア）'!$HB$51","v":0}]
[1446,{"$f":"'（別添４）エネルギー消費効率の根拠（要件ア）'!$GZ$52","v":"別添4_52_13"},{"$f":"'（別添４）エネルギー消費効率の根拠（要件ア）'!$HA$52","v":"導入設備_計算結果"},{"$f":"'（別添４）エネルギー消費効率の根拠（要件ア）'!$HB$52","v":"単位を選択してください"}]
[1447,{"$f":"'（別添４）エネルギー消費効率の根拠（要件ア）'!$GZ$53","v":"別添4_52_14"},{"$f":"'（別添４）エネルギー消費効率の根拠（要件ア）'!$HA$53","v":"一代前モデル_製品名"},{"$f":"'（別添４）エネルギー消費効率の根拠（要件ア）'!$HB$53","v":0}]
[1448,{"$f":"'（別添４）エネルギー消費効率の根拠（要件ア）'!$GZ$54","v":"別添4_52_15"},{"$f":"'（別添４）エネルギー消費効率の根拠（要件ア）'!$HA$54","v":"一代前モデル_製造メーカー"},{"$f":"'（別添４）エネルギー消費効率の根拠（要件ア）'!$HB$54","v":0}]
[1449,{"$f":"'（別添４）エネルギー消費効率の根拠（要件ア）'!$GZ$55","v":"別添4_52_16"},{"$f":"'（別添４）エネルギー消費効率の根拠（要件ア）'!$HA$55","v":"一代前モデル_型番"},{"$f":"'（別添４）エネルギー消費効率の根拠（要件ア）'!$HB$55","v":0}]
[1450,{"$f":"'（別添４）エネルギー消費効率の根拠（要件ア）'!$GZ$56","v":"別添4_52_17"},{"$f":"'（別添４）エネルギー消費効率の根拠（要件ア）'!$HA$56","v":"一代前モデル_導入台数"},{"$f":"'（別添４）エネルギー消費効率の根拠（要件ア）'!$HB$56","v":"台"}]
[1451,{"$f":"'（別添４）エネルギー消費効率の根拠（要件ア）'!$GZ$57","v":"別添4_52_18"},{"$f":"'（別添４）エネルギー消費効率の根拠（要件ア）'!$HA$57","v":"一代前モデル_1台あたりの使用エネルギー"},{"$f":"'（別添４）エネルギー消費効率の根拠（要件ア）'!$HB$57","v":0}]
[1452,{"$f":"'（別添４）エネルギー消費効率の根拠（要件ア）'!$GZ$58","v":"別添4_52_19"},{"$f":"'（別添４）エネルギー消費効率の根拠（要件ア）'!$HA$58","v":"一代前モデル_年間エネルギー使用量計算式"},{"$f":"'（別添４）エネルギー消費効率の根拠（要件ア）'!$HB$58","v":0}]
[1453,{"$f":"'（別添４）エネルギー消費効率の根拠（要件ア）'!$GZ$59","v":"別添4_52_20"},{"$f":"'（別添４）エネルギー消費効率の根拠（要件ア）'!$HA$59","v":"一代前モデル_計算結果"},{"$f":"'（別添４）エネルギー消費効率の根拠（要件ア）'!$HB$59","v":"単位を選択してください"}]
[1454,{"$f":"'（別添４）エネルギー消費効率の根拠（要件ア）'!$GZ$60","v":"別添4_52_21"},{"$f":"'（別添４）エネルギー消費効率の根拠（要件ア）'!$HA$60","v":"年間見込み省エネルギー量__計算結果"},{"$f":"'（別添４）エネルギー消費効率の根拠（要件ア）'!$HB$60","v":"0単位を選択してください"}]
[1455,{"$f":"'（別添４）エネルギー消費効率の根拠（要件ア）'!$GZ$61","v":"別添4_52_22"},{"$f":"'（別添４）エネルギー消費効率の根拠（要件ア）'!$HA$61","v":"年間見込み省エネルギー量_原油換算計算式"},{"$f":"'（別添４）エネルギー消費効率の根拠（要件ア）'!$HB$61","v":0}]
[1456,{"$f":"'（別添４）エネルギー消費効率の根拠（要件ア）'!$GZ$62","v":"別添4_52_23"},{"$f":"'（別添４）エネルギー消費効率の根拠（要件ア）'!$HA$62","v":"年間見込み省エネルギー量原油換算計算結果"},{"$f":"'（別添４）エネルギー消費効率の根拠（要件ア）'!$HB$62","v":0}]
[1457,{"$f":"'（別添４）エネルギー消費効率の根拠（要件ア）'!$GZ$63","v":"別添4_52_24"},{"$f":"'（別添４）エネルギー消費効率の根拠（要件ア）'!$HA$63","v":"年間見込み省エネルギー率_自動計算"},{"$f":"'（別添４）エネルギー消費効率の根拠（要件ア）'!$HB$63","v":""}]
[1458,{"$f":"'（別添４）エネルギー消費効率の根拠（要件ア）'!$HD$40","v":"別添4_53_1"},{"$f":"'（別添４）エネルギー消費効率の根拠（要件ア）'!$HE$40","v":"トップランナー基準"},{"$f":"'（別添４）エネルギー消費効率の根拠（要件ア）'!$HF$40","v":0}]
[1459,{"$f":"'（別添４）エネルギー消費効率の根拠（要件ア）'!$HD$41","v":"別添4_53_2"},{"$f":"'（別添４）エネルギー消費効率の根拠（要件ア）'!$HE$41","v":"トップランナー基準の区分名又は数値"},{"$f":"'（別添４）エネルギー消費効率の根拠（要件ア）'!$HF$41","v":0}]
[1460,{"$f":"'（別添４）エネルギー消費効率の根拠（要件ア）'!$HD$42","v":"別添4_53_3"},{"$f":"'（別添４）エネルギー消費効率の根拠（要件ア）'!$HE$42","v":"トップランナー基準の数値（導入設備）"},{"$f":"'（別添４）エネルギー消費効率の根拠（要件ア）'!$HF$42","v":0}]
[1461,{"$f":"'（別添４）エネルギー消費効率の根拠（要件ア）'!$HD$43","v":"別添4_53_4"},{"$f":"'（別添４）エネルギー消費効率の根拠（要件ア）'!$HE$43","v":"比較指標/トップランナー基準"},{"$f":"'（別添４）エネルギー消費効率の根拠（要件ア）'!$HF$43","v":0}]
[1462,{"$f":"'（別添４）エネルギー消費効率の根拠（要件ア）'!$HD$44","v":"別添4_53_5"},{"$f":"'（別添４）エネルギー消費効率の根拠（要件ア）'!$HE$44","v":"添付資料の根拠記載箇所"},{"$f":"'（別添４）エネルギー消費効率の根拠（要件ア）'!$HF$44","v":0}]
[1463,{"$f":"'（別添４）エネルギー消費効率の根拠（要件ア）'!$HD$45","v":"別添4_53_6"},{"$f":"'（別添４）エネルギー消費効率の根拠（要件ア）'!$HE$45","v":"省エネ要因"},{"$f":"'（別添４）エネルギー消費効率の根拠（要件ア）'!$HF$45","v":0}]
[1464,{"$f":"'（別添４）エネルギー消費効率の根拠（要件ア）'!$HD$46","v":"別添4_53_7"},{"$f":"'（別添４）エネルギー消費効率の根拠（要件ア）'!$HE$46","v":"導入設備_製品名"},{"$f":"'（別添４）エネルギー消費効率の根拠（要件ア）'!$HF$46","v":0}]
[1465,{"$f":"'（別添４）エネルギー消費効率の根拠（要件ア）'!$HD$47","v":"別添4_53_8"},{"$f":"'（別添４）エネルギー消費効率の根拠（要件ア）'!$HE$47","v":"導入設備_製造メーカー"},{"$f":"'（別添４）エネルギー消費効率の根拠（要件ア）'!$HF$47","v":0}]
[1466,{"$f":"'（別添４）エネルギー消費効率の根拠（要件ア）'!$HD$48","v":"別添4_53_9"},{"$f":"'（別添４）エネルギー消費効率の根拠（要件ア）'!$HE$48","v":"導入設備_型番"},{"$f":"'（別添４）エネルギー消費効率の根拠（要件ア）'!$HF$48","v":0}]
[1467,{"$f":"'（別添４）エネルギー消費効率の根拠（要件ア）'!$HD$49","v":"別添4_53_10"},{"$f":"'（別添４）エネルギー消費効率の根拠（要件ア）'!$HE$49","v":"導入設備_導入台数"},{"$f":"'（別添４）エネルギー消費効率の根拠（要件ア）'!$HF$49","v":"台"}]
[1468,{"$f":"'（別添４）エネルギー消費効率の根拠（要件ア）'!$HD$50","v":"別添4_53_11"},{"$f":"'（別添４）エネルギー消費効率の根拠（要件ア）'!$HE$50","v":"導入設備_1台あたりの使用エネルギー"},{"$f":"'（別添４）エネルギー消費効率の根拠（要件ア）'!$HF$50","v":0}]
[1469,{"$f":"'（別添４）エネルギー消費効率の根拠（要件ア）'!$HD$51","v":"別添4_53_12"},{"$f":"'（別添４）エネルギー消費効率の根拠（要件ア）'!$HE$51","v":"導入設備_年間エネルギー使用量計算式"},{"$f":"'（別添４）エネルギー消費効率の根拠（要件ア）'!$HF$51","v":0}]
[1470,{"$f":"'（別添４）エネルギー消費効率の根拠（要件ア）'!$HD$52","v":"別添4_53_13"},{"$f":"'（別添４）エネルギー消費効率の根拠（要件ア）'!$HE$52","v":"導入設備_計算結果"},{"$f":"'（別添４）エネルギー消費効率の根拠（要件ア）'!$HF$52","v":"単位を選択してください"}]
[1471,{"$f":"'（別添４）エネルギー消費効率の根拠（要件ア）'!$HD$53","v":"別添4_53_14"},{"$f":"'（別添４）エネルギー消費効率の根拠（要件ア）'!$HE$53","v":"一代前モデル_製品名"},{"$f":"'（別添４）エネルギー消費効率の根拠（要件ア）'!$HF$53","v":0}]
[1472,{"$f":"'（別添４）エネルギー消費効率の根拠（要件ア）'!$HD$54","v":"別添4_53_15"},{"$f":"'（別添４）エネルギー消費効率の根拠（要件ア）'!$HE$54","v":"一代前モデル_製造メーカー"},{"$f":"'（別添４）エネルギー消費効率の根拠（要件ア）'!$HF$54","v":0}]
[1473,{"$f":"'（別添４）エネルギー消費効率の根拠（要件ア）'!$HD$55","v":"別添4_53_16"},{"$f":"'（別添４）エネルギー消費効率の根拠（要件ア）'!$HE$55","v":"一代前モデル_型番"},{"$f":"'（別添４）エネルギー消費効率の根拠（要件ア）'!$HF$55","v":0}]
[1474,{"$f":"'（別添４）エネルギー消費効率の根拠（要件ア）'!$HD$56","v":"別添4_53_17"},{"$f":"'（別添４）エネルギー消費効率の根拠（要件ア）'!$HE$56","v":"一代前モデル_導入台数"},{"$f":"'（別添４）エネルギー消費効率の根拠（要件ア）'!$HF$56","v":"台"}]
[1475,{"$f":"'（別添４）エネルギー消費効率の根拠（要件ア）'!$HD$57","v":"別添4_53_18"},{"$f":"'（別添４）エネルギー消費効率の根拠（要件ア）'!$HE$57","v":"一代前モデル_1台あたりの使用エネルギー"},{"$f":"'（別添４）エネルギー消費効率の根拠（要件ア）'!$HF$57","v":0}]
[1476,{"$f":"'（別添４）エネルギー消費効率の根拠（要件ア）'!$HD$58","v":"別添4_53_19"},{"$f":"'（別添４）エネルギー消費効率の根拠（要件ア）'!$HE$58","v":"一代前モデル_年間エネルギー使用量計算式"},{"$f":"'（別添４）エネルギー消費効率の根拠（要件ア）'!$HF$58","v":0}]
[1477,{"$f":"'（別添４）エネルギー消費効率の根拠（要件ア）'!$HD$59","v":"別添4_53_20"},{"$f":"'（別添４）エネルギー消費効率の根拠（要件ア）'!$HE$59","v":"一代前モデル_計算結果"},{"$f":"'（別添４）エネルギー消費効率の根拠（要件ア）'!$HF$59","v":"単位を選択してください"}]
[1478,{"$f":"'（別添４）エネルギー消費効率の根拠（要件ア）'!$HD$60","v":"別添4_53_21"},{"$f":"'（別添４）エネルギー消費効率の根拠（要件ア）'!$HE$60","v":"年間見込み省エネルギー量__計算結果"},{"$f":"'（別添４）エネルギー消費効率の根拠（要件ア）'!$HF$60","v":"0単位を選択してください"}]
[1479,{"$f":"'（別添４）エネルギー消費効率の根拠（要件ア）'!$HD$61","v":"別添4_53_22"},{"$f":"'（別添４）エネルギー消費効率の根拠（要件ア）'!$HE$61","v":"年間見込み省エネルギー量_原油換算計算式"},{"$f":"'（別添４）エネルギー消費効率の根拠（要件ア）'!$HF$61","v":0}]
[1480,{"$f":"'（別添４）エネルギー消費効率の根拠（要件ア）'!$HD$62","v":"別添4_53_23"},{"$f":"'（別添４）エネルギー消費効率の根拠（要件ア）'!$HE$62","v":"年間見込み省エネルギー量原油換算計算結果"},{"$f":"'（別添４）エネルギー消費効率の根拠（要件ア）'!$HF$62","v":0}]
[1481,{"$f":"'（別添４）エネルギー消費効率の根拠（要件ア）'!$HD$63","v":"別添4_53_24"},{"$f":"'（別添４）エネルギー消費効率の根拠（要件ア）'!$HE$63","v":"年間見込み省エネルギー率_自動計算"},{"$f":"'（別添４）エネルギー消費効率の根拠（要件ア）'!$HF$63","v":""}]
[1482,{"$f":"'（別添４）エネルギー消費効率の根拠（要件ア）'!$HH$40","v":"別添4_54_1"},{"$f":"'（別添４）エネルギー消費効率の根拠（要件ア）'!$HI$40","v":"トップランナー基準"},{"$f":"'（別添４）エネルギー消費効率の根拠（要件ア）'!$HJ$40","v":0}]
[{"$f":"ROW()-1","v":1483},{"$f":"'（別添４）エネルギー消費効率の根拠（要件ア）'!$HH$41","v":"別添4_54_2"},{"$f":"'（別添４）エネルギー消費効率の根拠（要件ア）'!$HI$41","v":"トップランナー基準の区分名又は数値"},{"$f":"'（別添４）エネルギー消費効率の根拠（要件ア）'!$HJ$41","v":0}]
[1484,{"$f":"'（別添４）エネルギー消費効率の根拠（要件ア）'!$HH$42","v":"別添4_54_3"},{"$f":"'（別添４）エネルギー消費効率の根拠（要件ア）'!$HI$42","v":"トップランナー基準の数値（導入設備）"},{"$f":"'（別添４）エネルギー消費効率の根拠（要件ア）'!$HJ$42","v":0}]
[1485,{"$f":"'（別添４）エネルギー消費効率の根拠（要件ア）'!$HH$43","v":"別添4_54_4"},{"$f":"'（別添４）エネルギー消費効率の根拠（要件ア）'!$HI$43","v":"比較指標/トップランナー基準"},{"$f":"'（別添４）エネルギー消費効率の根拠（要件ア）'!$HJ$43","v":0}]
[1486,{"$f":"'（別添４）エネルギー消費効率の根拠（要件ア）'!$HH$44","v":"別添4_54_5"},{"$f":"'（別添４）エネルギー消費効率の根拠（要件ア）'!$HI$44","v":"添付資料の根拠記載箇所"},{"$f":"'（別添４）エネルギー消費効率の根拠（要件ア）'!$HJ$44","v":0}]
[1487,{"$f":"'（別添４）エネルギー消費効率の根拠（要件ア）'!$HH$45","v":"別添4_54_6"},{"$f":"'（別添４）エネルギー消費効率の根拠（要件ア）'!$HI$45","v":"省エネ要因"},{"$f":"'（別添４）エネルギー消費効率の根拠（要件ア）'!$HJ$45","v":0}]
[1488,{"$f":"'（別添４）エネルギー消費効率の根拠（要件ア）'!$HH$46","v":"別添4_54_7"},{"$f":"'（別添４）エネルギー消費効率の根拠（要件ア）'!$HI$46","v":"導入設備_製品名"},{"$f":"'（別添４）エネルギー消費効率の根拠（要件ア）'!$HJ$46","v":0}]
[1489,{"$f":"'（別添４）エネルギー消費効率の根拠（要件ア）'!$HH$47","v":"別添4_54_8"},{"$f":"'（別添４）エネルギー消費効率の根拠（要件ア）'!$HI$47","v":"導入設備_製造メーカー"},{"$f":"'（別添４）エネルギー消費効率の根拠（要件ア）'!$HJ$47","v":0}]
[1490,{"$f":"'（別添４）エネルギー消費効率の根拠（要件ア）'!$HH$48","v":"別添4_54_9"},{"$f":"'（別添４）エネルギー消費効率の根拠（要件ア）'!$HI$48","v":"導入設備_型番"},{"$f":"'（別添４）エネルギー消費効率の根拠（要件ア）'!$HJ$48","v":0}]
[1491,{"$f":"'（別添４）エネルギー消費効率の根拠（要件ア）'!$HH$49","v":"別添4_54_10"},{"$f":"'（別添４）エネルギー消費効率の根拠（要件ア）'!$HI$49","v":"導入設備_導入台数"},{"$f":"'（別添４）エネルギー消費効率の根拠（要件ア）'!$HJ$49","v":"台"}]
[1492,{"$f":"'（別添４）エネルギー消費効率の根拠（要件ア）'!$HH$50","v":"別添4_54_11"},{"$f":"'（別添４）エネルギー消費効率の根拠（要件ア）'!$HI$50","v":"導入設備_1台あたりの使用エネルギー"},{"$f":"'（別添４）エネルギー消費効率の根拠（要件ア）'!$HJ$50","v":0}]
[1493,{"$f":"'（別添４）エネルギー消費効率の根拠（要件ア）'!$HH$51","v":"別添4_54_12"},{"$f":"'（別添４）エネルギー消費効率の根拠（要件ア）'!$HI$51","v":"導入設備_年間エネルギー使用量計算式"},{"$f":"'（別添４）エネルギー消費効率の根拠（要件ア）'!$HJ$51","v":0}]
[1494,{"$f":"'（別添４）エネルギー消費効率の根拠（要件ア）'!$HH$52","v":"別添4_54_13"},{"$f":"'（別添４）エネルギー消費効率の根拠（要件ア）'!$HI$52","v":"導入設備_計算結果"},{"$f":"'（別添４）エネルギー消費効率の根拠（要件ア）'!$HJ$52","v":"単位を選択してください"}]
[1495,{"$f":"'（別添４）エネルギー消費効率の根拠（要件ア）'!$HH$53","v":"別添4_54_14"},{"$f":"'（別添４）エネルギー消費効率の根拠（要件ア）'!$HI$53","v":"一代前モデル_製品名"},{"$f":"'（別添４）エネルギー消費効率の根拠（要件ア）'!$HJ$53","v":0}]
[1496,{"$f":"'（別添４）エネルギー消費効率の根拠（要件ア）'!$HH$54","v":"別添4_54_15"},{"$f":"'（別添４）エネルギー消費効率の根拠（要件ア）'!$HI$54","v":"一代前モデル_製造メーカー"},{"$f":"'（別添４）エネルギー消費効率の根拠（要件ア）'!$HJ$54","v":0}]
[1497,{"$f":"'（別添４）エネルギー消費効率の根拠（要件ア）'!$HH$55","v":"別添4_54_16"},{"$f":"'（別添４）エネルギー消費効率の根拠（要件ア）'!$HI$55","v":"一代前モデル_型番"},{"$f":"'（別添４）エネルギー消費効率の根拠（要件ア）'!$HJ$55","v":0}]
[1498,{"$f":"'（別添４）エネルギー消費効率の根拠（要件ア）'!$HH$56","v":"別添4_54_17"},{"$f":"'（別添４）エネルギー消費効率の根拠（要件ア）'!$HI$56","v":"一代前モデル_導入台数"},{"$f":"'（別添４）エネルギー消費効率の根拠（要件ア）'!$HJ$56","v":"台"}]
[1499,{"$f":"'（別添４）エネルギー消費効率の根拠（要件ア）'!$HH$57","v":"別添4_54_18"},{"$f":"'（別添４）エネルギー消費効率の根拠（要件ア）'!$HI$57","v":"一代前モデル_1台あたりの使用エネルギー"},{"$f":"'（別添４）エネルギー消費効率の根拠（要件ア）'!$HJ$57","v":0}]
[1500,{"$f":"'（別添４）エネルギー消費効率の根拠（要件ア）'!$HH$58","v":"別添4_54_19"},{"$f":"'（別添４）エネルギー消費効率の根拠（要件ア）'!$HI$58","v":"一代前モデル_年間エネルギー使用量計算式"},{"$f":"'（別添４）エネルギー消費効率の根拠（要件ア）'!$HJ$58","v":0}]
[1501,{"$f":"'（別添４）エネルギー消費効率の根拠（要件ア）'!$HH$59","v":"別添4_54_20"},{"$f":"'（別添４）エネルギー消費効率の根拠（要件ア）'!$HI$59","v":"一代前モデル_計算結果"},{"$f":"'（別添４）エネルギー消費効率の根拠（要件ア）'!$HJ$59","v":"単位を選択してください"}]
[1502,{"$f":"'（別添４）エネルギー消費効率の根拠（要件ア）'!$HH$60","v":"別添4_54_21"},{"$f":"'（別添４）エネルギー消費効率の根拠（要件ア）'!$HI$60","v":"年間見込み省エネルギー量__計算結果"},{"$f":"'（別添４）エネルギー消費効率の根拠（要件ア）'!$HJ$60","v":"0単位を選択してください"}]
[1503,{"$f":"'（別添４）エネルギー消費効率の根拠（要件ア）'!$HH$61","v":"別添4_54_22"},{"$f":"'（別添４）エネルギー消費効率の根拠（要件ア）'!$HI$61","v":"年間見込み省エネルギー量_原油換算計算式"},{"$f":"'（別添４）エネルギー消費効率の根拠（要件ア）'!$HJ$61","v":0}]
[1504,{"$f":"'（別添４）エネルギー消費効率の根拠（要件ア）'!$HH$62","v":"別添4_54_23"},{"$f":"'（別添４）エネルギー消費効率の根拠（要件ア）'!$HI$62","v":"年間見込み省エネルギー量原油換算計算結果"},{"$f":"'（別添４）エネルギー消費効率の根拠（要件ア）'!$HJ$62","v":0}]
[1505,{"$f":"'（別添４）エネルギー消費効率の根拠（要件ア）'!$HH$63","v":"別添4_54_24"},{"$f":"'（別添４）エネルギー消費効率の根拠（要件ア）'!$HI$63","v":"年間見込み省エネルギー率_自動計算"},{"$f":"'（別添４）エネルギー消費効率の根拠（要件ア）'!$HJ$63","v":""}]
[1506,{"$f":"'（別添４）エネルギー消費効率の根拠（要件ア）'!$HL$40","v":"別添4_55_1"},{"$f":"'（別添４）エネルギー消費効率の根拠（要件ア）'!$HM$40","v":"トップランナー基準"},{"$f":"'（別添４）エネルギー消費効率の根拠（要件ア）'!$HN$40","v":0}]
[1507,{"$f":"'（別添４）エネルギー消費効率の根拠（要件ア）'!$HL$41","v":"別添4_55_2"},{"$f":"'（別添４）エネルギー消費効率の根拠（要件ア）'!$HM$41","v":"トップランナー基準の区分名又は数値"},{"$f":"'（別添４）エネルギー消費効率の根拠（要件ア）'!$HN$41","v":0}]
[1508,{"$f":"'（別添４）エネルギー消費効率の根拠（要件ア）'!$HL$42","v":"別添4_55_3"},{"$f":"'（別添４）エネルギー消費効率の根拠（要件ア）'!$HM$42","v":"トップランナー基準の数値（導入設備）"},{"$f":"'（別添４）エネルギー消費効率の根拠（要件ア）'!$HN$42","v":0}]
[1509,{"$f":"'（別添４）エネルギー消費効率の根拠（要件ア）'!$HL$43","v":"別添4_55_4"},{"$f":"'（別添４）エネルギー消費効率の根拠（要件ア）'!$HM$43","v":"比較指標/トップランナー基準"},{"$f":"'（別添４）エネルギー消費効率の根拠（要件ア）'!$HN$43","v":0}]
[1510,{"$f":"'（別添４）エネルギー消費効率の根拠（要件ア）'!$HL$44","v":"別添4_55_5"},{"$f":"'（別添４）エネルギー消費効率の根拠（要件ア）'!$HM$44","v":"添付資料の根拠記載箇所"},{"$f":"'（別添４）エネルギー消費効率の根拠（要件ア）'!$HN$44","v":0}]
[1511,{"$f":"'（別添４）エネルギー消費効率の根拠（要件ア）'!$HL$45","v":"別添4_55_6"},{"$f":"'（別添４）エネルギー消費効率の根拠（要件ア）'!$HM$45","v":"省エネ要因"},{"$f":"'（別添４）エネルギー消費効率の根拠（要件ア）'!$HN$45","v":0}]
[1512,{"$f":"'（別添４）エネルギー消費効率の根拠（要件ア）'!$HL$46","v":"別添4_55_7"},{"$f":"'（別添４）エネルギー消費効率の根拠（要件ア）'!$HM$46","v":"導入設備_製品名"},{"$f":"'（別添４）エネルギー消費効率の根拠（要件ア）'!$HN$46","v":0}]
[1513,{"$f":"'（別添４）エネルギー消費効率の根拠（要件ア）'!$HL$47","v":"別添4_55_8"},{"$f":"'（別添４）エネルギー消費効率の根拠（要件ア）'!$HM$47","v":"導入設備_製造メーカー"},{"$f":"'（別添４）エネルギー消費効率の根拠（要件ア）'!$HN$47","v":0}]
[1514,{"$f":"'（別添４）エネルギー消費効率の根拠（要件ア）'!$HL$48","v":"別添4_55_9"},{"$f":"'（別添４）エネルギー消費効率の根拠（要件ア）'!$HM$48","v":"導入設備_型番"},{"$f":"'（別添４）エネルギー消費効率の根拠（要件ア）'!$HN$48","v":0}]
[1515,{"$f":"'（別添４）エネルギー消費効率の根拠（要件ア）'!$HL$49","v":"別添4_55_10"},{"$f":"'（別添４）エネルギー消費効率の根拠（要件ア）'!$HM$49","v":"導入設備_導入台数"},{"$f":"'（別添４）エネルギー消費効率の根拠（要件ア）'!$HN$49","v":"台"}]
[1516,{"$f":"'（別添４）エネルギー消費効率の根拠（要件ア）'!$HL$50","v":"別添4_55_11"},{"$f":"'（別添４）エネルギー消費効率の根拠（要件ア）'!$HM$50","v":"導入設備_1台あたりの使用エネルギー"},{"$f":"'（別添４）エネルギー消費効率の根拠（要件ア）'!$HN$50","v":0}]
[1517,{"$f":"'（別添４）エネルギー消費効率の根拠（要件ア）'!$HL$51","v":"別添4_55_12"},{"$f":"'（別添４）エネルギー消費効率の根拠（要件ア）'!$HM$51","v":"導入設備_年間エネルギー使用量計算式"},{"$f":"'（別添４）エネルギー消費効率の根拠（要件ア）'!$HN$51","v":0}]
[1518,{"$f":"'（別添４）エネルギー消費効率の根拠（要件ア）'!$HL$52","v":"別添4_55_13"},{"$f":"'（別添４）エネルギー消費効率の根拠（要件ア）'!$HM$52","v":"導入設備_計算結果"},{"$f":"'（別添４）エネルギー消費効率の根拠（要件ア）'!$HN$52","v":"単位を選択してください"}]
[1519,{"$f":"'（別添４）エネルギー消費効率の根拠（要件ア）'!$HL$53","v":"別添4_55_14"},{"$f":"'（別添４）エネルギー消費効率の根拠（要件ア）'!$HM$53","v":"一代前モデル_製品名"},{"$f":"'（別添４）エネルギー消費効率の根拠（要件ア）'!$HN$53","v":0}]
[1520,{"$f":"'（別添４）エネルギー消費効率の根拠（要件ア）'!$HL$54","v":"別添4_55_15"},{"$f":"'（別添４）エネルギー消費効率の根拠（要件ア）'!$HM$54","v":"一代前モデル_製造メーカー"},{"$f":"'（別添４）エネルギー消費効率の根拠（要件ア）'!$HN$54","v":0}]
[1521,{"$f":"'（別添４）エネルギー消費効率の根拠（要件ア）'!$HL$55","v":"別添4_55_16"},{"$f":"'（別添４）エネルギー消費効率の根拠（要件ア）'!$HM$55","v":"一代前モデル_型番"},{"$f":"'（別添４）エネルギー消費効率の根拠（要件ア）'!$HN$55","v":0}]
[1522,{"$f":"'（別添４）エネルギー消費効率の根拠（要件ア）'!$HL$56","v":"別添4_55_17"},{"$f":"'（別添４）エネルギー消費効率の根拠（要件ア）'!$HM$56","v":"一代前モデル_導入台数"},{"$f":"'（別添４）エネルギー消費効率の根拠（要件ア）'!$HN$56","v":"台"}]
[1523,{"$f":"'（別添４）エネルギー消費効率の根拠（要件ア）'!$HL$57","v":"別添4_55_18"},{"$f":"'（別添４）エネルギー消費効率の根拠（要件ア）'!$HM$57","v":"一代前モデル_1台あたりの使用エネルギー"},{"$f":"'（別添４）エネルギー消費効率の根拠（要件ア）'!$HN$57","v":0}]
[1524,{"$f":"'（別添４）エネルギー消費効率の根拠（要件ア）'!$HL$58","v":"別添4_55_19"},{"$f":"'（別添４）エネルギー消費効率の根拠（要件ア）'!$HM$58","v":"一代前モデル_年間エネルギー使用量計算式"},{"$f":"'（別添４）エネルギー消費効率の根拠（要件ア）'!$HN$58","v":0}]
[1525,{"$f":"'（別添４）エネルギー消費効率の根拠（要件ア）'!$HL$59","v":"別添4_55_20"},{"$f":"'（別添４）エネルギー消費効率の根拠（要件ア）'!$HM$59","v":"一代前モデル_計算結果"},{"$f":"'（別添４）エネルギー消費効率の根拠（要件ア）'!$HN$59","v":"単位を選択してください"}]
[1526,{"$f":"'（別添４）エネルギー消費効率の根拠（要件ア）'!$HL$60","v":"別添4_55_21"},{"$f":"'（別添４）エネルギー消費効率の根拠（要件ア）'!$HM$60","v":"年間見込み省エネルギー量__計算結果"},{"$f":"'（別添４）エネルギー消費効率の根拠（要件ア）'!$HN$60","v":"0単位を選択してください"}]
[1527,{"$f":"'（別添４）エネルギー消費効率の根拠（要件ア）'!$HL$61","v":"別添4_55_22"},{"$f":"'（別添４）エネルギー消費効率の根拠（要件ア）'!$HM$61","v":"年間見込み省エネルギー量_原油換算計算式"},{"$f":"'（別添４）エネルギー消費効率の根拠（要件ア）'!$HN$61","v":0}]
[1528,{"$f":"'（別添４）エネルギー消費効率の根拠（要件ア）'!$HL$62","v":"別添4_55_23"},{"$f":"'（別添４）エネルギー消費効率の根拠（要件ア）'!$HM$62","v":"年間見込み省エネルギー量原油換算計算結果"},{"$f":"'（別添４）エネルギー消費効率の根拠（要件ア）'!$HN$62","v":0}]
[1529,{"$f":"'（別添４）エネルギー消費効率の根拠（要件ア）'!$HL$63","v":"別添4_55_24"},{"$f":"'（別添４）エネルギー消費効率の根拠（要件ア）'!$HM$63","v":"年間見込み省エネルギー率_自動計算"},{"$f":"'（別添４）エネルギー消費効率の根拠（要件ア）'!$HN$63","v":""}]
[1530,{"$f":"'（別添４）エネルギー消費効率の根拠（要件ア）'!$HP$40","v":"別添4_56_1"},{"$f":"'（別添４）エネルギー消費効率の根拠（要件ア）'!$HQ$40","v":"トップランナー基準"},{"$f":"'（別添４）エネルギー消費効率の根拠（要件ア）'!$HR$40","v":0}]
[1531,{"$f":"'（別添４）エネルギー消費効率の根拠（要件ア）'!$HP$41","v":"別添4_56_2"},{"$f":"'（別添４）エネルギー消費効率の根拠（要件ア）'!$HQ$41","v":"トップランナー基準の区分名又は数値"},{"$f":"'（別添４）エネルギー消費効率の根拠（要件ア）'!$HR$41","v":0}]
[1532,{"$f":"'（別添４）エネルギー消費効率の根拠（要件ア）'!$HP$42","v":"別添4_56_3"},{"$f":"'（別添４）エネルギー消費効率の根拠（要件ア）'!$HQ$42","v":"トップランナー基準の数値（導入設備）"},{"$f":"'（別添４）エネルギー消費効率の根拠（要件ア）'!$HR$42","v":0}]
[1533,{"$f":"'（別添４）エネルギー消費効率の根拠（要件ア）'!$HP$43","v":"別添4_56_4"},{"$f":"'（別添４）エネルギー消費効率の根拠（要件ア）'!$HQ$43","v":"比較指標/トップランナー基準"},{"$f":"'（別添４）エネルギー消費効率の根拠（要件ア）'!$HR$43","v":0}]
[1534,{"$f":"'（別添４）エネルギー消費効率の根拠（要件ア）'!$HP$44","v":"別添4_56_5"},{"$f":"'（別添４）エネルギー消費効率の根拠（要件ア）'!$HQ$44","v":"添付資料の根拠記載箇所"},{"$f":"'（別添４）エネルギー消費効率の根拠（要件ア）'!$HR$44","v":0}]
[1535,{"$f":"'（別添４）エネルギー消費効率の根拠（要件ア）'!$HP$45","v":"別添4_56_6"},{"$f":"'（別添４）エネルギー消費効率の根拠（要件ア）'!$HQ$45","v":"省エネ要因"},{"$f":"'（別添４）エネルギー消費効率の根拠（要件ア）'!$HR$45","v":0}]
[1536,{"$f":"'（別添４）エネルギー消費効率の根拠（要件ア）'!$HP$46","v":"別添4_56_7"},{"$f":"'（別添４）エネルギー消費効率の根拠（要件ア）'!$HQ$46","v":"導入設備_製品名"},{"$f":"'（別添４）エネルギー消費効率の根拠（要件ア）'!$HR$46","v":0}]
[1537,{"$f":"'（別添４）エネルギー消費効率の根拠（要件ア）'!$HP$47","v":"別添4_56_8"},{"$f":"'（別添４）エネルギー消費効率の根拠（要件ア）'!$HQ$47","v":"導入設備_製造メーカー"},{"$f":"'（別添４）エネルギー消費効率の根拠（要件ア）'!$HR$47","v":0}]
[1538,{"$f":"'（別添４）エネルギー消費効率の根拠（要件ア）'!$HP$48","v":"別添4_56_9"},{"$f":"'（別添４）エネルギー消費効率の根拠（要件ア）'!$HQ$48","v":"導入設備_型番"},{"$f":"'（別添４）エネルギー消費効率の根拠（要件ア）'!$HR$48","v":0}]
[1539,{"$f":"'（別添４）エネルギー消費効率の根拠（要件ア）'!$HP$49","v":"別添4_56_10"},{"$f":"'（別添４）エネルギー消費効率の根拠（要件ア）'!$HQ$49","v":"導入設備_導入台数"},{"$f":"'（別添４）エネルギー消費効率の根拠（要件ア）'!$HR$49","v":"台"}]
[1540,{"$f":"'（別添４）エネルギー消費効率の根拠（要件ア）'!$HP$50","v":"別添4_56_11"},{"$f":"'（別添４）エネルギー消費効率の根拠（要件ア）'!$HQ$50","v":"導入設備_1台あたりの使用エネルギー"},{"$f":"'（別添４）エネルギー消費効率の根拠（要件ア）'!$HR$50","v":0}]
[1541,{"$f":"'（別添４）エネルギー消費効率の根拠（要件ア）'!$HP$51","v":"別添4_56_12"},{"$f":"'（別添４）エネルギー消費効率の根拠（要件ア）'!$HQ$51","v":"導入設備_年間エネルギー使用量計算式"},{"$f":"'（別添４）エネルギー消費効率の根拠（要件ア）'!$HR$51","v":0}]
[1542,{"$f":"'（別添４）エネルギー消費効率の根拠（要件ア）'!$HP$52","v":"別添4_56_13"},{"$f":"'（別添４）エネルギー消費効率の根拠（要件ア）'!$HQ$52","v":"導入設備_計算結果"},{"$f":"'（別添４）エネルギー消費効率の根拠（要件ア）'!$HR$52","v":"単位を選択してください"}]
[1543,{"$f":"'（別添４）エネルギー消費効率の根拠（要件ア）'!$HP$53","v":"別添4_56_14"},{"$f":"'（別添４）エネルギー消費効率の根拠（要件ア）'!$HQ$53","v":"一代前モデル_製品名"},{"$f":"'（別添４）エネルギー消費効率の根拠（要件ア）'!$HR$53","v":0}]
[1544,{"$f":"'（別添４）エネルギー消費効率の根拠（要件ア）'!$HP$54","v":"別添4_56_15"},{"$f":"'（別添４）エネルギー消費効率の根拠（要件ア）'!$HQ$54","v":"一代前モデル_製造メーカー"},{"$f":"'（別添４）エネルギー消費効率の根拠（要件ア）'!$HR$54","v":0}]
[1545,{"$f":"'（別添４）エネルギー消費効率の根拠（要件ア）'!$HP$55","v":"別添4_56_16"},{"$f":"'（別添４）エネルギー消費効率の根拠（要件ア）'!$HQ$55","v":"一代前モデル_型番"},{"$f":"'（別添４）エネルギー消費効率の根拠（要件ア）'!$HR$55","v":0}]
[1546,{"$f":"'（別添４）エネルギー消費効率の根拠（要件ア）'!$HP$56","v":"別添4_56_17"},{"$f":"'（別添４）エネルギー消費効率の根拠（要件ア）'!$HQ$56","v":"一代前モデル_導入台数"},{"$f":"'（別添４）エネルギー消費効率の根拠（要件ア）'!$HR$56","v":"台"}]
[{"$f":"ROW()-1","v":1547},{"$f":"'（別添４）エネルギー消費効率の根拠（要件ア）'!$HP$57","v":"別添4_56_18"},{"$f":"'（別添４）エネルギー消費効率の根拠（要件ア）'!$HQ$57","v":"一代前モデル_1台あたりの使用エネルギー"},{"$f":"'（別添４）エネルギー消費効率の根拠（要件ア）'!$HR$57","v":0}]
[1548,{"$f":"'（別添４）エネルギー消費効率の根拠（要件ア）'!$HP$58","v":"別添4_56_19"},{"$f":"'（別添４）エネルギー消費効率の根拠（要件ア）'!$HQ$58","v":"一代前モデル_年間エネルギー使用量計算式"},{"$f":"'（別添４）エネルギー消費効率の根拠（要件ア）'!$HR$58","v":0}]
[1549,{"$f":"'（別添４）エネルギー消費効率の根拠（要件ア）'!$HP$59","v":"別添4_56_20"},{"$f":"'（別添４）エネルギー消費効率の根拠（要件ア）'!$HQ$59","v":"一代前モデル_計算結果"},{"$f":"'（別添４）エネルギー消費効率の根拠（要件ア）'!$HR$59","v":"単位を選択してください"}]
[1550,{"$f":"'（別添４）エネルギー消費効率の根拠（要件ア）'!$HP$60","v":"別添4_56_21"},{"$f":"'（別添４）エネルギー消費効率の根拠（要件ア）'!$HQ$60","v":"年間見込み省エネルギー量__計算結果"},{"$f":"'（別添４）エネルギー消費効率の根拠（要件ア）'!$HR$60","v":"0単位を選択してください"}]
[1551,{"$f":"'（別添４）エネルギー消費効率の根拠（要件ア）'!$HP$61","v":"別添4_56_22"},{"$f":"'（別添４）エネルギー消費効率の根拠（要件ア）'!$HQ$61","v":"年間見込み省エネルギー量_原油換算計算式"},{"$f":"'（別添４）エネルギー消費効率の根拠（要件ア）'!$HR$61","v":0}]
[1552,{"$f":"'（別添４）エネルギー消費効率の根拠（要件ア）'!$HP$62","v":"別添4_56_23"},{"$f":"'（別添４）エネルギー消費効率の根拠（要件ア）'!$HQ$62","v":"年間見込み省エネルギー量原油換算計算結果"},{"$f":"'（別添４）エネルギー消費効率の根拠（要件ア）'!$HR$62","v":0}]
[1553,{"$f":"'（別添４）エネルギー消費効率の根拠（要件ア）'!$HP$63","v":"別添4_56_24"},{"$f":"'（別添４）エネルギー消費効率の根拠（要件ア）'!$HQ$63","v":"年間見込み省エネルギー率_自動計算"},{"$f":"'（別添４）エネルギー消費効率の根拠（要件ア）'!$HR$63","v":""}]
[1554,{"$f":"'（別添４）エネルギー消費効率の根拠（要件ア）'!$HT$40","v":"別添4_57_1"},{"$f":"'（別添４）エネルギー消費効率の根拠（要件ア）'!$HU$40","v":"トップランナー基準"},{"$f":"'（別添４）エネルギー消費効率の根拠（要件ア）'!$HV$40","v":0}]
[1555,{"$f":"'（別添４）エネルギー消費効率の根拠（要件ア）'!$HT$41","v":"別添4_57_2"},{"$f":"'（別添４）エネルギー消費効率の根拠（要件ア）'!$HU$41","v":"トップランナー基準の区分名又は数値"},{"$f":"'（別添４）エネルギー消費効率の根拠（要件ア）'!$HV$41","v":0}]
[1556,{"$f":"'（別添４）エネルギー消費効率の根拠（要件ア）'!$HT$42","v":"別添4_57_3"},{"$f":"'（別添４）エネルギー消費効率の根拠（要件ア）'!$HU$42","v":"トップランナー基準の数値（導入設備）"},{"$f":"'（別添４）エネルギー消費効率の根拠（要件ア）'!$HV$42","v":0}]
[1557,{"$f":"'（別添４）エネルギー消費効率の根拠（要件ア）'!$HT$43","v":"別添4_57_4"},{"$f":"'（別添４）エネルギー消費効率の根拠（要件ア）'!$HU$43","v":"比較指標/トップランナー基準"},{"$f":"'（別添４）エネルギー消費効率の根拠（要件ア）'!$HV$43","v":0}]
[1558,{"$f":"'（別添４）エネルギー消費効率の根拠（要件ア）'!$HT$44","v":"別添4_57_5"},{"$f":"'（別添４）エネルギー消費効率の根拠（要件ア）'!$HU$44","v":"添付資料の根拠記載箇所"},{"$f":"'（別添４）エネルギー消費効率の根拠（要件ア）'!$HV$44","v":0}]
[1559,{"$f":"'（別添４）エネルギー消費効率の根拠（要件ア）'!$HT$45","v":"別添4_57_6"},{"$f":"'（別添４）エネルギー消費効率の根拠（要件ア）'!$HU$45","v":"省エネ要因"},{"$f":"'（別添４）エネルギー消費効率の根拠（要件ア）'!$HV$45","v":0}]
[1560,{"$f":"'（別添４）エネルギー消費効率の根拠（要件ア）'!$HT$46","v":"別添4_57_7"},{"$f":"'（別添４）エネルギー消費効率の根拠（要件ア）'!$HU$46","v":"導入設備_製品名"},{"$f":"'（別添４）エネルギー消費効率の根拠（要件ア）'!$HV$46","v":0}]
[1561,{"$f":"'（別添４）エネルギー消費効率の根拠（要件ア）'!$HT$47","v":"別添4_57_8"},{"$f":"'（別添４）エネルギー消費効率の根拠（要件ア）'!$HU$47","v":"導入設備_製造メーカー"},{"$f":"'（別添４）エネルギー消費効率の根拠（要件ア）'!$HV$47","v":0}]
[1562,{"$f":"'（別添４）エネルギー消費効率の根拠（要件ア）'!$HT$48","v":"別添4_57_9"},{"$f":"'（別添４）エネルギー消費効率の根拠（要件ア）'!$HU$48","v":"導入設備_型番"},{"$f":"'（別添４）エネルギー消費効率の根拠（要件ア）'!$HV$48","v":0}]
[1563,{"$f":"'（別添４）エネルギー消費効率の根拠（要件ア）'!$HT$49","v":"別添4_57_10"},{"$f":"'（別添４）エネルギー消費効率の根拠（要件ア）'!$HU$49","v":"導入設備_導入台数"},{"$f":"'（別添４）エネルギー消費効率の根拠（要件ア）'!$HV$49","v":"台"}]
[1564,{"$f":"'（別添４）エネルギー消費効率の根拠（要件ア）'!$HT$50","v":"別添4_57_11"},{"$f":"'（別添４）エネルギー消費効率の根拠（要件ア）'!$HU$50","v":"導入設備_1台あたりの使用エネルギー"},{"$f":"'（別添４）エネルギー消費効率の根拠（要件ア）'!$HV$50","v":0}]
[1565,{"$f":"'（別添４）エネルギー消費効率の根拠（要件ア）'!$HT$51","v":"別添4_57_12"},{"$f":"'（別添４）エネルギー消費効率の根拠（要件ア）'!$HU$51","v":"導入設備_年間エネルギー使用量計算式"},{"$f":"'（別添４）エネルギー消費効率の根拠（要件ア）'!$HV$51","v":0}]
[1566,{"$f":"'（別添４）エネルギー消費効率の根拠（要件ア）'!$HT$52","v":"別添4_57_13"},{"$f":"'（別添４）エネルギー消費効率の根拠（要件ア）'!$HU$52","v":"導入設備_計算結果"},{"$f":"'（別添４）エネルギー消費効率の根拠（要件ア）'!$HV$52","v":"単位を選択してください"}]
[1567,{"$f":"'（別添４）エネルギー消費効率の根拠（要件ア）'!$HT$53","v":"別添4_57_14"},{"$f":"'（別添４）エネルギー消費効率の根拠（要件ア）'!$HU$53","v":"一代前モデル_製品名"},{"$f":"'（別添４）エネルギー消費効率の根拠（要件ア）'!$HV$53","v":0}]
[1568,{"$f":"'（別添４）エネルギー消費効率の根拠（要件ア）'!$HT$54","v":"別添4_57_15"},{"$f":"'（別添４）エネルギー消費効率の根拠（要件ア）'!$HU$54","v":"一代前モデル_製造メーカー"},{"$f":"'（別添４）エネルギー消費効率の根拠（要件ア）'!$HV$54","v":0}]
[1569,{"$f":"'（別添４）エネルギー消費効率の根拠（要件ア）'!$HT$55","v":"別添4_57_16"},{"$f":"'（別添４）エネルギー消費効率の根拠（要件ア）'!$HU$55","v":"一代前モデル_型番"},{"$f":"'（別添４）エネルギー消費効率の根拠（要件ア）'!$HV$55","v":0}]
[1570,{"$f":"'（別添４）エネルギー消費効率の根拠（要件ア）'!$HT$56","v":"別添4_57_17"},{"$f":"'（別添４）エネルギー消費効率の根拠（要件ア）'!$HU$56","v":"一代前モデル_導入台数"},{"$f":"'（別添４）エネルギー消費効率の根拠（要件ア）'!$HV$56","v":"台"}]
[1571,{"$f":"'（別添４）エネルギー消費効率の根拠（要件ア）'!$HT$57","v":"別添4_57_18"},{"$f":"'（別添４）エネルギー消費効率の根拠（要件ア）'!$HU$57","v":"一代前モデル_1台あたりの使用エネルギー"},{"$f":"'（別添４）エネルギー消費効率の根拠（要件ア）'!$HV$57","v":0}]
[1572,{"$f":"'（別添４）エネルギー消費効率の根拠（要件ア）'!$HT$58","v":"別添4_57_19"},{"$f":"'（別添４）エネルギー消費効率の根拠（要件ア）'!$HU$58","v":"一代前モデル_年間エネルギー使用量計算式"},{"$f":"'（別添４）エネルギー消費効率の根拠（要件ア）'!$HV$58","v":0}]
[1573,{"$f":"'（別添４）エネルギー消費効率の根拠（要件ア）'!$HT$59","v":"別添4_57_20"},{"$f":"'（別添４）エネルギー消費効率の根拠（要件ア）'!$HU$59","v":"一代前モデル_計算結果"},{"$f":"'（別添４）エネルギー消費効率の根拠（要件ア）'!$HV$59","v":"単位を選択してください"}]
[1574,{"$f":"'（別添４）エネルギー消費効率の根拠（要件ア）'!$HT$60","v":"別添4_57_21"},{"$f":"'（別添４）エネルギー消費効率の根拠（要件ア）'!$HU$60","v":"年間見込み省エネルギー量__計算結果"},{"$f":"'（別添４）エネルギー消費効率の根拠（要件ア）'!$HV$60","v":"0単位を選択してください"}]
[1575,{"$f":"'（別添４）エネルギー消費効率の根拠（要件ア）'!$HT$61","v":"別添4_57_22"},{"$f":"'（別添４）エネルギー消費効率の根拠（要件ア）'!$HU$61","v":"年間見込み省エネルギー量_原油換算計算式"},{"$f":"'（別添４）エネルギー消費効率の根拠（要件ア）'!$HV$61","v":0}]
[1576,{"$f":"'（別添４）エネルギー消費効率の根拠（要件ア）'!$HT$62","v":"別添4_57_23"},{"$f":"'（別添４）エネルギー消費効率の根拠（要件ア）'!$HU$62","v":"年間見込み省エネルギー量原油換算計算結果"},{"$f":"'（別添４）エネルギー消費効率の根拠（要件ア）'!$HV$62","v":0}]
[1577,{"$f":"'（別添４）エネルギー消費効率の根拠（要件ア）'!$HT$63","v":"別添4_57_24"},{"$f":"'（別添４）エネルギー消費効率の根拠（要件ア）'!$HU$63","v":"年間見込み省エネルギー率_自動計算"},{"$f":"'（別添４）エネルギー消費効率の根拠（要件ア）'!$HV$63","v":""}]
[1578,{"$f":"'（別添４）エネルギー消費効率の根拠（要件ア）'!$HX$40","v":"別添4_58_1"},{"$f":"'（別添４）エネルギー消費効率の根拠（要件ア）'!$HY$40","v":"トップランナー基準"},{"$f":"'（別添４）エネルギー消費効率の根拠（要件ア）'!$HZ$40","v":0}]
[1579,{"$f":"'（別添４）エネルギー消費効率の根拠（要件ア）'!$HX$41","v":"別添4_58_2"},{"$f":"'（別添４）エネルギー消費効率の根拠（要件ア）'!$HY$41","v":"トップランナー基準の区分名又は数値"},{"$f":"'（別添４）エネルギー消費効率の根拠（要件ア）'!$HZ$41","v":0}]
[1580,{"$f":"'（別添４）エネルギー消費効率の根拠（要件ア）'!$HX$42","v":"別添4_58_3"},{"$f":"'（別添４）エネルギー消費効率の根拠（要件ア）'!$HY$42","v":"トップランナー基準の数値（導入設備）"},{"$f":"'（別添４）エネルギー消費効率の根拠（要件ア）'!$HZ$42","v":0}]
[1581,{"$f":"'（別添４）エネルギー消費効率の根拠（要件ア）'!$HX$43","v":"別添4_58_4"},{"$f":"'（別添４）エネルギー消費効率の根拠（要件ア）'!$HY$43","v":"比較指標/トップランナー基準"},{"$f":"'（別添４）エネルギー消費効率の根拠（要件ア）'!$HZ$43","v":0}]
[1582,{"$f":"'（別添４）エネルギー消費効率の根拠（要件ア）'!$HX$44","v":"別添4_58_5"},{"$f":"'（別添４）エネルギー消費効率の根拠（要件ア）'!$HY$44","v":"添付資料の根拠記載箇所"},{"$f":"'（別添４）エネルギー消費効率の根拠（要件ア）'!$HZ$44","v":0}]
[1583,{"$f":"'（別添４）エネルギー消費効率の根拠（要件ア）'!$HX$45","v":"別添4_58_6"},{"$f":"'（別添４）エネルギー消費効率の根拠（要件ア）'!$HY$45","v":"省エネ要因"},{"$f":"'（別添４）エネルギー消費効率の根拠（要件ア）'!$HZ$45","v":0}]
[1584,{"$f":"'（別添４）エネルギー消費効率の根拠（要件ア）'!$HX$46","v":"別添4_58_7"},{"$f":"'（別添４）エネルギー消費効率の根拠（要件ア）'!$HY$46","v":"導入設備_製品名"},{"$f":"'（別添４）エネルギー消費効率の根拠（要件ア）'!$HZ$46","v":0}]
[1585,{"$f":"'（別添４）エネルギー消費効率の根拠（要件ア）'!$HX$47","v":"別添4_58_8"},{"$f":"'（別添４）エネルギー消費効率の根拠（要件ア）'!$HY$47","v":"導入設備_製造メーカー"},{"$f":"'（別添４）エネルギー消費効率の根拠（要件ア）'!$HZ$47","v":0}]
[1586,{"$f":"'（別添４）エネルギー消費効率の根拠（要件ア）'!$HX$48","v":"別添4_58_9"},{"$f":"'（別添４）エネルギー消費効率の根拠（要件ア）'!$HY$48","v":"導入設備_型番"},{"$f":"'（別添４）エネルギー消費効率の根拠（要件ア）'!$HZ$48","v":0}]
[1587,{"$f":"'（別添４）エネルギー消費効率の根拠（要件ア）'!$HX$49","v":"別添4_58_10"},{"$f":"'（別添４）エネルギー消費効率の根拠（要件ア）'!$HY$49","v":"導入設備_導入台数"},{"$f":"'（別添４）エネルギー消費効率の根拠（要件ア）'!$HZ$49","v":"台"}]
[1588,{"$f":"'（別添４）エネルギー消費効率の根拠（要件ア）'!$HX$50","v":"別添4_58_11"},{"$f":"'（別添４）エネルギー消費効率の根拠（要件ア）'!$HY$50","v":"導入設備_1台あたりの使用エネルギー"},{"$f":"'（別添４）エネルギー消費効率の根拠（要件ア）'!$HZ$50","v":0}]
[1589,{"$f":"'（別添４）エネルギー消費効率の根拠（要件ア）'!$HX$51","v":"別添4_58_12"},{"$f":"'（別添４）エネルギー消費効率の根拠（要件ア）'!$HY$51","v":"導入設備_年間エネルギー使用量計算式"},{"$f":"'（別添４）エネルギー消費効率の根拠（要件ア）'!$HZ$51","v":0}]
[1590,{"$f":"'（別添４）エネルギー消費効率の根拠（要件ア）'!$HX$52","v":"別添4_58_13"},{"$f":"'（別添４）エネルギー消費効率の根拠（要件ア）'!$HY$52","v":"導入設備_計算結果"},{"$f":"'（別添４）エネルギー消費効率の根拠（要件ア）'!$HZ$52","v":"単位を選択してください"}]
[1591,{"$f":"'（別添４）エネルギー消費効率の根拠（要件ア）'!$HX$53","v":"別添4_58_14"},{"$f":"'（別添４）エネルギー消費効率の根拠（要件ア）'!$HY$53","v":"一代前モデル_製品名"},{"$f":"'（別添４）エネルギー消費効率の根拠（要件ア）'!$HZ$53","v":0}]
[1592,{"$f":"'（別添４）エネルギー消費効率の根拠（要件ア）'!$HX$54","v":"別添4_58_15"},{"$f":"'（別添４）エネルギー消費効率の根拠（要件ア）'!$HY$54","v":"一代前モデル_製造メーカー"},{"$f":"'（別添４）エネルギー消費効率の根拠（要件ア）'!$HZ$54","v":0}]
[1593,{"$f":"'（別添４）エネルギー消費効率の根拠（要件ア）'!$HX$55","v":"別添4_58_16"},{"$f":"'（別添４）エネルギー消費効率の根拠（要件ア）'!$HY$55","v":"一代前モデル_型番"},{"$f":"'（別添４）エネルギー消費効率の根拠（要件ア）'!$HZ$55","v":0}]
[1594,{"$f":"'（別添４）エネルギー消費効率の根拠（要件ア）'!$HX$56","v":"別添4_58_17"},{"$f":"'（別添４）エネルギー消費効率の根拠（要件ア）'!$HY$56","v":"一代前モデル_導入台数"},{"$f":"'（別添４）エネルギー消費効率の根拠（要件ア）'!$HZ$56","v":"台"}]
[1595,{"$f":"'（別添４）エネルギー消費効率の根拠（要件ア）'!$HX$57","v":"別添4_58_18"},{"$f":"'（別添４）エネルギー消費効率の根拠（要件ア）'!$HY$57","v":"一代前モデル_1台あたりの使用エネルギー"},{"$f":"'（別添４）エネルギー消費効率の根拠（要件ア）'!$HZ$57","v":0}]
[1596,{"$f":"'（別添４）エネルギー消費効率の根拠（要件ア）'!$HX$58","v":"別添4_58_19"},{"$f":"'（別添４）エネルギー消費効率の根拠（要件ア）'!$HY$58","v":"一代前モデル_年間エネルギー使用量計算式"},{"$f":"'（別添４）エネルギー消費効率の根拠（要件ア）'!$HZ$58","v":0}]
[1597,{"$f":"'（別添４）エネルギー消費効率の根拠（要件ア）'!$HX$59","v":"別添4_58_20"},{"$f":"'（別添４）エネルギー消費効率の根拠（要件ア）'!$HY$59","v":"一代前モデル_計算結果"},{"$f":"'（別添４）エネルギー消費効率の根拠（要件ア）'!$HZ$59","v":"単位を選択してください"}]
[1598,{"$f":"'（別添４）エネルギー消費効率の根拠（要件ア）'!$HX$60","v":"別添4_58_21"},{"$f":"'（別添４）エネルギー消費効率の根拠（要件ア）'!$HY$60","v":"年間見込み省エネルギー量__計算結果"},{"$f":"'（別添４）エネルギー消費効率の根拠（要件ア）'!$HZ$60","v":"0単位を選択してください"}]
[1599,{"$f":"'（別添４）エネルギー消費効率の根拠（要件ア）'!$HX$61","v":"別添4_58_22"},{"$f":"'（別添４）エネルギー消費効率の根拠（要件ア）'!$HY$61","v":"年間見込み省エネルギー量_原油換算計算式"},{"$f":"'（別添４）エネルギー消費効率の根拠（要件ア）'!$HZ$61","v":0}]
[1600,{"$f":"'（別添４）エネルギー消費効率の根拠（要件ア）'!$HX$62","v":"別添4_58_23"},{"$f":"'（別添４）エネルギー消費効率の根拠（要件ア）'!$HY$62","v":"年間見込み省エネルギー量原油換算計算結果"},{"$f":"'（別添４）エネルギー消費効率の根拠（要件ア）'!$HZ$62","v":0}]
[1601,{"$f":"'（別添４）エネルギー消費効率の根拠（要件ア）'!$HX$63","v":"別添4_58_24"},{"$f":"'（別添４）エネルギー消費効率の根拠（要件ア）'!$HY$63","v":"年間見込み省エネルギー率_自動計算"},{"$f":"'（別添４）エネルギー消費効率の根拠（要件ア）'!$HZ$63","v":""}]
[1602,{"$f":"'（別添４）エネルギー消費効率の根拠（要件ア）'!$IB$40","v":"別添4_59_1"},{"$f":"'（別添４）エネルギー消費効率の根拠（要件ア）'!$IC$40","v":"トップランナー基準"},{"$f":"'（別添４）エネルギー消費効率の根拠（要件ア）'!$ID$40","v":0}]
[1603,{"$f":"'（別添４）エネルギー消費効率の根拠（要件ア）'!$IB$41","v":"別添4_59_2"},{"$f":"'（別添４）エネルギー消費効率の根拠（要件ア）'!$IC$41","v":"トップランナー基準の区分名又は数値"},{"$f":"'（別添４）エネルギー消費効率の根拠（要件ア）'!$ID$41","v":0}]
[1604,{"$f":"'（別添４）エネルギー消費効率の根拠（要件ア）'!$IB$42","v":"別添4_59_3"},{"$f":"'（別添４）エネルギー消費効率の根拠（要件ア）'!$IC$42","v":"トップランナー基準の数値（導入設備）"},{"$f":"'（別添４）エネルギー消費効率の根拠（要件ア）'!$ID$42","v":0}]
[1605,{"$f":"'（別添４）エネルギー消費効率の根拠（要件ア）'!$IB$43","v":"別添4_59_4"},{"$f":"'（別添４）エネルギー消費効率の根拠（要件ア）'!$IC$43","v":"比較指標/トップランナー基準"},{"$f":"'（別添４）エネルギー消費効率の根拠（要件ア）'!$ID$43","v":0}]
[1606,{"$f":"'（別添４）エネルギー消費効率の根拠（要件ア）'!$IB$44","v":"別添4_59_5"},{"$f":"'（別添４）エネルギー消費効率の根拠（要件ア）'!$IC$44","v":"添付資料の根拠記載箇所"},{"$f":"'（別添４）エネルギー消費効率の根拠（要件ア）'!$ID$44","v":0}]
[1607,{"$f":"'（別添４）エネルギー消費効率の根拠（要件ア）'!$IB$45","v":"別添4_59_6"},{"$f":"'（別添４）エネルギー消費効率の根拠（要件ア）'!$IC$45","v":"省エネ要因"},{"$f":"'（別添４）エネルギー消費効率の根拠（要件ア）'!$ID$45","v":0}]
[1608,{"$f":"'（別添４）エネルギー消費効率の根拠（要件ア）'!$IB$46","v":"別添4_59_7"},{"$f":"'（別添４）エネルギー消費効率の根拠（要件ア）'!$IC$46","v":"導入設備_製品名"},{"$f":"'（別添４）エネルギー消費効率の根拠（要件ア）'!$ID$46","v":0}]
[1609,{"$f":"'（別添４）エネルギー消費効率の根拠（要件ア）'!$IB$47","v":"別添4_59_8"},{"$f":"'（別添４）エネルギー消費効率の根拠（要件ア）'!$IC$47","v":"導入設備_製造メーカー"},{"$f":"'（別添４）エネルギー消費効率の根拠（要件ア）'!$ID$47","v":0}]
[1610,{"$f":"'（別添４）エネルギー消費効率の根拠（要件ア）'!$IB$48","v":"別添4_59_9"},{"$f":"'（別添４）エネルギー消費効率の根拠（要件ア）'!$IC$48","v":"導入設備_型番"},{"$f":"'（別添４）エネルギー消費効率の根拠（要件ア）'!$ID$48","v":0}]
[{"$f":"ROW()-1","v":1611},{"$f":"'（別添４）エネルギー消費効率の根拠（要件ア）'!$IB$49","v":"別添4_59_10"},{"$f":"'（別添４）エネルギー消費効率の根拠（要件ア）'!$IC$49","v":"導入設備_導入台数"},{"$f":"'（別添４）エネルギー消費効率の根拠（要件ア）'!$ID$49","v":"台"}]
[1612,{"$f":"'（別添４）エネルギー消費効率の根拠（要件ア）'!$IB$50","v":"別添4_59_11"},{"$f":"'（別添４）エネルギー消費効率の根拠（要件ア）'!$IC$50","v":"導入設備_1台あたりの使用エネルギー"},{"$f":"'（別添４）エネルギー消費効率の根拠（要件ア）'!$ID$50","v":0}]
[1613,{"$f":"'（別添４）エネルギー消費効率の根拠（要件ア）'!$IB$51","v":"別添4_59_12"},{"$f":"'（別添４）エネルギー消費効率の根拠（要件ア）'!$IC$51","v":"導入設備_年間エネルギー使用量計算式"},{"$f":"'（別添４）エネルギー消費効率の根拠（要件ア）'!$ID$51","v":0}]
[1614,{"$f":"'（別添４）エネルギー消費効率の根拠（要件ア）'!$IB$52","v":"別添4_59_13"},{"$f":"'（別添４）エネルギー消費効率の根拠（要件ア）'!$IC$52","v":"導入設備_計算結果"},{"$f":"'（別添４）エネルギー消費効率の根拠（要件ア）'!$ID$52","v":"単位を選択してください"}]
[1615,{"$f":"'（別添４）エネルギー消費効率の根拠（要件ア）'!$IB$53","v":"別添4_59_14"},{"$f":"'（別添４）エネルギー消費効率の根拠（要件ア）'!$IC$53","v":"一代前モデル_製品名"},{"$f":"'（別添４）エネルギー消費効率の根拠（要件ア）'!$ID$53","v":0}]
[1616,{"$f":"'（別添４）エネルギー消費効率の根拠（要件ア）'!$IB$54","v":"別添4_59_15"},{"$f":"'（別添４）エネルギー消費効率の根拠（要件ア）'!$IC$54","v":"一代前モデル_製造メーカー"},{"$f":"'（別添４）エネルギー消費効率の根拠（要件ア）'!$ID$54","v":0}]
[1617,{"$f":"'（別添４）エネルギー消費効率の根拠（要件ア）'!$IB$55","v":"別添4_59_16"},{"$f":"'（別添４）エネルギー消費効率の根拠（要件ア）'!$IC$55","v":"一代前モデル_型番"},{"$f":"'（別添４）エネルギー消費効率の根拠（要件ア）'!$ID$55","v":0}]
[1618,{"$f":"'（別添４）エネルギー消費効率の根拠（要件ア）'!$IB$56","v":"別添4_59_17"},{"$f":"'（別添４）エネルギー消費効率の根拠（要件ア）'!$IC$56","v":"一代前モデル_導入台数"},{"$f":"'（別添４）エネルギー消費効率の根拠（要件ア）'!$ID$56","v":"台"}]
[1619,{"$f":"'（別添４）エネルギー消費効率の根拠（要件ア）'!$IB$57","v":"別添4_59_18"},{"$f":"'（別添４）エネルギー消費効率の根拠（要件ア）'!$IC$57","v":"一代前モデル_1台あたりの使用エネルギー"},{"$f":"'（別添４）エネルギー消費効率の根拠（要件ア）'!$ID$57","v":0}]
[1620,{"$f":"'（別添４）エネルギー消費効率の根拠（要件ア）'!$IB$58","v":"別添4_59_19"},{"$f":"'（別添４）エネルギー消費効率の根拠（要件ア）'!$IC$58","v":"一代前モデル_年間エネルギー使用量計算式"},{"$f":"'（別添４）エネルギー消費効率の根拠（要件ア）'!$ID$58","v":0}]
[1621,{"$f":"'（別添４）エネルギー消費効率の根拠（要件ア）'!$IB$59","v":"別添4_59_20"},{"$f":"'（別添４）エネルギー消費効率の根拠（要件ア）'!$IC$59","v":"一代前モデル_計算結果"},{"$f":"'（別添４）エネルギー消費効率の根拠（要件ア）'!$ID$59","v":"単位を選択してください"}]
[1622,{"$f":"'（別添４）エネルギー消費効率の根拠（要件ア）'!$IB$60","v":"別添4_59_21"},{"$f":"'（別添４）エネルギー消費効率の根拠（要件ア）'!$IC$60","v":"年間見込み省エネルギー量__計算結果"},{"$f":"'（別添４）エネルギー消費効率の根拠（要件ア）'!$ID$60","v":"0単位を選択してください"}]
[1623,{"$f":"'（別添４）エネルギー消費効率の根拠（要件ア）'!$IB$61","v":"別添4_59_22"},{"$f":"'（別添４）エネルギー消費効率の根拠（要件ア）'!$IC$61","v":"年間見込み省エネルギー量_原油換算計算式"},{"$f":"'（別添４）エネルギー消費効率の根拠（要件ア）'!$ID$61","v":0}]
[1624,{"$f":"'（別添４）エネルギー消費効率の根拠（要件ア）'!$IB$62","v":"別添4_59_23"},{"$f":"'（別添４）エネルギー消費効率の根拠（要件ア）'!$IC$62","v":"年間見込み省エネルギー量原油換算計算結果"},{"$f":"'（別添４）エネルギー消費効率の根拠（要件ア）'!$ID$62","v":0}]
[1625,{"$f":"'（別添４）エネルギー消費効率の根拠（要件ア）'!$IB$63","v":"別添4_59_24"},{"$f":"'（別添４）エネルギー消費効率の根拠（要件ア）'!$IC$63","v":"年間見込み省エネルギー率_自動計算"},{"$f":"'（別添４）エネルギー消費効率の根拠（要件ア）'!$ID$63","v":""}]
[1626,{"$f":"'（別添４）エネルギー消費効率の根拠（要件ア）'!$IF$40","v":"別添4_60_1"},{"$f":"'（別添４）エネルギー消費効率の根拠（要件ア）'!$IG$40","v":"トップランナー基準"},{"$f":"'（別添４）エネルギー消費効率の根拠（要件ア）'!$IH$40","v":0}]
[1627,{"$f":"'（別添４）エネルギー消費効率の根拠（要件ア）'!$IF$41","v":"別添4_60_2"},{"$f":"'（別添４）エネルギー消費効率の根拠（要件ア）'!$IG$41","v":"トップランナー基準の区分名又は数値"},{"$f":"'（別添４）エネルギー消費効率の根拠（要件ア）'!$IH$41","v":0}]
[1628,{"$f":"'（別添４）エネルギー消費効率の根拠（要件ア）'!$IF$42","v":"別添4_60_3"},{"$f":"'（別添４）エネルギー消費効率の根拠（要件ア）'!$IG$42","v":"トップランナー基準の数値（導入設備）"},{"$f":"'（別添４）エネルギー消費効率の根拠（要件ア）'!$IH$42","v":0}]
[1629,{"$f":"'（別添４）エネルギー消費効率の根拠（要件ア）'!$IF$43","v":"別添4_60_4"},{"$f":"'（別添４）エネルギー消費効率の根拠（要件ア）'!$IG$43","v":"比較指標/トップランナー基準"},{"$f":"'（別添４）エネルギー消費効率の根拠（要件ア）'!$IH$43","v":0}]
[1630,{"$f":"'（別添４）エネルギー消費効率の根拠（要件ア）'!$IF$44","v":"別添4_60_5"},{"$f":"'（別添４）エネルギー消費効率の根拠（要件ア）'!$IG$44","v":"添付資料の根拠記載箇所"},{"$f":"'（別添４）エネルギー消費効率の根拠（要件ア）'!$IH$44","v":0}]
[1631,{"$f":"'（別添４）エネルギー消費効率の根拠（要件ア）'!$IF$45","v":"別添4_60_6"},{"$f":"'（別添４）エネルギー消費効率の根拠（要件ア）'!$IG$45","v":"省エネ要因"},{"$f":"'（別添４）エネルギー消費効率の根拠（要件ア）'!$IH$45","v":0}]
[1632,{"$f":"'（別添４）エネルギー消費効率の根拠（要件ア）'!$IF$46","v":"別添4_60_7"},{"$f":"'（別添４）エネルギー消費効率の根拠（要件ア）'!$IG$46","v":"導入設備_製品名"},{"$f":"'（別添４）エネルギー消費効率の根拠（要件ア）'!$IH$46","v":0}]
[1633,{"$f":"'（別添４）エネルギー消費効率の根拠（要件ア）'!$IF$47","v":"別添4_60_8"},{"$f":"'（別添４）エネルギー消費効率の根拠（要件ア）'!$IG$47","v":"導入設備_製造メーカー"},{"$f":"'（別添４）エネルギー消費効率の根拠（要件ア）'!$IH$47","v":0}]
[1634,{"$f":"'（別添４）エネルギー消費効率の根拠（要件ア）'!$IF$48","v":"別添4_60_9"},{"$f":"'（別添４）エネルギー消費効率の根拠（要件ア）'!$IG$48","v":"導入設備_型番"},{"$f":"'（別添４）エネルギー消費効率の根拠（要件ア）'!$IH$48","v":0}]
[1635,{"$f":"'（別添４）エネルギー消費効率の根拠（要件ア）'!$IF$49","v":"別添4_60_10"},{"$f":"'（別添４）エネルギー消費効率の根拠（要件ア）'!$IG$49","v":"導入設備_導入台数"},{"$f":"'（別添４）エネルギー消費効率の根拠（要件ア）'!$IH$49","v":"台"}]
[1636,{"$f":"'（別添４）エネルギー消費効率の根拠（要件ア）'!$IF$50","v":"別添4_60_11"},{"$f":"'（別添４）エネルギー消費効率の根拠（要件ア）'!$IG$50","v":"導入設備_1台あたりの使用エネルギー"},{"$f":"'（別添４）エネルギー消費効率の根拠（要件ア）'!$IH$50","v":0}]
[1637,{"$f":"'（別添４）エネルギー消費効率の根拠（要件ア）'!$IF$51","v":"別添4_60_12"},{"$f":"'（別添４）エネルギー消費効率の根拠（要件ア）'!$IG$51","v":"導入設備_年間エネルギー使用量計算式"},{"$f":"'（別添４）エネルギー消費効率の根拠（要件ア）'!$IH$51","v":0}]
[1638,{"$f":"'（別添４）エネルギー消費効率の根拠（要件ア）'!$IF$52","v":"別添4_60_13"},{"$f":"'（別添４）エネルギー消費効率の根拠（要件ア）'!$IG$52","v":"導入設備_計算結果"},{"$f":"'（別添４）エネルギー消費効率の根拠（要件ア）'!$IH$52","v":"単位を選択してください"}]
[1639,{"$f":"'（別添４）エネルギー消費効率の根拠（要件ア）'!$IF$53","v":"別添4_60_14"},{"$f":"'（別添４）エネルギー消費効率の根拠（要件ア）'!$IG$53","v":"一代前モデル_製品名"},{"$f":"'（別添４）エネルギー消費効率の根拠（要件ア）'!$IH$53","v":0}]
[1640,{"$f":"'（別添４）エネルギー消費効率の根拠（要件ア）'!$IF$54","v":"別添4_60_15"},{"$f":"'（別添４）エネルギー消費効率の根拠（要件ア）'!$IG$54","v":"一代前モデル_製造メーカー"},{"$f":"'（別添４）エネルギー消費効率の根拠（要件ア）'!$IH$54","v":0}]
[1641,{"$f":"'（別添４）エネルギー消費効率の根拠（要件ア）'!$IF$55","v":"別添4_60_16"},{"$f":"'（別添４）エネルギー消費効率の根拠（要件ア）'!$IG$55","v":"一代前モデル_型番"},{"$f":"'（別添４）エネルギー消費効率の根拠（要件ア）'!$IH$55","v":0}]
[1642,{"$f":"'（別添４）エネルギー消費効率の根拠（要件ア）'!$IF$56","v":"別添4_60_17"},{"$f":"'（別添４）エネルギー消費効率の根拠（要件ア）'!$IG$56","v":"一代前モデル_導入台数"},{"$f":"'（別添４）エネルギー消費効率の根拠（要件ア）'!$IH$56","v":"台"}]
[1643,{"$f":"'（別添４）エネルギー消費効率の根拠（要件ア）'!$IF$57","v":"別添4_60_18"},{"$f":"'（別添４）エネルギー消費効率の根拠（要件ア）'!$IG$57","v":"一代前モデル_1台あたりの使用エネルギー"},{"$f":"'（別添４）エネルギー消費効率の根拠（要件ア）'!$IH$57","v":0}]
[1644,{"$f":"'（別添４）エネルギー消費効率の根拠（要件ア）'!$IF$58","v":"別添4_60_19"},{"$f":"'（別添４）エネルギー消費効率の根拠（要件ア）'!$IG$58","v":"一代前モデル_年間エネルギー使用量計算式"},{"$f":"'（別添４）エネルギー消費効率の根拠（要件ア）'!$IH$58","v":0}]
[1645,{"$f":"'（別添４）エネルギー消費効率の根拠（要件ア）'!$IF$59","v":"別添4_60_20"},{"$f":"'（別添４）エネルギー消費効率の根拠（要件ア）'!$IG$59","v":"一代前モデル_計算結果"},{"$f":"'（別添４）エネルギー消費効率の根拠（要件ア）'!$IH$59","v":"単位を選択してください"}]
[1646,{"$f":"'（別添４）エネルギー消費効率の根拠（要件ア）'!$IF$60","v":"別添4_60_21"},{"$f":"'（別添４）エネルギー消費効率の根拠（要件ア）'!$IG$60","v":"年間見込み省エネルギー量__計算結果"},{"$f":"'（別添４）エネルギー消費効率の根拠（要件ア）'!$IH$60","v":"0単位を選択してください"}]
[1647,{"$f":"'（別添４）エネルギー消費効率の根拠（要件ア）'!$IF$61","v":"別添4_60_22"},{"$f":"'（別添４）エネルギー消費効率の根拠（要件ア）'!$IG$61","v":"年間見込み省エネルギー量_原油換算計算式"},{"$f":"'（別添４）エネルギー消費効率の根拠（要件ア）'!$IH$61","v":0}]
[1648,{"$f":"'（別添４）エネルギー消費効率の根拠（要件ア）'!$IF$62","v":"別添4_60_23"},{"$f":"'（別添４）エネルギー消費効率の根拠（要件ア）'!$IG$62","v":"年間見込み省エネルギー量原油換算計算結果"},{"$f":"'（別添４）エネルギー消費効率の根拠（要件ア）'!$IH$62","v":0}]
[1649,{"$f":"'（別添４）エネルギー消費効率の根拠（要件ア）'!$IF$63","v":"別添4_60_24"},{"$f":"'（別添４）エネルギー消費効率の根拠（要件ア）'!$IG$63","v":"年間見込み省エネルギー率_自動計算"},{"$f":"'（別添４）エネルギー消費効率の根拠（要件ア）'!$IH$63","v":""}]
[1650,{"$f":"'（別添５）エネルギー消費原単位の改善根拠（要件イ）'!$CA$4","v":"別添5_G8"},{"$f":"'（別添５）エネルギー消費原単位の改善根拠（要件イ）'!$CB$4","v":"【A】 事業実施前の生産量_式"},{"$f":"'（別添５）エネルギー消費原単位の改善根拠（要件イ）'!$CC$4","v":""}]
[1651,{"$f":"'（別添５）エネルギー消費原単位の改善根拠（要件イ）'!$CA$5","v":"別添5_G19"},{"$f":"'（別添５）エネルギー消費原単位の改善根拠（要件イ）'!$CB$5","v":"【Ｂ】事業実施前の年間エネルギー使用量[kl]_式"},{"$f":"'（別添５）エネルギー消費原単位の改善根拠（要件イ）'!$CC$5","v":""}]
[1652,{"$f":"'（別添５）エネルギー消費原単位の改善根拠（要件イ）'!$CA$6","v":"別添5_O35"},{"$f":"'（別添５）エネルギー消費原単位の改善根拠（要件イ）'!$CB$6","v":"【A】 事業実施前の生産量_解"},{"$f":"'（別添５）エネルギー消費原単位の改善根拠（要件イ）'!$CC$6","v":""}]
[1653,{"$f":"'（別添５）エネルギー消費原単位の改善根拠（要件イ）'!$CA$7","v":"別添5_O32"},{"$f":"'（別添５）エネルギー消費原単位の改善根拠（要件イ）'!$CB$7","v":"【Ｂ】事業実施前の年間エネルギー使用量[kl]_解"},{"$f":"'（別添５）エネルギー消費原単位の改善根拠（要件イ）'!$CC$7","v":""}]
[1654,{"$f":"'（別添５）エネルギー消費原単位の改善根拠（要件イ）'!$CA$8","v":"別添5_H31"},{"$f":"'（別添５）エネルギー消費原単位の改善根拠（要件イ）'!$CB$8","v":"【Ｃ】事業実施前のエネルギー消費原単位"},{"$f":"'（別添５）エネルギー消費原単位の改善根拠（要件イ）'!$CC$8","v":"【Ａ】と【Ｂ】に値を入力してくださいkl/"}]
[1655,{"$f":"'（別添５）エネルギー消費原単位の改善根拠（要件イ）'!$CA$9","v":"別添5_G40"},{"$f":"'（別添５）エネルギー消費原単位の改善根拠（要件イ）'!$CB$9","v":"【D】 事業実施後の生産量_式"},{"$f":"'（別添５）エネルギー消費原単位の改善根拠（要件イ）'!$CC$9","v":""}]
[1656,{"$f":"'（別添５）エネルギー消費原単位の改善根拠（要件イ）'!$CA$10","v":"別添5_G51"},{"$f":"'（別添５）エネルギー消費原単位の改善根拠（要件イ）'!$CB$10","v":"【E】事業実施後の年間エネルギー使用量[kl]_式"},{"$f":"'（別添５）エネルギー消費原単位の改善根拠（要件イ）'!$CC$10","v":""}]
[1657,{"$f":"'（別添５）エネルギー消費原単位の改善根拠（要件イ）'!$CA$11","v":"別添5_O67"},{"$f":"'（別添５）エネルギー消費原単位の改善根拠（要件イ）'!$CB$11","v":"【D】 事業実施後の生産量_解"},{"$f":"'（別添５）エネルギー消費原単位の改善根拠（要件イ）'!$CC$11","v":""}]
[1658,{"$f":"'（別添５）エネルギー消費原単位の改善根拠（要件イ）'!$CA$12","v":"別添5_O64"},{"$f":"'（別添５）エネルギー消費原単位の改善根拠（要件イ）'!$CB$12","v":"【E】事業実施後の年間エネルギー使用量[kl]_解"},{"$f":"'（別添５）エネルギー消費原単位の改善根拠（要件イ）'!$CC$12","v":""}]
[1659,{"$f":"'（別添５）エネルギー消費原単位の改善根拠（要件イ）'!$CA$13","v":"別添5_H63"},{"$f":"'（別添５）エネルギー消費原単位の改善根拠（要件イ）'!$CB$13","v":"【F】事業実施後のエネルギー消費原単位"},{"$f":"'（別添５）エネルギー消費原単位の改善根拠（要件イ）'!$CC$13","v":"【Ｄ】と【Ｅ】に値を入力してくださいkl/"}]
[1660,{"$f":"'（別添５）エネルギー消費原単位の改善根拠（要件イ）'!$CA$14","v":"別添5_H71"},{"$f":"'（別添５）エネルギー消費原単位の改善根拠（要件イ）'!$CB$14","v":"【Ｇ】エネルギー消費原単位改善率"},{"$f":"'（別添５）エネルギー消費原単位の改善根拠（要件イ）'!$CC$14","v":"【Ｃ】と【Ｆ】に値を入力してください"}]
[1661,{"$f":"'（別添５）エネルギー消費原単位の改善根拠（要件イ）'!$CA$15","v":"別添5_H79"},{"$f":"'（別添５）エネルギー消費原単位の改善根拠（要件イ）'!$CB$15","v":"【H】年間見込み省エネルギー量[kl]"},{"$f":"'（別添５）エネルギー消費原単位の改善根拠（要件イ）'!$CC$15","v":"【B】と【I】が入力された状態にしてくださいkl"}]
[1662,{"$f":"'（別添６）省エネルギー取組の根拠（要件ウ）'!$CS$3","v":"別添6_G8"},{"$f":"'（別添６）省エネルギー取組の根拠（要件ウ）'!$CT$3","v":"対象要件内容"},{"$f":"'（別添６）省エネルギー取組の根拠（要件ウ）'!$CU$3","v":""}]
[1663,{"$f":"'（別添６）省エネルギー取組の根拠（要件ウ）'!$CS$4","v":"別添6_G14"},{"$f":"'（別添６）省エネルギー取組の根拠（要件ウ）'!$CT$4","v":"利用データセンター名称"},{"$f":"'（別添６）省エネルギー取組の根拠（要件ウ）'!$CU$4","v":""}]
[1664,{"$f":"'（別添６）省エネルギー取組の根拠（要件ウ）'!$CS$5","v":"別添6_G18"},{"$f":"'（別添６）省エネルギー取組の根拠（要件ウ）'!$CT$5","v":"データセンターのＰＵＥ値"},{"$f":"'（別添６）省エネルギー取組の根拠（要件ウ）'!$CU$5","v":""}]
[1665,{"$f":"'（別添６）省エネルギー取組の根拠（要件ウ）'!$CS$6","v":"別添6_G22"},{"$f":"'（別添６）省エネルギー取組の根拠（要件ウ）'!$CT$6","v":"省エネルギー取組概要"},{"$f":"'（別添６）省エネルギー取組の根拠（要件ウ）'!$CU$6","v":""}]
[1666,{"$f":"'（別添６）省エネルギー取組の根拠（要件ウ）'!$CS$7","v":"別添6_G28"},{"$f":"'（別添６）省エネルギー取組の根拠（要件ウ）'!$CT$7","v":"導入機器"},{"$f":"'（別添６）省エネルギー取組の根拠（要件ウ）'!$CU$7","v":""}]
[1667,{"$f":"'（別添６）省エネルギー取組の根拠（要件ウ）'!$CS$8","v":"別添6_G32"},{"$f":"'（別添６）省エネルギー取組の根拠（要件ウ）'!$CT$8","v":"削減効果（計画値）"},{"$f":"'（別添６）省エネルギー取組の根拠（要件ウ）'!$CU$8","v":""}]
[1668,{"$f":"'（別添６）省エネルギー取組の根拠（要件ウ）'!$CS$9","v":"別添6_G36"},{"$f":"'（別添６）省エネルギー取組の根拠（要件ウ）'!$CT$9","v":"省エネルギー取組概要"},{"$f":"'（別添６）省エネルギー取組の根拠（要件ウ）'!$CU$9","v":""}]
[1669,{"$f":"'（別添６）省エネルギー取組の根拠（要件ウ）'!$CS$10","v":"別添6_Y42"},{"$f":"'（別添６）省エネルギー取組の根拠（要件ウ）'!$CT$10","v":"年間見込み省エネルギー率[%]"},{"$f":"'（別添６）省エネルギー取組の根拠（要件ウ）'!$CU$10","v":""}]
[1670,{"$f":"'（別添６）省エネルギー取組の根拠（要件ウ）'!$CS$11","v":"別添6_Y43"},{"$f":"'（別添６）省エネルギー取組の根拠（要件ウ）'!$CT$11","v":"年間見込み省エネルギー量[kl]"},{"$f":"'（別添６）省エネルギー取組の根拠（要件ウ）'!$CU$11","v":""}]

{"sheet":"更新履歴","index":1,"n_rows":4,"n_cols":6,"rows_kept":4,"cut":false,"hidden":true,"merged":[]}
[]
[null,"NO","更新日","更新者","更新前","更新後"]
[null,1,"2021-06-17","玉永","-","交付申請以降様式参照元更新"]
[null,2,"2021-08-30","玉永","-","融資計画→交付申請、交付申請→実績報告のマクロを修正"]

{"sheet":"祝日","index":2,"n_rows":288,"n_cols":4,"rows_kept":288,"cut":false,"hidden":true,"merged":[]}
[]
[null,"日付","祝日名","曜日"]
[null,"2021-01-01","元日","金"]
[null,"2021-01-11","成人の日","月"]
[null,"2021-02-11","建国記念の日","木"]
[null,"2021-02-23","天皇誕生日","火"]
[null,"2021-03-20","春分の日","土"]
[null,"2021-04-29","昭和の日","木"]
[null,"2021-05-03","憲法記念日","月"]
[null,"2021-05-04","みどりの日","火"]
[null,"2021-05-05","こどもの日","水"]
[null,"2021-07-22","海の日","木"]
[null,"2021-07-23","スポーツの日","金"]
[null,"2021-08-08","山の日","日"]
[null,"2021-08-09","振替休日","月"]
[null,"2021-09-20","敬老の日","月"]
[null,"2021-09-23","秋分の日","木"]
[null,"2021-11-03","文化の日","水"]
[null,"2021-11-23","勤労感謝の日","火"]
[null,"2022-01-01","元日","土"]
[null,"2022-01-10","成人の日","月"]
[null,"2022-02-11","建国記念の日","金"]
[null,"2022-02-23","天皇誕生日","水"]
[null,"2022-03-21","春分の日","月"]
[null,"2022-04-29","昭和の日","金"]
[null,"2022-05-03","憲法記念日","火"]
[null,"2022-05-04","みどりの日","水"]
[null,"2022-05-05","こどもの日","木"]
[null,"2022-07-18","海の日","月"]
[null,"2022-08-11","山の日","木"]
[null,"2022-09-19","敬老の日","月"]
[null,"2022-09-23","秋分の日","金"]
[null,"2022-10-10","スポーツの日","月"]
[null,"2022-11-03","文化の日","木"]
[null,"2022-11-23","勤労感謝の日","水"]
[null,"2023-01-01","元日","日"]
[null,"2023-01-02","振替休日","月"]
[null,"2023-01-09","成人の日","月"]
[null,"2023-02-11","建国記念の日","土"]
[null,"2023-02-23","天皇誕生日","木"]
[null,"2023-03-21","春分の日","火"]
[null,"2023-04-29","昭和の日","土"]
[null,"2023-05-03","憲法記念日","水"]
[null,"2023-05-04","みどりの日","木"]
[null,"2023-05-05","こどもの日","金"]
[null,"2023-07-17","海の日","月"]
[null,"2023-08-11","山の日","金"]
[null,"2023-09-18","敬老の日","月"]
[null,"2023-09-23","秋分の日","土"]
[null,"2023-10-09","スポーツの日","月"]
[null,"2023-11-03","文化の日","金"]
[null,"2023-11-23","勤労感謝の日","木"]
[null,"2024-01-01","元日","月"]
[null,"2024-01-08","成人の日","月"]
[null,"2024-02-11","建国記念の日","日"]
[null,"2024-02-12","振替休日","月"]
[null,"2024-02-23","天皇誕生日","金"]
[null,"2024-03-20","春分の日","水"]
[null,"2024-04-29","昭和の日","月"]
[null,"2024-05-03","憲法記念日","金"]
[null,"2024-05-04","みどりの日","土"]
[null,"2024-05-05","こどもの日","日"]
[null,"2024-05-06","振替休日","月"]
[null,"2024-07-15","海の日","月"]
[null,"2024-08-11","山の日","日"]
[null,"2024-08-12","振替休日","月"]
[null,"2024-09-16","敬老の日","月"]
[null,"2024-09-22","秋分の日","日"]
[null,"2024-09-23","振替休日","月"]
[null,"2024-10-14","スポーツの日","月"]
[null,"2024-11-03","文化の日","日"]
[null,"2024-11-04","振替休日","月"]
[null,"2024-11-23","勤労感謝の日","土"]
[null,"2025-01-01","元日","水"]
[null,"2025-01-13","成人の日","月"]
[null,"2025-02-11","建国記念の日","火"]
[null,"2025-02-23","天皇誕生日","日"]
[null,"2025-02-24","振替休日","月"]
[null,"2025-03-20","春分の日","木"]
[null,"2025-04-29","昭和の日","火"]
[null,"2025-05-03","憲法記念日","土"]
[null,"2025-05-04","みどりの日","日"]
[null,"2025-05-05","こどもの日","月"]
[null,"2025-05-06","振替休日","火"]
[null,"2025-07-21","海の日","月"]
[null,"2025-08-11","山の日","月"]
[null,"2025-09-15","敬老の日","月"]
[null,"2025-09-23","秋分の日","火"]
[null,"2025-10-13","スポーツの日","月"]
[null,"2025-11-03","文化の日","月"]
[null,"2025-11-23","勤労感謝の日","日"]
[null,"2025-11-24","振替休日","月"]
[null,"2026-01-01","元日","木"]
[null,"2026-01-12","成人の日","月"]
[null,"2026-02-11","建国記念の日","水"]
[null,"2026-02-23","天皇誕生日","月"]
[null,"2026-03-20","春分の日","金"]
[null,"2026-04-29","昭和の日","水"]
[null,"2026-05-03","憲法記念日","日"]
[null,"2026-05-04","みどりの日","月"]
[null,"2026-05-05","こどもの日","火"]
[null,"2026-05-06","振替休日","水"]
[null,"2026-07-20","海の日","月"]
[null,"2026-08-11","山の日","火"]
[null,"2026-09-21","敬老の日","月"]
[null,"2026-09-22","国民の休日","火"]
[null,"2026-09-23","秋分の日","水"]
[null,"2026-10-12","スポーツの日","月"]
[null,"2026-11-03","文化の日","火"]
[null,"2026-11-23","勤労感謝の日","月"]
[null,"2027-01-01","元日","金"]
[null,"2027-01-11","成人の日","月"]
[null,"2027-02-11","建国記念の日","木"]
[null,"2027-02-23","天皇誕生日","火"]
[null,"2027-03-21","春分の日","日"]
[null,"2027-03-22","振替休日","月"]
[null,"2027-04-29","昭和の日","木"]
[null,"2027-05-03","憲法記念日","月"]
[null,"2027-05-04","みどりの日","火"]
[null,"2027-05-05","こどもの日","水"]
[null,"2027-07-19","海の日","月"]
[null,"2027-08-11","山の日","水"]
[null,"2027-09-20","敬老の日","月"]
[null,"2027-09-23","秋分の日","木"]
[null,"2027-10-11","スポーツの日","月"]
[null,"2027-11-03","文化の日","水"]
[null,"2027-11-23","勤労感謝の日","火"]
[null,"2028-01-01","元日","土"]
[null,"2028-01-10","成人の日","月"]
[null,"2028-02-11","建国記念の日","金"]
[null,"2028-02-23","天皇誕生日","水"]
[null,"2028-03-20","春分の日","月"]
[null,"2028-04-29","昭和の日","土"]
[null,"2028-05-03","憲法記念日","水"]
[null,"2028-05-04","みどりの日","木"]
[null,"2028-05-05","こどもの日","金"]
[null,"2028-07-17","海の日","月"]
[null,"2028-08-11","山の日","金"]
[null,"2028-09-18","敬老の日","月"]
[null,"2028-09-22","秋分の日","金"]
[null,"2028-10-09","スポーツの日","月"]
[null,"2028-11-03","文化の日","金"]
[null,"2028-11-23","勤労感謝の日","木"]
[null,"2029-01-01","元日","月"]
[null,"2029-01-08","成人の日","月"]
[null,"2029-02-11","建国記念の日","日"]
[null,"2029-02-12","振替休日","月"]
[null,"2029-02-23","天皇誕生日","金"]
[null,"2029-03-20","春分の日","火"]
[null,"2029-04-29","昭和の日","日"]
[null,"2029-04-30","振替休日","月"]
[null,"2029-05-03","憲法記念日","木"]
[null,"2029-05-04","みどりの日","金"]
[null,"2029-05-05","こどもの日","土"]
[null,"2029-07-16","海の日","月"]
[null,"2029-08-11","山の日","土"]
[null,"2029-09-17","敬老の日","月"]
[null,"2029-09-23","秋分の日","日"]
[null,"2029-09-24","振替休日","月"]
[null,"2029-10-08","スポーツの日","月"]
[null,"2029-11-03","文化の日","土"]
[null,"2029-11-23","勤労感謝の日","金"]
[null,"2030-01-01","元日","火"]
[null,"2030-01-14","成人の日","月"]
[null,"2030-02-11","建国記念の日","月"]
[null,"2030-02-23","天皇誕生日","土"]
[null,"2030-03-20","春分の日","水"]
[null,"2030-04-29","昭和の日","月"]
[null,"2030-05-03","憲法記念日","金"]
[null,"2030-05-04","みどりの日","土"]
[null,"2030-05-05","こどもの日","日"]
[null,"2030-05-06","振替休日","月"]
[null,"2030-07-15","海の日","月"]
[null,"2030-08-11","山の日","日"]
[null,"2030-08-12","振替休日","月"]
[null,"2030-09-16","敬老の日","月"]
[null,"2030-09-23","秋分の日","月"]
[null,"2030-10-14","スポーツの日","月"]
[null,"2030-11-03","文化の日","日"]
[null,"2030-11-04","振替休日","月"]
[null,"2030-11-23","勤労感謝の日","土"]
[null,"2031-01-01","元日","水"]
[null,"2031-01-13","成人の日","月"]
[null,"2031-02-11","建国記念の日","火"]
[null,"2031-02-23","天皇誕生日","日"]
[null,"2031-02-24","振替休日","月"]
[null,"2031-03-21","春分の日","金"]
[null,"2031-04-29","昭和の日","火"]
[null,"2031-05-03","憲法記念日","土"]
[null,"2031-05-04","みどりの日","日"]
[null,"2031-05-05","こどもの日","月"]
[null,"2031-05-06","振替休日","火"]
[null,"2031-07-21","海の日","月"]
[null,"2031-08-11","山の日","月"]
[null,"2031-09-15","敬老の日","月"]
[null,"2031-09-23","秋分の日","火"]
[null,"2031-10-13","スポーツの日","月"]
[null,"2031-11-03","文化の日","月"]
[null,"2031-11-23","勤労感謝の日","日"]
[null,"2031-11-24","振替休日","月"]
[null,"2032-01-01","元日","木"]
[null,"2032-01-12","成人の日","月"]
[null,"2032-02-11","建国記念の日","水"]
[null,"2032-02-23","天皇誕生日","月"]
[null,"2032-03-20","春分の日","土"]
[null,"2032-04-29","昭和の日","木"]
[null,"2032-05-03","憲法記念日","月"]
[null,"2032-05-04","みどりの日","火"]
[null,"2032-05-05","こどもの日","水"]
[null,"2032-07-19","海の日","月"]
[null,"2032-08-11","山の日","水"]
[null,"2032-09-20","敬老の日","月"]
[null,"2032-09-21","国民の休日","火"]
[null,"2032-09-22","秋分の日","水"]
[null,"2032-10-11","スポーツの日","月"]
[null,"2032-11-03","文化の日","水"]
[null,"2032-11-23","勤労感謝の日","火"]
[null,"2033-01-01","元日","土"]
[null,"2033-01-10","成人の日","月"]
[null,"2033-02-11","建国記念の日","金"]
[null,"2033-02-23","天皇誕生日","水"]
[null,"2033-03-20","春分の日","日"]
[null,"2033-03-21","振替休日","月"]
[null,"2033-04-29","昭和の日","金"]
[null,"2033-05-03","憲法記念日","火"]
[null,"2033-05-04","みどりの日","水"]
[null,"2033-05-05","こどもの日","木"]
[null,"2033-07-18","海の日","月"]
[null,"2033-08-11","山の日","木"]
[null,"2033-09-19","敬老の日","月"]
[null,"2033-09-23","秋分の日","金"]
[null,"2033-10-10","スポーツの日","月"]
[null,"2033-11-03","文化の日","木"]
[null,"2033-11-23","勤労感謝の日","水"]
[null,"2034-01-01","元日","日"]
[null,"2034-01-02","振替休日","月"]
[null,"2034-01-09","成人の日","月"]
[null,"2034-02-11","建国記念の日","土"]
[null,"2034-02-23","天皇誕生日","木"]
[null,"2034-03-20","春分の日","月"]
[null,"2034-04-29","昭和の日","土"]
[null,"2034-05-03","憲法記念日","水"]
[null,"2034-05-04","みどりの日","木"]
[null,"2034-05-05","こどもの日","金"]
[null,"2034-07-17","海の日","月"]
[null,"2034-08-11","山の日","金"]
[null,"2034-09-18","敬老の日","月"]
[null,"2034-09-23","秋分の日","土"]
[null,"2034-10-09","スポーツの日","月"]
[null,"2034-11-03","文化の日","金"]
[null,"2034-11-23","勤労感謝の日","木"]
[null,"2035-01-01","元日","月"]
[null,"2035-01-08","成人の日","月"]
[null,"2035-02-11","建国記念の日","日"]
[null,"2035-02-12","振替休日","月"]
[null,"2035-02-23","天皇誕生日","金"]
[null,"2035-03-21","春分の日","水"]
[null,"2035-04-29","昭和の日","日"]
[null,"2035-04-30","振替休日","月"]
[null,"2035-05-03","憲法記念日","木"]
[null,"2035-05-04","みどりの日","金"]
[null,"2035-05-05","こどもの日","土"]
[null,"2035-07-16","海の日","月"]
[null,"2035-08-11","山の日","土"]
[null,"2035-09-17","敬老の日","月"]
[null,"2035-09-23","秋分の日","日"]
[null,"2035-09-24","振替休日","月"]
[null,"2035-10-08","スポーツの日","月"]
[null,"2035-11-03","文化の日","土"]
[null,"2035-11-23","勤労感謝の日","金"]
[null,"2036-01-01","元日","火"]
[null,"2036-01-14","成人の日","月"]
[null,"2036-02-11","建国記念の日","月"]
[null,"2036-02-23","天皇誕生日","土"]
[null,"2036-03-20","春分の日","木"]
[null,"2036-04-29","昭和の日","火"]
[null,"2036-05-03","憲法記念日","土"]
[null,"2036-05-04","みどりの日","日"]
[null,"2036-05-05","こどもの日","月"]
[null,"2036-05-06","振替休日","火"]
[null,"2036-07-21","海の日","月"]
[null,"2036-08-11","山の日","月"]
[null,"2036-09-15","敬老の日","月"]
[null,"2036-09-22","秋分の日","月"]
[null,"2036-10-13","スポーツの日","月"]
[null,"2036-11-03","文化の日","月"]
[null,"2036-11-23","勤労感謝の日","日"]
[null,"2036-11-24","振替休日","月"]

{"sheet":"変更内容","index":3,"n_rows":100,"n_cols":7,"rows_kept":100,"cut":false,"hidden":true,"merged":[]}
[null,"変更内容"]
[null,"No","旧シート名","新シート名","変更内容","変更によるメリット","変更によるデメリット"]
[null,{"$f":"ROW()-2","v":1},"（全般","（全般","項目名に色付け","視認性が向上","なし"]
[null,2,"（全般","（全般","シート名を簡易に変更","視認性、操作性が向上","シート名だけで入力内容を判別はできない。"]
[null,3,"（全般","（全般","要件ア、イ、ウを１つずつのシートに集約","シートが統一され、効率が向上","なし"]
[null,4,"（全般","（全般","各シートを移動するためのハイパーリンクを「提出書類一覧」と各シートの上部に追加","操作性が向上","なし"]
[null,5,"（別添１）融資計画詳細1","別添1","融資期間の隔単位期間毎に色付け","視認性が向上","なし"]
[null,6,"（別添１）融資計画詳細1","別添1","融資期間の表示形式を「yyyy\"年\"m\"年\"d\"日\"」から「yyyy\"年\" mm\"年\" dd\"日\"」へ変更","月や日によるズレが無くなり、視認性が向上","なし"]
[null,7,"（別添１）融資計画詳細1","別添1","列幅を調整し、横印刷から縦印刷へ変更","縦印刷に統一され、審査効率が向上","少し文字が小さくなるが許容範囲内"]
[null,8,"（別添１）融資計画詳細1","別添1","入力例を「画像」から「Excel入力」へ変更","ファイルサイズの削減","なし"]
[null,9,"（別添１）融資計画詳細1","別添1","融資額等の金額を「中央揃え」から「右揃え」に変更","桁数を確認しやすくなり、視認性が向上","なし"]
[null,10,"（別添１）融資計画詳細1","別添1","「融資期間」「交付対象融資期間」の「自：」「至：」を右に異動","視認性が向上。セル結合されている部分をコピーしやすくなり入力工数削減","なし"]
[null,11,"（別添１）融資計画詳細1","別添1","C列を削除","視認性が向上。セル結合されている部分をコピーしやすくなり入力工数削減","セルの参照先がずれるためFMT、RPAの動作検証が必要。"]
[null,12,"（別添１）融資計画詳細1","別添1","「融資額」～「利子補給率」に入力禁則を設定","入力エラーが減少","なし"]
[null,13,"（別添１）融資計画詳細1","別添1","「開始日」と各単位期間の「融資残高」「交付対象融資残高」が自動計算されるように変更","入力工数削減。入力エラーが減少","どこを入力すればよいか迷う可能性あり。何らかの案内が必要。"]
[null,14,"（別添１）融資計画詳細2","別添2","印刷ページを調整し、A3横印刷からA4縦印刷2枚へ変更","縦印刷に統一され、審査効率が向上","融資年数により印刷枚数が異なる"]
[null,15,"（別添１）融資計画詳細2","別添2","融資期間の隔月毎に色付け","視認性が向上","なし"]
[null,16,"（別添１）融資計画詳細2","別添2","融資期間の表示形式を「yyyy\"年\"m\"年\"d\"日\"」から「yyyy\"年\"　mm\"年\"　dd\"日\"」へ変更","月や日によるズレが無くなり、視認性が向上","なし"]
[null,17,"（別添１）融資計画詳細2","別添2","入力例を「画像」から「Excel入力」へ変更","ファイルサイズの削減","なし"]
[null,18,"（別添１）融資計画詳細2","別添2","「曜日」の列を追加","休日換算に伴うエラーが減少","セルの参照先がずれるためFMT、RPAの動作検証が必要。"]
[null,19,"（別添１）融資計画詳細2","別添2","「開始日」と各単位期間の「融資残高」「交付対象融資残高」が自動計算されるように変更","入力工数削減。入力エラーが減少","どこを入力すればよいか迷う可能性あり。何らかの案内が必要。"]
[null,20,"（別添１）融資計画詳細2","別添2","「曜日」にて土日、祝日が色付けされるように変更","休日換算に伴うエラーが減少","なし"]
[null,21,"（別添１）融資計画詳細3","別添3","入力例を「画像」から「Excel入力」へ変更","ファイルサイズの削減","なし"]
[null,22,"（別添１）融資計画詳細3","別添3","「企業の内容」と「中小企業／個人事業主／その他」の行を入れ替え","視認性が向上。セル結合されている部分をコピーしやすくなり入力工数削減","なし"]
[null,23,"（別添１）融資計画詳細3","別添3","「市区町村」の位置を右へ移動","視認性が向上。セル結合されている部分をコピーしやすくなり入力工数削減","なし（最大文字数の市区町村は「横浜市保土ヶ谷区」）"]
[null,24,"（別添１）融資計画詳細3","別添3","「資本金」「従業員数」に半角数字のみの入力禁則を設定。メッセージ「半角数字で入力してください。」","入力エラーが減少","コピーして入力されると警告メッセージが表示されない"]
[null,25,"（別添１）融資計画詳細4","別添4","入力例を「画像」から「Excel入力」へ変更","ファイルサイズの削減","なし"]
[null,26,"（別添２）役員名簿 (利子補給対象事業者)","別添5","入力例を「画像」から「Excel入力」へ変更","ファイルサイズの削減","なし"]
[null,27,"（別添２）役員名簿 (利子補給対象事業者)","別添5","「会社名」に「㈱」「㈲」「同上」を入力すると、警告メッセージが表示される入力規則を設定","㈱を入力するエラーが減少","コピーして入力されると警告メッセージが表示されない"]
[null,28,"（別添３）利子補給金の交付の対象となる経費リスト","別添6","項目数を20から60へ変更","工数数が多い申請に対応","なし"]
[null,29,"（別添３）利子補給金の交付の対象となる経費リスト","別添6","横印刷から縦印刷へ変更","縦印刷に統一され、審査効率が向上","なし"]
[null,30,"（別添３）利子補給金の交付の対象となる経費リスト","別添6","入力例を「画像」から「Excel入力」へ変更","ファイルサイズの削減","なし"]
[null,31,"（別添４）エネルギー消費効率の根拠（要件ア）","別添7(要件ア)","入力例を「画像」から「Excel入力」へ変更","ファイルサイズの削減","なし"]
[null,32,"（別添４）エネルギー消費効率の根拠（要件ア）","別添7(要件ア)","ページ枚数を5枚から20枚に変更","別添4のフォーマット不足解消","なし"]
[null,{"$f":"ROW()-2","v":33},"（別添４）エネルギー消費効率の根拠（要件ア）","別添7(要件ア)","「１.対象要件内容」を選択すると、不要な項目がグレーアウトする条件付き書式を設定","入力項目の明確化となり、入力工数削減","なし"]
[null,34,"（別添４）エネルギー消費効率の根拠（要件ア）","別添7(要件ア)","「（別添４）_１」の項を色付け","何枚目を開いているかを明確化","なし"]
[null,35,"（別添５）エネルギー消費原単位の改善根拠（要件イ）","別添8(要件イ)","入力例を「画像」から「Excel入力」へ変更","ファイルサイズの削減","なし"]
[null,36,"（別添６）省エネルギー取組の根拠（要件ウ）","別添9(要件ウ)","入力例を「画像」から「Excel入力」へ変更","ファイルサイズの削減","なし"]
[null,37,"（別添７）見込み省エネルギー量の算出（要件アと要件ウ）","別添9(要件ウ)","入力例を「画像」から「Excel入力」へ変更","ファイルサイズの削減","なし"]
[null,38,"（別添７）見込み省エネルギー量の算出（要件イ）","別添8(要件イ)","セル位置を調整し、横印刷から縦印刷へ変更","縦印刷に統一され、審査効率が向上","なし"]
[null,39,"（様式第１）融資計画書1","（様式第１）融資計画書1","入力例を「画像」から「Excel入力」へ変更","ファイルサイズの削減","なし"]
[null,40,"エネルギー使用量の原油換算表（任意）","参考2","表のタイトルを「一代前モデル」「導入モデル」に変更","誤記修正","なし"]
[null,41,"（別添１）融資計画詳細3","別添3","項目名がすべて左に1列で並ぶように変更","視認性が向上","なし"]
[null,42,"（全般","（全般","各シートの転記用FMTのデータは基本「BA3セル」からとする。※例外あり","ルールの統一","なし"]
[null,43,"（様式第１）融資計画書1","（様式第１）融資計画書1","住所欄に「県」「北海道」「大阪府」「京都府」が含む場合に、セル色を「白」にする条件付き書式を設定。※デフォルトは黄色。","都道県の入力漏れの防止","住所に都道府県以外の住所に「県」が含まれている場合もOKとなってしまう。"]
[null,44,"（全般","（全般","入力例のコメントを「ですます調」に変更。","申請者の心象の向上（無機質、冷たい印象から丁寧、親切な印象へ）","文字数が多くなる。ただし、調整可能な範囲。"]
[null,45,"（全般","（全般","各シートの左上に「提出書類一覧」シートへのリンクを配置","利便性が向上","なし"]
[null,46,"（全般","（全般","各シートの上部に、各様式の名前がわかりやすいように明記してセルを色付けして配置","視認性、利便性が向上","なし"]
[null,47,"（全般","（全般","鑑以外のフォントを「MS P明朝」から「Meiryo Ⅱ」へ変更","視認性が向上。見間違いによるエラーが減少","なし"]
[null,48,"（全般","（全般","統一できる項目につき、項目はA列、入力枠はB列以降に統一","視認性、操作性が向上","なし"]
[null,49,"（全般","（全般","行、列の幅を可能な限り統一","様式全体の統一感の向上","なし"]
[null,50]
[null,51]
[null,52]
[null,53]
[null,54]
[null,55]
[null,56]
[null,57]
[null,58]
[null,59]
[null,60]
[null,61]
[null,62]
[null,63]
[null,64]
[null,{"$f":"ROW()-2","v":65}]
[null,66]
[null,67]
[null,68]
[null,69]
[null,70]
[null,71]
[null,72]
[null,73]
[null,74]
[null,75]
[null,76]
[null,77]
[null,78]
[null,79]
[null,80]
[null,81]
[null,82]
[null,83]
[null,84]
[null,85]
[null,86]
[null,87]
[null,88]
[null,89]
[null,90]
[null,91]
[null,92]
[null,93]
[null,94]
[null,95]
[null,96]
[null,97]
[null,98]

{"sheet":"日本標準産業分類","index":4,"n_rows":103,"n_cols":27,"rows_kept":103,"cut":false,"hidden":true,"merged":[]}
["◇日本標準産業分類 ※申請様式の（別添１）融資計画詳細３を作成する際にご覧ください。"]
[]
[]
[null,"大分類",null,"中分類","分類項目名",null,"農業_林業","漁業","鉱業_採石_砂利採取業","建設業","製造業","電気・ガス・熱供給・水道業","情報通信業","運輸業_郵便業","卸売業_小売業","金融業_保険業","不動産業_物品賃貸業","学術研究_専門・技術サービス業","宿泊業_飲食サービス業","生活関連サービス業_娯楽業","教育_学習支援業","医療_福祉","複合サービス事業","サービス業_他に分類されないもの","公務_他に分類されるものを除く","分類不能の産業","無"]
[null,"Ａ","農業,林業","01","農業 ",null,"農業 ","漁業（水産養殖業を除く）","鉱業,採石業,砂利採取業 ","総合工事業","食料品製造業","電気業","通信業","鉄道業","各種商品卸売業","銀行業","不動産取引業","学術・開発研究機関","宿泊業","洗濯・理容・美容・浴場業","学校教育","医療業","郵便局","廃棄物処理業","国家公務","分類不能の産業","無"]
[null,null,null,"02","林業",null,"林業","水産養殖業",null,"職別工事業（設備工事業を除く）","飲料・たばこ・飼料製造業","ガス業","放送業","道路旅客運送業","繊維・衣服等卸売業","協同組織金融業","不動産賃貸業・管理業","専門サービス業（他に分類されないもの）","飲食店","その他の生活関連サービス業","その他の教育,学習支援業","保健衛生","協同組合（他に分類されないもの）","自動車整備業","地方公務"]
[null,"B","漁業","03","漁業（水産養殖業を除く）",null,null,null,null,"設備工事業","繊維工業","熱供給業","情報サービス業","道路貨物運送業","飲食料品卸売業","貸金業,クレジットカード業等非預金信用機関","物品賃貸業","広告業","持ち帰り・配達飲食サービス業","娯楽業",null,"社会保険・社会福祉・介護事業",null,"機械等修理業"]
[null,null,null,"04","水産養殖業",null,null,null,null,null,"木材・木製品製造業（家具を除く）","水道業","インターネット附随サービス業","水運業 ","建築材料,鉱物・金属材料等卸売業","金融商品取引業,商品先物取引業",null,"技術サービス業（他に分類されないもの）",null,null,null,null,null,"職業紹介・労働者派遣業"]
[null,"C","鉱業,採石業,砂利採取業","05","鉱業,採石業,砂利採取業 ",null,null,null,null,null,"家具・装備品製造業",null,"映像・音声・文字情報制作業","航空運輸業","機械器具卸売業","補助的金融業等",null,null,null,null,null,null,null,"その他の事業サービス業"]
[null,"D","建設業","06","総合工事業",null,null,null,null,null,"パルプ・紙・紙加工品製造業",null,null,"倉庫業","その他の卸売業","保険業（保険媒介代理業,保険サービス業を含む）",null,null,null,null,null,null,null,"政治・経済・文化団体"]
[null,null,null,"07","職別工事業（設備工事業を除く）",null,null,null,null,null,"印刷・同関連業",null,null,"運輸に附帯するサービス業","各種商品小売業",null,null,null,null,null,null,null,null,"宗教"]
[null,null,null,"08","設備工事業",null,null,null,null,null,"化学工業",null,null,"郵便業（信書便事業を含む）","織物・衣服・身の回り品小売業",null,null,null,null,null,null,null,null,"その他のサービス業"]
[null,"E","製造業","09","食料品製造業",null,null,null,null,null,"石油製品・石炭製品製造業",null,null,null,"飲食料品小売業",null,null,null,null,null,null,null,null,"外国公務"]
[null,null,null,"10","飲料・たばこ・飼料製造業",null,null,null,null,null,"ﾌﾟﾗｽﾁｯｸ製品製造業",null,null,null,"機械器具小売業"]
[null,null,null,"11","繊維工業",null,null,null,null,null,"ゴム製品製造業",null,null,null,"その他の小売業"]
[null,null,null,"12","木材・木製品製造業（家具を除く）",null,null,null,null,null,"なめし革・同製品・毛皮製造業",null,null,null,"無店舗小売業"]
[null,null,null,"13","家具・装備品製造業",null,null,null,null,null,"窯業・土石製品製造業"]
[null,null,null,"14","パルプ・紙・紙加工品製造業",null,null,null,null,null,"鉄鋼業"]
[null,null,null,"15","印刷・同関連業",null,null,null,null,null,"非鉄金属製造業"]
[null,null,null,"16","化学工業",null,null,null,null,null,"金属製品製造業"]
[null,null,null,"17","石油製品・石炭製品製造業",null,null,null,null,null,"はん用機械器具製造業"]
[null,null,null,"18","ﾌﾟﾗｽﾁｯｸ製品製造業",null,null,null,null,null,"生産用機械器具製造業"]
[null,null,null,"19","ゴム製品製造業",null,null,null,null,null,"業務用機械器具製造業"]
[null,null,null,"20","なめし革・同製品・毛皮製造業",null,null,null,null,null,"電子部品・デバイス・電子回路製造業 "]
[null,null,null,"21","窯業・土石製品製造業",null,null,null,null,null,"電気機械器具製造業 "]
[null,null,null,"22","鉄鋼業",null,null,null,null,null,"情報通信機械器具製造業 "]
[null,null,null,"23","非鉄金属製造業",null,null,null,null,null,"輸送用機械器具製造業"]
[null,null,null,"24","金属製品製造業",null,null,null,null,null,"その他の製造業"]
[null,null,null,"25","はん用機械器具製造業"]
[null,null,null,"26","生産用機械器具製造業"]
[null,null,null,"27","業務用機械器具製造業"]
[null,null,null,"28","電子部品・デバイス・電子回路製造業 "]
[null,null,null,"29","電気機械器具製造業 "]
[null,null,null,"30","情報通信機械器具製造業 "]
[null,null,null,"31","輸送用機械器具製造業"]
[null,null,null,"32","その他の製造業"]
[null,"F","電気・ガス・熱供給・水道業","33","電気業"]
[null,null,null,"34","ガス業"]
[null,null,null,"35","熱供給業"]
[null,null,null,"36","水道業"]
[null,"G","情報通信業","37","通信業"]
[null,null,null,"38","放送業"]
[null,null,null,"39","情報サービス業"]
[null,null,null,"40","インターネット附随サービス業"]
[null,null,null,"41","映像・音声・文字情報制作業"]
[null,"H","運輸業,郵便業","42","鉄道業"]
[null,null,null,"43","道路旅客運送業"]
[null,null,null,"44","道路貨物運送業"]
[null,null,null,"45","水運業 "]
[null,null,null,"46","航空運輸業"]
[null,null,null,"47","倉庫業"]
[null,null,null,"48","運輸に附帯するサービス業"]
[null,null,null,"49","郵便業（信書便事業を含む）"]
[null,"I","卸売業,小売業","50","各種商品卸売業"]
[null,null,null,"51","繊維・衣服等卸売業"]
[null,null,null,"52","飲食料品卸売業"]
[null,null,null,"53","建築材料,鉱物・金属材料等卸売業"]
[null,null,null,"54","機械器具卸売業"]
[null,null,null,"55","その他の卸売業"]
[null,null,null,"56","各種商品小売業"]
[null,null,null,"57","織物・衣服・身の回り品小売業"]
[null,null,null,"58","飲食料品小売業"]
[null,null,null,"59","機械器具小売業"]
[null,null,null,"60","その他の小売業"]
[null,null,null,"61","無店舗小売業"]
[null,"J","金融業,保険業","62","銀行業"]
[null,null,null,"63","協同組織金融業"]
[null,null,null,"64","貸金業,クレジットカード業等非預金信用機関"]
[null,null,null,"65","金融商品取引業,商品先物取引業"]
[null,null,null,"66","補助的金融業等"]
[null,null,null,"67","保険業（保険媒介代理業,保険サービス業を含む）"]
[null,"K","不動産業,物品賃貸業","68","不動産取引業"]
[null,null,null,"69","不動産賃貸業・管理業"]
[null,null,null,"70","物品賃貸業"]
[null,"L","学術研究,専門・技術サービス業","71","学術・開発研究機関"]
[null,null,null,"72","専門サービス業（他に分類されないもの）"]
[null,null,null,"73","広告業"]
[null,null,null,"74","技術サービス業（他に分類されないもの）"]
[null,"M","宿泊業,飲食サービス業","75","宿泊業"]
[null,null,null,"76","飲食店"]
[null,null,null,"77","持ち帰り・配達飲食サービス業"]
[null,"N","生活関連サービス業,娯楽業","78","洗濯・理容・美容・浴場業"]
[null,null,null,"79","その他の生活関連サービス業"]
[null,null,null,"80","娯楽業"]
[null,"O","教育,学習支援業","81","学校教育"]
[null,null,null,"82","その他の教育,学習支援業"]
[null,"P","医療,福祉","83","医療業"]
[null,null,null,"84","保健衛生"]
[null,null,null,"85","社会保険・社会福祉・介護事業"]
[null,"Q","複合サービス事業","86","郵便局"]
[null,null,null,"87","協同組合（他に分類されないもの）"]
[null,"R","サービス業（他に分類されないもの）","88","廃棄物処理業"]
[null,null,null,"89","自動車整備業"]
[null,null,null,"90","機械等修理業"]
[null,null,null,"91","職業紹介・労働者派遣業"]
[null,null,null,"92","その他の事業サービス業"]
[null,null,null,"93","政治・経済・文化団体"]
[null,null,null,"94","宗教"]
[null,null,null,"95","その他のサービス業"]
[null,null,null,"96","外国公務"]
[null,"S","公務（他に分類されるものを除く）","97","国家公務"]
[null,null,null,"98","地方公務"]
[null,"T","分類不能の産業","99","分類不能の産業"]

{"sheet":"見込み省エネルギー量","index":5,"n_rows":4,"n_cols":4,"rows_kept":4,"cut":false,"hidden":true,"merged":[]}
[null,"設備区分","設備種別","平均省エネ量（kl/台）"]
[null,"高効率空調","電気式パッケージエアコン\nガスヒートポンプエアコン\nチリングユニット",1.133]
[null,"産業用モータ","-",0.188]
[null,"調光制御設備","-",0.123780398312288]

{"sheet":"提出書類一覧","index":6,"n_rows":23,"n_cols":13,"rows_kept":23,"cut":false,"hidden":false,"merged":[[0,7,0,12],[1,0,2,0],[1,2,2,2],[1,5,2,5],[1,7,2,7],[1,9,2,9],[1,10,2,10],[1,11,2,11],[0,0,0,5],[1,8,2,8],[1,12,2,12],[14,7,14,12],[16,12,18,12],[16,9,18,9],[16,10,18,10],[1,3,2,3],[3,0,3,5],[1,1,2,1],[4,0,5,0],[4,1,5,1],[4,3,13,3],[7,5,8,5],[1,4,2,4],[4,4,13,4],[4,2,5,2],[4,5,5,5],[16,7,18,7],[16,8,18,8],[15,2,17,2],[15,0,17,0],[22,7,24,7],[22,8,24,8],[20,7,20,12],[22,11,24,11],[22,12,24,12],[22,9,24,9],[22,10,24,10],[16,11,18,11],[15,5,17,5],[22,5,24,5],[22,2,24,2],[22,4,24,4],[22,0,24,0],[22,1,24,1],[22,3,24,3],[15,3,17,3],[14,0,14,5],[15,1,17,1],[15,4,17,4],[18,5,21,5],[18,4,21,4],[18,3,21,3],[18,2,21,2],[18,0,21,0],[18,1,21,1],[3,12,5,12],[10,7,12,7],[10,8,12,8],[10,9,12,9],[10,10,12,10],[10,11,12,11],[10,12,12,12],[3,7,5,7],[3,8,5,8],[3,9,5,9],[3,10,5,10],[3,11,5,11],[8,7,8,12]]}
["融資計画書　提出書類一覧",null,null,null,null,null,null,"交付申請　提出書類一覧"]
["No","シート\nリンク","提出書類","ファイル\n形式","ファイル名","備考",null,"No","シート\nリンク","提出書類","ファイル\n形式","ファイル名","備考"]
[]
["融資計画書（ＳＩＩ指定書式）",null,null,null,null,null,null,1,"リンク","（様式第3）交付申請書（新規融資案件）","Excel","新規融資分_交付申請書_受付番号"]
[1,"リンク","（様式第１）融資計画書","Excel","融資計画書_利子補給対象事業者名"]
[]
[2,"リンク","（別添１）融資計画詳細１",null,null,null,null,2,"-","金銭消費貸借契約証書の写し","PDF","契約証書_受付番号"]
[3,"リンク","（別添１）融資計画詳細２",null,null,"・補助事業ポータル入力項目です。入力は必須ではございません。"]
[4,"リンク","（別添１）融資計画詳細３",null,null,null,null,"実績報告　提出書類一覧"]
[5,"リンク","（別添２）役員名簿（利子補給対象事業者）",null,null,"・利子補給対象事業者の情報をご入力ください。",null,"No","シート\nリンク","提出書類","ファイル\n形式","ファイル名","備考"]
[6,"リンク","（別添３）利子補給金の交付の対象となる経費リスト",null,null,null,null,1,"リンク","（様式第９）実績報告書","Excel","新規融資分_実績報告書_受付番号"]
[7,"リンク","（別添４）エネルギー消費効率の根拠（要件ア）"]
[8,"リンク","（別添５）エネルギー消費原単位の改善根拠（要件イ）"]
[9,"リンク","（別添６）省エネルギー取組の根拠（要件ウ）"]
["添付書類（自由書式）",null,null,null,null,null,null,"概算払請求　提出書類一覧"]
[10,"-","見積書","PDF","見積書","・（別添３）利子補給金の交付の対象となる経費リストの整合性が確認できる見積書を添付してください。\n・作成日、作成者、宛先等が明記されている状態としてください。\n・費用の記載箇所がわかるようにマーカーや付箋等で印をつけてください。",null,"No","シート\nリンク","提出書類","ファイル\n形式","ファイル名","備考"]
[null,null,null,null,null,null,null,1,"リンク","（様式第１１）概算払請求書","Excel","新規融資分_概算払請求書_受付番号"]
[]
[11,"-","省エネ計算の裏付け資料"," 自由","省エネ計算の裏付け資料_（資料名）","・設備のカタログや仕様書又は実測データ、図面等の省エネ計算の裏付け資料を添付してください。\n・作成者が明記された状態としてください。\n・省エネ計算根拠の記載箇所がわかるよう、マーカー等で印をつけてください。"]
[]
[null,null,null,null,null,null,null,"精算払請求　提出書類一覧"]
[null,null,null,null,null,null,null,"No","シート\nリンク","提出書類","ファイル\n形式","ファイル名","備考"]
[12,"-","経営革新計画の承認企業であることの承認書の写し\n（任意）","PDF","定型","・審査の評価項目として中小企業等経営強化法に基づき、経営革新計画の承認を受けた企業が実施する利子補給対象事業であれば、加点対象となります。\n・該当する場合は、経営革新計画に係る承認書の写しを添付してください。\n・実績報告時に経営革新計画の達成状況について報告いただきます。未達成であっても、利子補給金に影響はございません。",null,1,"リンク","（様式第１１）精算払請求書","Excel","新規融資分_精算払請求書_受付番号"]

{"sheet":"【参考】見込み省エネルギー量の算出（要件アと要件ウ）","index":7,"n_rows":31,"n_cols":2,"rows_kept":31,"cut":false,"hidden":false,"merged":[[3,1,6,15]]}
[]
[null,"【参考】見込み省エネルギー量の算出（要件アと要件ウ）"]
[]
[null,"新規融資の利子補給対象事業について、見込み省エネルギー量[kl/年]を算出いただきます。\n本事業の見込み省エネルギー量の考え方は以下のとおりです。"]
[]
[]
[]
[]
[]
[]
[]
[]
[]
[]
[]
[]
[]
[]
[]
[]
[]
[]
[]
[]
[]
[]
[]
["　※「工作機械・射出成形機等」、「データセンターのクラウドサービス活用」の計算方法"]
[null,"の一例は以下のとおりです。"]
["　※要件ア「照明や空調」、要件ウ「データセンターのクラウドサービス活用」については"]
[null,"簡易的な計算ができる申請サポートツールがあります（使用は任意）。"]

{"sheet":"【参考】エネルギー使用量の原油換算表","index":8,"n_rows":55,"n_cols":13,"rows_kept":55,"cut":false,"hidden":false,"merged":[[45,1,45,3],[45,8,45,9],[41,8,41,9],[42,1,42,3],[42,8,42,9],[43,1,43,3],[43,8,43,9],[44,1,44,3],[44,8,44,9],[36,2,36,3],[36,8,36,9],[37,1,41,1],[37,2,38,2],[37,8,37,9],[38,8,38,9],[39,2,40,2],[39,8,39,9],[40,8,40,9],[41,2,41,3],[33,2,33,3],[33,8,33,9],[34,2,34,3],[34,8,34,9],[35,2,35,3],[35,8,35,9],[28,2,28,3],[28,8,28,9],[29,2,29,3],[29,8,29,9],[30,2,32,2],[30,8,30,9],[31,8,31,9],[32,8,32,9],[25,2,25,3],[25,8,25,9],[26,2,26,3],[26,8,26,9],[27,2,27,3],[27,8,27,9],[17,8,17,9],[18,2,19,2],[18,8,18,9],[19,8,19,9],[22,2,24,2],[22,8,22,9],[23,8,23,9],[24,8,24,9],[20,2,21,2],[20,8,20,9],[21,8,21,9],[17,2,17,3],[14,2,14,3],[14,8,14,9],[15,2,15,3],[15,8,15,9],[16,2,16,3],[16,8,16,9],[7,1,7,3],[7,7,7,9],[7,11,7,12],[8,1,36,1],[8,2,8,3],[8,8,8,9],[9,2,9,3],[9,8,9,9],[10,2,10,3],[10,8,10,9],[11,2,11,3],[11,8,11,9],[12,2,12,3],[12,8,12,9],[13,2,13,3],[13,8,13,9],[4,4,6,4],[4,5,6,5],[4,6,4,9],[4,10,4,12],[5,8,5,9],[6,8,6,9]]}
[null,"エネルギー使用量の原油換算表（任意）"]
[]
[null,"エネルギー使用量の原油換算表"]
[]
[null,null,null,null,"単位","\n換算\n係数\n(GJ/\n単位)","一代前モデル",null,null,null,"導入モデル"]
[null,null,null,null,null,null,"使用量\nA","販売した副生エネルギーの量 B","差引後の熱量\n(A-B)×換算係数",null,"使用量\nC","販売する副生エネルギーの量 D","差引後の熱量\n(C-D)×換算係数"]
[null,null,null,null,null,null,"数値","数値","熱量（GJ）",null,"数値","数値","熱量（GJ）"]
[null,"生産量　　",null,null,null,null,null,0,null,null,null,0]
[null,"燃料及び熱","原油",null,"ｋｌ",38.200000000000003,0,0,{"$f":"(G9-H9)*$F9","v":0},null,0,0,{"$f":"(K9-L9)*$F9","v":0}]
[null,null,"原油のうちコンデンセート（ＮＧＬ）",null,"ｋｌ",35.299999999999997,0,0,0,null,0,0,0]
[null,null,"揮発油（ガソリン）",null,"ｋｌ",34.6,0,0,0,null,0,0,0]
[null,null,"ナフサ",null,"ｋｌ",33.6,0,0,0,null,0,0,0]
[null,null,"灯油",null,"ｋｌ",36.700000000000003,0,0,0,null,0,0,0]
[null,null,"軽油",null,"ｋｌ",37.700000000000003,0,0,0,null,0,0,0]
[null,null,"Ａ重油",null,"ｋｌ",39.1,0,0,0,null,0,0,0]
[null,null,"Ｂ・Ｃ重油",null,"ｋｌ",41.9,0,0,0,null,0,0,0]
[null,null,"石油アスファルト",null,"ｔ",40.9,0,0,0,null,0,0,0]
[null,null,"石油コークス",null,"ｔ",29.9,0,0,0,null,0,0,0]
[null,null,"石油ガス","液化石油ガス(ＬＰＧ)","ｔ",50.8,0,0,0,null,0,0,0]
[null,null,null,"石油系炭化水素ガス","千ｍ３",44.9,0,0,0,null,0,0,0]
[null,null,"可燃性\n天然ガス","液化天然ガス(ＬＮＧ)","ｔ",54.6,0,0,0,null,0,0,0]
[null,null,null,"その他可燃性天然ガス","千ｍ３",43.5,0,0,0,null,0,0,0]
[null,null,"石炭","原料炭","ｔ",29,0,0,0,null,0,0,0]
[null,null,null,"一般炭","ｔ",25.7,0,0,0,null,0,0,0]
[null,null,null,"無煙炭","ｔ",26.9,0,0,0,null,0,0,0]
[null,null,"石炭コークス",null,"ｔ",29.4,0,0,0,null,0,0,0]
[null,null,"コールタール",null,"ｔ",37.299999999999997,0,0,0,null,0,0,0]
[null,null,"コークス炉ガス",null,"千ｍ３",21.1,0,0,0,null,0,0,0]
[null,null,"高炉ガス",null,"千ｍ３",3.41,0,0,0,null,0,0,0]
[null,null,"転炉ガス",null,"千ｍ３",8.41,0,0,0,null,0,0,0]
[null,null,"その他の燃料","都市ガス１３A","千ｍ３",null,0,0,0,null,0,0,0]
[null,null,null,null,null,null,0,0,0,null,0,0,0]
[null,null,null,null,null,null,0,0,0,null,0,0,0]
[null,null,"産業用蒸気",null,"GＪ",1.02,0,0,0,null,0,0,0]
[null,null,"産業用以外の蒸気",null,"GＪ",1.36,0,0,0,null,0,0,0]
[null,null,"温水",null,"GＪ",1.36,0,0,0,null,0,0,0]
[null,null,"冷水",null,"GＪ",1.36,0,0,0,null,0,0,0]
[null,"電気","一般電気事業者","昼間買電","千ｋWh",9.9700000000000006,0,0,0,null,0,0,0]
[null,null,null,"夜間買電","千ｋWh",9.2799999999999994,0,0,0,null,0,0,0]
[null,null,"その他","上記以外の買電","千ｋWh",9.76,0,0,0,null,0,0,0]
[null,null,null,"自家発電","千ｋWh",9.76,0,0,{"$f":"(-H41)*$F41","v":0},null,0,0,{"$f":"(-L41)*$F41","v":0}]
[null,null,"自家発電以外の計 h",null,"千ｋWh","-",{"$f":"SUM(G38:G40)","v":0},{"$f":"SUM(H38:H40)","v":0},"-",null,{"$f":"SUM(K38:K40)","v":0},{"$f":"SUM(L38:L40)","v":0},"-"]
[null,"熱量合計",null,null,"GJ",null,null,null,{"$f":"SUM(I9:J41)","v":0},null,null,null,{"$f":"SUM(M9:M41)","v":0}]
[null,"原油換算量\n(10GJ=0.258kl)",null,null,"kl",null,"ｂ",null,{"$f":"ROUND(I43*0.0258,1)","v":0},null,"ｃ",null,{"$f":"ROUND(M43*0.0258,1)","v":0}]
[null,"エネルギー原単位",null,null,{"$f":"\"kl/\"&E8","v":"kl/"},null,null,null,{"$f":"I44/H8","v":{"$error":"#DIV/0!"}},null,null,null,{"$f":"M44/L8","v":{"$error":"#DIV/0!"}}]
[null,"エネルギー原単位",null,null,{"$f":"\"kl/\"&E8","v":"kl/"},null,"ｄ",null,{"$f":"IF(I45>1,ROUND(I45,3),--TEXT(I45,\"0.0e+000\"))","v":{"$error":"#DIV/0!"}},null,"ｅ",null,{"$f":"IF(M45>1,ROUND(M45,3),--TEXT(M45,\"0.0e+000\"))","v":{"$error":"#DIV/0!"}}]
[null,null,"（注）　　　","・導入後のエネルギー使用量は、利子補給対象事業に係るエネルギー消費量の差異のみを織り込む。"]
[null,null,"　　　","・事業場への入出のエネルギー全てに関して記述すること。"]
[null,null,"　　　","・蒸気、温水及び冷水の換算係数に相当する係数で当該熱を発生させるために使用された燃料の発熱量を算定する上で"]
[null,null,"　　　　","  適切と認められるものを求めることができるときは、換算係数に代えて当該係数を用いることができる。"]
[null,null,"　　　","・導入後に生産量や稼働時間等が減る見込みがある場合、導入後の生産量は過去の実績年度と同じとすることとし、"]
[null,null,"　　　","　同条件として省エネルギー計算すること。"]
[]
[]
[null,"【エネルギー原単位の改善効果】",null,null,null,null,{"$f":"ROUND((1-(M46/I46))*100,2)","v":{"$error":"#DIV/0!"}},"％","　1-(ｅ/ｄ)"]

{"sheet":"（様式第１）融資計画書","index":9,"n_rows":79,"n_cols":55,"rows_kept":79,"cut":false,"hidden":false,"merged":[[0,0,1,16],[15,8,17,9],[18,3,20,6],[18,8,20,9],[15,10,17,16],[18,10,20,16],[75,1,76,6],[26,8,28,9],[29,3,31,6],[29,8,31,9],[21,8,24,9],[32,8,35,9],[71,1,72,15],[46,0,55,16],[34,10,35,16],[21,10,22,16],[23,10,24,16],[26,10,28,16],[29,10,31,16],[32,10,33,16],[26,27,28,33],[15,25,17,26],[15,27,17,33],[18,20,20,23],[18,25,20,26],[18,27,20,33],[21,25,24,26],[21,27,22,32],[21,33,25,33],[23,27,24,32],[26,25,28,26],[75,18,76,23],[46,17,55,33],[71,18,72,32],[29,20,31,23],[29,25,31,26],[29,27,31,33],[32,25,35,26],[32,27,33,32],[32,33,34,33],[34,27,35,32]]}
["(様式第１)融資計画書"]
[]
["様式第１",null,null,null,null,null,null,null,null,null,null,null,null,null,null,null,null,{"$f":"A3","v":"様式第１"},null,null,null,null,null,null,null,null,null,null,null,null,null,null,null,null,null,null,null,null,null,null,null,null,null,null,null,null,null,null,null,null,null,null,"様式第1_L6","年",{"$f":"IF(L6=\"\",\"\",L6)","v":""}]
[null,null,null,null,null,null,null,null,null,null,null,null,null,null,null,null,null,null,null,null,null,null,null,null,null,null,null,null,null,null,null,null,null,null,null,null,null,null,null,null,null,null,null,null,null,null,null,null,null,null,null,null,"様式第1_N6","月",{"$f":"IF(N6=\"\",\"\",N6)","v":""}]
[null,null,null,null,null,null,null,null,null,null,null,null,null,null,null,null,null,null,null,null,null,null,null,null,null,null,null,null,null,null,null,null,null,null,null,null,null,null,null,null,null,null,null,null,null,null,null,null,null,null,null,null,"様式第1_P6","日",{"$f":"IF(P6=\"\",\"\",P6)","v":""}]
[null,null,null,null,null,null,null,null,null,null,null,null,"年",null,"月",null,"日",null,null,null,null,null,null,null,null,null,null,null,2022,{"$f":"M6","v":"年"},"○○",{"$f":"O6","v":"月"},"○○",{"$f":"Q6","v":"日"},null,null,null,null,null,null,null,null,null,null,null,null,null,null,null,null,null,null,"様式第1_K16","指定金融機関_住所",{"$f":"IF(K16=\"\",\"\",K16)","v":""}]
[null,null,null,null,null,null,null,null,null,null,null,null,null,null,null,null,null,null,null,null,null,null,null,null,null,null,null,null,null,null,null,null,null,null,null,null,null,null,null,null,null,null,null,null,null,null,null,null,null,null,null,null,"様式第1_K19","指定金融機関_名称",{"$f":"IF(K19=\"\",\"\",K19)","v":""}]
[null,null,null,null,null,null,null,null,null,null,null,null,null,null,null,null,null,null,null,null,null,null,null,null,null,null,null,null,null,null,null,null,null,null,null,null,null,null,null,null,null,null,null,null,null,null,null,null,null,null,null,null,"様式第1_K22","指定金融機関_役職名",{"$f":"IF(K22=\"\",\"\",K22)","v":""}]
["一般社団法人　環境共創イニシアチブ",null,null,null,null,null,null,null,null,null,null,null,null,null,null,null,null,{"$f":"A9","v":"一般社団法人　環境共創イニシアチブ"},null,null,null,null,null,null,null,null,null,null,null,null,null,null,null,null,null,null,null,null,null,null,null,null,null,null,null,null,null,null,null,null,null,null,"様式第1_K24","指定金融機関_代表者名",{"$f":"IF(K24=\"\",\"\",K24)","v":""}]
[null,null,null,null,null,null,null,null,null,null,null,null,null,null,null,null,null,null,null,null,null,null,null,null,null,null,null,null,null,null,null,null,null,null,null,null,null,null,null,null,null,null,null,null,null,null,null,null,null,null,null,null,"様式第1_K27","利子補給対象事業者_住所",{"$f":"IF(K27=\"\",\"\",K27)","v":""}]
["代 表 理 事　　　村上　孝　殿",null,null,null,null,null,null,null,null,null,null,null,null,null,null,null,null,{"$f":"A11","v":"代 表 理 事　　　村上　孝　殿"},null,null,null,null,null,null,null,null,null,null,null,null,null,null,null,null,null,null,null,null,null,null,null,null,null,null,null,null,null,null,null,null,null,null,"様式第1_K30","利子補給対象事業者_名称",{"$f":"IF(K30=\"\",\"\",K30)","v":""}]
[null,null,null,null,null,null,null,null,null,null,null,null,null,null,null,null,null,null,null,null,null,null,null,null,null,null,null,null,null,null,null,null,null,null,null,null,null,null,null,null,null,null,null,null,null,null,null,null,null,null,null,null,"様式第1_K33","利子補給対象事業者_役職名",{"$f":"IF(K33=\"\",\"\",K33)","v":""}]
[null,null,null,null,null,null,null,null,null,null,null,null,null,null,null,null,null,null,null,null,null,null,null,null,null,null,null,null,null,null,null,null,null,null,null,null,null,null,null,null,null,null,null,null,null,null,null,null,null,null,null,null,"様式第1_K35","利子補給対象事業者_代表者名",{"$f":"IF(K35=\"\",\"\",K35)","v":""}]
[null,null,null,null,null,null,null,null,null,null,null,null,null,null,null,null,null,null,null,null,null,null,null,null,null,null,null,null,null,null,null,null,null,null,null,null,null,null,null,null,null,null,null,null,null,null,null,null,null,null,null,null,"様式第1_B72","融資名称",{"$f":"IF(B72=\"\",\"\",B72)","v":""}]
[null,null,null,null,null,null,null,null,null,null,{"$f":"IF(K16=\"\",\"↓住所は都道府県からご入力ください。\",\"\")","v":"↓住所は都道府県からご入力ください。"},null,null,null,null,null,null,null,null,null,null,null,null,null,null,null,null,null,null,null,null,null,null,null,null,null,null,null,null,null,null,null,null,null,null,null,null,null,null,null,null,null,"様式第1_B76","融資計画の内容",{"$f":"IF(B76=\"\",\"\",B76)","v":""}]
[null,null,null,null,null,null,null,null,"住　　所",null,null,null,null,null,null,null,null,null,null,null,null,null,null,null,null,{"$f":"I16","v":"住　　所"},null,"○○県○○市○○町○丁目○番○号"]
[]
[]
[null,null,null,"指定金融機関",null,null,null,null,"名　　称",null,null,null,null,null,null,null,null,null,null,null,{"$f":"D19","v":"指定金融機関"},null,null,null,null,{"$f":"I19","v":"名　　称"},null,"株式会社○○銀行"]
[]
[]
[null,null,null,null,null,null,null,null,"代表者等名",null,null,null,null,null,null,null,null,null,null,null,null,null,null,null,null,{"$f":"I22","v":"代表者等名"},null,"代表取締役"]
[]
[null,null,null,null,null,null,null,null,null,null,null,null,null,null,null,null,null,null,null,null,null,null,null,null,null,null,null,"○○　○○"]
[]
[]
[null,null,null,null,null,null,null,null,"住　　所",null,null,null,null,null,null,null,null,null,null,null,null,null,null,null,null,{"$f":"I27","v":"住　　所"},null,"○○県○○市○○町○丁目○番○号"]
[]
[]
[null,null,null,"利子補給対象事業者",null,null,null,null,"名　　称",null,null,null,null,null,null,null,null,null,null,null,{"$f":"D30","v":"利子補給対象事業者"},null,null,null,null,{"$f":"I30","v":"名　　称"},null,"株式会社○○○○"]
[]
[]
[null,null,null,null,null,null,null,null,"代表者等名",null,null,null,null,null,null,null,null,null,null,null,null,null,null,null,null,{"$f":"I33","v":"代表者等名"},null,"代表取締役"]
[]
[null,null,null,null,null,null,null,null,null,null,null,null,null,null,null,null,null,null,null,null,null,null,null,null,null,null,null,"○○　○○"]
[]
[]
[]
[]
[null,null,null,null,null,null,null,null,"令和４年度省エネルギー設備投資に係る利子補給金",null,null,null,null,null,null,null,null,null,null,null,null,null,null,null,null,{"$f":"I40","v":"令和４年度省エネルギー設備投資に係る利子補給金"}]
[]
[null,null,null,null,null,null,null,null,"融資計画書",null,null,null,null,null,null,null,null,null,null,null,null,null,null,null,null,{"$f":"I42","v":"融資計画書"}]
[]
[]
[]
[]
["　省エネルギー設備投資に係る利子補給金交付規程（ＳＩＩ－ＢＦＡ２２０－０１－２２０４０１－Ｒ。以下「交付規程」という。）第３条の規定する交付対象融資を行うため、交付規程第６条の規定に基づき、融資計画について下記のとおり提出します。",null,null,null,null,null,null,null,null,null,null,null,null,null,null,null,null,{"$f":"A47","v":"　省エネルギー設備投資に係る利子補給金交付規程（ＳＩＩ－ＢＦＡ２２０－０１－２２０４０１－Ｒ。以下「交付規程」という。）第３条の規定する交付対象融資を行うため、交付規程第６条の規定に基づき、融資計画について下記のとおり提出します。"}]
[]
[]
[]
[]
[]
[]
[]
[]
[]
[]
[]
[]
[]
[]
[]
[]
[]
[]
[]
[]
[null,null,null,null,null,null,null,null,"記",null,null,null,null,null,null,null,null,null,null,null,null,null,null,null,null,{"$f":"I68","v":"記"}]
[]
[]
["１．融資名称",null,null,null,null,null,null,null,null,null,null,null,null,null,null,null,null,{"$f":"A71","v":"１．融資名称"}]
[null,null,null,null,null,null,null,null,null,null,null,null,null,null,null,null,null,null,"○○○○○○○にともなう融資"]
[]
[]
["２．融資計画の内容",null,null,null,null,null,null,null,null,null,null,null,null,null,null,null,null,{"$f":"A75","v":"２．融資計画の内容"}]
[null,null,null,null,null,null,null,null,null,null,null,null,null,null,null,null,null,null,"※（別添１）融資計画詳細　参照"]
[]
[]
["（注）この申請書には、ＳＩＩが指示する書面を添付すること。",null,null,null,null,null,null,null,null,null,null,null,null,null,null,null,null,{"$f":"A79","v":"（注）この申請書には、ＳＩＩが指示する書面を添付すること。"}]

{"sheet":"（別添１）融資計画詳細１","index":10,"n_rows":218,"n_cols":64,"rows_kept":218,"cut":false,"hidden":false,"merged":[[2,29,3,29],[14,32,15,32],[16,32,17,32],[38,18,38,23],[38,24,38,26],[39,18,40,19],[39,20,40,21],[39,22,40,22],[39,23,40,23],[39,26,40,26],[8,27,9,28],[38,27,40,28],[38,29,38,39],[8,35,9,43],[25,35,26,43],[27,35,32,43],[10,32,11,32],[8,29,9,31],[31,33,32,33],[34,40,35,43],[38,40,39,43],[39,37,40,37],[39,38,39,39],[31,32,32,32],[8,8,9,16],[25,8,26,16],[27,8,32,16],[14,27,17,28],[19,8,24,16],[10,8,16,16],[17,8,18,16],[23,27,24,28],[34,13,35,16],[34,10,35,12],[25,27,26,28],[27,27,30,28],[31,27,32,28],[130,28,137,28],[138,27,153,27],[138,28,145,28],[146,28,153,28],[154,27,169,27],[154,28,161,28],[162,28,169,28],[202,0,217,0],[202,1,209,1],[202,7,209,7],[202,12,209,12],[194,1,201,1],[194,7,201,7],[194,12,201,12],[178,28,185,28],[186,27,201,27],[186,28,193,28],[194,28,201,28],[202,27,217,27],[202,28,209,28],[210,28,217,28],[122,27,137,27],[122,28,129,28],[202,34,209,34],[202,39,209,39],[210,1,217,1],[210,7,217,7],[210,12,217,12],[210,34,217,34],[210,39,217,39],[186,0,201,0],[170,0,185,0],[170,1,177,1],[170,7,177,7],[170,12,177,12],[170,34,177,34],[170,39,177,39],[178,1,185,1],[178,7,185,7],[178,12,185,12],[178,34,185,34],[178,39,185,39],[186,1,193,1],[186,7,193,7],[186,12,193,12],[186,34,193,34],[186,39,193,39],[194,34,201,34],[194,39,201,39],[170,27,185,27],[170,28,177,28],[154,0,169,0],[138,0,153,0],[138,1,145,1],[138,7,145,7],[138,12,145,12],[138,34,145,34],[138,39,145,39],[146,1,153,1],[146,7,153,7],[146,12,153,12],[146,34,153,34],[146,39,153,39],[154,1,161,1],[154,7,161,7],[154,12,161,12],[154,34,161,34],[154,39,161,39],[162,1,169,1],[162,7,169,7],[162,12,169,12],[162,34,169,34],[162,39,169,39],[122,0,137,0],[106,0,121,0],[106,1,113,1],[106,7,113,7],[106,12,113,12],[106,34,113,34],[106,39,113,39],[114,1,121,1],[114,7,121,7],[114,12,121,12],[114,39,121,39],[122,1,129,1],[122,7,129,7],[122,12,129,12],[122,34,129,34],[122,39,129,39],[130,1,137,1],[130,7,137,7],[130,12,137,12],[130,34,137,34],[130,39,137,39],[106,27,121,27],[90,0,105,0],[90,1,97,1],[90,7,97,7],[90,12,97,12],[90,34,97,34],[90,39,97,39],[98,1,105,1],[98,7,105,7],[98,12,105,12],[90,27,105,27],[90,28,97,28],[98,28,105,28],[98,34,105,34],[98,39,105,39],[74,0,89,0],[74,1,81,1],[74,7,81,7],[74,12,81,12],[74,34,81,34],[74,39,81,39],[82,1,89,1],[82,7,89,7],[82,12,89,12],[74,27,89,27],[74,28,81,28],[82,28,89,28],[82,34,89,34],[82,39,89,39],[58,0,73,0],[58,1,65,1],[58,7,65,7],[58,12,65,12],[58,34,65,34],[58,39,65,39],[66,1,73,1],[66,7,73,7],[66,12,73,12],[58,27,73,27],[58,28,65,28],[66,28,73,28],[66,34,73,34],[66,39,73,39],[10,2,11,4],[38,0,40,1],[42,0,57,0],[42,1,49,1],[50,1,57,1],[38,13,39,16],[50,7,57,7],[50,12,57,12],[42,12,49,12],[39,2,39,7],[42,7,49,7],[39,11,39,12],[39,8,40,8],[39,9,40,9],[39,10,40,10],[38,2,38,12],[0,0,1,16],[8,5,9,5],[10,5,11,5],[31,0,32,1],[21,0,22,1],[23,0,24,1],[10,0,11,1],[12,0,13,1],[25,0,26,1],[25,2,26,4],[27,0,30,1],[18,0,19,1],[8,0,9,1],[8,2,9,4],[14,2,15,4],[14,0,17,1],[12,5,13,5],[18,5,19,5],[21,5,22,5],[23,5,24,5],[25,5,26,5],[16,2,17,4],[27,2,28,4],[29,2,30,4],[114,34,121,34],[10,27,11,28],[10,29,11,31],[31,29,32,31],[12,27,13,28],[12,29,13,31],[106,28,113,28],[114,28,121,28],[42,27,57,27],[42,28,49,28],[50,28,57,28],[18,27,19,28],[18,29,19,31],[18,32,19,32],[21,27,22,28],[21,29,22,31],[39,29,39,34],[14,29,15,31],[16,29,17,31],[27,32,28,32],[29,32,30,32],[27,29,28,31],[29,29,30,31],[21,32,22,32],[25,32,26,32],[18,33,19,33],[21,33,22,33],[23,33,24,33],[25,33,26,33],[23,29,24,31],[23,32,24,32],[10,35,16,43],[17,35,18,43],[19,35,24,43],[42,34,49,34],[42,39,49,39],[50,34,57,34],[50,39,57,39],[39,36,40,36],[39,35,40,35],[2,2,3,2],[12,32,13,32],[31,5,32,5],[14,5,15,5],[16,5,17,5],[27,5,28,5],[29,5,30,5],[34,37,35,39],[21,2,22,4],[23,2,24,4],[31,2,32,4],[18,2,19,4],[12,2,13,4],[8,33,9,33],[10,33,11,33],[12,33,13,33],[8,32,9,32],[25,29,26,31]]}
["（別添１）融資計画詳細１"]
[]
["（別添１）",null,"融資計画",null,null,null,null,null,null,null,null,null,null,null,null,null,null,null,null,null,null,null,null,null,null,null,null,{"$f":"A3","v":"（別添１）"},null,{"$f":"C3","v":"融資計画"},null,null,null,null,null,null,null,null,null,null,null,null,null,null,null,null,null,null,null,null,null,null,null,null,null,null,null,null,null,null,null,"別添1_C9","融資額",{"$f":"IF(C9=\"\",\"\",C9)","v":""}]
["融資計画詳細１",null,null,null,null,null,null,null,null,null,null,null,null,null,null,null,null,null,null,null,null,null,null,null,null,null,null,{"$f":"A4","v":"融資計画詳細１"},null,null,null,null,null,null,null,null,null,null,null,null,null,null,null,null,null,null,null,null,null,null,null,null,null,null,null,null,null,null,null,null,null,"別添1_C11","元金均等返済額",{"$f":"IF(C11=\"\",\"\",C11)","v":""}]
[null,null,null,null,null,null,null,null,null,null,null,null,null,null,null,null,null,null,null,null,null,null,null,null,null,null,null,null,null,null,null,null,null,null,null,null,null,null,null,null,null,null,null,null,null,null,null,null,null,null,null,null,null,null,null,null,null,null,null,null,null,"別添1_C13","最終弁済額",{"$f":"IF(C13=\"\",\"\",C13)","v":""}]
[null,null,null,null,null,null,null,null,null,null,null,null,null,null,null,null,null,null,null,null,null,null,null,null,null,null,null,null,null,null,null,null,null,null,null,null,null,null,null,null,null,null,null,null,null,null,null,null,null,null,null,null,null,null,null,null,null,null,null,null,null,"別添1_C15","融資期間_自：",{"$f":"IF(C15=\"\",\"\",C15)","v":""}]
["１．融資の内容",null,null,null,null,null,null,null,null,null,null,null,null,null,null,null,null,null,null,null,null,null,null,null,null,null,null,{"$f":"A7","v":"１．融資の内容"},null,null,null,null,null,null,null,null,null,null,null,null,null,null,null,null,null,null,null,null,null,null,null,null,null,null,null,null,null,null,null,null,null,"別添1_C17","融資期間_至：",{"$f":"IF(C17=\"\",\"\",C17)","v":""}]
[null,null,null,null,null,null,null,null,null,null,null,null,null,null,null,null,null,null,null,null,null,null,null,null,null,null,null,null,null,null,null,null,null,null,null,null,null,null,null,null,null,null,null,null,null,null,null,null,null,null,null,null,null,null,null,null,null,null,null,null,null,"別添1_C19","融資利率",{"$f":"IF(C19=\"\",\"\",C19)","v":""}]
["融資額",null,null,null,null,"円",null,null,"融資備考欄",null,null,null,null,null,null,null,null,null,null,null,null,null,null,null,null,null,null,{"$f":"A9","v":"融資額"},null,84000000,null,null,{"$f":"F9","v":"円"},null,null,"融資備考欄",null,null,null,null,null,null,null,null,null,null,null,null,null,null,null,null,null,null,null,null,null,null,null,null,null,"別添1_C22","内　交付対象融資額",{"$f":"IF(C22=\"\",\"\",C22)","v":""}]
[null,null,null,null,null,null,null,null,null,null,null,null,null,null,null,null,null,null,null,null,null,null,null,null,null,null,null,null,null,null,null,null,null,null,null,null,null,null,null,null,null,null,null,null,null,null,null,null,null,null,null,null,null,null,null,null,null,null,null,null,null,"別添1_C24","元金均等返済額",{"$f":"IF(C24=\"\",\"\",C24)","v":""}]
["元金均等返済額",null,null,null,null,"円",null,null,null,null,null,null,null,null,null,null,null,null,null,null,null,null,null,null,null,null,null,{"$f":"A11","v":"元金均等返済額"},null,1000000,null,null,{"$f":"F11","v":"円"},null,null,null,null,null,null,null,null,null,null,null,null,null,null,null,null,null,null,null,null,null,null,null,null,null,null,null,null,"別添1_C26","最終弁済額",{"$f":"IF(C26=\"\",\"\",C26)","v":""}]
[null,null,null,null,null,null,null,null,null,null,null,null,null,null,null,null,null,null,null,null,null,null,null,null,null,null,null,null,null,null,null,null,null,null,null,null,null,null,null,null,null,null,null,null,null,null,null,null,null,null,null,null,null,null,null,null,null,null,null,null,null,"別添1_C28","交付対象融資期間_自：",{"$f":"IF(C28=\"\",\"\",C28)","v":""}]
["最終弁済額",null,null,null,null,"円",null,null,null,null,null,null,null,null,null,null,null,null,null,null,null,null,null,null,null,null,null,{"$f":"A13","v":"最終弁済額"},null,1000000,null,null,{"$f":"F13","v":"円"},null,null,null,null,null,null,null,null,null,null,null,null,null,null,null,null,null,null,null,null,null,null,null,null,null,null,null,null,"別添1_C30","交付対象融資期間_至：",{"$f":"IF(C30=\"\",\"\",C30)","v":""}]
[null,null,null,null,null,null,null,null,null,null,null,null,null,null,null,null,null,null,null,null,null,null,null,null,null,null,null,null,null,null,null,null,null,null,null,null,null,null,null,null,null,null,null,null,null,null,null,null,null,null,null,null,null,null,null,null,null,null,null,null,null,"別添1_C32","利子補給率",{"$f":"IF(C32=\"\",\"\",C32)","v":""}]
["融資期間",null,null,null,null,"(自)",null,null,null,null,null,null,null,null,null,null,null,null,null,null,null,null,null,null,null,null,null,{"$f":"A15","v":"融資期間"},null,"2022-11-01",null,null,{"$f":"F15","v":"(自)"},null,null,null,null,null,null,null,null,null,null,null,null,null,null,null,null,null,null,null,null,null,null,null,null,null,null,null,null,"別添1_M43","利子補給金交付申請額（円）合計_単位期間Ⅰ",{"$f":"IF(M43=\"\",\"\",M43)","v":""}]
[null,null,null,null,null,null,null,null,null,null,null,null,null,null,null,null,null,null,null,null,null,null,null,null,null,null,null,null,null,null,null,null,null,null,null,null,null,null,null,null,null,null,null,null,null,null,null,null,null,null,null,null,null,null,null,null,null,null,null,null,null,"別添1_M51","利子補給金交付申請額（円）合計_単位期間Ⅱ",{"$f":"IF(M51=\"\",\"\",M51)","v":""}]
[null,null,null,null,null,"(至)",null,null,null,null,null,null,null,null,null,null,null,null,null,null,null,null,null,null,null,null,null,null,null,"2029-10-31",null,null,{"$f":"F17","v":"(至)"},null,null,null,null,null,null,null,null,null,null,null,null,null,null,null,null,null,null,null,null,null,null,null,null,null,null,null,null,"別添1_N35","利子補給金交付申請額合計（円）",{"$f":"IF(N35=\"\",\"\",N35)","v":0}]
[null,null,null,null,null,null,null,null,"協調融資",null,null,null,null,null,null,null,null,null,null,null,null,null,null,null,null,null,null,null,null,null,null,null,null,null,null,"協調融資",null,null,null,null,null,null,null,null,null,null,null,null,null,null,null,null,null,null,null,null,null,null,null,null,null,"別添1_I11","融資備考欄",{"$f":"IF(I11=\"\",\"\",I11)","v":""}]
["融資利率",null,null,null,null,"％",null,null,null,null,null,null,null,null,null,null,null,null,null,null,null,null,null,null,null,null,null,{"$f":"A19","v":"融資利率"},null,1.1000000000000001,null,null,{"$f":"F19","v":"％"},null,null,null,null,null,null,null,null,null,null,null,null,null,null,null,null,null,null,null,null,null,null,null,null,null,null,null,null,"別添1_I21","協調融資",{"$f":"IF(I20=\"\",\"\",I20)","v":""}]
[null,null,null,null,null,null,null,null,null,null,null,null,null,null,null,null,null,null,null,null,null,null,null,null,null,null,null,null,null,null,null,null,null,null,null,"本件融資は協調融資となります。\n△△銀行　融資額　○○○,○○○,○○○円\n□□銀行　融資額　○○○,○○○,○○○円",null,null,null,null,null,null,null,null,null,null,null,null,null,null,null,null,null,null,null,null,null,null,null,null,null,"別添1_I28","シンジケートローン",{"$f":"IF(I28=\"\",\"\",I28)","v":""}]
[]
["内　交付対象融資額",null,null,null,null,"円",null,null,null,null,null,null,null,null,null,null,null,null,null,null,null,null,null,null,null,null,null,{"$f":"A22","v":"内　交付対象融資額"},null,84000000,null,null,{"$f":"F22","v":"円"}]
[]
["元金均等返済額",null,null,null,null,"円",null,null,null,null,null,null,null,null,null,null,null,null,null,null,null,null,null,null,null,null,null,{"$f":"A24","v":"元金均等返済額"},null,1000000,null,null,{"$f":"F24","v":"円"}]
[]
["最終弁済額",null,null,null,null,"円",null,null,"シンジケートローン",null,null,null,null,null,null,null,null,null,null,null,null,null,null,null,null,null,null,{"$f":"A26","v":"最終弁済額"},null,1000000,null,null,{"$f":"F26","v":"円"},null,null,"シンジケートローン"]
[]
["交付対象融資期間",null,null,null,null,"(自)",null,null,null,null,null,null,null,null,null,null,null,null,null,null,null,null,null,null,null,null,null,{"$f":"A28","v":"交付対象融資期間"},null,"2022-11-01",null,null,{"$f":"F28","v":"(自)"},null,null,"本件融資はシンジケートローンを利用します。\n・アレンジャー\n○○銀行　融資額　○○○,○○○,○○○円\n・シンジケート団\n△△銀行　融資額　○○○,○○○,○○○円\n□□銀行　融資額　○○○,○○○,○○○円"]
[]
[null,null,null,null,null,"(至)",null,null,null,null,null,null,null,null,null,null,null,null,null,null,null,null,null,null,null,null,null,null,null,"2029-10-31",null,null,{"$f":"F30","v":"(至)"}]
[]
["利子補給率",null,null,null,null,"％",null,null,null,null,null,null,null,null,null,null,null,null,null,null,null,null,null,null,null,null,null,{"$f":"A32","v":"利子補給率"},null,1,null,null,{"$f":"F32","v":"％"}]
[]
[null,null,null,null,null,null,null,null,null,null,null,null,null,null,null,null,null,null,null,null,null,null,null,null,null,null,null,null,1]
[null,null,null,null,null,null,null,null,null,null,"利子補給金交付申請額合計（円）",null,null,{"$f":"SUMIF(M43:M218,\"<>#VALUE!\")","v":0},null,null,null,null,"数式ありのセル",null,null,null,null,null,null,null,null,null,null,null,null,null,null,null,null,null,null,{"$f":"K35","v":"利子補給金交付申請額合計（円）"},null,null,2973515]
[]
["２．申請する利子補給金の額",null,null,null,null,null,null,null,null,null,null,null,null,null,null,null,null,null,"エラーメッセージ",null,null,null,null,null,"エラーメッセージ",null,null,{"$f":"A37","v":"２．申請する利子補給金の額"}]
[null,null,null,null,{"$f":"IF(OR(E43>0,E51>0),\"\",\"↓上記にて交付対象融資期間を入力後、以下の「終了日」、「融資残高」、「交付対象融資残高」をご入力ください。\")","v":"↓上記にて交付対象融資期間を入力後、以下の「終了日」、「融資残高」、「交付対象融資残高」をご入力ください。"},null,null,null,null,null,null,null,null,null,null,null,"曜日色：土曜（青）、日曜（赤）、祝日（緑）※祝日は2022年5月時点",null,"↑開始日と終了日の入力に誤りがないかご確認ください。",null,null,null,null,null,"残高をご確認ください。"]
["単位期間",null,"利子補給金の額",null,null,null,null,null,null,null,null,null,null,"元金均等返済額\n（円）",null,null,null,null,"単位期間",null,null,null,null,null,"元金均等返済額",null,null,{"$f":"A39","v":"単位期間"},null,{"$f":"C39","v":"利子補給金の額"},null,null,null,null,null,null,null,null,null,null,{"$f":"N39","v":"元金均等返済額\n（円）"}]
[null,null,"単位期間",null,null,null,null,null,"融資残高\n（円）","交付対象\n融資残高\n（円）","利子\n補給率","利子補給金交付申請額（円）",null,null,null,null,null,null,"①日付の重複\n②「終了日-開始日」が1日以上あいている",null,"③単位期間以外の日程記載NG",null,"④日数が0","NG\nカウント","融資額","交付対象融資額","NG\nカウント",null,null,{"$f":"C40","v":"単位期間"},null,null,null,null,null,{"$f":"I40","v":"融資残高\n（円）"},{"$f":"J40","v":"交付対象\n融資残高\n（円）"},{"$f":"K40","v":"利子\n補給率"},{"$f":"L40","v":"利子補給金交付申請額（円）"}]
[null,null,"開始日","曜日","終了日","曜日","日数","日数\n（合計）",null,null,null,null,"合計（円）","計算用セル\n（配布時非表示）","融資額","計算用セル\n（配布時非表示）","交付対象\n融資額",null,null,null,null,null,null,null,{"$f":"$C$11","v":0},{"$f":"$C$24","v":0},null,null,null,{"$f":"C41","v":"開始日"},{"$f":"D41","v":"曜日"},{"$f":"E41","v":"終了日"},{"$f":"F41","v":"曜日"},{"$f":"G41","v":"日数"},{"$f":"H41","v":"日数\n（合計）"},null,null,null,null,{"$f":"M41","v":"合計（円）"},"計算用セル\n（配布時非表示）",{"$f":"O41","v":"融資額"},"計算用セル\n（配布時非表示）",{"$f":"Q41","v":"交付対象\n融資額"}]
[null,null,null,null,null,null,null,null,null,null,null,null,null,null,null,null,null,null,{"$f":"IF(C42=\"\",\"\",IF(C42>E42,\"NG\",\"\"))","v":""},{"$f":"IF(E42=\"\",\"\",IF(C43=\"\",\"\",IF(E42>C43,\"NG\",\"\")))","v":""},"2022-03-09","2022-09-12"]
["2022年度","単位期間Ⅰ",{"$f":"IF(C28=\"\",\"\",IF(C28<=DATE(2022,9,10),C28,\"\"))","v":""},{"$f":"IF(C43=\"\",\"\",C43)","v":""},null,{"$f":"IF(E43=\"\",\"\",E43)","v":""},{"$f":"IF(E43=\"\",\"\",E43-C43+1)","v":""},{"$f":"IF(G43=\"\",\"\",SUM(G43:G50))","v":""},null,null,{"$f":"C32/100","v":0},{"$f":"IF(J43=\"\",\"\",ROUNDDOWN(J43*K43*G43/365,0))","v":""},{"$f":"IF(L43=\"\",\"\",SUM(L43:L50))","v":""},{"$f":"IF(I43=\"\",N42,I43)","v":0},"-",{"$f":"IF(J43=\"\",P42,J43)","v":0},"-",null,{"$f":"IF(C43=\"\",\"\",IF(C43>E43,\"NG\",\"\"))","v":""},"",{"$f":"IF(C43=\"\",\"\",IF(C43<$U42,\"NG\",IF(C43>$V42,\"NG\",\"\")))","v":""},{"$f":"IF(E43=\"\",\"\",IF(C43<$U$42,\"NG\",IF(E43>$V$42,\"NG\",\"\")))","v":""},{"$f":"IF(G43>0,\"\",\"NG\")","v":""},{"$f":"COUNTIF(S43:W43,\"NG\")","v":0},"-","-","-",{"$f":"A43","v":"2022年度"},{"$f":"B43","v":"単位期間Ⅰ"},null,{"$f":"IF(AD43=\"\",\"\",AD43)","v":""},null,{"$f":"IF(AF43=\"\",\"\",AF43)","v":""},{"$f":"IF(AD43=\"\",\"\",AF43-AD43+1)","v":""},{"$f":"IF(AH43=\"\",\"\",SUM(AH43:AH50))","v":""},null,null,{"$f":"AD32/100","v":0.01},{"$f":"IF(AF43=\"\",\"\",ROUNDDOWN(AK43*AL43*AH43/365,0))","v":""},{"$f":"IF(AM43=\"\",\"\",SUM(AM43:AM50))","v":""},{"$f":"IF(AJ43=\"\",AO42,AJ43)","v":0},"-",{"$f":"IF(AK43=\"\",AQ42,AK43)","v":0},"-"]
[null,null,{"$f":"IF(E44=\"\",\"\",IF(E43=\"\",\"\",IF(E43>=DATE(2022,9,10),\"\",E43+1)))","v":""},{"$f":"IF(C44=\"\",\"\",C44)","v":""},null,{"$f":"IF(E44=\"\",\"\",E44)","v":""},{"$f":"IF(E44=\"\",\"\",E44-C44+1)","v":""},null,{"$f":"IF(I43=\"\",\"\",IF(E44=\"\",\"\",I43-$C$11))","v":""},{"$f":"IF(J43=\"\",\"\",IF(F44=\"\",\"\",J43-$C$24))","v":""},{"$f":"IF(K43=\"\",\"\",$K$43)","v":0},{"$f":"IF(J44=\"\",\"\",ROUNDDOWN(J44*K44*G44/365,0))","v":""},null,{"$f":"IF(I44=\"\",N43,I44)","v":0},{"$f":"N43-N44","v":0},{"$f":"IF(J44=\"\",P43,J44)","v":0},{"$f":"P43-P44","v":0},{"$f":"IF(AA44>0,$Y$38,\"\")","v":""},{"$f":"IF(C44=\"\",\"\",IF(C44=E43,\"NG\",IF(C44<E43,\"NG\",IF((C44-E43)>1,\"NG\",\"\"))))","v":""},"",null,{"$f":"IF(E44=\"\",\"\",IF(C44<$U$42,\"NG\",IF(E44>$V$42,\"NG\",\"\")))","v":""},{"$f":"IF(G44>0,\"\",\"NG\")","v":""},{"$f":"COUNTIF(S44:W44,\"NG\")","v":0},{"$f":"IF($O44=0,\"\",IF($O44=$Y$41,\"\",\"NG\"))","v":""},{"$f":"IF($Q44=0,\"\",IF($Q44=$Z$41,\"\",\"NG\"))","v":""},{"$f":"COUNTIF(Y44:Z44,\"NG\")","v":0},null,null,null,{"$f":"IF(AD44=\"\",\"\",AD44)","v":""},null,{"$f":"IF(AF44=\"\",\"\",AF44)","v":""},{"$f":"IF(AD44=\"\",\"\",AF44-AD44+1)","v":""},null,{"$f":"IF(AJ43=\"\",\"\",IF(AF44=\"\",\"\",AJ43-$C$11))","v":""},{"$f":"IF(AK43=\"\",\"\",IF(AG44=\"\",\"\",AK43-$C$24))","v":""},0.01,{"$f":"IF(AF44=\"\",\"\",ROUNDDOWN(AK44*AL44*AH44/365,0))","v":""},null,0,{"$f":"AO43-AO44","v":0},0,{"$f":"AQ43-AQ44","v":0}]
[null,null,{"$f":"IF(E45=\"\",\"\",IF(E44=\"\",\"\",IF(E44>=DATE(2022,9,10),\"\",E44+1)))","v":""},"",null,{"$f":"IF(E45=\"\",\"\",E45)","v":""},{"$f":"IF(E45=\"\",\"\",E45-C45+1)","v":""},null,{"$f":"IF(I44=\"\",\"\",IF(E45=\"\",\"\",I44-$C$11))","v":""},{"$f":"IF(J44=\"\",\"\",IF(F45=\"\",\"\",J44-$C$24))","v":""},{"$f":"IF(K44=\"\",\"\",$K$43)","v":0},"",null,{"$f":"IF(I45=\"\",N44,I45)","v":0},{"$f":"N44-N45","v":0},{"$f":"IF(J45=\"\",P44,J45)","v":0},{"$f":"P44-P45","v":0},{"$f":"IF(AA45>0,$Y$38,\"\")","v":""},{"$f":"IF(C45=\"\",\"\",IF(C45=E44,\"NG\",IF(C45<E44,\"NG\",IF((C45-E44)>1,\"NG\",\"\"))))","v":""},"",null,{"$f":"IF(E45=\"\",\"\",IF(C45<$U$42,\"NG\",IF(E45>$V$42,\"NG\",\"\")))","v":""},"",0,{"$f":"IF($O45=0,\"\",IF($O45=$Y$41,\"\",\"NG\"))","v":""},{"$f":"IF($Q45=0,\"\",IF($Q45=$Z$41,\"\",\"NG\"))","v":""},{"$f":"COUNTIF(Y45:Z45,\"NG\")","v":0},null,null,{"$f":"IF(AF45=\"\",\"\",IF(AF44=\"\",\"\",IF(AF44>=DATE(2021,9,10),\"\",AF44+1)))","v":""},"",null,"","",null,{"$f":"IF(AJ44=\"\",\"\",IF(AF45=\"\",\"\",AJ44-$C$11))","v":""},{"$f":"IF(AK44=\"\",\"\",IF(AG45=\"\",\"\",AK44-$C$24))","v":""},0.01,{"$f":"IF(AF45=\"\",\"\",ROUNDDOWN(AK45*AL45*AH45/365,0))","v":""},null,0,{"$f":"AO44-AO45","v":0},0,{"$f":"AQ44-AQ45","v":0}]
[null,null,{"$f":"IF(E46=\"\",\"\",IF(E45=\"\",\"\",IF(E45>=DATE(2022,9,10),\"\",E45+1)))","v":""},"",null,{"$f":"IF(E46=\"\",\"\",E46)","v":""},{"$f":"IF(E46=\"\",\"\",E46-C46+1)","v":""},null,{"$f":"IF(I45=\"\",\"\",IF(E46=\"\",\"\",I45-$C$11))","v":""},{"$f":"IF(J45=\"\",\"\",IF(F46=\"\",\"\",J45-$C$24))","v":""},{"$f":"IF(K45=\"\",\"\",$K$43)","v":0},"",null,0,0,0,0,"","","",null,"","",0,"","",0,null,null,"","",null,"","",null,{"$f":"IF(AJ45=\"\",\"\",IF(AF46=\"\",\"\",AJ45-$C$11))","v":""},"",0.01,"",null,0,0,0,0]
[null,null,{"$f":"IF(E47=\"\",\"\",IF(E46=\"\",\"\",IF(E46>=DATE(2022,9,10),\"\",E46+1)))","v":""},"",null,{"$f":"IF(E47=\"\",\"\",E47)","v":""},"",null,{"$f":"IF(I46=\"\",\"\",IF(E47=\"\",\"\",I46-$C$11))","v":""},"",{"$f":"IF(K46=\"\",\"\",$K$43)","v":0},"",null,0,0,0,0,"","","",null,"","",0,"","",0,null,null,"","",null,"","",null,"","",0.01,"",null,0,0,0,0]
[null,null,{"$f":"IF(E48=\"\",\"\",IF(E47=\"\",\"\",IF(E47>=DATE(2022,9,10),\"\",E47+1)))","v":""},"",null,{"$f":"IF(E48=\"\",\"\",E48)","v":""},"",null,"","",{"$f":"IF(K47=\"\",\"\",$K$43)","v":0},"",null,0,0,0,0,"","","",null,"","",0,"","",0,null,null,"","",null,"","",null,"","",0.01,"",null,0,0,0,0]
[null,null,"","",null,{"$f":"IF(E49=\"\",\"\",E49)","v":""},"",null,"","",0,"",null,0,0,0,0,"","",{"$f":"IF(D49=\"\",\"\",IF(D49<C49,\"NG\",\"\"))","v":""},null,{"$f":"IF(E49=\"\",\"\",IF(C49<$U$42,\"NG\",IF(E49>$V$42,\"NG\",\"\")))","v":""},{"$f":"IF(G49>0,\"\",\"NG\")","v":""},0,"","",0,null,null,"","",null,"","",null,"","",0.01,"",null,0,0,0,0]
[null,null,{"$f":"IF(X50>0,$S$38,\"\")","v":""},null,null,null,"Null",null,null,null,{"$f":"IF(K49=\"\",\"\",$K$43)","v":0},{"$f":"IF(J50=\"\",\"\",ROUNDDOWN(J50*K50*G50/365,0))","v":""},null,0,0,0,0,"",null,null,"2022-09-09","2023-03-12",null,{"$f":"SUM(X43:X49)","v":0},"","",0,null,null,{"$f":"IF($C$220>0,$H$224,IF($E$220>0,$H$224,\"\"))","v":""},"",null,"",null,null,null,null,0.01,"",null,0,0,0,0]
[null,"単位期間Ⅱ",{"$f":"IF(C28=\"\",\"\",IF(E49>M225,E49+1,IF(E48>M225,E48+1,IF(E47>M225,E47+1,IF(E46>M225,E46+1,IF(E45>M225,E45+1,IF(E44>M225,E44+1,IF(E43>M225,E43+1,IF(C28>M225,C28,\"\")))))))))","v":""},{"$f":"IF(C51=\"\",\"\",C51)","v":""},null,{"$f":"IF(E51=\"\",\"\",E51)","v":""},{"$f":"IF(E51=\"\",\"\",E51-C51+1)","v":""},{"$f":"IF(G51=\"\",\"\",SUM(G51:G58))","v":""},null,null,{"$f":"IF(K50=\"\",\"\",$K$43)","v":0},{"$f":"IF(J51=\"\",\"\",ROUNDDOWN(J51*K51*G51/365,0))","v":""},{"$f":"IF(L51=\"\",\"\",SUM(L51:L58))","v":""},{"$f":"IF(I51=\"\",N50,I51)","v":0},{"$f":"IF(N50-N51<0,0,N50-N51)","v":0},{"$f":"IF(J51=\"\",P50,J51)","v":0},{"$f":"IF(P50-P51<0,0,P50-P51)","v":0},"",{"$f":"IF(C51=\"\",\"\",IF(C51>E51,\"NG\",\"\"))","v":""},{"$f":"IF(E51=\"\",\"\",IF(C52=\"\",\"\",IF(E51>C52,\"NG\",\"\")))","v":""},{"$f":"IF(C51=\"\",\"\",IF(C51<$U50,\"NG\",IF(C51>$V50,\"NG\",\"\")))","v":""},{"$f":"IF(E51=\"\",\"\",IF(C51<$U$50,\"NG\",IF(E51>$V$50,\"NG\",\"\")))","v":""},{"$f":"IF(G51>0,\"\",\"NG\")","v":""},{"$f":"COUNTIF(S51:W51,\"NG\")","v":0},{"$f":"IF($O51=0,\"\",IF($O51=$Y$41,\"\",\"NG\"))","v":""},{"$f":"IF($Q51=0,\"\",IF($Q51=$Z$41,\"\",\"NG\"))","v":""},0,null,{"$f":"B51","v":"単位期間Ⅱ"},"2022-11-01",{"$f":"IF(AD51=\"\",\"\",AD51)","v":44866},"2022-11-30",44895,{"$f":"IF(AD51=\"\",\"\",AF51-AD51+1)","v":30},{"$f":"IF(AH51=\"\",\"\",SUM(AH51:AH58))","v":130},84000000,84000000,0.01,{"$f":"IF(AD51=\"\",\"\",ROUNDDOWN(AK51*AL51*AH51/365,0))","v":69041},{"$f":"IF(AM51=\"\",\"\",SUM(AM51:AM58))","v":293230},84000000,0,84000000,0]
[null,null,{"$f":"IF(E52=\"\",\"\",IF(E51=\"\",\"\",IF(E51>=DATE(2023,3,10),\"\",E51+1)))","v":""},{"$f":"IF(C52=\"\",\"\",C52)","v":""},null,"",{"$f":"IF(E52=\"\",\"\",E52-C52+1)","v":""},null,{"$f":"IF(I51=\"\",\"\",IF(E52=\"\",\"\",I51-$C$11))","v":""},{"$f":"IF(J51=\"\",\"\",IF(F52=\"\",\"\",J51-$C$24))","v":""},0,{"$f":"IF(J52=\"\",\"\",ROUNDDOWN(J52*K52*G52/365,0))","v":""},null,{"$f":"IF(I52=\"\",N51,I52)","v":0},{"$f":"N51-N52","v":0},{"$f":"IF(J52=\"\",P51,J52)","v":0},{"$f":"P51-P52","v":0},"",{"$f":"IF(C52=\"\",\"\",IF(C52=E51,\"NG\",IF(C52<E51,\"NG\",IF((C52-E51)>1,\"NG\",\"\"))))","v":""},{"$f":"IF(E52=\"\",\"\",IF(C53=\"\",\"\",IF(E52>C53,\"NG\",\"\")))","v":""},null,{"$f":"IF(E52=\"\",\"\",IF(C52<$U$50,\"NG\",IF(E52>$V$50,\"NG\",\"\")))","v":""},{"$f":"IF(G52>0,\"\",\"NG\")","v":""},{"$f":"COUNTIF(S52:W52,\"NG\")","v":0},"","",0,null,null,"2022-12-01",44896,"2022-12-31",44926,{"$f":"IF(AD52=\"\",\"\",AF52-AD52+1)","v":31},null,{"$f":"IF(AJ51=\"\",\"\",IF(AF52=\"\",\"\",AJ51-$AD$11))","v":83000000},{"$f":"IF(AK51=\"\",\"\",IF(AG52=\"\",\"\",AK51-$AD$24))","v":83000000},0.01,70493,null,83000000,1000000,83000000,1000000]
[null,null,"",{"$f":"IF(C53=\"\",\"\",C53)","v":""},null,{"$f":"IF(E53=\"\",\"\",E53)","v":""},"",null,{"$f":"IF(I52=\"\",\"\",IF(E53=\"\",\"\",I52-$C$11))","v":""},{"$f":"IF(J52=\"\",\"\",IF(F53=\"\",\"\",J52-$C$24))","v":""},0,"",null,0,0,0,{"$f":"P52-P53","v":0},"",{"$f":"IF(C53=\"\",\"\",IF(C53=E52,\"NG\",IF(C53<E52,\"NG\",IF((C53-E52)>1,\"NG\",\"\"))))","v":""},"",null,"","",0,"","",0,null,null,"2023-01-01",44927,"2023-01-31",44957,31,null,{"$f":"IF(AJ52=\"\",\"\",IF(AF53=\"\",\"\",AJ52-$AD$11))","v":82000000},{"$f":"IF(AK52=\"\",\"\",IF(AG53=\"\",\"\",AK52-$AD$24))","v":82000000},0.01,69643,null,82000000,1000000,82000000,1000000]
[null,null,"",{"$f":"IF(C54=\"\",\"\",C54)","v":""},null,{"$f":"IF(E54=\"\",\"\",E54)","v":""},"",null,"","",0,"",null,0,0,0,0,"","","",null,"","",0,"","",0,null,null,"2023-02-01",44958,"2023-02-28",44985,28,null,81000000,81000000,0.01,62136,null,81000000,1000000,81000000,1000000]
[null,null,"",{"$f":"IF(C55=\"\",\"\",C55)","v":""},null,{"$f":"IF(E55=\"\",\"\",E55)","v":""},"",null,"","",0,"",null,0,0,0,0,"","","",null,"","",0,"","",0,null,null,"2023-03-01",44986,"2023-03-10",44995,10,null,80000000,80000000,0.01,21917,null,80000000,1000000,80000000,1000000]
[null,null,"",{"$f":"IF(C56=\"\",\"\",C56)","v":""},null,{"$f":"IF(E56=\"\",\"\",E56)","v":""},"",null,"","",0,"",null,0,0,0,0,"","","",null,"","",0,"","",0,null,null,null,"",null,"","",null,"","",0.01,"",null,80000000,0,80000000,0]
[null,null,"",{"$f":"IF(C57=\"\",\"\",C57)","v":""},null,{"$f":"IF(E57=\"\",\"\",E57)","v":""},"",null,"","",0,"",null,0,0,0,0,"",{"$f":"IF(C57=\"\",\"\",IF(C57=E56,\"NG\",IF(C57<E56,\"NG\",IF((C57-E56)>1,\"NG\",\"\"))))","v":""},{"$f":"IF(D57=\"\",\"\",IF(D57<C57,\"NG\",\"\"))","v":""},null,"",{"$f":"IF(G57>0,\"\",\"NG\")","v":""},0,"","",0,null,null,null,"",null,"","",null,"","",0.01,"",null,80000000,0,80000000,0]
[null,null,{"$f":"IF(X58>0,$S$38,\"\")","v":""},null,null,null,"Null",null,null,null,0,{"$f":"IF(J58=\"\",\"\",ROUNDDOWN(J58*K58*G58/365,0))","v":""},null,0,{"$f":"N57-N58","v":0},0,0,"",null,null,"2023-03-09","2023-09-12",null,{"$f":"SUM(X51:X57)","v":0},"","",0,null,null,{"$f":"IF($C$238>0,$H$242,IF($E$238>0,$H$242,\"\"))","v":""},"",null,"",null,null,"","",0.01,"",null,80000000,0,80000000,0]
["2023年度","単位期間Ⅰ",{"$f":"IF(E59=\"\",\"\",IF(E57>0,E57+1,IF(E56>0,E56+1,IF(E55>0,E55+1,IF(E54>0,E54+1,IF(E53>0,E53+1,IF(E52>0,E52+1,E51+1)))))))","v":""},{"$f":"IF(C59=\"\",\"\",C59)","v":""},null,{"$f":"IF(E59=\"\",\"\",E59)","v":""},{"$f":"IF(E59=\"\",\"\",E59-C59+1)","v":""},{"$f":"IF(G59=\"\",\"\",SUM(G59:G66))","v":""},null,null,{"$f":"IF(K58=\"\",\"\",$K$43)","v":0},{"$f":"IF(J59=\"\",\"\",ROUNDDOWN(J59*K59*G59/365,0))","v":""},{"$f":"IF(L59=\"\",\"\",SUM(L59:L66))","v":""},{"$f":"IF(I59=\"\",N58,I59)","v":0},{"$f":"N58-N59","v":0},{"$f":"IF(J59=\"\",P58,J59)","v":0},0,"",{"$f":"IF(C59=\"\",\"\",IF(C59>E59,\"NG\",\"\"))","v":""},{"$f":"IF(E59=\"\",\"\",IF(C60=\"\",\"\",IF(E59>C60,\"NG\",\"\")))","v":""},{"$f":"IF(C59=\"\",\"\",IF(C59<$U58,\"NG\",IF(C59>$V58,\"NG\",\"\")))","v":""},{"$f":"IF(E59=\"\",\"\",IF(C59<$U$58,\"NG\",IF(E59>$V$58,\"NG\",\"\")))","v":""},{"$f":"IF(G59>0,\"\",\"NG\")","v":""},{"$f":"COUNTIF(S59:W59,\"NG\")","v":0},{"$f":"IF($O59=0,\"\",IF($O59=$Y$41,\"\",\"NG\"))","v":""},{"$f":"IF($Q59=0,\"\",IF($Q59=$Z$41,\"\",\"NG\"))","v":""},0,{"$f":"A59","v":"2023年度"},"単位期間Ⅰ","2023-03-11",44996,"2023-03-31",45016,{"$f":"IF(AD59=\"\",\"\",AF59-AD59+1)","v":21},{"$f":"IF(AH59=\"\",\"\",SUM(AH59:AH66))","v":184},80000000,80000000,0.01,{"$f":"IF(AF59=\"\",\"\",ROUNDDOWN(AK59*AL59*AH59/365,0))","v":46027},{"$f":"IF(AM59=\"\",\"\",SUM(AM59:AM66))","v":389009},{"$f":"IF(AJ59=\"\",AO58,AJ59)","v":80000000},"-",{"$f":"IF(AK59=\"\",AQ58,AK59)","v":80000000},"-"]
[null,null,{"$f":"IF(E60=\"\",\"\",IF(E59=\"\",\"\",IF(E59>=DATE(2023,9,10),\"\",E59+1)))","v":""},{"$f":"IF(C60=\"\",\"\",C60)","v":""},null,{"$f":"IF(E60=\"\",\"\",E60)","v":""},{"$f":"IF(E60=\"\",\"\",E60-C60+1)","v":""},null,{"$f":"IF(I59=\"\",\"\",IF(E60=\"\",\"\",I59-$C$11))","v":""},{"$f":"IF(J59=\"\",\"\",IF(F60=\"\",\"\",J59-$C$24))","v":""},{"$f":"IF(K59=\"\",\"\",$K$43)","v":0},{"$f":"IF(J60=\"\",\"\",ROUNDDOWN(J60*K60*G60/365,0))","v":""},null,{"$f":"IF(I60=\"\",N59,I60)","v":0},{"$f":"N59-N60","v":0},{"$f":"IF(J60=\"\",P59,J60)","v":0},{"$f":"P59-P60","v":0},"",{"$f":"IF(C60=\"\",\"\",IF(C60=E59,\"NG\",IF(C60<E59,\"NG\",IF((C60-E59)>1,\"NG\",\"\"))))","v":""},{"$f":"IF(E60=\"\",\"\",IF(C61=\"\",\"\",IF(E60>C61,\"NG\",\"\")))","v":""},null,{"$f":"IF(E60=\"\",\"\",IF(C60<$U$58,\"NG\",IF(E60>$V$58,\"NG\",\"\")))","v":""},{"$f":"IF(G60>0,\"\",\"NG\")","v":""},{"$f":"COUNTIF(S60:W60,\"NG\")","v":0},"","",0,null,null,"2023-04-01",45017,"2023-04-30",45046,{"$f":"IF(AD60=\"\",\"\",AF60-AD60+1)","v":30},null,79000000,79000000,0.01,{"$f":"IF(AF60=\"\",\"\",ROUNDDOWN(AK60*AL60*AH60/365,0))","v":64931},null,79000000,{"$f":"AO59-AO60","v":1000000},79000000,{"$f":"AQ59-AQ60","v":1000000}]
[null,null,"","",null,"","",null,{"$f":"IF(I60=\"\",\"\",IF(E61=\"\",\"\",I60-$C$11))","v":""},{"$f":"IF(J60=\"\",\"\",IF(F61=\"\",\"\",J60-$C$24))","v":""},0,"",null,{"$f":"IF(I61=\"\",N60,I61)","v":0},{"$f":"N60-N61","v":0},{"$f":"IF(J61=\"\",P60,J61)","v":0},{"$f":"P60-P61","v":0},"",{"$f":"IF(C61=\"\",\"\",IF(C61=E60,\"NG\",IF(C61<E60,\"NG\",IF((C61-E60)>1,\"NG\",\"\"))))","v":""},"",null,"","",0,"","",0,null,null,"2023-05-01",45047,"2023-05-31",45077,31,null,78000000,78000000,0.01,{"$f":"IF(AF61=\"\",\"\",ROUNDDOWN(AK61*AL61*AH61/365,0))","v":66246},null,78000000,{"$f":"AO60-AO61","v":1000000},78000000,{"$f":"AQ60-AQ61","v":1000000}]
[null,null,"","",null,"","",null,{"$f":"IF(I61=\"\",\"\",IF(E62=\"\",\"\",I61-$C$11))","v":""},{"$f":"IF(J61=\"\",\"\",IF(F62=\"\",\"\",J61-$C$24))","v":""},0,"",null,0,0,0,0,"","","",null,"","",0,"","",0,null,null,"2023-06-01",45078,"2023-06-30",45107,30,null,77000000,77000000,0.01,63287,null,77000000,1000000,77000000,1000000]
[null,null,"","",null,"","",null,"","",0,"",null,0,0,0,0,"","","",null,"","",0,"","",0,null,null,"2023-07-01",45108,"2023-07-31",45138,31,null,76000000,76000000,0.01,64547,null,76000000,1000000,76000000,1000000]
[null,null,"","",null,"","",null,"","",0,"",null,0,0,0,0,"","",{"$f":"IF(E64=\"\",\"\",IF(C65=\"\",\"\",IF(E64>C65,\"NG\",\"\")))","v":""},null,"","",0,"","",0,null,null,"2023-08-01",45139,"2023-08-31",45169,31,null,75000000,75000000,0.01,63698,null,75000000,1000000,75000000,1000000]
[null,null,"","",null,"","",null,"","",0,"",null,0,0,0,0,"","",{"$f":"IF(D65=\"\",\"\",IF(D65<C65,\"NG\",\"\"))","v":""},null,"","",0,"","",0,null,null,"2023-09-01",45170,"2023-09-10",45179,10,null,74000000,74000000,0.01,20273,null,74000000,1000000,74000000,1000000]
[null,null,{"$f":"IF(X66>0,$S$38,\"\")","v":""},null,null,null,"Null",null,null,null,0,{"$f":"IF(J66=\"\",\"\",ROUNDDOWN(J66*K66*G66/365,0))","v":""},null,0,0,0,0,"",null,null,"2023-09-09","2024-03-12",null,{"$f":"SUM(X59:X65)","v":0},"","",0,null,null,null,"",null,"",null,null,null,null,0.01,"",null,74000000,0,74000000,0]
[null,"単位期間Ⅱ",{"$f":"IF(E67=\"\",\"\",IF(E65>M240,E65+1,IF(E64>M240,E64+1,IF(E63>M240,E63+1,IF(E62>M240,E62+1,IF(E61>M240,E61+1,IF(E60>M240,E60+1,IF(E59>M240,E59+1,IF(C44>M240,C44,\"\")))))))))","v":""},{"$f":"IF(C67=\"\",\"\",C67)","v":""},null,{"$f":"IF(E67=\"\",\"\",E67)","v":""},{"$f":"IF(E67=\"\",\"\",E67-C67+1)","v":""},{"$f":"IF(G67=\"\",\"\",SUM(G67:G74))","v":""},null,null,{"$f":"IF(K66=\"\",\"\",$K$43)","v":0},{"$f":"IF(J67=\"\",\"\",ROUNDDOWN(J67*K67*G67/365,0))","v":""},{"$f":"IF(L67=\"\",\"\",SUM(L67:L74))","v":""},{"$f":"IF(I67=\"\",N66,I67)","v":0},{"$f":"IF(N66-N67<0,\"0 \",N66-N67)","v":0},{"$f":"IF(J67=\"\",P66,J67)","v":0},{"$f":"IF(P66-P67<0,\"0 \",P66-P67)","v":0},"",{"$f":"IF(C67=\"\",\"\",IF(C67>E67,\"NG\",\"\"))","v":""},{"$f":"IF(E67=\"\",\"\",IF(C68=\"\",\"\",IF(E67>C68,\"NG\",\"\")))","v":""},{"$f":"IF(C67=\"\",\"\",IF(C67<$U66,\"NG\",IF(C67>$V66,\"NG\",\"\")))","v":""},{"$f":"IF(E67=\"\",\"\",IF(C67<$U$66,\"NG\",IF(E67>$V$66,\"NG\",\"\")))","v":""},"",{"$f":"COUNTIF(S67:W67,\"NG\")","v":0},"","",0,null,"単位期間Ⅱ","2023-09-11",45180,"2023-09-30",45199,{"$f":"IF(AD67=\"\",\"\",AF67-AD67+1)","v":20},{"$f":"IF(AH67=\"\",\"\",SUM(AH67:AH74))","v":182},74000000,74000000,0.01,{"$f":"IF(AD67=\"\",\"\",ROUNDDOWN(AK67*AL67*AH67/365,0))","v":40547},{"$f":"IF(AM67=\"\",\"\",SUM(AM67:AM74))","v":354929},74000000,0,74000000,0]
[null,null,{"$f":"IF(E68=\"\",\"\",IF(E67=\"\",\"\",IF(E67>=DATE(2024,3,10),\"\",E67+1)))","v":""},{"$f":"IF(C68=\"\",\"\",C68)","v":""},null,{"$f":"IF(E68=\"\",\"\",E68)","v":""},{"$f":"IF(E68=\"\",\"\",E68-C68+1)","v":""},null,{"$f":"IF(I67=\"\",\"\",IF(E68=\"\",\"\",I67-$C$11))","v":""},{"$f":"IF(J67=\"\",\"\",IF(F68=\"\",\"\",J67-$C$24))","v":""},0,{"$f":"IF(J68=\"\",\"\",ROUNDDOWN(J68*K68*G68/365,0))","v":""},null,{"$f":"IF(I68=\"\",N67,I68)","v":0},{"$f":"N67-N68","v":0},{"$f":"IF(J68=\"\",P67,J68)","v":0},{"$f":"P67-P68","v":0},"",{"$f":"IF(C68=\"\",\"\",IF(C68=E67,\"NG\",IF(C68<E67,\"NG\",IF((C68-E67)>1,\"NG\",\"\"))))","v":""},{"$f":"IF(E68=\"\",\"\",IF(C69=\"\",\"\",IF(E68>C69,\"NG\",\"\")))","v":""},null,{"$f":"IF(E68=\"\",\"\",IF(C68<$U$66,\"NG\",IF(E68>$V$66,\"NG\",\"\")))","v":""},"",{"$f":"COUNTIF(S68:W68,\"NG\")","v":0},"","",0,null,null,"2023-10-01",45200,"2023-10-31",45230,{"$f":"IF(AD68=\"\",\"\",AF68-AD68+1)","v":31},null,73000000,73000000,0.01,62000,null,73000000,{"$f":"AO67-AO68","v":1000000},73000000,{"$f":"AQ67-AQ68","v":1000000}]
[null,null,"","",null,"","",null,{"$f":"IF(I68=\"\",\"\",IF(E69=\"\",\"\",I68-$C$11))","v":""},{"$f":"IF(J68=\"\",\"\",IF(F69=\"\",\"\",J68-$C$24))","v":""},0,"",null,{"$f":"IF(I69=\"\",N68,I69)","v":0},{"$f":"N68-N69","v":0},{"$f":"IF(J69=\"\",P68,J69)","v":0},{"$f":"P68-P69","v":0},"",{"$f":"IF(C69=\"\",\"\",IF(C69=E68,\"NG\",IF(C69<E68,\"NG\",IF((C69-E68)>1,\"NG\",\"\"))))","v":""},"",null,"","",0,"","",0,null,null,"2023-11-01",45231,"2023-11-30",45260,30,null,72000000,72000000,0.01,59178,null,72000000,1000000,72000000,1000000]
[null,null,"","",null,"","",null,"","",0,"",null,0,0,0,{"$f":"P69-P70","v":0},"","","",null,"","",0,"","",0,null,null,"2023-12-01",45261,"2023-12-31",45291,31,null,71000000,71000000,0.01,60301,null,71000000,1000000,71000000,1000000]
[null,null,"","",null,"","",null,"","",0,"",null,0,0,0,0,"","","",null,"","",0,"","",0,null,null,"2024-01-01",45292,"2024-01-31",45322,31,null,70000000,70000000,0.01,59452,null,70000000,1000000,70000000,1000000]
[null,null,"","",null,"","",null,"","",0,"",null,0,0,0,0,"","",{"$f":"IF(E72=\"\",\"\",IF(C73=\"\",\"\",IF(E72>C73,\"NG\",\"\")))","v":""},null,"","",0,"","",0,null,null,"2024-02-01",45323,"2024-02-29",45351,29,null,69000000,69000000,0.01,54821,null,69000000,1000000,69000000,1000000]
[null,null,"","",null,"","",null,"","",0,"",null,0,0,0,0,"","",{"$f":"IF(D73=\"\",\"\",IF(D73<C73,\"NG\",\"\"))","v":""},null,"","",0,"","",0,null,null,"2024-03-01",45352,"2024-03-10",45361,10,null,68000000,68000000,0.01,18630,null,68000000,1000000,68000000,1000000]
[null,null,{"$f":"IF(X74>0,$S$38,\"\")","v":""},null,null,null,"Null",null,null,null,0,{"$f":"IF(J74=\"\",\"\",ROUNDDOWN(J74*K74*G74/365,0))","v":""},null,0,0,0,0,"",null,null,"2024-03-09","2024-09-12",null,{"$f":"SUM(X67:X73)","v":0},"","",0,null,null,null,"",null,"",null,null,null,null,0.01,"",null,68000000,0,68000000,0]
["2024年度","単位期間Ⅰ",{"$f":"IF(E75=\"\",\"\",IF(E73>0,E73+1,IF(E72>0,E72+1,IF(E71>0,E71+1,IF(E70>0,E70+1,IF(E69>0,E69+1,IF(E68>0,E68+1,E67+1)))))))","v":""},{"$f":"IF(C75=\"\",\"\",C75)","v":""},null,{"$f":"IF(E75=\"\",\"\",E75)","v":""},{"$f":"IF(E75=\"\",\"\",E75-C75+1)","v":""},{"$f":"IF(G75=\"\",\"\",SUM(G75:G82))","v":""},null,null,{"$f":"IF(K74=\"\",\"\",$K$43)","v":0},{"$f":"IF(J75=\"\",\"\",ROUNDDOWN(J75*K75*G75/365,0))","v":""},{"$f":"IF(L75=\"\",\"\",SUM(L75:L82))","v":""},{"$f":"IF(I75=\"\",N74,I75)","v":0},0,{"$f":"IF(J75=\"\",P74,J75)","v":0},0,"",{"$f":"IF(C75=\"\",\"\",IF(C75>E75,\"NG\",\"\"))","v":""},{"$f":"IF(E75=\"\",\"\",IF(C76=\"\",\"\",IF(E75>C76,\"NG\",\"\")))","v":""},{"$f":"IF(C75=\"\",\"\",IF(C75<$U74,\"NG\",IF(C75>$V74,\"NG\",\"\")))","v":""},{"$f":"IF(E75=\"\",\"\",IF(C75<$U$74,\"NG\",IF(E75>$V$74,\"NG\",\"\")))","v":""},"",{"$f":"COUNTIF(S75:W75,\"NG\")","v":0},"","",0,{"$f":"A75","v":"2024年度"},"単位期間Ⅰ","2024-03-11",45362,"2024-03-31",45382,{"$f":"IF(AD75=\"\",\"\",AF75-AD75+1)","v":21},{"$f":"IF(AH75=\"\",\"\",SUM(AH75:AH82))","v":184},68000000,68000000,0.01,{"$f":"IF(AF75=\"\",\"\",ROUNDDOWN(AK75*AL75*AH75/365,0))","v":39123},{"$f":"IF(AM75=\"\",\"\",SUM(AM75:AM82))","v":328517},{"$f":"IF(AJ75=\"\",AO74,AJ75)","v":68000000},"-",{"$f":"IF(AK75=\"\",AQ74,AK75)","v":68000000},"-"]
[null,null,{"$f":"IF(E76=\"\",\"\",IF(E75=\"\",\"\",IF(E75>=DATE(2024,9,10),\"\",E75+1)))","v":""},{"$f":"IF(C76=\"\",\"\",C76)","v":""},null,{"$f":"IF(E76=\"\",\"\",E76)","v":""},{"$f":"IF(E76=\"\",\"\",E76-C76+1)","v":""},null,{"$f":"IF(I75=\"\",\"\",IF(E76=\"\",\"\",I75-$C$11))","v":""},{"$f":"IF(J75=\"\",\"\",IF(F76=\"\",\"\",J75-$C$24))","v":""},{"$f":"IF(K75=\"\",\"\",$K$43)","v":0},{"$f":"IF(J76=\"\",\"\",ROUNDDOWN(J76*K76*G76/365,0))","v":""},null,{"$f":"IF(I76=\"\",N75,I76)","v":0},{"$f":"N75-N76","v":0},{"$f":"IF(J76=\"\",P75,J76)","v":0},{"$f":"P75-P76","v":0},"",{"$f":"IF(C76=\"\",\"\",IF(C76=E75,\"NG\",IF(C76<E75,\"NG\",IF((C76-E75)>1,\"NG\",\"\"))))","v":""},{"$f":"IF(E76=\"\",\"\",IF(C77=\"\",\"\",IF(E76>C77,\"NG\",\"\")))","v":""},null,{"$f":"IF(E76=\"\",\"\",IF(C76<$U$74,\"NG\",IF(E76>$V$74,\"NG\",\"\")))","v":""},"",{"$f":"COUNTIF(S76:W76,\"NG\")","v":0},"","",0,null,null,"2024-04-01",45383,"2024-04-30",45412,{"$f":"IF(AD76=\"\",\"\",AF76-AD76+1)","v":30},null,67000000,67000000,0.01,{"$f":"IF(AF76=\"\",\"\",ROUNDDOWN(AK76*AL76*AH76/365,0))","v":55068},null,67000000,{"$f":"AO75-AO76","v":1000000},67000000,{"$f":"AQ75-AQ76","v":1000000}]
[null,null,"","",null,"","",null,{"$f":"IF(I76=\"\",\"\",IF(E77=\"\",\"\",I76-$C$11))","v":""},{"$f":"IF(J76=\"\",\"\",IF(F77=\"\",\"\",J76-$C$24))","v":""},{"$f":"IF(K76=\"\",\"\",$K$43)","v":0},"",null,{"$f":"IF(I77=\"\",N76,I77)","v":0},{"$f":"N76-N77","v":0},{"$f":"IF(J77=\"\",P76,J77)","v":0},{"$f":"P76-P77","v":0},"",{"$f":"IF(C77=\"\",\"\",IF(C77=E76,\"NG\",IF(C77<E76,\"NG\",IF((C77-E76)>1,\"NG\",\"\"))))","v":""},"",null,"","",0,"","",0,null,null,"2024-05-01",45413,"2024-05-31",45443,31,null,66000000,66000000,0.01,{"$f":"IF(AF77=\"\",\"\",ROUNDDOWN(AK77*AL77*AH77/365,0))","v":56054},null,66000000,{"$f":"AO76-AO77","v":1000000},66000000,{"$f":"AQ76-AQ77","v":1000000}]
[null,null,"","",null,"","",null,{"$f":"IF(I77=\"\",\"\",IF(E78=\"\",\"\",I77-$C$11))","v":""},{"$f":"IF(J77=\"\",\"\",IF(F78=\"\",\"\",J77-$C$24))","v":""},0,"",null,0,0,0,0,"","","",null,"","",0,"","",0,null,null,"2024-06-01",45444,"2024-06-30",45473,30,null,65000000,65000000,0.01,53424,null,65000000,1000000,65000000,1000000]
[null,null,"","",null,"","",null,"","",0,"",null,0,0,0,0,"","","",null,"","",0,"","",0,null,null,"2024-07-01",45474,"2024-07-31",45504,31,null,64000000,64000000,0.01,54356,null,64000000,1000000,64000000,1000000]
[null,null,"","",null,"","",null,"","",0,"",null,0,0,0,0,"","","",null,"","",0,"","",0,null,null,"2024-08-01",45505,"2024-08-31",45535,31,null,63000000,63000000,0.01,53506,null,63000000,1000000,63000000,1000000]
[null,null,"","",null,"","",null,"","",0,"",null,0,0,0,0,"",{"$f":"IF(C81=\"\",\"\",IF(C81=E80,\"NG\",IF(C81<E80,\"NG\",IF((C81-E80)>1,\"NG\",\"\"))))","v":""},{"$f":"IF(D81=\"\",\"\",IF(D81<C81,\"NG\",\"\"))","v":""},null,"","",0,"","",0,null,null,"2024-09-01",45536,"2024-09-10",45545,10,null,62000000,62000000,0.01,16986,null,62000000,1000000,62000000,1000000]
[null,null,{"$f":"IF(X82>0,$S$38,\"\")","v":""},null,null,null,"Null",null,null,null,0,{"$f":"IF(J82=\"\",\"\",ROUNDDOWN(J82*K82*G82/365,0))","v":""},null,0,0,0,0,"",null,null,"2024-09-09","2025-03-12",null,{"$f":"SUM(X75:X81)","v":0},"","",0,null,null,null,"",null,"",null,null,null,null,0.01,"",null,62000000,0,62000000,0]
[null,"単位期間Ⅱ",{"$f":"IF(E83=\"\",\"\",IF(E81>M256,E81+1,IF(E80>M256,E80+1,IF(E79>M256,E79+1,IF(E78>M256,E78+1,IF(E77>M256,E77+1,IF(E76>M256,E76+1,IF(E75>M256,E75+1,IF(C60>M256,C60,\"\")))))))))","v":""},{"$f":"IF(C83=\"\",\"\",C83)","v":""},null,{"$f":"IF(E83=\"\",\"\",E83)","v":""},{"$f":"IF(E83=\"\",\"\",E83-C83+1)","v":""},{"$f":"IF(G83=\"\",\"\",SUM(G83:G90))","v":""},null,null,{"$f":"IF(K82=\"\",\"\",$K$43)","v":0},{"$f":"IF(J83=\"\",\"\",ROUNDDOWN(J83*K83*G83/365,0))","v":""},{"$f":"IF(L83=\"\",\"\",SUM(L83:L90))","v":""},{"$f":"IF(I83=\"\",N82,I83)","v":0},{"$f":"IF(N82-N83<0,\"0 \",N82-N83)","v":0},{"$f":"IF(J83=\"\",P82,J83)","v":0},{"$f":"IF(P82-P83<0,\"0 \",P82-P83)","v":0},"",{"$f":"IF(C83=\"\",\"\",IF(C83>E83,\"NG\",\"\"))","v":""},{"$f":"IF(E83=\"\",\"\",IF(C84=\"\",\"\",IF(E83>C84,\"NG\",\"\")))","v":""},{"$f":"IF(C83=\"\",\"\",IF(C83<$U82,\"NG\",IF(C83>$V82,\"NG\",\"\")))","v":""},{"$f":"IF(E83=\"\",\"\",IF(C83<$U$82,\"NG\",IF(E83>$V$82,\"NG\",\"\")))","v":""},"",{"$f":"COUNTIF(S83:W83,\"NG\")","v":0},"","",0,null,"単位期間Ⅱ","2024-09-11",45546,"2024-09-30",45565,{"$f":"IF(AD83=\"\",\"\",AF83-AD83+1)","v":20},{"$f":"IF(AH83=\"\",\"\",SUM(AH83:AH90))","v":181},62000000,62000000,0.01,{"$f":"IF(AD83=\"\",\"\",ROUNDDOWN(AK83*AL83*AH83/365,0))","v":33972},{"$f":"IF(AM83=\"\",\"\",SUM(AM83:AM90))","v":293532},62000000,0,62000000,0]
[null,null,{"$f":"IF(E84=\"\",\"\",IF(E83=\"\",\"\",IF(E83>=DATE(2025,3,10),\"\",E83+1)))","v":""},{"$f":"IF(C84=\"\",\"\",C84)","v":""},null,{"$f":"IF(E84=\"\",\"\",E84)","v":""},{"$f":"IF(E84=\"\",\"\",E84-C84+1)","v":""},null,{"$f":"IF(I83=\"\",\"\",IF(E84=\"\",\"\",I83-$C$11))","v":""},{"$f":"IF(J83=\"\",\"\",IF(F84=\"\",\"\",J83-$C$24))","v":""},0,{"$f":"IF(J84=\"\",\"\",ROUNDDOWN(J84*K84*G84/365,0))","v":""},null,{"$f":"IF(I84=\"\",N83,I84)","v":0},{"$f":"N83-N84","v":0},{"$f":"IF(J84=\"\",P83,J84)","v":0},{"$f":"P83-P84","v":0},"",{"$f":"IF(C84=\"\",\"\",IF(C84=E83,\"NG\",IF(C84<E83,\"NG\",IF((C84-E83)>1,\"NG\",\"\"))))","v":""},{"$f":"IF(E84=\"\",\"\",IF(C85=\"\",\"\",IF(E84>C85,\"NG\",\"\")))","v":""},null,{"$f":"IF(E84=\"\",\"\",IF(C84<$U$82,\"NG\",IF(E84>$V$82,\"NG\",\"\")))","v":""},"",{"$f":"COUNTIF(S84:W84,\"NG\")","v":0},"","",0,null,null,"2024-10-01",45566,"2024-10-31",45596,{"$f":"IF(AD84=\"\",\"\",AF84-AD84+1)","v":31},null,61000000,61000000,0.01,51808,null,61000000,{"$f":"AO83-AO84","v":1000000},61000000,{"$f":"AQ83-AQ84","v":1000000}]
[null,null,"","",null,"","",null,{"$f":"IF(I84=\"\",\"\",IF(E85=\"\",\"\",I84-$C$11))","v":""},{"$f":"IF(J84=\"\",\"\",IF(F85=\"\",\"\",J84-$C$24))","v":""},0,"",null,{"$f":"IF(I85=\"\",N84,I85)","v":0},{"$f":"N84-N85","v":0},{"$f":"IF(J85=\"\",P84,J85)","v":0},{"$f":"P84-P85","v":0},"",{"$f":"IF(C85=\"\",\"\",IF(C85=E84,\"NG\",IF(C85<E84,\"NG\",IF((C85-E84)>1,\"NG\",\"\"))))","v":""},"",null,"","",0,"","",0,null,null,"2024-11-01",45597,"2024-11-30",45626,30,null,60000000,60000000,0.01,49315,null,60000000,1000000,60000000,1000000]
[null,null,"","",null,"","",null,"","",0,"",null,0,0,0,{"$f":"P85-P86","v":0},"","","",null,"","",0,"","",0,null,null,"2024-12-01",45627,"2024-12-31",45657,31,null,59000000,59000000,0.01,50109,null,59000000,1000000,59000000,1000000]
[null,null,"","",null,"","",null,"","",0,"",null,0,0,0,0,"","","",null,"","",0,"","",0,null,null,"2025-01-01",45658,"2025-01-31",45688,31,null,58000000,58000000,0.01,49260,null,58000000,1000000,58000000,1000000]
[null,null,"","",null,"","",null,"","",0,"",null,0,0,0,0,"","",{"$f":"IF(E88=\"\",\"\",IF(C89=\"\",\"\",IF(E88>C89,\"NG\",\"\")))","v":""},null,"","",0,"","",0,null,null,"2025-02-01",45689,"2025-02-28",45716,28,null,57000000,57000000,0.01,43726,null,57000000,1000000,57000000,1000000]
[null,null,"","",null,"","",null,"","",0,"",null,0,0,0,0,"","",{"$f":"IF(D89=\"\",\"\",IF(D89<C89,\"NG\",\"\"))","v":""},null,"","",0,"","",0,null,null,"2025-03-01",45717,"2025-03-10",45726,10,null,56000000,56000000,0.01,15342,null,56000000,1000000,56000000,1000000]
[null,null,{"$f":"IF(X90>0,$S$38,\"\")","v":""},null,null,null,"Null",null,null,null,0,{"$f":"IF(J90=\"\",\"\",ROUNDDOWN(J90*K90*G90/365,0))","v":""},null,0,0,0,0,"",null,null,"2025-03-09","2025-09-12",null,{"$f":"SUM(X83:X89)","v":0},"","",0,null,null,null,"",null,"",null,null,null,null,0.01,"",null,56000000,0,56000000,0]
["2025年度","単位期間Ⅰ",{"$f":"IF(E91=\"\",\"\",IF(E89>0,E89+1,IF(E88>0,E88+1,IF(E87>0,E87+1,IF(E86>0,E86+1,IF(E85>0,E85+1,IF(E84>0,E84+1,E83+1)))))))","v":""},{"$f":"IF(C91=\"\",\"\",C91)","v":""},null,{"$f":"IF(E91=\"\",\"\",E91)","v":""},{"$f":"IF(E91=\"\",\"\",E91-C91+1)","v":""},{"$f":"IF(G91=\"\",\"\",SUM(G91:G98))","v":""},null,null,{"$f":"IF(K90=\"\",\"\",$K$43)","v":0},{"$f":"IF(J91=\"\",\"\",ROUNDDOWN(J91*K91*G91/365,0))","v":""},{"$f":"IF(L91=\"\",\"\",SUM(L91:L98))","v":""},{"$f":"IF(I91=\"\",N90,I91)","v":0},0,{"$f":"IF(J91=\"\",P90,J91)","v":0},0,"",{"$f":"IF(C91=\"\",\"\",IF(C91>E91,\"NG\",\"\"))","v":""},{"$f":"IF(E91=\"\",\"\",IF(C92=\"\",\"\",IF(E91>C92,\"NG\",\"\")))","v":""},{"$f":"IF(C91=\"\",\"\",IF(C91<$U90,\"NG\",IF(C91>$V90,\"NG\",\"\")))","v":""},{"$f":"IF(E91=\"\",\"\",IF(C91<$U$90,\"NG\",IF(E91>$V$90,\"NG\",\"\")))","v":""},"",{"$f":"COUNTIF(S91:W91,\"NG\")","v":0},"","",0,{"$f":"A91","v":"2025年度"},"単位期間Ⅰ","2025-03-11",45727,"2025-03-31",45747,{"$f":"IF(AD91=\"\",\"\",AF91-AD91+1)","v":21},{"$f":"IF(AH91=\"\",\"\",SUM(AH91:AH98))","v":184},56000000,56000000,0.01,{"$f":"IF(AF91=\"\",\"\",ROUNDDOWN(AK91*AL91*AH91/365,0))","v":32219},{"$f":"IF(AM91=\"\",\"\",SUM(AM91:AM98))","v":268025},{"$f":"IF(AJ91=\"\",AO90,AJ91)","v":56000000},"-",{"$f":"IF(AK91=\"\",AQ90,AK91)","v":56000000},"-"]
[null,null,{"$f":"IF(E92=\"\",\"\",IF(E91=\"\",\"\",IF(E91>=DATE(2025,9,10),\"\",E91+1)))","v":""},{"$f":"IF(C92=\"\",\"\",C92)","v":""},null,{"$f":"IF(E92=\"\",\"\",E92)","v":""},{"$f":"IF(E92=\"\",\"\",E92-C92+1)","v":""},null,{"$f":"IF(I91=\"\",\"\",IF(E92=\"\",\"\",I91-$C$11))","v":""},{"$f":"IF(J91=\"\",\"\",IF(F92=\"\",\"\",J91-$C$24))","v":""},{"$f":"IF(K91=\"\",\"\",$K$43)","v":0},{"$f":"IF(J92=\"\",\"\",ROUNDDOWN(J92*K92*G92/365,0))","v":""},null,{"$f":"IF(I92=\"\",N91,I92)","v":0},{"$f":"N91-N92","v":0},{"$f":"IF(J92=\"\",P91,J92)","v":0},{"$f":"P91-P92","v":0},"",{"$f":"IF(C92=\"\",\"\",IF(C92=E91,\"NG\",IF(C92<E91,\"NG\",IF((C92-E91)>1,\"NG\",\"\"))))","v":""},{"$f":"IF(E92=\"\",\"\",IF(C93=\"\",\"\",IF(E92>C93,\"NG\",\"\")))","v":""},null,{"$f":"IF(E92=\"\",\"\",IF(C92<$U$90,\"NG\",IF(E92>$V$90,\"NG\",\"\")))","v":""},"",{"$f":"COUNTIF(S92:W92,\"NG\")","v":0},"","",0,null,null,"2025-04-01",45748,"2025-04-30",45777,{"$f":"IF(AD92=\"\",\"\",AF92-AD92+1)","v":30},null,55000000,55000000,0.01,{"$f":"IF(AF92=\"\",\"\",ROUNDDOWN(AK92*AL92*AH92/365,0))","v":45205},null,55000000,{"$f":"AO91-AO92","v":1000000},55000000,{"$f":"AQ91-AQ92","v":1000000}]
[null,null,"","",null,"","",null,{"$f":"IF(I92=\"\",\"\",IF(E93=\"\",\"\",I92-$C$11))","v":""},{"$f":"IF(J92=\"\",\"\",IF(F93=\"\",\"\",J92-$C$24))","v":""},{"$f":"IF(K92=\"\",\"\",$K$43)","v":0},"",null,{"$f":"IF(I93=\"\",N92,I93)","v":0},{"$f":"N92-N93","v":0},{"$f":"IF(J93=\"\",P92,J93)","v":0},{"$f":"P92-P93","v":0},"",{"$f":"IF(C93=\"\",\"\",IF(C93=E92,\"NG\",IF(C93<E92,\"NG\",IF((C93-E92)>1,\"NG\",\"\"))))","v":""},"",null,"","",0,"","",0,null,null,"2025-05-01",45778,"2025-05-31",45808,31,null,54000000,54000000,0.01,{"$f":"IF(AF93=\"\",\"\",ROUNDDOWN(AK93*AL93*AH93/365,0))","v":45863},null,54000000,{"$f":"AO92-AO93","v":1000000},54000000,{"$f":"AQ92-AQ93","v":1000000}]
[null,null,"","",null,"","",null,{"$f":"IF(I93=\"\",\"\",IF(E94=\"\",\"\",I93-$C$11))","v":""},{"$f":"IF(J93=\"\",\"\",IF(F94=\"\",\"\",J93-$C$24))","v":""},0,"",null,0,0,0,0,"","","",null,"","",0,"","",0,null,null,"2025-06-01",45809,"2025-06-30",45838,30,null,53000000,53000000,0.01,43561,null,53000000,1000000,53000000,1000000]
[null,null,"","",null,"","",null,"","",0,"",null,0,0,0,0,"","","",null,"","",0,"","",0,null,null,"2025-07-01",45839,"2025-07-31",45869,31,null,52000000,52000000,0.01,44164,null,52000000,1000000,52000000,1000000]
[null,null,"","",null,"","",null,"","",0,"",null,0,0,0,0,"","",{"$f":"IF(E96=\"\",\"\",IF(C97=\"\",\"\",IF(E96>C97,\"NG\",\"\")))","v":""},null,"","",0,"","",0,null,null,"2025-08-01",45870,"2025-08-31",45900,31,null,51000000,51000000,0.01,43315,null,51000000,1000000,51000000,1000000]
[null,null,"","",null,"","",null,"","",0,"",null,0,0,0,0,"","",{"$f":"IF(D97=\"\",\"\",IF(D97<C97,\"NG\",\"\"))","v":""},null,"",{"$f":"IF(G97>0,\"\",\"NG\")","v":""},0,"","",0,null,null,"2025-09-01",45901,"2025-09-10",45910,10,null,50000000,50000000,0.01,13698,null,50000000,1000000,50000000,1000000]
[null,null,{"$f":"IF(X98>0,$S$38,\"\")","v":""},null,null,null,"Null",null,null,null,0,{"$f":"IF(J98=\"\",\"\",ROUNDDOWN(J98*K98*G98/365,0))","v":""},null,0,0,0,0,"",null,null,"2025-09-09","2026-03-12",null,{"$f":"SUM(X91:X97)","v":0},"","",0,null,null,"","",null,"",null,null,null,null,0.01,"",null,50000000,0,50000000,0]
[null,"単位期間Ⅱ",{"$f":"IF(E99=\"\",\"\",IF(E97>M272,E97+1,IF(E96>M272,E96+1,IF(E95>M272,E95+1,IF(E94>M272,E94+1,IF(E93>M272,E93+1,IF(E92>M272,E92+1,IF(E91>M272,E91+1,IF(C76>M272,C76,\"\")))))))))","v":""},{"$f":"IF(C99=\"\",\"\",C99)","v":""},null,{"$f":"IF(E99=\"\",\"\",E99)","v":""},{"$f":"IF(E99=\"\",\"\",E99-C99+1)","v":""},{"$f":"IF(G99=\"\",\"\",SUM(G99:G106))","v":""},null,null,{"$f":"IF(K98=\"\",\"\",$K$43)","v":0},{"$f":"IF(J99=\"\",\"\",ROUNDDOWN(J99*K99*G99/365,0))","v":""},{"$f":"IF(L99=\"\",\"\",SUM(L99:L106))","v":""},{"$f":"IF(I99=\"\",N98,I99)","v":0},{"$f":"IF(N98-N99<0,\"0 \",N98-N99)","v":0},{"$f":"IF(J99=\"\",P98,J99)","v":0},{"$f":"IF(P98-P99<0,\"0 \",P98-P99)","v":0},"",{"$f":"IF(C99=\"\",\"\",IF(C99>E99,\"NG\",\"\"))","v":""},{"$f":"IF(E99=\"\",\"\",IF(C100=\"\",\"\",IF(E99>C100,\"NG\",\"\")))","v":""},{"$f":"IF(C99=\"\",\"\",IF(C99<$U98,\"NG\",IF(C99>$V98,\"NG\",\"\")))","v":""},{"$f":"IF(E99=\"\",\"\",IF(C99<$U$98,\"NG\",IF(E99>$V$98,\"NG\",\"\")))","v":""},{"$f":"IF(G99>0,\"\",\"NG\")","v":""},{"$f":"COUNTIF(S99:W99,\"NG\")","v":0},"","",0,null,"単位期間Ⅱ","2025-09-11",45911,"2025-09-30",45930,{"$f":"IF(AD99=\"\",\"\",AF99-AD99+1)","v":20},{"$f":"IF(AH99=\"\",\"\",SUM(AH99:AH106))","v":181},50000000,50000000,0.01,{"$f":"IF(AD99=\"\",\"\",ROUNDDOWN(AK99*AL99*AH99/365,0))","v":27397},{"$f":"IF(AM99=\"\",\"\",SUM(AM99:AM106))","v":234024},50000000,0,50000000,0]
[null,null,{"$f":"IF(E100=\"\",\"\",IF(E99=\"\",\"\",IF(E99>=DATE(2026,3,10),\"\",E99+1)))","v":""},{"$f":"IF(C100=\"\",\"\",C100)","v":""},null,{"$f":"IF(E100=\"\",\"\",E100)","v":""},{"$f":"IF(E100=\"\",\"\",E100-C100+1)","v":""},null,{"$f":"IF(I99=\"\",\"\",IF(E100=\"\",\"\",I99-$C$11))","v":""},{"$f":"IF(J99=\"\",\"\",IF(F100=\"\",\"\",J99-$C$24))","v":""},0,{"$f":"IF(J100=\"\",\"\",ROUNDDOWN(J100*K100*G100/365,0))","v":""},null,{"$f":"IF(I100=\"\",N99,I100)","v":0},{"$f":"N99-N100","v":0},{"$f":"IF(J100=\"\",P99,J100)","v":0},{"$f":"P99-P100","v":0},"",{"$f":"IF(C100=\"\",\"\",IF(C100=E99,\"NG\",IF(C100<E99,\"NG\",IF((C100-E99)>1,\"NG\",\"\"))))","v":""},{"$f":"IF(E100=\"\",\"\",IF(C101=\"\",\"\",IF(E100>C101,\"NG\",\"\")))","v":""},null,{"$f":"IF(E100=\"\",\"\",IF(C100<$U$98,\"NG\",IF(E100>$V$98,\"NG\",\"\")))","v":""},{"$f":"IF(G100>0,\"\",\"NG\")","v":""},{"$f":"COUNTIF(S100:W100,\"NG\")","v":0},"","",0,null,null,"2025-10-01",45931,"2025-10-31",45961,{"$f":"IF(AD100=\"\",\"\",AF100-AD100+1)","v":31},null,49000000,49000000,0.01,41616,null,49000000,{"$f":"AO99-AO100","v":1000000},49000000,{"$f":"AQ99-AQ100","v":1000000}]
[null,null,"","",null,"","",null,{"$f":"IF(I100=\"\",\"\",IF(E101=\"\",\"\",I100-$C$11))","v":""},{"$f":"IF(J100=\"\",\"\",IF(F101=\"\",\"\",J100-$C$24))","v":""},0,"",null,{"$f":"IF(I101=\"\",N100,I101)","v":0},{"$f":"N100-N101","v":0},{"$f":"IF(J101=\"\",P100,J101)","v":0},{"$f":"P100-P101","v":0},"",{"$f":"IF(C101=\"\",\"\",IF(C101=E100,\"NG\",IF(C101<E100,\"NG\",IF((C101-E100)>1,\"NG\",\"\"))))","v":""},"",null,"","",0,"","",0,null,null,"2025-11-01",45962,"2025-11-30",45991,30,null,48000000,48000000,0.01,39452,null,48000000,1000000,48000000,1000000]
[null,null,"","",null,"","",null,"","",0,"",null,0,0,0,{"$f":"P101-P102","v":0},"","","",null,"","",0,"","",0,null,null,"2025-12-01",45992,"2025-12-31",46022,31,null,47000000,47000000,0.01,39917,null,47000000,1000000,47000000,1000000]
[null,null,"","",null,"","",null,"","",0,"",null,0,0,0,0,"","","",null,"","",0,"","",0,null,null,"2026-01-01",46023,"2026-01-31",46053,31,null,46000000,46000000,0.01,39068,null,46000000,1000000,46000000,1000000]
[null,null,"","",null,"","",null,"","",0,"",null,0,0,0,0,"","",{"$f":"IF(E104=\"\",\"\",IF(C105=\"\",\"\",IF(E104>C105,\"NG\",\"\")))","v":""},null,"","",0,"","",0,null,null,"2026-02-01",46054,"2026-02-28",46081,28,null,45000000,45000000,0.01,34520,null,45000000,1000000,45000000,1000000]
[null,null,"","",null,"","",null,"","",0,"",null,0,0,0,0,"","",{"$f":"IF(D105=\"\",\"\",IF(D105<C105,\"NG\",\"\"))","v":""},null,"","",0,"","",0,null,null,"2026-03-01",46082,"2026-03-10",46091,10,null,44000000,44000000,0.01,12054,null,44000000,1000000,44000000,1000000]
[null,null,{"$f":"IF(X106>0,$S$38,\"\")","v":""},null,null,null,"Null",null,null,null,0,{"$f":"IF(J106=\"\",\"\",ROUNDDOWN(J106*K106*G106/365,0))","v":""},null,0,0,0,0,"",null,null,"2026-03-09","2026-09-12",null,{"$f":"SUM(X99:X105)","v":0},"","",0,null,null,"","",null,"",null,null,null,null,0.01,"",null,44000000,0,44000000,0]
["2026年度","単位期間Ⅰ",{"$f":"IF(E107=\"\",\"\",IF(E105>0,E105+1,IF(E104>0,E104+1,IF(E103>0,E103+1,IF(E102>0,E102+1,IF(E101>0,E101+1,IF(E100>0,E100+1,E99+1)))))))","v":""},{"$f":"IF(C107=\"\",\"\",C107)","v":""},null,{"$f":"IF(E107=\"\",\"\",E107)","v":""},{"$f":"IF(E107=\"\",\"\",E107-C107+1)","v":""},{"$f":"IF(G107=\"\",\"\",SUM(G107:G114))","v":""},null,null,{"$f":"IF(K106=\"\",\"\",$K$43)","v":0},{"$f":"IF(J107=\"\",\"\",ROUNDDOWN(J107*K107*G107/365,0))","v":""},{"$f":"IF(L107=\"\",\"\",SUM(L107:L114))","v":""},{"$f":"IF(I107=\"\",N106,I107)","v":0},0,{"$f":"IF(J107=\"\",P106,J107)","v":0},0,"",{"$f":"IF(C107=\"\",\"\",IF(C107>E107,\"NG\",\"\"))","v":""},{"$f":"IF(E107=\"\",\"\",IF(C108=\"\",\"\",IF(E107>C108,\"NG\",\"\")))","v":""},{"$f":"IF(C107=\"\",\"\",IF(C107<$U106,\"NG\",IF(C107>$V106,\"NG\",\"\")))","v":""},{"$f":"IF(E107=\"\",\"\",IF(C107<$U$106,\"NG\",IF(E107>$V$106,\"NG\",\"\")))","v":""},"",{"$f":"COUNTIF(S107:W107,\"NG\")","v":0},"","",0,{"$f":"A107","v":"2026年度"},"単位期間Ⅰ","2026-03-11",46092,"2026-03-31",46112,{"$f":"IF(AD107=\"\",\"\",AF107-AD107+1)","v":21},{"$f":"IF(AH107=\"\",\"\",SUM(AH107:AH114))","v":184},44000000,44000000,0.01,{"$f":"IF(AF107=\"\",\"\",ROUNDDOWN(AK107*AL107*AH107/365,0))","v":25315},{"$f":"IF(AM107=\"\",\"\",SUM(AM107:AM114))","v":207531},{"$f":"IF(AJ107=\"\",AO106,AJ107)","v":44000000},"-",{"$f":"IF(AK107=\"\",AQ106,AK107)","v":44000000},"-"]
[null,null,{"$f":"IF(E108=\"\",\"\",IF(E107=\"\",\"\",IF(E107>=DATE(2026,9,10),\"\",E107+1)))","v":""},{"$f":"IF(C108=\"\",\"\",C108)","v":""},null,{"$f":"IF(E108=\"\",\"\",E108)","v":""},{"$f":"IF(E108=\"\",\"\",E108-C108+1)","v":""},null,{"$f":"IF(I107=\"\",\"\",IF(E108=\"\",\"\",I107-$C$11))","v":""},{"$f":"IF(J107=\"\",\"\",IF(F108=\"\",\"\",J107-$C$24))","v":""},{"$f":"IF(K107=\"\",\"\",$K$43)","v":0},{"$f":"IF(J108=\"\",\"\",ROUNDDOWN(J108*K108*G108/365,0))","v":""},null,{"$f":"IF(I108=\"\",N107,I108)","v":0},{"$f":"N107-N108","v":0},{"$f":"IF(J108=\"\",P107,J108)","v":0},{"$f":"P107-P108","v":0},"",{"$f":"IF(C108=\"\",\"\",IF(C108=E107,\"NG\",IF(C108<E107,\"NG\",IF((C108-E107)>1,\"NG\",\"\"))))","v":""},{"$f":"IF(E108=\"\",\"\",IF(C109=\"\",\"\",IF(E108>C109,\"NG\",\"\")))","v":""},null,{"$f":"IF(E108=\"\",\"\",IF(C108<$U$106,\"NG\",IF(E108>$V$106,\"NG\",\"\")))","v":""},"",{"$f":"COUNTIF(S108:W108,\"NG\")","v":0},"","",0,null,null,"2026-04-01",{"$f":"IF(AD108=\"\",\"\",AD108)","v":46113},"2026-04-30",{"$f":"IF(AF108=\"\",\"\",AF108)","v":46142},{"$f":"IF(AD108=\"\",\"\",AF108-AD108+1)","v":30},null,43000000,43000000,0.01,{"$f":"IF(AF108=\"\",\"\",ROUNDDOWN(AK108*AL108*AH108/365,0))","v":35342},null,43000000,{"$f":"AO107-AO108","v":1000000},43000000,{"$f":"AQ107-AQ108","v":1000000}]
[null,null,"","",null,"","",null,{"$f":"IF(I108=\"\",\"\",IF(E109=\"\",\"\",I108-$C$11))","v":""},{"$f":"IF(J108=\"\",\"\",IF(F109=\"\",\"\",J108-$C$24))","v":""},{"$f":"IF(K108=\"\",\"\",$K$43)","v":0},"",null,{"$f":"IF(I109=\"\",N108,I109)","v":0},{"$f":"N108-N109","v":0},{"$f":"IF(J109=\"\",P108,J109)","v":0},{"$f":"P108-P109","v":0},{"$f":"IF(AA109>0,$Y$38,\"\")","v":""},{"$f":"IF(C109=\"\",\"\",IF(C109=E108,\"NG\",IF(C109<E108,\"NG\",IF((C109-E108)>1,\"NG\",\"\"))))","v":""},"",null,"","",0,{"$f":"IF($O109=0,\"\",IF($O109=$Y$41,\"\",\"NG\"))","v":""},{"$f":"IF($Q109=0,\"\",IF($Q109=$Z$41,\"\",\"NG\"))","v":""},{"$f":"COUNTIF(Y109:Z109,\"NG\")","v":0},null,null,"2026-05-01",46143,"2026-05-31",46173,31,null,42000000,42000000,0.01,{"$f":"IF(AF109=\"\",\"\",ROUNDDOWN(AK109*AL109*AH109/365,0))","v":35671},null,42000000,{"$f":"AO108-AO109","v":1000000},42000000,{"$f":"AQ108-AQ109","v":1000000}]
[null,null,"","",null,"","",null,{"$f":"IF(I109=\"\",\"\",IF(E110=\"\",\"\",I109-$C$11))","v":""},{"$f":"IF(J109=\"\",\"\",IF(F110=\"\",\"\",J109-$C$24))","v":""},0,"",null,0,0,0,0,"","","",null,"","",0,"","",0,null,null,"2026-06-01",46174,"2026-06-30",46203,30,null,41000000,41000000,0.01,33698,null,41000000,1000000,41000000,1000000]
[null,null,"","",null,"","",null,"","",0,"",null,0,0,0,0,"","","",null,"","",0,"","",0,null,null,"2026-07-01",46204,"2026-07-31",46234,31,null,40000000,40000000,0.01,33972,null,40000000,1000000,40000000,1000000]
[null,null,"","",null,"","",null,"","",0,"",null,0,0,0,0,"","",{"$f":"IF(E112=\"\",\"\",IF(C113=\"\",\"\",IF(E112>C113,\"NG\",\"\")))","v":""},null,"","",0,"","",0,null,null,"2026-08-01",46235,"2026-08-31",46265,31,null,39000000,39000000,0.01,33123,null,39000000,1000000,39000000,1000000]
[null,null,"","",null,"","",null,"","",0,"",null,0,0,0,0,"","",{"$f":"IF(D113=\"\",\"\",IF(D113<C113,\"NG\",\"\"))","v":""},null,"","",0,"","",0,null,null,"2026-09-01",46266,"2026-09-10",46275,10,null,38000000,38000000,0.01,10410,null,38000000,1000000,38000000,1000000]
[null,null,{"$f":"IF(X114>0,$S$38,\"\")","v":""},null,null,null,"Null",null,null,null,0,{"$f":"IF(J114=\"\",\"\",ROUNDDOWN(J114*K114*G114/365,0))","v":""},null,0,0,0,0,"",null,null,"2026-09-09","2027-03-12",null,{"$f":"SUM(X107:X113)","v":0},"","",0,null,null,"","",null,"",null,null,null,null,0.01,"",null,38000000,0,38000000,0]
[null,"単位期間Ⅱ",{"$f":"IF(E115=\"\",\"\",IF(E113>M287,E113+1,IF(E112>M287,E112+1,IF(E111>M287,E111+1,IF(E110>M287,E110+1,IF(E109>M287,E109+1,IF(E108>M287,E108+1,IF(E107>M287,E107+1,IF(C92>M287,C92,\"\")))))))))","v":""},{"$f":"IF(C115=\"\",\"\",C115)","v":""},null,{"$f":"IF(E115=\"\",\"\",E115)","v":""},{"$f":"IF(E115=\"\",\"\",E115-C115+1)","v":""},{"$f":"IF(G115=\"\",\"\",SUM(G115:G122))","v":""},null,null,{"$f":"IF(K114=\"\",\"\",$K$43)","v":0},{"$f":"IF(J115=\"\",\"\",ROUNDDOWN(J115*K115*G115/365,0))","v":""},{"$f":"IF(L115=\"\",\"\",SUM(L115:L122))","v":""},{"$f":"IF(I115=\"\",N114,I115)","v":0},{"$f":"IF(N114-N115<0,\"0 \",N114-N115)","v":0},{"$f":"IF(J115=\"\",P114,J115)","v":0},{"$f":"IF(P114-P115<0,\"0 \",P114-P115)","v":0},"",{"$f":"IF(C115=\"\",\"\",IF(C115>E115,\"NG\",\"\"))","v":""},{"$f":"IF(E115=\"\",\"\",IF(C116=\"\",\"\",IF(E115>C116,\"NG\",\"\")))","v":""},{"$f":"IF(C115=\"\",\"\",IF(C115<$U114,\"NG\",IF(C115>$V114,\"NG\",\"\")))","v":""},{"$f":"IF(E115=\"\",\"\",IF(C115<$U$114,\"NG\",IF(E115>$V$114,\"NG\",\"\")))","v":""},"",{"$f":"COUNTIF(S115:W115,\"NG\")","v":0},"","",0,null,"単位期間Ⅱ","2026-09-11",46276,"2026-09-30",46295,{"$f":"IF(AD115=\"\",\"\",AF115-AD115+1)","v":20},{"$f":"IF(AH115=\"\",\"\",SUM(AH115:AH122))","v":181},38000000,38000000,0.01,{"$f":"IF(AD115=\"\",\"\",ROUNDDOWN(AK115*AL115*AH115/365,0))","v":20821},{"$f":"IF(AM115=\"\",\"\",SUM(AM115:AM122))","v":174518},38000000,0,38000000,0]
[null,null,{"$f":"IF(E116=\"\",\"\",IF(E115=\"\",\"\",IF(E115>=DATE(2027,3,10),\"\",E115+1)))","v":""},{"$f":"IF(C116=\"\",\"\",C116)","v":""},null,{"$f":"IF(E116=\"\",\"\",E116)","v":""},{"$f":"IF(E116=\"\",\"\",E116-C116+1)","v":""},null,{"$f":"IF(I115=\"\",\"\",IF(E116=\"\",\"\",I115-$C$11))","v":""},{"$f":"IF(J115=\"\",\"\",IF(F116=\"\",\"\",J115-$C$24))","v":""},0,{"$f":"IF(J116=\"\",\"\",ROUNDDOWN(J116*K116*G116/365,0))","v":""},null,{"$f":"IF(I116=\"\",N115,I116)","v":0},{"$f":"N115-N116","v":0},{"$f":"IF(J116=\"\",P115,J116)","v":0},{"$f":"P115-P116","v":0},"",{"$f":"IF(C116=\"\",\"\",IF(C116=E115,\"NG\",IF(C116<E115,\"NG\",IF((C116-E115)>1,\"NG\",\"\"))))","v":""},{"$f":"IF(E116=\"\",\"\",IF(C117=\"\",\"\",IF(E116>C117,\"NG\",\"\")))","v":""},null,{"$f":"IF(E116=\"\",\"\",IF(C116<$U$114,\"NG\",IF(E116>$V$114,\"NG\",\"\")))","v":""},"",{"$f":"COUNTIF(S116:W116,\"NG\")","v":0},"","",0,null,null,"2026-10-01",46296,"2026-10-31",46326,{"$f":"IF(AD116=\"\",\"\",AF116-AD116+1)","v":31},null,37000000,37000000,0.01,31424,null,37000000,{"$f":"AO115-AO116","v":1000000},37000000,{"$f":"AQ115-AQ116","v":1000000}]
[null,null,"","",null,"","",null,{"$f":"IF(I116=\"\",\"\",IF(E117=\"\",\"\",I116-$C$11))","v":""},{"$f":"IF(J116=\"\",\"\",IF(F117=\"\",\"\",J116-$C$24))","v":""},0,"",null,{"$f":"IF(I117=\"\",N116,I117)","v":0},{"$f":"N116-N117","v":0},{"$f":"IF(J117=\"\",P116,J117)","v":0},{"$f":"P116-P117","v":0},"",{"$f":"IF(C117=\"\",\"\",IF(C117=E116,\"NG\",IF(C117<E116,\"NG\",IF((C117-E116)>1,\"NG\",\"\"))))","v":""},"",null,"","",0,"","",0,null,null,"2026-11-01",46327,"2026-11-30",46356,30,null,36000000,36000000,0.01,29589,null,36000000,1000000,36000000,1000000]
[null,null,"","",null,"","",null,"","",0,"",null,0,0,0,{"$f":"P117-P118","v":0},"","","",null,"","",0,"","",0,null,null,"2026-12-01",46357,"2026-12-31",46387,31,null,35000000,35000000,0.01,29726,null,35000000,1000000,35000000,1000000]
[null,null,"","",null,"","",null,"","",0,"",null,0,0,0,0,"","","",null,"","",0,"","",0,null,null,"2027-01-01",46388,"2027-01-31",46418,31,null,34000000,34000000,0.01,28876,null,34000000,1000000,34000000,1000000]
[null,null,"","",null,"","",null,"","",0,"",null,0,0,0,0,"","",{"$f":"IF(E120=\"\",\"\",IF(C121=\"\",\"\",IF(E120>C121,\"NG\",\"\")))","v":""},null,"","",0,"","",0,null,null,"2027-02-01",46419,"2027-02-28",46446,28,null,33000000,33000000,0.01,25315,null,33000000,1000000,33000000,1000000]
[null,null,"","",null,"","",null,"","",0,"",null,0,0,0,0,"","",{"$f":"IF(D121=\"\",\"\",IF(D121<C121,\"NG\",\"\"))","v":""},null,"","",0,"","",0,null,null,"2027-03-01",46447,"2027-03-10",46456,10,null,32000000,32000000,0.01,8767,null,32000000,1000000,32000000,1000000]
[null,null,{"$f":"IF(X122>0,$S$38,\"\")","v":""},null,null,null,"Null",null,null,null,0,{"$f":"IF(J122=\"\",\"\",ROUNDDOWN(J122*K122*G122/365,0))","v":""},null,0,0,0,0,"",null,null,"2027-03-09","2027-09-12",null,{"$f":"SUM(X115:X121)","v":0},"","",0,null,null,null,"",null,"",null,null,null,null,0.01,"",null,32000000,0,32000000,0]
["2027年度","単位期間Ⅰ",{"$f":"IF(E123=\"\",\"\",IF(E121>0,E121+1,IF(E120>0,E120+1,IF(E119>0,E119+1,IF(E118>0,E118+1,IF(E117>0,E117+1,IF(E116>0,E116+1,E115+1)))))))","v":""},{"$f":"IF(C123=\"\",\"\",C123)","v":""},null,{"$f":"IF(E123=\"\",\"\",E123)","v":""},{"$f":"IF(E123=\"\",\"\",E123-C123+1)","v":""},{"$f":"IF(G123=\"\",\"\",SUM(G123:G130))","v":""},null,null,{"$f":"IF(K122=\"\",\"\",$K$43)","v":0},{"$f":"IF(J123=\"\",\"\",ROUNDDOWN(J123*K123*G123/365,0))","v":""},{"$f":"IF(L123=\"\",\"\",SUM(L123:L130))","v":""},{"$f":"IF(I123=\"\",N122,I123)","v":0},0,{"$f":"IF(J123=\"\",P122,J123)","v":0},0,"",{"$f":"IF(C123=\"\",\"\",IF(C123>E123,\"NG\",\"\"))","v":""},{"$f":"IF(E123=\"\",\"\",IF(C124=\"\",\"\",IF(E123>C124,\"NG\",\"\")))","v":""},{"$f":"IF(C123=\"\",\"\",IF(C123<$U122,\"NG\",IF(C123>$V122,\"NG\",\"\")))","v":""},{"$f":"IF(E123=\"\",\"\",IF(C123<$U$122,\"NG\",IF(E123>$V$122,\"NG\",\"\")))","v":""},"",{"$f":"COUNTIF(S123:W123,\"NG\")","v":0},"","",0,{"$f":"A123","v":"2027年度"},"単位期間Ⅰ","2027-03-11",46457,"2027-03-31",46477,{"$f":"IF(AD123=\"\",\"\",AF123-AD123+1)","v":21},{"$f":"IF(AH123=\"\",\"\",SUM(AH123:AH130))","v":184},32000000,32000000,0.01,{"$f":"IF(AF123=\"\",\"\",ROUNDDOWN(AK123*AL123*AH123/365,0))","v":18410},{"$f":"IF(AM123=\"\",\"\",SUM(AM123:AM130))","v":147037},{"$f":"IF(AJ123=\"\",AO122,AJ123)","v":32000000},"-",{"$f":"IF(AK123=\"\",AQ122,AK123)","v":32000000},"-"]
[null,null,{"$f":"IF(E124=\"\",\"\",IF(E123=\"\",\"\",IF(E123>=DATE(2027,9,10),\"\",E123+1)))","v":""},{"$f":"IF(C124=\"\",\"\",C124)","v":""},null,{"$f":"IF(E124=\"\",\"\",E124)","v":""},{"$f":"IF(E124=\"\",\"\",E124-C124+1)","v":""},null,{"$f":"IF(I123=\"\",\"\",IF(E124=\"\",\"\",I123-$C$11))","v":""},{"$f":"IF(J123=\"\",\"\",IF(F124=\"\",\"\",J123-$C$24))","v":""},{"$f":"IF(K123=\"\",\"\",$K$43)","v":0},{"$f":"IF(J124=\"\",\"\",ROUNDDOWN(J124*K124*G124/365,0))","v":""},null,{"$f":"IF(I124=\"\",N123,I124)","v":0},{"$f":"N123-N124","v":0},{"$f":"IF(J124=\"\",P123,J124)","v":0},{"$f":"P123-P124","v":0},"",{"$f":"IF(C124=\"\",\"\",IF(C124=E123,\"NG\",IF(C124<E123,\"NG\",IF((C124-E123)>1,\"NG\",\"\"))))","v":""},{"$f":"IF(E124=\"\",\"\",IF(C125=\"\",\"\",IF(E124>C125,\"NG\",\"\")))","v":""},null,{"$f":"IF(E124=\"\",\"\",IF(C124<$U$122,\"NG\",IF(E124>$V$122,\"NG\",\"\")))","v":""},"",{"$f":"COUNTIF(S124:W124,\"NG\")","v":0},"","",0,null,null,"2027-04-01",46478,"2027-04-30",46507,{"$f":"IF(AD124=\"\",\"\",AF124-AD124+1)","v":30},null,31000000,31000000,0.01,{"$f":"IF(AF124=\"\",\"\",ROUNDDOWN(AK124*AL124*AH124/365,0))","v":25479},null,31000000,{"$f":"AO123-AO124","v":1000000},31000000,{"$f":"AQ123-AQ124","v":1000000}]
[null,null,"","",null,"","",null,{"$f":"IF(I124=\"\",\"\",IF(E125=\"\",\"\",I124-$C$11))","v":""},{"$f":"IF(J124=\"\",\"\",IF(F125=\"\",\"\",J124-$C$24))","v":""},{"$f":"IF(K124=\"\",\"\",$K$43)","v":0},"",null,{"$f":"IF(I125=\"\",N124,I125)","v":0},{"$f":"N124-N125","v":0},{"$f":"IF(J125=\"\",P124,J125)","v":0},{"$f":"P124-P125","v":0},"",{"$f":"IF(C125=\"\",\"\",IF(C125=E124,\"NG\",IF(C125<E124,\"NG\",IF((C125-E124)>1,\"NG\",\"\"))))","v":""},"",null,"","",0,"","",0,null,null,"2027-05-01",46508,"2027-05-31",46538,31,null,30000000,30000000,0.01,{"$f":"IF(AF125=\"\",\"\",ROUNDDOWN(AK125*AL125*AH125/365,0))","v":25479},null,30000000,{"$f":"AO124-AO125","v":1000000},30000000,{"$f":"AQ124-AQ125","v":1000000}]
[null,null,"","",null,"","",null,{"$f":"IF(I125=\"\",\"\",IF(E126=\"\",\"\",I125-$C$11))","v":""},{"$f":"IF(J125=\"\",\"\",IF(F126=\"\",\"\",J125-$C$24))","v":""},0,"",null,0,0,0,0,"","","",null,"","",0,"","",0,null,null,"2027-06-01",46539,"2027-06-30",{"$f":"IF(AF126=\"\",\"\",AF126)","v":46568},30,null,29000000,29000000,0.01,23835,null,29000000,1000000,29000000,1000000]
[null,null,"","",null,"","",null,"","",0,"",null,0,0,0,0,"","","",null,"","",0,"","",0,null,null,"2027-07-01",46569,"2027-07-31",46599,31,null,28000000,28000000,0.01,23780,null,28000000,1000000,28000000,1000000]
[null,null,"","",null,"","",null,"","",0,"",null,0,0,0,0,"","","",null,"","",0,"","",0,null,null,"2027-08-01",46600,"2027-08-31",46630,31,null,27000000,27000000,0.01,22931,null,27000000,1000000,27000000,1000000]
[null,null,"","",null,"","",null,"","",0,"",null,0,0,0,0,"","",{"$f":"IF(D129=\"\",\"\",IF(D129<C129,\"NG\",\"\"))","v":""},null,"","",0,"","",0,null,null,"2027-09-01",46631,"2027-09-10",46640,10,null,26000000,26000000,0.01,7123,null,26000000,1000000,26000000,1000000]
[null,null,{"$f":"IF(X130>0,$S$38,\"\")","v":""},null,null,null,"Null",null,null,null,0,{"$f":"IF(J130=\"\",\"\",ROUNDDOWN(J130*K130*G130/365,0))","v":""},null,0,0,0,0,"",null,null,"2027-09-09","2028-03-12",null,{"$f":"SUM(X123:X129)","v":0},"","",0,null,null,"","",null,"",null,null,null,null,0.01,"",null,26000000,0,26000000,0]
[null,"単位期間Ⅱ",{"$f":"IF(E131=\"\",\"\",IF(E129>M303,E129+1,IF(E128>M303,E128+1,IF(E127>M303,E127+1,IF(E126>M303,E126+1,IF(E125>M303,E125+1,IF(E124>M303,E124+1,IF(E123>M303,E123+1,IF(C108>M303,C108,\"\")))))))))","v":""},{"$f":"IF(C131=\"\",\"\",C131)","v":""},null,{"$f":"IF(E131=\"\",\"\",E131)","v":""},{"$f":"IF(E131=\"\",\"\",E131-C131+1)","v":""},{"$f":"IF(G131=\"\",\"\",SUM(G131:G138))","v":""},null,null,{"$f":"IF(K130=\"\",\"\",$K$43)","v":0},{"$f":"IF(J131=\"\",\"\",ROUNDDOWN(J131*K131*G131/365,0))","v":""},{"$f":"IF(L131=\"\",\"\",SUM(L131:L138))","v":""},{"$f":"IF(I131=\"\",N130,I131)","v":0},{"$f":"IF(N130-N131<0,\"0 \",N130-N131)","v":0},{"$f":"IF(J131=\"\",P130,J131)","v":0},{"$f":"IF(P130-P131<0,\"0 \",P130-P131)","v":0},"",{"$f":"IF(C131=\"\",\"\",IF(C131>E131,\"NG\",\"\"))","v":""},{"$f":"IF(E131=\"\",\"\",IF(C132=\"\",\"\",IF(E131>C132,\"NG\",\"\")))","v":""},{"$f":"IF(C131=\"\",\"\",IF(C131<$U130,\"NG\",IF(C131>$V130,\"NG\",\"\")))","v":""},{"$f":"IF(E131=\"\",\"\",IF(C131<$U$130,\"NG\",IF(E131>$V$130,\"NG\",\"\")))","v":""},"",{"$f":"COUNTIF(S131:W131,\"NG\")","v":0},"","",0,null,"単位期間Ⅱ","2027-09-11",46641,"2027-09-30",46660,{"$f":"IF(AD131=\"\",\"\",AF131-AD131+1)","v":20},{"$f":"IF(AH131=\"\",\"\",SUM(AH131:AH138))","v":182},26000000,26000000,0.01,{"$f":"IF(AD131=\"\",\"\",ROUNDDOWN(AK131*AL131*AH131/365,0))","v":14246},{"$f":"IF(AM131=\"\",\"\",SUM(AM131:AM138))","v":115585},26000000,0,26000000,0]
[null,null,{"$f":"IF(E132=\"\",\"\",IF(E131=\"\",\"\",IF(E131>=DATE(2028,3,10),\"\",E131+1)))","v":""},{"$f":"IF(C132=\"\",\"\",C132)","v":""},null,{"$f":"IF(E132=\"\",\"\",E132)","v":""},{"$f":"IF(E132=\"\",\"\",E132-C132+1)","v":""},null,{"$f":"IF(I131=\"\",\"\",IF(E132=\"\",\"\",I131-$C$11))","v":""},{"$f":"IF(J131=\"\",\"\",IF(F132=\"\",\"\",J131-$C$24))","v":""},0,{"$f":"IF(J132=\"\",\"\",ROUNDDOWN(J132*K132*G132/365,0))","v":""},null,{"$f":"IF(I132=\"\",N131,I132)","v":0},{"$f":"N131-N132","v":0},{"$f":"IF(J132=\"\",P131,J132)","v":0},{"$f":"P131-P132","v":0},"",{"$f":"IF(C132=\"\",\"\",IF(C132=E131,\"NG\",IF(C132<E131,\"NG\",IF((C132-E131)>1,\"NG\",\"\"))))","v":""},{"$f":"IF(E132=\"\",\"\",IF(C133=\"\",\"\",IF(E132>C133,\"NG\",\"\")))","v":""},null,{"$f":"IF(E132=\"\",\"\",IF(C132<$U$130,\"NG\",IF(E132>$V$130,\"NG\",\"\")))","v":""},"",{"$f":"COUNTIF(S132:W132,\"NG\")","v":0},"","",0,null,null,"2027-10-01",46661,"2027-10-31",46691,{"$f":"IF(AD132=\"\",\"\",AF132-AD132+1)","v":31},null,25000000,25000000,0.01,21232,null,25000000,{"$f":"AO131-AO132","v":1000000},25000000,{"$f":"AQ131-AQ132","v":1000000}]
[null,null,"",{"$f":"IF(C133=\"\",\"\",C133)","v":""},null,"","",null,{"$f":"IF(I132=\"\",\"\",IF(E133=\"\",\"\",I132-$C$11))","v":""},{"$f":"IF(J132=\"\",\"\",IF(F133=\"\",\"\",J132-$C$24))","v":""},0,"",null,{"$f":"IF(I133=\"\",N132,I133)","v":0},{"$f":"N132-N133","v":0},{"$f":"IF(J133=\"\",P132,J133)","v":0},{"$f":"P132-P133","v":0},"",{"$f":"IF(C133=\"\",\"\",IF(C133=E132,\"NG\",IF(C133<E132,\"NG\",IF((C133-E132)>1,\"NG\",\"\"))))","v":""},"",null,"","",0,"","",0,null,null,"2027-11-01",46692,"2027-11-30",46721,30,null,24000000,24000000,0.01,19726,null,24000000,1000000,24000000,1000000]
[null,null,"","",null,"","",null,"","",0,"",null,0,0,0,{"$f":"P133-P134","v":0},"","","",null,"","",0,"","",0,null,null,"2027-12-01",46722,"2027-12-31",46752,31,null,23000000,23000000,0.01,19534,null,23000000,1000000,23000000,1000000]
[null,null,"","",null,"","",null,"","",0,"",null,0,0,0,0,"","","",null,"","",0,"","",0,null,null,"2028-01-01",46753,"2028-01-31",46783,31,null,22000000,22000000,0.01,18684,null,22000000,1000000,22000000,1000000]
[null,null,"","",null,"","",null,"","",0,"",null,0,0,0,0,"","",{"$f":"IF(E136=\"\",\"\",IF(C137=\"\",\"\",IF(E136>C137,\"NG\",\"\")))","v":""},null,"","",0,"","",0,null,null,"2028-02-01",46784,"2028-02-29",46812,29,null,21000000,21000000,0.01,16684,null,21000000,1000000,21000000,1000000]
[null,null,"","",null,"","",null,"","",0,"",null,0,0,0,0,"","",{"$f":"IF(D137=\"\",\"\",IF(D137<C137,\"NG\",\"\"))","v":""},null,"","",0,"","",0,null,null,"2028-03-01",46813,"2028-03-10",46822,10,null,20000000,20000000,0.01,5479,null,20000000,1000000,20000000,1000000]
[null,null,{"$f":"IF(X138>0,$S$38,\"\")","v":""},null,null,null,"Null",null,null,null,0,{"$f":"IF(J138=\"\",\"\",ROUNDDOWN(J138*K138*G138/365,0))","v":""},null,0,0,0,0,"",null,null,"2028-03-09","2028-09-12",null,{"$f":"SUM(X131:X137)","v":0},"","",0,null,null,null,"",null,"",null,null,null,null,0.01,"",null,20000000,0,20000000,0]
["2028年度","単位期間Ⅰ",{"$f":"IF(E139=\"\",\"\",IF(E137>0,E137+1,IF(E136>0,E136+1,IF(E135>0,E135+1,IF(E134>0,E134+1,IF(E133>0,E133+1,IF(E132>0,E132+1,E131+1)))))))","v":""},{"$f":"IF(C139=\"\",\"\",C139)","v":""},null,{"$f":"IF(E139=\"\",\"\",E139)","v":""},{"$f":"IF(E139=\"\",\"\",E139-C139+1)","v":""},{"$f":"IF(G139=\"\",\"\",SUM(G139:G146))","v":""},null,null,{"$f":"IF(K138=\"\",\"\",$K$43)","v":0},{"$f":"IF(J139=\"\",\"\",ROUNDDOWN(J139*K139*G139/365,0))","v":""},{"$f":"IF(L139=\"\",\"\",SUM(L139:L146))","v":""},{"$f":"IF(I139=\"\",N138,I139)","v":0},0,{"$f":"IF(J139=\"\",P138,J139)","v":0},0,"",{"$f":"IF(C139=\"\",\"\",IF(C139>E139,\"NG\",\"\"))","v":""},{"$f":"IF(E139=\"\",\"\",IF(C140=\"\",\"\",IF(E139>C140,\"NG\",\"\")))","v":""},{"$f":"IF(C139=\"\",\"\",IF(C139<$U138,\"NG\",IF(C139>$V138,\"NG\",\"\")))","v":""},{"$f":"IF(E139=\"\",\"\",IF(C139<$U$138,\"NG\",IF(E139>$V$138,\"NG\",\"\")))","v":""},"",{"$f":"COUNTIF(S139:W139,\"NG\")","v":0},"","",0,{"$f":"A139","v":"2028年度"},"単位期間Ⅰ","2028-03-11",46823,"2028-03-31",46843,{"$f":"IF(AD139=\"\",\"\",AF139-AD139+1)","v":21},{"$f":"IF(AH139=\"\",\"\",SUM(AH139:AH146))","v":184},20000000,20000000,0.01,{"$f":"IF(AF139=\"\",\"\",ROUNDDOWN(AK139*AL139*AH139/365,0))","v":11506},{"$f":"IF(AM139=\"\",\"\",SUM(AM139:AM146))","v":86544},{"$f":"IF(AJ139=\"\",AO138,AJ139)","v":20000000},"-",{"$f":"IF(AK139=\"\",AQ138,AK139)","v":20000000},"-"]
[null,null,{"$f":"IF(E140=\"\",\"\",IF(E139=\"\",\"\",IF(E139>=DATE(2028,9,10),\"\",E139+1)))","v":""},{"$f":"IF(C140=\"\",\"\",C140)","v":""},null,{"$f":"IF(E140=\"\",\"\",E140)","v":""},{"$f":"IF(E140=\"\",\"\",E140-C140+1)","v":""},null,{"$f":"IF(I139=\"\",\"\",IF(E140=\"\",\"\",I139-$C$11))","v":""},{"$f":"IF(J139=\"\",\"\",IF(F140=\"\",\"\",J139-$C$24))","v":""},{"$f":"IF(K139=\"\",\"\",$K$43)","v":0},{"$f":"IF(J140=\"\",\"\",ROUNDDOWN(J140*K140*G140/365,0))","v":""},null,{"$f":"IF(I140=\"\",N139,I140)","v":0},{"$f":"N139-N140","v":0},{"$f":"IF(J140=\"\",P139,J140)","v":0},{"$f":"P139-P140","v":0},"",{"$f":"IF(C140=\"\",\"\",IF(C140=E139,\"NG\",IF(C140<E139,\"NG\",IF((C140-E139)>1,\"NG\",\"\"))))","v":""},{"$f":"IF(E140=\"\",\"\",IF(C141=\"\",\"\",IF(E140>C141,\"NG\",\"\")))","v":""},null,{"$f":"IF(E140=\"\",\"\",IF(C140<$U$138,\"NG\",IF(E140>$V$138,\"NG\",\"\")))","v":""},"",{"$f":"COUNTIF(S140:W140,\"NG\")","v":0},"","",0,null,null,"2028-04-01",46844,"2028-04-30",46873,{"$f":"IF(AD140=\"\",\"\",AF140-AD140+1)","v":30},null,19000000,19000000,0.01,{"$f":"IF(AF140=\"\",\"\",ROUNDDOWN(AK140*AL140*AH140/365,0))","v":15616},null,19000000,{"$f":"AO139-AO140","v":1000000},19000000,{"$f":"AQ139-AQ140","v":1000000}]
[null,null,"","",null,"","",null,{"$f":"IF(I140=\"\",\"\",IF(E141=\"\",\"\",I140-$C$11))","v":""},{"$f":"IF(J140=\"\",\"\",IF(F141=\"\",\"\",J140-$C$24))","v":""},{"$f":"IF(K140=\"\",\"\",$K$43)","v":0},"",null,{"$f":"IF(I141=\"\",N140,I141)","v":0},{"$f":"N140-N141","v":0},{"$f":"IF(J141=\"\",P140,J141)","v":0},{"$f":"P140-P141","v":0},"",{"$f":"IF(C141=\"\",\"\",IF(C141=E140,\"NG\",IF(C141<E140,\"NG\",IF((C141-E140)>1,\"NG\",\"\"))))","v":""},"",null,"","",0,"","",0,null,null,"2028-05-01",46874,"2028-05-31",46904,31,null,18000000,18000000,0.01,{"$f":"IF(AF141=\"\",\"\",ROUNDDOWN(AK141*AL141*AH141/365,0))","v":15287},null,18000000,{"$f":"AO140-AO141","v":1000000},18000000,{"$f":"AQ140-AQ141","v":1000000}]
[null,null,"","",null,"","",null,{"$f":"IF(I141=\"\",\"\",IF(E142=\"\",\"\",I141-$C$11))","v":""},{"$f":"IF(J141=\"\",\"\",IF(F142=\"\",\"\",J141-$C$24))","v":""},0,"",null,0,0,0,0,"","","",null,"","",0,"","",0,null,null,"2028-06-01",46905,"2028-06-30",46934,30,null,17000000,17000000,0.01,13972,null,17000000,1000000,17000000,1000000]
[null,null,"","",null,"","",null,"","",0,"",null,0,0,0,0,"","","",null,"","",0,"","",0,null,null,"2028-07-01",46935,"2028-07-31",46965,31,null,16000000,16000000,0.01,13589,null,16000000,1000000,16000000,1000000]
[null,null,"","",null,"","",null,"","",0,"",null,0,0,0,0,"","",{"$f":"IF(E144=\"\",\"\",IF(C145=\"\",\"\",IF(E144>C145,\"NG\",\"\")))","v":""},null,"","",0,"","",0,null,null,"2028-08-01",46966,"2028-08-31",46996,31,null,15000000,15000000,0.01,12739,null,15000000,1000000,15000000,1000000]
[null,null,"","",null,"","",null,"","",0,"",null,0,0,0,0,"","",{"$f":"IF(D145=\"\",\"\",IF(D145<C145,\"NG\",\"\"))","v":""},null,"","",0,"","",0,null,null,"2028-09-01",46997,"2028-09-10",47006,10,null,14000000,14000000,0.01,3835,null,14000000,1000000,14000000,1000000]
[null,null,{"$f":"IF(X146>0,$S$38,\"\")","v":""},null,null,null,"Null",null,null,null,0,{"$f":"IF(J146=\"\",\"\",ROUNDDOWN(J146*K146*G146/365,0))","v":""},null,0,0,0,0,"",null,null,"2028-09-09","2029-03-12",null,{"$f":"SUM(X139:X145)","v":0},"","",0,null,null,null,"",null,"",null,null,null,null,0.01,"",null,14000000,0,14000000,0]
[null,"単位期間Ⅱ",{"$f":"IF(E147=\"\",\"\",IF(E145>M318,E145+1,IF(E144>M318,E144+1,IF(E143>M318,E143+1,IF(E142>M318,E142+1,IF(E141>M318,E141+1,IF(E140>M318,E140+1,IF(E139>M318,E139+1,IF(C124>M318,C124,\"\")))))))))","v":""},{"$f":"IF(C147=\"\",\"\",C147)","v":""},null,{"$f":"IF(E147=\"\",\"\",E147)","v":""},{"$f":"IF(E147=\"\",\"\",E147-C147+1)","v":""},{"$f":"IF(G147=\"\",\"\",SUM(G147:G154))","v":""},null,null,{"$f":"IF(K146=\"\",\"\",$K$43)","v":0},{"$f":"IF(J147=\"\",\"\",ROUNDDOWN(J147*K147*G147/365,0))","v":""},{"$f":"IF(L147=\"\",\"\",SUM(L147:L154))","v":""},{"$f":"IF(I147=\"\",N146,I147)","v":0},{"$f":"IF(N146-N147<0,\"0 \",N146-N147)","v":0},{"$f":"IF(J147=\"\",P146,J147)","v":0},{"$f":"IF(P146-P147<0,\"0 \",P146-P147)","v":0},"",{"$f":"IF(C147=\"\",\"\",IF(C147>E147,\"NG\",\"\"))","v":""},{"$f":"IF(E147=\"\",\"\",IF(C148=\"\",\"\",IF(E147>C148,\"NG\",\"\")))","v":""},{"$f":"IF(C147=\"\",\"\",IF(C147<$U146,\"NG\",IF(C147>$V146,\"NG\",\"\")))","v":""},{"$f":"IF(E147=\"\",\"\",IF(C147<$U$146,\"NG\",IF(E147>$V$146,\"NG\",\"\")))","v":""},"",{"$f":"COUNTIF(S147:W147,\"NG\")","v":0},"","",0,null,"単位期間Ⅱ","2028-09-11",47007,"2028-09-30",47026,{"$f":"IF(AD147=\"\",\"\",AF147-AD147+1)","v":20},{"$f":"IF(AH147=\"\",\"\",SUM(AH147:AH154))","v":181},14000000,14000000,0.01,{"$f":"IF(AD147=\"\",\"\",ROUNDDOWN(AK147*AL147*AH147/365,0))","v":7671},{"$f":"IF(AM147=\"\",\"\",SUM(AM147:AM154))","v":55505},14000000,0,14000000,0]
[null,null,{"$f":"IF(E148=\"\",\"\",IF(E147=\"\",\"\",IF(E147>=DATE(2029,3,10),\"\",E147+1)))","v":""},{"$f":"IF(C148=\"\",\"\",C148)","v":""},null,{"$f":"IF(E148=\"\",\"\",E148)","v":""},{"$f":"IF(E148=\"\",\"\",E148-C148+1)","v":""},null,{"$f":"IF(I147=\"\",\"\",IF(E148=\"\",\"\",I147-$C$11))","v":""},{"$f":"IF(J147=\"\",\"\",IF(F148=\"\",\"\",J147-$C$24))","v":""},0,{"$f":"IF(J148=\"\",\"\",ROUNDDOWN(J148*K148*G148/365,0))","v":""},null,{"$f":"IF(I148=\"\",N147,I148)","v":0},{"$f":"N147-N148","v":0},{"$f":"IF(J148=\"\",P147,J148)","v":0},{"$f":"P147-P148","v":0},"",{"$f":"IF(C148=\"\",\"\",IF(C148=E147,\"NG\",IF(C148<E147,\"NG\",IF((C148-E147)>1,\"NG\",\"\"))))","v":""},{"$f":"IF(E148=\"\",\"\",IF(C149=\"\",\"\",IF(E148>C149,\"NG\",\"\")))","v":""},null,{"$f":"IF(E148=\"\",\"\",IF(C148<$U$146,\"NG\",IF(E148>$V$146,\"NG\",\"\")))","v":""},"",{"$f":"COUNTIF(S148:W148,\"NG\")","v":0},"","",0,null,null,"2028-10-01",47027,"2028-10-31",47057,{"$f":"IF(AD148=\"\",\"\",AF148-AD148+1)","v":31},null,13000000,13000000,0.01,11041,null,13000000,{"$f":"AO147-AO148","v":1000000},13000000,{"$f":"AQ147-AQ148","v":1000000}]
[null,null,"","",null,"","",null,{"$f":"IF(I148=\"\",\"\",IF(E149=\"\",\"\",I148-$C$11))","v":""},{"$f":"IF(J148=\"\",\"\",IF(F149=\"\",\"\",J148-$C$24))","v":""},0,"",null,{"$f":"IF(I149=\"\",N148,I149)","v":0},{"$f":"N148-N149","v":0},{"$f":"IF(J149=\"\",P148,J149)","v":0},{"$f":"P148-P149","v":0},"",{"$f":"IF(C149=\"\",\"\",IF(C149=E148,\"NG\",IF(C149<E148,\"NG\",IF((C149-E148)>1,\"NG\",\"\"))))","v":""},"",null,"","",0,"","",0,null,null,"2028-11-01",47058,"2028-11-30",47087,30,null,12000000,12000000,0.01,9863,null,12000000,1000000,12000000,1000000]
[null,null,"","",null,"","",null,"","",0,"",null,0,0,0,{"$f":"P149-P150","v":0},"","","",null,"","",0,"","",0,null,null,"2028-12-01",47088,"2028-12-31",47118,31,null,11000000,11000000,0.01,9342,null,11000000,1000000,11000000,1000000]
[null,null,"","",null,"","",null,"","",0,"",null,0,0,0,0,"","","",null,"","",0,"","",0,null,null,"2029-01-01",47119,"2029-01-31",47149,31,null,10000000,10000000,0.01,8493,null,10000000,1000000,10000000,1000000]
[null,null,"","",null,"","",null,"","",0,"",null,0,0,0,0,"","",{"$f":"IF(E152=\"\",\"\",IF(C153=\"\",\"\",IF(E152>C153,\"NG\",\"\")))","v":""},null,"","",0,"","",0,null,null,"2029-02-01",47150,"2029-02-28",47177,28,null,9000000,9000000,0.01,6904,null,9000000,1000000,9000000,1000000]
[null,null,"","",null,"","",null,"","",0,"",null,0,0,0,0,"","",{"$f":"IF(D153=\"\",\"\",IF(D153<C153,\"NG\",\"\"))","v":""},null,"","",0,"","",0,null,null,"2029-03-01",47178,"2029-03-10",47187,10,null,8000000,8000000,0.01,2191,null,8000000,1000000,8000000,1000000]
[null,null,{"$f":"IF(X154>0,$S$38,\"\")","v":""},null,null,null,"Null",null,null,null,0,{"$f":"IF(J154=\"\",\"\",ROUNDDOWN(J154*K154*G154/365,0))","v":""},null,0,0,0,0,"",null,null,"2029-03-09","2029-09-12",null,{"$f":"SUM(X147:X153)","v":0},"","",0,null,null,null,"",null,"",null,null,null,null,0.01,"",null,8000000,0,8000000,0]
["2029年度","単位期間Ⅰ",{"$f":"IF(E155=\"\",\"\",IF(E153>0,E153+1,IF(E152>0,E152+1,IF(E151>0,E151+1,IF(E150>0,E150+1,IF(E149>0,E149+1,IF(E148>0,E148+1,E147+1)))))))","v":""},{"$f":"IF(C155=\"\",\"\",C155)","v":""},null,{"$f":"IF(E155=\"\",\"\",E155)","v":""},{"$f":"IF(E155=\"\",\"\",E155-C155+1)","v":""},{"$f":"IF(G155=\"\",\"\",SUM(G155:G162))","v":""},null,null,{"$f":"IF(K154=\"\",\"\",$K$43)","v":0},{"$f":"IF(J155=\"\",\"\",ROUNDDOWN(J155*K155*G155/365,0))","v":""},{"$f":"IF(L155=\"\",\"\",SUM(L155:L162))","v":""},{"$f":"IF(I155=\"\",N154,I155)","v":0},0,{"$f":"IF(J155=\"\",P154,J155)","v":0},0,"",{"$f":"IF(C155=\"\",\"\",IF(C155>E155,\"NG\",\"\"))","v":""},{"$f":"IF(E155=\"\",\"\",IF(C156=\"\",\"\",IF(E155>C156,\"NG\",\"\")))","v":""},{"$f":"IF(C155=\"\",\"\",IF(C155<$U154,\"NG\",IF(C155>$V154,\"NG\",\"\")))","v":""},{"$f":"IF(E155=\"\",\"\",IF(C155<$U$154,\"NG\",IF(E155>$V$154,\"NG\",\"\")))","v":""},"",{"$f":"COUNTIF(S155:W155,\"NG\")","v":0},"","",0,{"$f":"A155","v":"2029年度"},"単位期間Ⅰ","2029-03-11",47188,"2029-03-31",47208,{"$f":"IF(AD155=\"\",\"\",AF155-AD155+1)","v":21},{"$f":"IF(AH155=\"\",\"\",SUM(AH155:AH162))","v":184},8000000,8000000,0.01,{"$f":"IF(AF155=\"\",\"\",ROUNDDOWN(AK155*AL155*AH155/365,0))","v":4602},{"$f":"IF(AM155=\"\",\"\",SUM(AM155:AM162))","v":26050},{"$f":"IF(AJ155=\"\",AO154,AJ155)","v":8000000},"-",{"$f":"IF(AK155=\"\",AQ154,AK155)","v":8000000},"-"]
[null,null,{"$f":"IF(E156=\"\",\"\",IF(E155=\"\",\"\",IF(E155>=DATE(2029,9,10),\"\",E155+1)))","v":""},{"$f":"IF(C156=\"\",\"\",C156)","v":""},null,{"$f":"IF(E156=\"\",\"\",E156)","v":""},{"$f":"IF(E156=\"\",\"\",E156-C156+1)","v":""},null,{"$f":"IF(I155=\"\",\"\",IF(E156=\"\",\"\",I155-$C$11))","v":""},{"$f":"IF(J155=\"\",\"\",IF(F156=\"\",\"\",J155-$C$24))","v":""},{"$f":"IF(K155=\"\",\"\",$K$43)","v":0},{"$f":"IF(J156=\"\",\"\",ROUNDDOWN(J156*K156*G156/365,0))","v":""},null,{"$f":"IF(I156=\"\",N155,I156)","v":0},{"$f":"N155-N156","v":0},{"$f":"IF(J156=\"\",P155,J156)","v":0},{"$f":"P155-P156","v":0},"",{"$f":"IF(C156=\"\",\"\",IF(C156=E155,\"NG\",IF(C156<E155,\"NG\",IF((C156-E155)>1,\"NG\",\"\"))))","v":""},{"$f":"IF(E156=\"\",\"\",IF(C157=\"\",\"\",IF(E156>C157,\"NG\",\"\")))","v":""},null,{"$f":"IF(E156=\"\",\"\",IF(C156<$U$154,\"NG\",IF(E156>$V$154,\"NG\",\"\")))","v":""},"",{"$f":"COUNTIF(S156:W156,\"NG\")","v":0},"","",0,null,null,"2029-04-01",47209,"2029-04-30",47238,{"$f":"IF(AD156=\"\",\"\",AF156-AD156+1)","v":30},null,7000000,7000000,0.01,{"$f":"IF(AF156=\"\",\"\",ROUNDDOWN(AK156*AL156*AH156/365,0))","v":5753},null,7000000,{"$f":"AO155-AO156","v":1000000},7000000,{"$f":"AQ155-AQ156","v":1000000}]
[null,null,"","",null,"","",null,{"$f":"IF(I156=\"\",\"\",IF(E157=\"\",\"\",I156-$C$11))","v":""},{"$f":"IF(J156=\"\",\"\",IF(F157=\"\",\"\",J156-$C$24))","v":""},{"$f":"IF(K156=\"\",\"\",$K$43)","v":0},"",null,{"$f":"IF(I157=\"\",N156,I157)","v":0},{"$f":"N156-N157","v":0},{"$f":"IF(J157=\"\",P156,J157)","v":0},{"$f":"P156-P157","v":0},"",{"$f":"IF(C157=\"\",\"\",IF(C157=E156,\"NG\",IF(C157<E156,\"NG\",IF((C157-E156)>1,\"NG\",\"\"))))","v":""},"",null,"","",0,"","",0,null,null,"2029-05-01",47239,"2029-05-31",47269,31,null,6000000,6000000,0.01,{"$f":"IF(AF157=\"\",\"\",ROUNDDOWN(AK157*AL157*AH157/365,0))","v":5095},null,6000000,{"$f":"AO156-AO157","v":1000000},6000000,{"$f":"AQ156-AQ157","v":1000000}]
[null,null,"","",null,"","",null,{"$f":"IF(I157=\"\",\"\",IF(E158=\"\",\"\",I157-$C$11))","v":""},{"$f":"IF(J157=\"\",\"\",IF(F158=\"\",\"\",J157-$C$24))","v":""},0,"",null,0,0,0,0,"","","",null,"","",0,"","",0,null,null,"2029-06-01",47270,"2029-06-30",47299,30,null,5000000,5000000,0.01,4109,null,5000000,1000000,5000000,1000000]
[null,null,"","",null,"","",null,"","",0,"",null,0,0,0,0,"","","",null,"","",0,"","",0,null,null,"2029-07-01",47300,"2029-07-31",47330,31,null,4000000,4000000,0.01,3397,null,4000000,1000000,4000000,1000000]
[null,null,"","",null,"","",null,"","",0,"",null,0,0,0,0,"","",{"$f":"IF(E160=\"\",\"\",IF(C161=\"\",\"\",IF(E160>C161,\"NG\",\"\")))","v":""},null,"","",0,"","",0,null,null,"2029-08-01",47331,"2029-08-31",47361,31,null,3000000,3000000,0.01,2547,null,3000000,1000000,3000000,1000000]
[null,null,"","",null,"","",null,"","",0,"",null,0,0,0,0,"","",{"$f":"IF(D161=\"\",\"\",IF(D161<C161,\"NG\",\"\"))","v":""},null,"","",0,"","",0,null,null,"2029-09-01",47362,"2029-09-10",47371,10,null,2000000,2000000,0.01,547,null,2000000,1000000,2000000,1000000]
[null,null,{"$f":"IF(X162>0,$S$38,\"\")","v":""},null,null,null,"Null",null,null,null,0,{"$f":"IF(J162=\"\",\"\",ROUNDDOWN(J162*K162*G162/365,0))","v":""},null,0,0,0,0,"",null,null,"2029-09-09","2030-03-12",null,{"$f":"SUM(X155:X161)","v":0},"","",0,null,null,null,"",null,"",null,null,null,null,0.01,"",null,2000000,0,2000000,0]
[null,"単位期間Ⅱ",{"$f":"IF(E163=\"\",\"\",IF(E161>M334,E161+1,IF(E160>M334,E160+1,IF(E159>M334,E159+1,IF(E158>M334,E158+1,IF(E157>M334,E157+1,IF(E156>M334,E156+1,IF(E155>M334,E155+1,IF(C140>M334,C140,\"\")))))))))","v":""},{"$f":"IF(C163=\"\",\"\",C163)","v":""},null,{"$f":"IF(E163=\"\",\"\",E163)","v":""},{"$f":"IF(E163=\"\",\"\",E163-C163+1)","v":""},{"$f":"IF(G163=\"\",\"\",SUM(G163:G170))","v":""},null,null,{"$f":"IF(K162=\"\",\"\",$K$43)","v":0},{"$f":"IF(J163=\"\",\"\",ROUNDDOWN(J163*K163*G163/365,0))","v":""},{"$f":"IF(L163=\"\",\"\",SUM(L163:L170))","v":""},{"$f":"IF(I163=\"\",N162,I163)","v":0},{"$f":"IF(N162-N163<0,\"0 \",N162-N163)","v":0},{"$f":"IF(J163=\"\",P162,J163)","v":0},{"$f":"IF(P162-P163<0,\"0 \",P162-P163)","v":0},"",{"$f":"IF(C163=\"\",\"\",IF(C163>E163,\"NG\",\"\"))","v":""},{"$f":"IF(E163=\"\",\"\",IF(C164=\"\",\"\",IF(E163>C164,\"NG\",\"\")))","v":""},{"$f":"IF(C163=\"\",\"\",IF(C163<$U162,\"NG\",IF(C163>$V162,\"NG\",\"\")))","v":""},{"$f":"IF(E163=\"\",\"\",IF(C163<$U$162,\"NG\",IF(E163>$V$162,\"NG\",\"\")))","v":""},"",{"$f":"COUNTIF(S163:W163,\"NG\")","v":0},"","",0,null,"単位期間Ⅱ","2029-09-11",47372,"2029-09-30",47391,{"$f":"IF(AD163=\"\",\"\",AF163-AD163+1)","v":20},{"$f":"IF(AH163=\"\",\"\",SUM(AH163:AH170))","v":51},2000000,2000000,0.01,{"$f":"IF(AD163=\"\",\"\",ROUNDDOWN(AK163*AL163*AH163/365,0))","v":1095},{"$f":"IF(AM163=\"\",\"\",SUM(AM163:AM170))","v":1944},2000000,0,2000000,0]
[null,null,{"$f":"IF(E164=\"\",\"\",IF(E163=\"\",\"\",IF(E163>=DATE(2030,3,10),\"\",E163+1)))","v":""},{"$f":"IF(C164=\"\",\"\",C164)","v":""},null,{"$f":"IF(E164=\"\",\"\",E164)","v":""},{"$f":"IF(E164=\"\",\"\",E164-C164+1)","v":""},null,{"$f":"IF(I163=\"\",\"\",IF(E164=\"\",\"\",I163-$C$11))","v":""},{"$f":"IF(J163=\"\",\"\",IF(F164=\"\",\"\",J163-$C$24))","v":""},0,{"$f":"IF(J164=\"\",\"\",ROUNDDOWN(J164*K164*G164/365,0))","v":""},null,{"$f":"IF(I164=\"\",N163,I164)","v":0},{"$f":"N163-N164","v":0},{"$f":"IF(J164=\"\",P163,J164)","v":0},{"$f":"P163-P164","v":0},"",{"$f":"IF(C164=\"\",\"\",IF(C164=E163,\"NG\",IF(C164<E163,\"NG\",IF((C164-E163)>1,\"NG\",\"\"))))","v":""},{"$f":"IF(E164=\"\",\"\",IF(C165=\"\",\"\",IF(E164>C165,\"NG\",\"\")))","v":""},null,{"$f":"IF(E164=\"\",\"\",IF(C164<$U$162,\"NG\",IF(E164>$V$162,\"NG\",\"\")))","v":""},"",{"$f":"COUNTIF(S164:W164,\"NG\")","v":0},"","",0,null,null,"2029-10-01",47392,"2029-10-31",47422,{"$f":"IF(AD164=\"\",\"\",AF164-AD164+1)","v":31},null,1000000,1000000,0.01,849,null,1000000,{"$f":"AO163-AO164","v":1000000},1000000,{"$f":"AQ163-AQ164","v":1000000}]
[null,null,"","",null,"","",null,{"$f":"IF(I164=\"\",\"\",IF(E165=\"\",\"\",I164-$C$11))","v":""},{"$f":"IF(J164=\"\",\"\",IF(F165=\"\",\"\",J164-$C$24))","v":""},0,"",null,{"$f":"IF(I165=\"\",N164,I165)","v":0},{"$f":"N164-N165","v":0},{"$f":"IF(J165=\"\",P164,J165)","v":0},{"$f":"P164-P165","v":0},"",{"$f":"IF(C165=\"\",\"\",IF(C165=E164,\"NG\",IF(C165<E164,\"NG\",IF((C165-E164)>1,\"NG\",\"\"))))","v":""},"",null,"",{"$f":"IF(G165>0,\"\",\"NG\")","v":""},0,"","",0,null,null,null,"",null,"","",null,null,null,0.01,"",null,1000000,0,1000000,0]
[null,null,"","",null,"","",null,"","",0,"",null,0,0,0,{"$f":"P165-P166","v":0},"","","",null,"","",0,"","",0,null,null,null,"",null,"","",null,null,null,0.01,"",null,1000000,0,1000000,0]
[null,null,"","",null,"","",null,"","",0,"",null,0,0,0,0,"","","",null,"","",0,"","",0,null,null,null,"",null,"","",null,null,null,0.01,"",null,1000000,0,1000000,0]
[null,null,"","",null,"","",null,"","",0,"",null,0,0,0,0,"","",{"$f":"IF(E168=\"\",\"\",IF(C169=\"\",\"\",IF(E168>C169,\"NG\",\"\")))","v":""},null,"","",0,"","",0,null,null,null,"",null,"","",null,null,null,0.01,"",null,1000000,0,1000000,0]
[null,null,"","",null,"","",null,"","",0,"",null,0,0,0,0,"","",{"$f":"IF(D169=\"\",\"\",IF(D169<C169,\"NG\",\"\"))","v":""},null,"","",0,"","",0,null,null,null,"",null,"","",null,null,null,0.01,"",null,1000000,0,1000000,0]
[null,null,{"$f":"IF(X170>0,$S$38,\"\")","v":""},null,null,null,"Null",null,null,null,0,{"$f":"IF(J170=\"\",\"\",ROUNDDOWN(J170*K170*G170/365,0))","v":""},null,0,0,0,0,"",null,null,"2030-03-09","2030-09-12",null,{"$f":"SUM(X163:X169)","v":0},"","",0,null,null,null,"",null,"",null,null,null,null,0.01,"",null,1000000,0,1000000,0]
["2030年度","単位期間Ⅰ",{"$f":"IF(E171=\"\",\"\",IF(E169>0,E169+1,IF(E168>0,E168+1,IF(E167>0,E167+1,IF(E166>0,E166+1,IF(E165>0,E165+1,IF(E164>0,E164+1,E163+1)))))))","v":""},{"$f":"IF(C171=\"\",\"\",C171)","v":""},null,{"$f":"IF(E171=\"\",\"\",E171)","v":""},{"$f":"IF(E171=\"\",\"\",E171-C171+1)","v":""},{"$f":"IF(G171=\"\",\"\",SUM(G171:G178))","v":""},null,null,{"$f":"IF(K170=\"\",\"\",$K$43)","v":0},{"$f":"IF(J171=\"\",\"\",ROUNDDOWN(J171*K171*G171/365,0))","v":""},{"$f":"IF(L171=\"\",\"\",SUM(L171:L178))","v":""},{"$f":"IF(I171=\"\",N170,I171)","v":0},0,{"$f":"IF(J171=\"\",P170,J171)","v":0},0,"",{"$f":"IF(C171=\"\",\"\",IF(C171>E171,\"NG\",\"\"))","v":""},{"$f":"IF(E171=\"\",\"\",IF(C172=\"\",\"\",IF(E171>C172,\"NG\",\"\")))","v":""},{"$f":"IF(C171=\"\",\"\",IF(C171<$U170,\"NG\",IF(C171>$V170,\"NG\",\"\")))","v":""},{"$f":"IF(E171=\"\",\"\",IF(C171<$U$170,\"NG\",IF(E171>$V$170,\"NG\",\"\")))","v":""},"",{"$f":"COUNTIF(S171:W171,\"NG\")","v":0},"","",0,{"$f":"A171","v":"2030年度"},"単位期間Ⅰ",null,"",null,"",{"$f":"IF(AD171=\"\",\"\",AF171-AD171+1)","v":""},{"$f":"IF(AH171=\"\",\"\",SUM(AH171:AH178))","v":""},null,null,0.01,{"$f":"IF(AF171=\"\",\"\",ROUNDDOWN(AK171*AL171*AH171/365,0))","v":""},{"$f":"IF(AM171=\"\",\"\",SUM(AM171:AM178))","v":""},{"$f":"IF(AJ171=\"\",AO170,AJ171)","v":1000000},"-",{"$f":"IF(AK171=\"\",AQ170,AK171)","v":1000000},"-"]
[null,null,{"$f":"IF(E172=\"\",\"\",IF(E171=\"\",\"\",IF(E171>=DATE(2030,9,10),\"\",E171+1)))","v":""},{"$f":"IF(C172=\"\",\"\",C172)","v":""},null,{"$f":"IF(E172=\"\",\"\",E172)","v":""},{"$f":"IF(E172=\"\",\"\",E172-C172+1)","v":""},null,{"$f":"IF(I171=\"\",\"\",IF(E172=\"\",\"\",I171-$C$11))","v":""},{"$f":"IF(J171=\"\",\"\",IF(F172=\"\",\"\",J171-$C$24))","v":""},{"$f":"IF(K171=\"\",\"\",$K$43)","v":0},{"$f":"IF(J172=\"\",\"\",ROUNDDOWN(J172*K172*G172/365,0))","v":""},null,{"$f":"IF(I172=\"\",N171,I172)","v":0},{"$f":"N171-N172","v":0},{"$f":"IF(J172=\"\",P171,J172)","v":0},{"$f":"P171-P172","v":0},"",{"$f":"IF(C172=\"\",\"\",IF(C172=E171,\"NG\",IF(C172<E171,\"NG\",IF((C172-E171)>1,\"NG\",\"\"))))","v":""},{"$f":"IF(E172=\"\",\"\",IF(C173=\"\",\"\",IF(E172>C173,\"NG\",\"\")))","v":""},null,{"$f":"IF(E172=\"\",\"\",IF(C172<$U$170,\"NG\",IF(E172>$V$170,\"NG\",\"\")))","v":""},"",{"$f":"COUNTIF(S172:W172,\"NG\")","v":0},"","",0,null,null,null,{"$f":"IF(AD172=\"\",\"\",AD172)","v":""},null,{"$f":"IF(AF172=\"\",\"\",AF172)","v":""},{"$f":"IF(AD172=\"\",\"\",AF172-AD172+1)","v":""},null,null,null,0.01,{"$f":"IF(AF172=\"\",\"\",ROUNDDOWN(AK172*AL172*AH172/365,0))","v":""},null,1000000,{"$f":"AO171-AO172","v":0},1000000,{"$f":"AQ171-AQ172","v":0}]
[null,null,"","",null,"","",null,{"$f":"IF(I172=\"\",\"\",IF(E173=\"\",\"\",I172-$C$11))","v":""},{"$f":"IF(J172=\"\",\"\",IF(F173=\"\",\"\",J172-$C$24))","v":""},{"$f":"IF(K172=\"\",\"\",$K$43)","v":0},"",null,{"$f":"IF(I173=\"\",N172,I173)","v":0},{"$f":"N172-N173","v":0},{"$f":"IF(J173=\"\",P172,J173)","v":0},{"$f":"P172-P173","v":0},{"$f":"IF(AA173>0,$Y$38,\"\")","v":""},{"$f":"IF(C173=\"\",\"\",IF(C173=E172,\"NG\",IF(C173<E172,\"NG\",IF((C173-E172)>1,\"NG\",\"\"))))","v":""},"",null,"","",0,{"$f":"IF($O173=0,\"\",IF($O173=$Y$41,\"\",\"NG\"))","v":""},{"$f":"IF($Q173=0,\"\",IF($Q173=$Z$41,\"\",\"NG\"))","v":""},{"$f":"COUNTIF(Y173:Z173,\"NG\")","v":0},null,null,null,"",null,"","",null,null,null,0.01,{"$f":"IF(AF173=\"\",\"\",ROUNDDOWN(AK173*AL173*AH173/365,0))","v":""},null,1000000,{"$f":"AO172-AO173","v":0},1000000,{"$f":"AQ172-AQ173","v":0}]
[null,null,"","",null,"","",null,{"$f":"IF(I173=\"\",\"\",IF(E174=\"\",\"\",I173-$C$11))","v":""},{"$f":"IF(J173=\"\",\"\",IF(F174=\"\",\"\",J173-$C$24))","v":""},0,"",null,0,0,0,0,"","","",null,"","",0,"","",0,null,null,null,"",null,"","",null,null,null,0.01,"",null,1000000,0,1000000,0]
[null,null,"","",null,"","",null,"","",0,"",null,0,0,0,0,"","","",null,"","",0,"","",0,null,null,null,"",null,"","",null,null,null,0.01,"",null,1000000,0,1000000,0]
[null,null,"","",null,"","",null,"","",0,"",null,0,0,0,0,"","",{"$f":"IF(E176=\"\",\"\",IF(C177=\"\",\"\",IF(E176>C177,\"NG\",\"\")))","v":""},null,"","",0,"","",0,null,null,null,"",null,"","",null,null,null,0.01,"",null,1000000,0,1000000,0]
[null,null,"","",null,"","",null,"","",0,"",null,0,0,0,0,"","",{"$f":"IF(D177=\"\",\"\",IF(D177<C177,\"NG\",\"\"))","v":""},null,"","",0,"","",0,null,null,null,"",null,"","",null,null,null,0.01,"",null,1000000,0,1000000,0]
[null,null,{"$f":"IF(X178>0,$S$38,\"\")","v":""},null,null,null,"Null",null,null,null,0,{"$f":"IF(J178=\"\",\"\",ROUNDDOWN(J178*K178*G178/365,0))","v":""},null,0,0,0,0,"",null,null,"2030-09-09","2031-03-12",null,{"$f":"SUM(X171:X177)","v":0},"","",0,null,null,null,"",null,"",null,null,null,null,0.01,"",null,1000000,0,1000000,0]
[null,"単位期間Ⅱ",{"$f":"IF(E179=\"\",\"\",IF(E177>M349,E177+1,IF(E176>M349,E176+1,IF(E175>M349,E175+1,IF(E174>M349,E174+1,IF(E173>M349,E173+1,IF(E172>M349,E172+1,IF(E171>M349,E171+1,IF(C156>M349,C156,\"\")))))))))","v":""},{"$f":"IF(C179=\"\",\"\",C179)","v":""},null,{"$f":"IF(E179=\"\",\"\",E179)","v":""},{"$f":"IF(E179=\"\",\"\",E179-C179+1)","v":""},{"$f":"IF(G179=\"\",\"\",SUM(G179:G186))","v":""},null,null,{"$f":"IF(K178=\"\",\"\",$K$43)","v":0},{"$f":"IF(J179=\"\",\"\",ROUNDDOWN(J179*K179*G179/365,0))","v":""},{"$f":"IF(L179=\"\",\"\",SUM(L179:L186))","v":""},{"$f":"IF(I179=\"\",N178,I179)","v":0},{"$f":"IF(N178-N179<0,\"0 \",N178-N179)","v":0},{"$f":"IF(J179=\"\",P178,J179)","v":0},{"$f":"IF(P178-P179<0,\"0 \",P178-P179)","v":0},"",{"$f":"IF(C179=\"\",\"\",IF(C179>E179,\"NG\",\"\"))","v":""},{"$f":"IF(E179=\"\",\"\",IF(C180=\"\",\"\",IF(E179>C180,\"NG\",\"\")))","v":""},{"$f":"IF(C179=\"\",\"\",IF(C179<$U178,\"NG\",IF(C179>$V178,\"NG\",\"\")))","v":""},{"$f":"IF(E179=\"\",\"\",IF(C179<$U$178,\"NG\",IF(E179>$V$178,\"NG\",\"\")))","v":""},"",{"$f":"COUNTIF(S179:W179,\"NG\")","v":0},"","",0,null,"単位期間Ⅱ",null,"",null,"",null,null,null,null,0.01,{"$f":"IF(AD179=\"\",\"\",ROUNDDOWN(AK179*AL179*AH179/365,0))","v":""},{"$f":"IF(AM179=\"\",\"\",SUM(AM179:AM186))","v":""},1000000,0,1000000,0]
[null,null,{"$f":"IF(E180=\"\",\"\",IF(E179=\"\",\"\",IF(E179>=DATE(2031,3,10),\"\",E179+1)))","v":""},{"$f":"IF(C180=\"\",\"\",C180)","v":""},null,{"$f":"IF(E180=\"\",\"\",E180)","v":""},{"$f":"IF(E180=\"\",\"\",E180-C180+1)","v":""},null,{"$f":"IF(I179=\"\",\"\",IF(E180=\"\",\"\",I179-$C$11))","v":""},{"$f":"IF(J179=\"\",\"\",IF(F180=\"\",\"\",J179-$C$24))","v":""},0,{"$f":"IF(J180=\"\",\"\",ROUNDDOWN(J180*K180*G180/365,0))","v":""},null,{"$f":"IF(I180=\"\",N179,I180)","v":0},{"$f":"N179-N180","v":0},{"$f":"IF(J180=\"\",P179,J180)","v":0},{"$f":"P179-P180","v":0},"",{"$f":"IF(C180=\"\",\"\",IF(C180=E179,\"NG\",IF(C180<E179,\"NG\",IF((C180-E179)>1,\"NG\",\"\"))))","v":""},{"$f":"IF(E180=\"\",\"\",IF(C181=\"\",\"\",IF(E180>C181,\"NG\",\"\")))","v":""},null,{"$f":"IF(E180=\"\",\"\",IF(C180<$U$178,\"NG\",IF(E180>$V$178,\"NG\",\"\")))","v":""},"",{"$f":"COUNTIF(S180:W180,\"NG\")","v":0},"","",0,null,null,null,"",null,"",null,null,null,null,0.01,"",null,1000000,{"$f":"AO179-AO180","v":0},1000000,{"$f":"AQ179-AQ180","v":0}]
[null,null,"","",null,"","",null,{"$f":"IF(I180=\"\",\"\",IF(E181=\"\",\"\",I180-$C$11))","v":""},{"$f":"IF(J180=\"\",\"\",IF(F181=\"\",\"\",J180-$C$24))","v":""},0,"",null,{"$f":"IF(I181=\"\",N180,I181)","v":0},{"$f":"N180-N181","v":0},{"$f":"IF(J181=\"\",P180,J181)","v":0},{"$f":"P180-P181","v":0},"",{"$f":"IF(C181=\"\",\"\",IF(C181=E180,\"NG\",IF(C181<E180,\"NG\",IF((C181-E180)>1,\"NG\",\"\"))))","v":""},"",null,"","",0,"","",0,null,null,null,"",null,"",null,null,null,null,0.01,"",null,1000000,0,1000000,0]
[null,null,"","",null,"","",null,"","",0,"",null,0,0,0,{"$f":"P181-P182","v":0},"","","",null,"","",0,"","",0,null,null,null,"",null,"",null,null,null,null,0.01,"",null,1000000,0,1000000,0]
[null,null,"","",null,"","",null,"","",0,"",null,0,0,0,0,"","","",null,"","",0,"","",0,null,null,null,"",null,"",null,null,null,null,0.01,"",null,1000000,0,1000000,0]
[null,null,"","",null,"","",null,"","",0,"",null,0,0,0,0,"","",{"$f":"IF(E184=\"\",\"\",IF(C185=\"\",\"\",IF(E184>C185,\"NG\",\"\")))","v":""},null,"","",0,"","",0,null,null,null,"",null,"",null,null,null,null,0.01,"",null,1000000,0,1000000,0]
[null,null,"","",null,"","",null,"","",0,"",null,0,0,0,0,"","",{"$f":"IF(D185=\"\",\"\",IF(D185<C185,\"NG\",\"\"))","v":""},null,"",{"$f":"IF(G185>0,\"\",\"NG\")","v":""},0,"","",0,null,null,null,"",null,"",null,null,null,null,0.01,"",null,1000000,0,1000000,0]
[null,null,{"$f":"IF(X186>0,$S$38,\"\")","v":""},null,null,null,"Null",null,null,null,0,{"$f":"IF(J186=\"\",\"\",ROUNDDOWN(J186*K186*G186/365,0))","v":""},null,0,0,0,0,"",null,null,"2031-03-09","2031-09-12",null,{"$f":"SUM(X179:X185)","v":0},"","",0,null,null,null,"",null,"",null,null,null,null,0.01,"",null,1000000,0,1000000,0]
["2031年度","単位期間Ⅰ",{"$f":"IF(E187=\"\",\"\",IF(E185>0,E185+1,IF(E184>0,E184+1,IF(E183>0,E183+1,IF(E182>0,E182+1,IF(E181>0,E181+1,IF(E180>0,E180+1,E179+1)))))))","v":""},{"$f":"IF(C187=\"\",\"\",C187)","v":""},null,{"$f":"IF(E187=\"\",\"\",E187)","v":""},{"$f":"IF(E187=\"\",\"\",E187-C187+1)","v":""},{"$f":"IF(G187=\"\",\"\",SUM(G187:G194))","v":""},null,null,{"$f":"IF(K186=\"\",\"\",$K$43)","v":0},{"$f":"IF(J187=\"\",\"\",ROUNDDOWN(J187*K187*G187/365,0))","v":""},{"$f":"IF(L187=\"\",\"\",SUM(L187:L194))","v":""},{"$f":"IF(I187=\"\",N186,I187)","v":0},0,{"$f":"IF(J187=\"\",P186,J187)","v":0},0,"",{"$f":"IF(C187=\"\",\"\",IF(C187>E187,\"NG\",\"\"))","v":""},{"$f":"IF(E187=\"\",\"\",IF(C188=\"\",\"\",IF(E187>C188,\"NG\",\"\")))","v":""},{"$f":"IF(C187=\"\",\"\",IF(C187<$U186,\"NG\",IF(C187>$V186,\"NG\",\"\")))","v":""},{"$f":"IF(E187=\"\",\"\",IF(C187<$U$186,\"NG\",IF(E187>$V$186,\"NG\",\"\")))","v":""},{"$f":"IF(G187>0,\"\",\"NG\")","v":""},{"$f":"COUNTIF(S187:W187,\"NG\")","v":0},"","",0,{"$f":"A187","v":"2031年度"},"単位期間Ⅰ",null,"",null,"",null,null,null,null,0.01,{"$f":"IF(AF187=\"\",\"\",ROUNDDOWN(AK187*AL187*AH187/365,0))","v":""},{"$f":"IF(AM187=\"\",\"\",SUM(AM187:AM194))","v":""},{"$f":"IF(AJ187=\"\",AO186,AJ187)","v":1000000},"-",{"$f":"IF(AK187=\"\",AQ186,AK187)","v":1000000},"-"]
[null,null,{"$f":"IF(E188=\"\",\"\",IF(E187=\"\",\"\",IF(E187>=DATE(2031,9,10),\"\",E187+1)))","v":""},{"$f":"IF(C188=\"\",\"\",C188)","v":""},null,{"$f":"IF(E188=\"\",\"\",E188)","v":""},{"$f":"IF(E188=\"\",\"\",E188-C188+1)","v":""},null,{"$f":"IF(I187=\"\",\"\",IF(E188=\"\",\"\",I187-$C$11))","v":""},{"$f":"IF(J187=\"\",\"\",IF(F188=\"\",\"\",J187-$C$24))","v":""},{"$f":"IF(K187=\"\",\"\",$K$43)","v":0},{"$f":"IF(J188=\"\",\"\",ROUNDDOWN(J188*K188*G188/365,0))","v":""},null,{"$f":"IF(I188=\"\",N187,I188)","v":0},{"$f":"N187-N188","v":0},{"$f":"IF(J188=\"\",P187,J188)","v":0},{"$f":"P187-P188","v":0},"",{"$f":"IF(C188=\"\",\"\",IF(C188=E187,\"NG\",IF(C188<E187,\"NG\",IF((C188-E187)>1,\"NG\",\"\"))))","v":""},{"$f":"IF(E188=\"\",\"\",IF(C189=\"\",\"\",IF(E188>C189,\"NG\",\"\")))","v":""},null,{"$f":"IF(E188=\"\",\"\",IF(C188<$U$186,\"NG\",IF(E188>$V$186,\"NG\",\"\")))","v":""},{"$f":"IF(G188>0,\"\",\"NG\")","v":""},{"$f":"COUNTIF(S188:W188,\"NG\")","v":0},"","",0,null,null,null,"",null,"",null,null,null,null,0.01,{"$f":"IF(AF188=\"\",\"\",ROUNDDOWN(AK188*AL188*AH188/365,0))","v":""},null,1000000,{"$f":"AO187-AO188","v":0},1000000,{"$f":"AQ187-AQ188","v":0}]
[null,null,"","",null,"","",null,{"$f":"IF(I188=\"\",\"\",IF(E189=\"\",\"\",I188-$C$11))","v":""},{"$f":"IF(J188=\"\",\"\",IF(F189=\"\",\"\",J188-$C$24))","v":""},{"$f":"IF(K188=\"\",\"\",$K$43)","v":0},"",null,{"$f":"IF(I189=\"\",N188,I189)","v":0},{"$f":"N188-N189","v":0},{"$f":"IF(J189=\"\",P188,J189)","v":0},{"$f":"P188-P189","v":0},"",{"$f":"IF(C189=\"\",\"\",IF(C189=E188,\"NG\",IF(C189<E188,\"NG\",IF((C189-E188)>1,\"NG\",\"\"))))","v":""},"",null,"","",0,"","",0,null,null,null,"",null,"",null,null,null,null,0.01,{"$f":"IF(AF189=\"\",\"\",ROUNDDOWN(AK189*AL189*AH189/365,0))","v":""},null,1000000,{"$f":"AO188-AO189","v":0},1000000,{"$f":"AQ188-AQ189","v":0}]
[null,null,"","",null,"","",null,{"$f":"IF(I189=\"\",\"\",IF(E190=\"\",\"\",I189-$C$11))","v":""},{"$f":"IF(J189=\"\",\"\",IF(F190=\"\",\"\",J189-$C$24))","v":""},0,"",null,0,0,0,0,"","","",null,"","",0,"","",0,null,null,null,"",null,"",null,null,null,null,0.01,"",null,1000000,0,1000000,0]
[null,null,"","",null,"","",null,"","",0,"",null,0,0,0,0,"","","",null,"","",0,"","",0,null,null,null,"",null,"",null,null,null,null,0.01,"",null,1000000,0,1000000,0]
[null,null,"","",null,"","",null,"","",0,"",null,0,0,0,0,"","",{"$f":"IF(E192=\"\",\"\",IF(C193=\"\",\"\",IF(E192>C193,\"NG\",\"\")))","v":""},null,"","",0,"","",0,null,null,null,"",null,"",null,null,null,null,0.01,"",null,1000000,0,1000000,0]
[null,null,"","",null,"","",null,"","",0,"",null,0,0,0,0,"","",{"$f":"IF(D193=\"\",\"\",IF(D193<C193,\"NG\",\"\"))","v":""},null,"","",0,"","",0,null,null,null,"",null,"",null,null,null,null,0.01,"",null,1000000,0,1000000,0]
[null,null,{"$f":"IF(X194>0,$S$38,\"\")","v":""},null,null,null,"Null",null,null,null,0,{"$f":"IF(J194=\"\",\"\",ROUNDDOWN(J194*K194*G194/365,0))","v":""},null,0,0,0,0,"",null,null,"2031-09-09","2032-03-12",null,{"$f":"SUM(X187:X193)","v":0},"","",0,null,null,null,"",null,"",null,null,null,null,0.01,"",null,1000000,0,1000000,0]
[null,"単位期間Ⅱ",{"$f":"IF(E195=\"\",\"\",IF(E193>M365,E193+1,IF(E192>M365,E192+1,IF(E191>M365,E191+1,IF(E190>M365,E190+1,IF(E189>M365,E189+1,IF(E188>M365,E188+1,IF(E187>M365,E187+1,IF(C172>M365,C172,\"\")))))))))","v":""},{"$f":"IF(C195=\"\",\"\",C195)","v":""},null,{"$f":"IF(E195=\"\",\"\",E195)","v":""},{"$f":"IF(E195=\"\",\"\",E195-C195+1)","v":""},{"$f":"IF(G195=\"\",\"\",SUM(G195:G202))","v":""},null,null,{"$f":"IF(K194=\"\",\"\",$K$43)","v":0},{"$f":"IF(J195=\"\",\"\",ROUNDDOWN(J195*K195*G195/365,0))","v":""},{"$f":"IF(L195=\"\",\"\",SUM(L195:L202))","v":""},{"$f":"IF(I195=\"\",N194,I195)","v":0},{"$f":"IF(N194-N195<0,\"0 \",N194-N195)","v":0},{"$f":"IF(J195=\"\",P194,J195)","v":0},{"$f":"IF(P194-P195<0,\"0 \",P194-P195)","v":0},"",{"$f":"IF(C195=\"\",\"\",IF(C195>E195,\"NG\",\"\"))","v":""},{"$f":"IF(E195=\"\",\"\",IF(C196=\"\",\"\",IF(E195>C196,\"NG\",\"\")))","v":""},{"$f":"IF(C195=\"\",\"\",IF(C195<$U194,\"NG\",IF(C195>$V194,\"NG\",\"\")))","v":""},{"$f":"IF(E195=\"\",\"\",IF(C195<$U$194,\"NG\",IF(E195>$V$194,\"NG\",\"\")))","v":""},"",{"$f":"COUNTIF(S195:W195,\"NG\")","v":0},"","",0,null,"単位期間Ⅱ",null,"",null,"",null,null,null,null,0.01,{"$f":"IF(AD195=\"\",\"\",ROUNDDOWN(AK195*AL195*AH195/365,0))","v":""},{"$f":"IF(AM195=\"\",\"\",SUM(AM195:AM202))","v":""},1000000,0,1000000,0]
[null,null,{"$f":"IF(E196=\"\",\"\",IF(E195=\"\",\"\",IF(E195>=DATE(2032,3,10),\"\",E195+1)))","v":""},{"$f":"IF(C196=\"\",\"\",C196)","v":""},null,{"$f":"IF(E196=\"\",\"\",E196)","v":""},{"$f":"IF(E196=\"\",\"\",E196-C196+1)","v":""},null,{"$f":"IF(I195=\"\",\"\",IF(E196=\"\",\"\",I195-$C$11))","v":""},{"$f":"IF(J195=\"\",\"\",IF(F196=\"\",\"\",J195-$C$24))","v":""},0,{"$f":"IF(J196=\"\",\"\",ROUNDDOWN(J196*K196*G196/365,0))","v":""},null,{"$f":"IF(I196=\"\",N195,I196)","v":0},{"$f":"N195-N196","v":0},{"$f":"IF(J196=\"\",P195,J196)","v":0},{"$f":"P195-P196","v":0},"",{"$f":"IF(C196=\"\",\"\",IF(C196=E195,\"NG\",IF(C196<E195,\"NG\",IF((C196-E195)>1,\"NG\",\"\"))))","v":""},{"$f":"IF(E196=\"\",\"\",IF(C197=\"\",\"\",IF(E196>C197,\"NG\",\"\")))","v":""},null,{"$f":"IF(E196=\"\",\"\",IF(C196<$U$194,\"NG\",IF(E196>$V$194,\"NG\",\"\")))","v":""},"",{"$f":"COUNTIF(S196:W196,\"NG\")","v":0},"","",0,null,null,null,"",null,"",null,null,null,null,0.01,"",null,1000000,{"$f":"AO195-AO196","v":0},1000000,{"$f":"AQ195-AQ196","v":0}]
[null,null,"","",null,"","",null,{"$f":"IF(I196=\"\",\"\",IF(E197=\"\",\"\",I196-$C$11))","v":""},{"$f":"IF(J196=\"\",\"\",IF(F197=\"\",\"\",J196-$C$24))","v":""},0,"",null,{"$f":"IF(I197=\"\",N196,I197)","v":0},{"$f":"N196-N197","v":0},{"$f":"IF(J197=\"\",P196,J197)","v":0},{"$f":"P196-P197","v":0},"",{"$f":"IF(C197=\"\",\"\",IF(C197=E196,\"NG\",IF(C197<E196,\"NG\",IF((C197-E196)>1,\"NG\",\"\"))))","v":""},"",null,"","",0,"","",0,null,null,null,"",null,"",null,null,null,null,0.01,"",null,1000000,0,1000000,0]
[null,null,"","",null,"","",null,"","",0,"",null,0,0,0,{"$f":"P197-P198","v":0},"","","",null,"","",0,"","",0,null,null,null,"",null,"",null,null,null,null,0.01,"",null,1000000,0,1000000,0]
[null,null,"","",null,"","",null,"","",0,"",null,0,0,0,0,"","","",null,"","",0,"","",0,null,null,null,"",null,"",null,null,null,null,0.01,"",null,1000000,0,1000000,0]
[null,null,"","",null,"","",null,"","",0,"",null,0,0,0,0,"","",{"$f":"IF(E200=\"\",\"\",IF(C201=\"\",\"\",IF(E200>C201,\"NG\",\"\")))","v":""},null,"","",0,"","",0,null,null,null,"",null,"",null,null,null,null,0.01,"",null,1000000,0,1000000,0]
[null,null,"","",null,"","",null,"","",0,"",null,0,0,0,0,"","",{"$f":"IF(D201=\"\",\"\",IF(D201<C201,\"NG\",\"\"))","v":""},null,"","",0,"","",0,null,null,null,"",null,"",null,null,null,null,0.01,"",null,1000000,0,1000000,0]
[null,null,{"$f":"IF(X202>0,$S$38,\"\")","v":""},null,null,null,"Null",null,null,null,0,{"$f":"IF(J202=\"\",\"\",ROUNDDOWN(J202*K202*G202/365,0))","v":""},null,0,0,0,0,"",null,null,"2032-03-09","2032-09-12",null,{"$f":"SUM(X195:X201)","v":0},"","",0,null,null,null,"",null,"",null,null,null,null,0.01,"",null,1000000,0,1000000,0]
["2032年度","単位期間Ⅰ",{"$f":"IF(E203=\"\",\"\",IF(E201>0,E201+1,IF(E200>0,E200+1,IF(E199>0,E199+1,IF(E198>0,E198+1,IF(E197>0,E197+1,IF(E196>0,E196+1,E195+1)))))))","v":""},{"$f":"IF(C203=\"\",\"\",C203)","v":""},null,{"$f":"IF(E203=\"\",\"\",E203)","v":""},{"$f":"IF(E203=\"\",\"\",E203-C203+1)","v":""},{"$f":"IF(G203=\"\",\"\",SUM(G203:G210))","v":""},null,null,{"$f":"IF(K202=\"\",\"\",$K$43)","v":0},{"$f":"IF(J203=\"\",\"\",ROUNDDOWN(J203*K203*G203/365,0))","v":""},{"$f":"IF(L203=\"\",\"\",SUM(L203:L210))","v":""},{"$f":"IF(I203=\"\",N202,I203)","v":0},0,{"$f":"IF(J203=\"\",P202,J203)","v":0},0,{"$f":"IF(AA203>0,$Y$38,\"\")","v":""},{"$f":"IF(C203=\"\",\"\",IF(C203>E203,\"NG\",\"\"))","v":""},{"$f":"IF(E203=\"\",\"\",IF(C204=\"\",\"\",IF(E203>C204,\"NG\",\"\")))","v":""},{"$f":"IF(C203=\"\",\"\",IF(C203<$U202,\"NG\",IF(C203>$V202,\"NG\",\"\")))","v":""},{"$f":"IF(E203=\"\",\"\",IF(C203<$U$202,\"NG\",IF(E203>$V$202,\"NG\",\"\")))","v":""},"",{"$f":"COUNTIF(S203:W203,\"NG\")","v":0},"","",{"$f":"COUNTIF(Y203:Z203,\"NG\")","v":0},{"$f":"A203","v":"2032年度"},"単位期間Ⅰ",null,"",null,"",null,null,null,null,0.01,{"$f":"IF(AF203=\"\",\"\",ROUNDDOWN(AK203*AL203*AH203/365,0))","v":""},{"$f":"IF(AM203=\"\",\"\",SUM(AM203:AM210))","v":""},{"$f":"IF(AJ203=\"\",AO202,AJ203)","v":1000000},"-",{"$f":"IF(AK203=\"\",AQ202,AK203)","v":1000000},"-"]
[null,null,{"$f":"IF(E204=\"\",\"\",IF(E203=\"\",\"\",IF(E203>=DATE(2032,9,10),\"\",E203+1)))","v":""},{"$f":"IF(C204=\"\",\"\",C204)","v":""},null,{"$f":"IF(E204=\"\",\"\",E204)","v":""},{"$f":"IF(E204=\"\",\"\",E204-C204+1)","v":""},null,{"$f":"IF(I203=\"\",\"\",IF(E204=\"\",\"\",I203-$C$11))","v":""},{"$f":"IF(J203=\"\",\"\",IF(F204=\"\",\"\",J203-$C$24))","v":""},{"$f":"IF(K203=\"\",\"\",$K$43)","v":0},{"$f":"IF(J204=\"\",\"\",ROUNDDOWN(J204*K204*G204/365,0))","v":""},null,{"$f":"IF(I204=\"\",N203,I204)","v":0},{"$f":"N203-N204","v":0},{"$f":"IF(J204=\"\",P203,J204)","v":0},{"$f":"P203-P204","v":0},"",{"$f":"IF(C204=\"\",\"\",IF(C204=E203,\"NG\",IF(C204<E203,\"NG\",IF((C204-E203)>1,\"NG\",\"\"))))","v":""},{"$f":"IF(E204=\"\",\"\",IF(C205=\"\",\"\",IF(E204>C205,\"NG\",\"\")))","v":""},null,{"$f":"IF(E204=\"\",\"\",IF(C204<$U$202,\"NG\",IF(E204>$V$202,\"NG\",\"\")))","v":""},"",{"$f":"COUNTIF(S204:W204,\"NG\")","v":0},"","",0,null,null,null,"",null,"",null,null,null,null,0.01,{"$f":"IF(AF204=\"\",\"\",ROUNDDOWN(AK204*AL204*AH204/365,0))","v":""},null,1000000,{"$f":"AO203-AO204","v":0},1000000,{"$f":"AQ203-AQ204","v":0}]
[null,null,"","",null,"","",null,{"$f":"IF(I204=\"\",\"\",IF(E205=\"\",\"\",I204-$C$11))","v":""},{"$f":"IF(J204=\"\",\"\",IF(F205=\"\",\"\",J204-$C$24))","v":""},{"$f":"IF(K204=\"\",\"\",$K$43)","v":0},"",null,{"$f":"IF(I205=\"\",N204,I205)","v":0},{"$f":"N204-N205","v":0},{"$f":"IF(J205=\"\",P204,J205)","v":0},{"$f":"P204-P205","v":0},"",{"$f":"IF(C205=\"\",\"\",IF(C205=E204,\"NG\",IF(C205<E204,\"NG\",IF((C205-E204)>1,\"NG\",\"\"))))","v":""},"",null,"","",0,"","",0,null,null,null,"",null,"",null,null,null,null,0.01,{"$f":"IF(AF205=\"\",\"\",ROUNDDOWN(AK205*AL205*AH205/365,0))","v":""},null,1000000,{"$f":"AO204-AO205","v":0},1000000,{"$f":"AQ204-AQ205","v":0}]
[null,null,"","",null,"","",null,{"$f":"IF(I205=\"\",\"\",IF(E206=\"\",\"\",I205-$C$11))","v":""},{"$f":"IF(J205=\"\",\"\",IF(F206=\"\",\"\",J205-$C$24))","v":""},0,"",null,0,0,0,0,"","","",null,"","",0,"","",0,null,null,null,"",null,"",null,null,null,null,0.01,"",null,1000000,0,1000000,0]
[null,null,"","",null,"","",null,"","",0,"",null,0,0,0,0,"","","",null,"","",0,"","",0,null,null,null,"",null,"",null,null,null,null,0.01,"",null,1000000,0,1000000,0]
[null,null,"","",null,"","",null,"","",0,"",null,0,0,0,0,"","","",null,"","",0,"","",0,null,null,null,"",null,"",null,null,null,null,0.01,"",null,1000000,0,1000000,0]
[null,null,"","",null,"","",null,"","",0,"",null,0,0,0,0,"","",{"$f":"IF(D209=\"\",\"\",IF(D209<C209,\"NG\",\"\"))","v":""},null,"","",0,"","",0,null,null,null,"",null,"",null,null,null,null,0.01,"",null,1000000,0,1000000,0]
[null,null,{"$f":"IF(X210>0,$S$38,\"\")","v":""},null,null,null,"Null",null,null,null,0,{"$f":"IF(J210=\"\",\"\",ROUNDDOWN(J210*K210*G210/365,0))","v":""},null,0,0,0,0,"",null,null,"2032-09-09","2033-03-12",null,{"$f":"SUM(X203:X209)","v":0},"","",0,null,null,null,"",null,"",null,null,null,null,0.01,"",null,1000000,0,1000000,0]
[null,"単位期間Ⅱ",{"$f":"IF(E211=\"\",\"\",IF(E209>M381,E209+1,IF(E208>M381,E208+1,IF(E207>M381,E207+1,IF(E206>M381,E206+1,IF(E205>M381,E205+1,IF(E204>M381,E204+1,IF(E203>M381,E203+1,IF(C188>M381,C188,\"\")))))))))","v":""},{"$f":"IF(C211=\"\",\"\",C211)","v":""},null,{"$f":"IF(E211=\"\",\"\",E211)","v":""},{"$f":"IF(E211=\"\",\"\",E211-C211+1)","v":""},{"$f":"IF(G211=\"\",\"\",SUM(G211:G218))","v":""},null,null,{"$f":"IF(K210=\"\",\"\",$K$43)","v":0},{"$f":"IF(J211=\"\",\"\",ROUNDDOWN(J211*K211*G211/365,0))","v":""},{"$f":"IF(L211=\"\",\"\",SUM(L211:L218))","v":""},{"$f":"IF(I211=\"\",N210,I211)","v":0},{"$f":"IF(N210-N211<0,\"0 \",N210-N211)","v":0},{"$f":"IF(J211=\"\",P210,J211)","v":0},{"$f":"IF(P210-P211<0,\"0 \",P210-P211)","v":0},"",{"$f":"IF(C211=\"\",\"\",IF(C211>E211,\"NG\",\"\"))","v":""},{"$f":"IF(E211=\"\",\"\",IF(C212=\"\",\"\",IF(E211>C212,\"NG\",\"\")))","v":""},{"$f":"IF(C211=\"\",\"\",IF(C211<$U210,\"NG\",IF(C211>$V210,\"NG\",\"\")))","v":""},{"$f":"IF(E211=\"\",\"\",IF(C211<$U$210,\"NG\",IF(E211>$V$210,\"NG\",\"\")))","v":""},"",{"$f":"COUNTIF(S211:W211,\"NG\")","v":0},"","",0,null,"単位期間Ⅱ",null,"",null,"",null,{"$f":"IF(AH211=\"\",\"\",SUM(AH211:AH218))","v":""},null,null,0.01,{"$f":"IF(AD211=\"\",\"\",ROUNDDOWN(AK211*AL211*AH211/365,0))","v":""},{"$f":"IF(AM211=\"\",\"\",SUM(AM211:AM218))","v":""},1000000,0,1000000,0]
[null,null,{"$f":"IF(E212=\"\",\"\",IF(E211=\"\",\"\",IF(E211>=DATE(2033,3,10),\"\",E211+1)))","v":""},{"$f":"IF(C212=\"\",\"\",C212)","v":""},null,{"$f":"IF(E212=\"\",\"\",E212)","v":""},{"$f":"IF(E212=\"\",\"\",E212-C212+1)","v":""},null,{"$f":"IF(I211=\"\",\"\",IF(E212=\"\",\"\",I211-$C$11))","v":""},{"$f":"IF(J211=\"\",\"\",IF(F212=\"\",\"\",J211-$C$24))","v":""},0,{"$f":"IF(J212=\"\",\"\",ROUNDDOWN(J212*K212*G212/365,0))","v":""},null,{"$f":"IF(I212=\"\",N211,I212)","v":0},{"$f":"N211-N212","v":0},{"$f":"IF(J212=\"\",P211,J212)","v":0},{"$f":"P211-P212","v":0},"",{"$f":"IF(C212=\"\",\"\",IF(C212=E211,\"NG\",IF(C212<E211,\"NG\",IF((C212-E211)>1,\"NG\",\"\"))))","v":""},{"$f":"IF(E212=\"\",\"\",IF(C213=\"\",\"\",IF(E212>C213,\"NG\",\"\")))","v":""},null,{"$f":"IF(E212=\"\",\"\",IF(C212<$U$210,\"NG\",IF(E212>$V$210,\"NG\",\"\")))","v":""},"",{"$f":"COUNTIF(S212:W212,\"NG\")","v":0},"","",0,null,null,null,"",null,"",null,null,{"$f":"IF(AJ211=\"\",\"\",IF(AF212=\"\",\"\",AJ211-$AD$11))","v":""},{"$f":"IF(AK211=\"\",\"\",IF(AG212=\"\",\"\",AK211-$AD$24))","v":""},0.01,"",null,1000000,{"$f":"AO211-AO212","v":0},1000000,{"$f":"AQ211-AQ212","v":0}]
[null,null,"","",null,"","",null,{"$f":"IF(I212=\"\",\"\",IF(E213=\"\",\"\",I212-$C$11))","v":""},{"$f":"IF(J212=\"\",\"\",IF(F213=\"\",\"\",J212-$C$24))","v":""},0,"",null,{"$f":"IF(I213=\"\",N212,I213)","v":0},{"$f":"N212-N213","v":0},{"$f":"IF(J213=\"\",P212,J213)","v":0},{"$f":"P212-P213","v":0},"",{"$f":"IF(C213=\"\",\"\",IF(C213=E212,\"NG\",IF(C213<E212,\"NG\",IF((C213-E212)>1,\"NG\",\"\"))))","v":""},"",null,"","",0,"","",0,null,null,null,"",null,"",null,null,{"$f":"IF(AJ212=\"\",\"\",IF(AF213=\"\",\"\",AJ212-$AD$11))","v":""},{"$f":"IF(AK212=\"\",\"\",IF(AG213=\"\",\"\",AK212-$AD$24))","v":""},0.01,"",null,1000000,0,1000000,0]
[null,null,"","",null,"","",null,"","",0,"",null,0,0,0,{"$f":"P213-P214","v":0},"","","",null,"","",0,"","",0,null,null,null,"",null,"",null,null,"","",0.01,"",null,1000000,0,1000000,0]
[null,null,"","",null,"","",null,"","",0,"",null,0,0,0,0,"","","",null,"","",0,"","",0,null,null,null,"",null,"",null,null,"","",0.01,"",null,1000000,0,1000000,0]
[null,null,"","",null,"","",null,"","",0,"",null,0,0,0,0,"","","",null,"","",0,"","",0,null,null,null,"",null,"",null,null,"","",0.01,"",null,1000000,0,1000000,0]
[null,null,"","",null,"","",null,"","",0,"",null,0,0,0,0,"","",{"$f":"IF(D217=\"\",\"\",IF(D217<C217,\"NG\",\"\"))","v":""},null,"",{"$f":"IF(G217>0,\"\",\"NG\")","v":""},0,"","",0,null,null,null,"",null,"",null,null,"","",0.01,"",null,1000000,0,1000000,0]
[null,null,{"$f":"IF(X218>0,$S$38,\"\")","v":""},null,null,null,"Null",null,null,null,0,{"$f":"IF(J218=\"\",\"\",ROUNDDOWN(J218*K218*G218/365,0))","v":""},null,0,0,0,0,"",null,null,null,null,null,{"$f":"SUM(X211:X217)","v":0},{"$f":"IF(U218=0,\"\",IF(U218=#REF!,\"\",\"NG\"))","v":""},{"$f":"IF(W218=0,\"\",IF(W218=#REF!,\"\",\"NG\"))","v":""},0,null,null,{"$f":"IF($C$238>0,$H$242,IF($E$238>0,$H$242,\"\"))","v":""},"",null,"",null,null,"","",0.01,"",null,1000000,0,1000000,0]

{"sheet":"（別添１）融資計画詳細２","index":11,"n_rows":90,"n_cols":74,"rows_kept":90,"cut":false,"hidden":false,"merged":[[28,0,29,2],[28,10,29,11],[28,12,29,17],[28,19,29,21],[28,22,29,22],[28,23,29,24],[37,0,38,2],[37,3,38,11],[37,19,38,21],[37,22,38,30],[28,25,29,25],[28,3,29,3],[28,4,29,5],[28,6,29,6],[28,7,29,8],[28,9,29,9],[8,39,9,41],[8,42,9,50],[0,0,1,17],[12,0,13,2],[12,3,13,11],[12,19,13,21],[12,22,13,30],[12,39,13,41],[12,42,13,50],[10,0,11,2],[10,3,11,11],[10,19,11,21],[10,22,11,30],[10,39,11,41],[10,42,11,50],[2,3,3,5],[8,0,9,2],[8,3,9,11],[8,19,9,21],[8,22,9,30],[16,39,17,41],[16,42,17,50],[14,0,15,2],[14,3,15,11],[14,19,15,21],[14,22,15,30],[14,39,15,41],[14,42,15,50],[18,39,19,41],[18,42,19,50],[16,0,17,2],[16,3,17,11],[16,19,17,21],[16,22,17,30],[18,51,19,56],[20,0,21,2],[20,3,21,11],[20,19,21,21],[20,22,21,30],[20,39,21,41],[20,42,21,50],[18,0,19,2],[18,3,19,11],[18,19,19,21],[18,22,19,30],[18,31,19,36],[26,39,27,41],[26,42,27,50],[22,39,23,41],[22,42,23,50],[22,51,23,56],[24,0,25,2],[24,3,25,11],[24,19,25,21],[24,22,25,30],[24,39,25,41],[24,42,25,50],[22,0,23,2],[22,3,23,11],[22,19,23,21],[22,22,23,30],[22,31,23,36],[26,0,27,2],[26,3,27,11],[26,19,27,21],[26,22,27,30],[28,43,29,44],[28,45,29,45],[28,46,29,47],[28,48,29,48],[28,49,29,50],[28,51,29,56],[28,26,29,27],[28,28,29,28],[28,29,29,30],[28,31,29,36],[28,39,29,41],[28,42,29,42],[37,39,38,41],[37,42,38,50],[33,39,34,41],[33,42,34,50],[33,51,34,56],[35,0,36,2],[35,3,36,11],[35,19,36,21],[35,22,36,30],[35,39,36,41],[35,42,36,50],[33,0,34,2],[33,3,34,11],[33,19,34,21],[33,22,34,30],[33,31,34,36],[42,19,56,21],[42,22,44,22],[42,23,44,36],[48,4,50,17],[54,4,56,17],[54,22,56,22],[54,23,56,36],[54,42,56,42],[54,43,56,56],[42,0,56,2],[48,22,50,22],[48,23,50,36],[54,3,56,3],[48,42,50,42],[48,43,50,56],[51,3,53,3],[51,4,53,17],[51,22,53,22],[51,23,53,36],[51,42,53,42],[51,43,53,56],[42,39,56,41],[42,42,44,42],[42,43,44,56],[45,3,47,3],[45,4,47,17],[45,22,47,22],[45,23,47,36],[45,42,47,42],[45,43,47,56],[48,3,50,3],[42,3,44,3],[42,4,44,17],[60,48,61,56],[62,0,71,2],[62,3,71,17],[62,19,71,21],[62,22,71,36],[62,39,71,41],[62,42,71,56],[60,28,61,36],[60,39,61,41],[60,42,61,42],[60,43,61,44],[60,45,61,45],[60,46,61,47],[60,9,61,17],[60,19,61,21],[60,22,61,22],[60,23,61,24],[60,25,61,25],[60,26,61,27],[60,0,61,2],[60,3,61,3],[60,4,61,5],[60,6,61,6],[60,7,61,8],[85,39,88,41],[85,42,88,44],[89,39,92,41],[89,42,92,44],[72,0,81,2],[72,3,81,17],[72,19,81,21],[72,22,81,36],[72,39,81,41],[72,42,81,56],[85,19,88,21],[85,22,88,24],[89,19,92,21],[89,22,92,24],[85,0,88,2],[89,0,92,2],[89,3,92,5],[85,3,88,5]]}
["（別添１）融資計画詳細２"]
[]
["（別添１）",null,null,"融資計画",null,null,null,null,null,null,null,null,null,null,null,null,null,null,null,{"$f":"A3","v":"（別添１）"},null,null,null,null,null,null,null,null,null,null,null,null,null,null,null,null,null,null,null,"（別添１）",null,null,null,null,null,null,null,null,null,null,null,null,null,null,null,null,null,null,"別添1-2_D9","事業者名",{"$f":"IF(D9=\"\",\"\",D9)","v":""}]
["融資計画詳細２",null,null,null,null,null,null,null,null,null,null,null,null,null,null,null,null,null,null,"融資計画詳細3",null,null,null,null,null,null,null,null,null,null,null,null,null,null,null,null,null,null,null,"融資計画詳細3",null,null,null,null,null,null,null,null,null,null,null,null,null,null,null,null,null,null,"別添1-2_D11","設備等利用者名",{"$f":"IF(D11=\"\",\"\",D11)","v":""}]
[null,null,null,null,null,null,null,null,null,null,null,null,null,null,null,null,null,null,null,null,null,null,null,null,null,null,null,null,null,null,null,null,null,null,null,null,null,null,null,null,null,null,null,null,null,null,null,null,null,null,null,null,null,null,null,null,null,null,"別添1-2_D13","都道府県",{"$f":"IF(D13=\"\",\"\",D13)","v":""}]
[null,null,null,null,null,null,null,null,null,null,null,null,null,null,null,null,null,null,null,null,null,null,null,null,null,null,null,null,null,null,null,null,null,null,null,null,null,null,null,null,null,null,null,null,null,null,null,null,null,null,null,null,null,null,null,null,null,null,"別添1-2_D15","市区町村",{"$f":"IF(D15=\"\",\"\",D15)","v":""}]
["４．利子補給対象事業者情報",null,null,null,null,null,null,null,null,null,null,null,null,null,null,null,null,null,null,{"$f":"A7","v":"４．利子補給対象事業者情報"},null,null,null,null,null,null,null,null,null,null,null,null,null,null,null,null,null,null,null,"４．利子補給対象事業者情報",null,null,null,null,null,null,null,null,null,null,null,null,null,null,null,null,null,null,"別添1-2_D17","丁目・番地",{"$f":"IF(D17=\"\",\"\",D17)","v":""}]
[null,null,null,null,null,null,null,null,null,null,null,null,null,null,null,null,null,null,null,null,null,null,null,null,null,null,null,null,null,null,null,null,null,null,null,null,null,null,null,null,null,null,null,null,null,null,null,null,null,null,null,null,null,null,null,null,null,null,"別添1-2_D19","業種大分類",{"$f":"IF(D19=\"\",\"\",D19)","v":""}]
["事業者名",null,null,null,null,null,null,null,null,null,null,null,null,null,null,null,null,null,null,{"$f":"A9","v":"事業者名"},null,null,"株式会社○○○○",null,null,null,null,null,null,null,null,null,null,null,null,null,null,null,null,"事業者名",null,null,"○○○○",null,null,null,null,null,null,null,null,null,null,null,null,null,null,null,"別添1-2_D21","業種分類項目名",{"$f":"IF(D21=\"\",\"\",D21)","v":""}]
[null,null,null,null,null,null,null,null,null,null,null,null,null,null,null,null,null,null,null,null,null,null,null,null,null,null,null,null,null,null,null,null,null,null,null,null,null,null,null,null,null,null,null,null,null,null,null,null,null,null,null,null,null,null,null,null,null,null,"別添1-2_D23","資本金",{"$f":"IF(D23=\"\",\"\",D23)","v":""}]
["設備等利用者名",null,null,null,null,null,null,null,null,null,null,null,null,null,null,null,null,null,null,{"$f":"A11","v":"設備等利用者名"},null,null,"株式会社○○○○",null,null,null,null,null,null,null,null,null,null,null,null,null,null,null,null,"設備等利用者名",null,null,"○○○○",null,null,null,null,null,null,null,null,null,null,null,null,null,null,null,"別添1-2_D25","従業員数",{"$f":"IF(D25=\"\",\"\",D25)","v":""}]
[null,null,null,null,null,null,null,null,null,null,null,null,null,null,null,null,null,null,null,null,null,null,null,null,null,null,null,null,null,null,null,null,null,null,null,null,null,null,null,null,null,null,null,null,null,null,null,null,null,null,null,null,null,null,null,null,null,null,"別添1-2_D27","企業の内容",{"$f":"IF(D27=\"\",\"\",D27)","v":""}]
["都道府県",null,null,null,null,null,null,null,null,null,null,null,null,null,null,null,null,null,null,{"$f":"A13","v":"都道府県"},null,null,"○○県",null,null,null,null,null,null,null,null,null,null,null,null,null,null,null,null,"都道府県",null,null,"○○県",null,null,null,null,null,null,null,null,null,null,null,null,null,null,null,"別添1-2_D29","企業の規模",{"$f":"IF(BK13=\"中小企業\",BK13,IF(BM13=\"個人事業主\",BM13,IF(BO13:BO13=\"その他\",BO13,\"\")))","v":""},{"$f":"_xlfn.IFS(D29=\"\",FALSE,D29=\"　\",FALSE,D29=\"☑\",TRUE)","v":false},{"$f":"IF(D29=\"☑\",\"中小企業\",\"\")","v":""},{"$f":"_xlfn.IFS(G29=\"\",FALSE,G29=\"　\",FALSE,G29=\"☑\",TRUE)","v":false},{"$f":"IF(G29=\"☑\",\"個人事業主\",\"\")","v":""},{"$f":"_xlfn.IFS(J29=\"\",FALSE,J29=\"　\",FALSE,J29=\"☑\",TRUE)","v":false},{"$f":"IF(J29=\"☑\",\"その他\",\"\")","v":""},{"$f":"COUNTIF(BJ13:BO13,TRUE)","v":0},{"$f":"IF(BP13=3,\"NG\",IF(BP13=2,\"NG\",IF(BP13=0,\"NG\",\"OK\")))","v":"NG"}]
[null,null,null,null,null,null,null,null,null,null,null,null,null,null,null,null,null,null,null,null,null,null,null,null,null,null,null,null,null,null,null,null,null,null,null,null,null,null,null,null,null,null,null,null,null,null,null,null,null,null,null,null,null,null,null,null,null,null,"別添1-2_D34","都道府県",{"$f":"IF(D34=\"\",\"\",D34)","v":""}]
["市区町村",null,null,null,null,null,null,null,null,null,null,null,null,null,null,null,null,null,null,{"$f":"A15","v":"市区町村"},null,null,"○○市○○町",null,null,null,null,null,null,null,null,null,null,null,null,null,null,null,null,"市区町村",null,null,"○○市○○町",null,null,null,null,null,null,null,null,null,null,null,null,null,null,null,"別添1-2_D36","市区町村",{"$f":"IF(D36=\"\",\"\",D36)","v":""}]
[null,null,null,null,null,null,null,null,null,null,null,null,null,null,null,null,null,null,null,null,null,null,null,null,null,null,null,null,null,null,null,null,null,null,null,null,null,null,null,null,null,null,null,null,null,null,null,null,null,null,null,null,null,null,null,null,null,null,"別添1-2_D38","丁目・番地",{"$f":"IF(D38=\"\",\"\",D38)","v":""}]
["丁目・番地",null,null,null,null,null,null,null,null,null,null,null,null,null,null,null,null,null,null,{"$f":"A17","v":"丁目・番地"},null,null,"○丁目○番○号",null,null,null,null,null,null,null,null,null,null,null,null,null,null,null,null,"丁目・番地",null,null,"○丁目○番○号",null,null,null,null,null,null,null,null,null,null,null,null,null,null,null,"別添1-2_D43～55","対象要件１",{"$f":"IF(OR(BK17=TRUE,BM17=TRUE),\"04-（ア）\",IF(BO17=TRUE,\"04-（イ）\",IF(OR(BQ17=TRUE,BS17=TRUE),\"04-（ウ）\",\"\")))","v":""},null,{"$f":"_xlfn.IFS(D43=\"\",FALSE,D43=\"　\",FALSE,D43=\"☑\",TRUE)","v":false},{"$f":"IF(BK17=FALSE,\"\",IF(D43=\"☑\",\"(ア)TR\"))","v":""},{"$f":"_xlfn.IFS(D46=\"\",FALSE,D46=\"　\",FALSE,D46=\"☑\",TRUE)","v":false},{"$f":"IF(BM17=FALSE,\"\",IF(D46=\"☑\",\"(ア)TR該当なし\"))","v":""},{"$f":"_xlfn.IFS(D49=\"\",FALSE,D49=\"　\",FALSE,D49=\"☑\",TRUE)","v":false},{"$f":"IF(BO17=FALSE,\"\",IF(D49=\"☑\",\"イ\"))","v":""},{"$f":"_xlfn.IFS(D52=\"\",FALSE,D52=\"　\",FALSE,D52=\"☑\",TRUE)","v":false},{"$f":"IF(BQ17=FALSE,\"\",IF(D52=\"☑\",\"(ウ)データセンター\"))","v":""},{"$f":"_xlfn.IFS(D55=\"\",FALSE,D55=\"　\",FALSE,D55=\"☑\",TRUE)","v":false},{"$f":"IF(BS17=FALSE,\"\",IF(D55=\"☑\",\"(ウ)EMS\"))","v":""},{"$f":"COUNTIF(BK17:BT17,TRUE)","v":0},{"$f":"IF(BU17=0,\"NG\",\"OK\")","v":"NG"}]
[null,null,null,null,null,null,null,null,null,null,null,null,null,null,null,null,null,null,null,null,null,null,null,null,null,null,null,null,null,null,null,null,null,null,null,null,null,null,null,null,null,null,null,null,null,null,null,null,null,null,null,null,null,null,null,null,null,null,"別添1-2_D43～55","対象要件２",{"$f":"BL17&BN17&BP17&BR17&BT17","v":""}]
["業種大分類",null,null,null,null,null,null,null,null,null,null,null,null,null,null,null,null,null,null,{"$f":"A19","v":"業種大分類"},null,null,"○○業",null,null,null,null,null,null,null,null,null,null,null,null,null,null,null,null,"業種大分類",null,null,"無",null,null,null,null,null,null,null,null,null,null,null,null,null,null,null,"別添1-2_D61","設備導入区分１",{"$f":"IF(OR(BJ19=\"①\",BJ19=\"①②\"),\"①\",IF(BJ19=\"②\",\"②\",\"\"))","v":""},{"$f":"BL19&BN19","v":""},{"$f":"_xlfn.IFS(D61=\"\",FALSE,D61=\"　\",FALSE,D61=\"☑\",TRUE)","v":false},{"$f":"IF(BK19=FALSE,\"\",IF(D61=\"☑\",\"①\"))","v":""},{"$f":"_xlfn.IFS(G61=\"\",FALSE,G61=\"　\",FALSE,G61=\"☑\",TRUE)","v":false},{"$f":"IF(BM19=FALSE,\"\",IF(G61=\"☑\",\"②\"))","v":""},{"$f":"COUNTIF(BK19:BN19,TRUE)","v":0},{"$f":"IF(BO19=0,\"NG\",IF(BO19=0,\"NG\",\"OK\"))","v":"NG"}]
[null,null,null,null,null,null,null,null,null,null,null,null,null,null,null,null,null,null,null,null,null,null,null,null,null,null,null,null,null,null,null,null,null,null,null,null,null,null,null,null,null,null,null,null,null,null,null,null,null,null,null,null,null,null,null,null,null,null,"別添1-2_D61","設備導入区分2",{"$f":"BL20&BN20","v":""},null,{"$f":"_xlfn.IFS(D61=\"\",FALSE,D61=\"　\",FALSE,D61=\"☑\",TRUE)","v":false},{"$f":"IF(BK19=FALSE,\"\",IF(D61=\"☑\",\"新設\"))","v":""},{"$f":"_xlfn.IFS(G62=\"\",FALSE,G62=\"　\",FALSE,G62=\"☑\",TRUE)","v":false},{"$f":"IF(BM19=FALSE,\"\",IF(G61=\"☑\",\"増設\"))","v":""},{"$f":"COUNTIF(BK20:BN20,TRUE)","v":0},{"$f":"IF(BO20=0,\"NG\",IF(BO20=0,\"NG\",\"OK\"))","v":"NG"}]
["業種分類項目名",null,null,null,null,null,null,null,null,null,null,null,null,null,null,null,null,null,null,{"$f":"A21","v":"業種分類項目名"},null,null,"○○業",null,null,null,null,null,null,null,null,null,null,null,null,null,null,null,null,"業種分類項目名",null,null,"無",null,null,null,null,null,null,null,null,null,null,null,null,null,null,null,"別添1-2_D63","導入設備の概要",{"$f":"IF(D63=\"\",\"\",D63)","v":""}]
[null,null,null,null,null,null,null,null,null,null,null,null,null,null,null,null,null,null,null,null,null,null,null,null,null,null,null,null,null,null,null,null,null,null,null,null,null,null,null,null,null,null,null,null,null,null,null,null,null,null,null,null,null,null,null,null,null,null,"別添1-2_D73","対象事業の概要",{"$f":"IF(D73=\"\",\"\",D73)","v":""}]
["資本金",null,null,null,null,null,null,null,null,null,null,null,null,null,null,null,null,null,null,{"$f":"A23","v":"資本金"},null,null,"○，○○○，○○○ 円",null,null,null,null,null,null,null,null,null,null,null,null,null,null,null,null,"資本金",null,null,"0 円",null,null,null,null,null,null,null,null,null,null,null,null,null,null,null,"別添1-2_D86","経営革新計画の承認有無",{"$f":"IF(D86=\"\",\"\",IF(D86=\"☑\",\"1\",\"\"))","v":""}]
[null,null,null,null,null,null,null,null,null,null,null,null,null,null,null,null,null,null,null,null,null,null,null,null,null,null,null,null,null,null,null,null,null,null,null,null,null,null,null,null,null,null,null,null,null,null,null,null,null,null,null,null,null,null,null,null,null,null,"別添1-2_D90","経営革新計画の承認取得年",{"$f":"IF(D90=\"\",\"\",D90)","v":""}]
["従業員数",null,null,null,null,null,null,null,null,null,null,null,null,null,null,null,null,null,null,{"$f":"A25","v":"従業員数"},null,null,"○○○ 人",null,null,null,null,null,null,null,null,null,null,null,null,null,null,null,null,"従業員数",null,null,"○○○ 人"]
[]
["企業の内容",null,null,null,null,null,null,null,null,null,null,null,null,null,null,null,null,null,null,{"$f":"A27","v":"企業の内容"},null,null,"○○部品の製造",null,null,null,null,null,null,null,null,null,null,null,null,null,null,null,null,"企業の内容",null,null,"○○部品の製造"]
[]
["企業の規模",null,null,null,"中小企業",null,null,"個人事業主",null,"　","その他",null,{"$f":"IF(BQ13=\"NG\",\"←該当する対象要件（チェックボックス）を選択してください。\",\"\")","v":"←該当する対象要件（チェックボックス）を選択してください。"},null,null,null,null,null,null,{"$f":"A29","v":"企業の規模"},null,null,"☑",{"$f":"E29","v":"中小企業"},null,null,{"$f":"H29","v":"個人事業主"},null,null,{"$f":"K29","v":"その他"},null,{"$f":"IF(W9=\"\",\"\",IF(CJ13=\"NG\",\"←該当する対象要件（チェックボックス）を選択してください。\",\"\"))","v":""},null,null,null,null,null,null,null,"企業の規模",null,null,null,"中小企業",null,"☑","個人事業主",null,null,"その他",null,{"$f":"IF(AQ9=\"\",\"\",IF(DD13=\"NG\",\"←該当する対象要件（チェックボックス）を選択してください。\",\"\"))","v":""}]
[]
[]
["５．所在地（省エネルギー設備の使用場所及び省エネルギー取組の実施場所）",null,null,null,null,null,null,null,null,null,null,null,null,null,null,null,null,null,null,{"$f":"A32","v":"５．所在地（省エネルギー設備の使用場所及び省エネルギー取組の実施場所）"},null,null,null,null,null,null,null,null,null,null,null,null,null,null,null,null,null,null,null,"５．所在地（省エネルギー設備の使用場所及び省エネルギー取組の実施場所）"]
[]
["都道府県",null,null,null,null,null,null,null,null,null,null,null,null,null,null,null,null,null,null,{"$f":"A34","v":"都道府県"},null,null,"○○県",null,null,null,null,null,null,null,null,null,null,null,null,null,null,null,null,"（住所）都道府県",null,null,"○○県"]
[]
["市区町村",null,null,null,null,null,null,null,null,null,null,null,null,null,null,null,null,null,null,{"$f":"A36","v":"市区町村"},null,null,"○○市○○町",null,null,null,null,null,null,null,null,null,null,null,null,null,null,null,null,"市区町村",null,null,"○○市○○町"]
[]
["丁目・番地",null,null,null,null,null,null,null,null,null,null,null,null,null,null,null,null,null,null,{"$f":"A38","v":"丁目・番地"},null,null,"○丁目○番○号",null,null,null,null,null,null,null,null,null,null,null,null,null,null,null,null,"丁目・番地",null,null,"○丁目○番○号"]
[]
[]
["６．対象要件",null,null,null,null,null,null,null,null,null,null,null,null,null,null,null,null,null,null,{"$f":"A41","v":"６．対象要件"},null,null,null,null,null,null,null,null,null,null,null,null,null,null,null,null,null,null,null,"６．対象要件"]
[{"$f":"IF(BV17=\"NG\",\"↓該当する対象要件（チェックボックス）を選択してください。\",\"\")","v":"↓該当する対象要件（チェックボックス）を選択してください。"}]
["対象要件",null,null,null,"（ア）エネルギー消費効率が高い省エネルギー設備を新設、又は増設する事業。\n　　※トップランナー基準を満たす設備の導入",null,null,null,null,null,null,null,null,null,null,null,null,null,null,{"$f":"A43","v":"対象要件"},null,null,"☑",{"$f":"E43","v":"（ア）エネルギー消費効率が高い省エネルギー設備を新設、又は増設する事業。\n　　※トップランナー基準を満たす設備の導入"},null,null,null,null,null,null,null,null,null,null,null,null,null,null,null,"対象要件",null,null,"☑","（ア）エネルギー消費効率が高い省エネルギー設備を新設、又は増設する事業。\n　　※トップランナー基準を満たす設備の導入"]
[]
[]
[null,null,null,null,"（ア）エネルギー消費効率が高い省エネルギー設備を新設、又は増設する事業。\n　　※トップランナー基準に該当しない設備で、エネルギー消費効率が高い設備の導入",null,null,null,null,null,null,null,null,null,null,null,null,null,null,null,null,null,"☑",{"$f":"E46","v":"（ア）エネルギー消費効率が高い省エネルギー設備を新設、又は増設する事業。\n　　※トップランナー基準に該当しない設備で、エネルギー消費効率が高い設備の導入"},null,null,null,null,null,null,null,null,null,null,null,null,null,null,null,null,null,null,null,"（ア）エネルギー消費効率が高い省エネルギー設備を新設、又は増設する事業。\n　　※トップランナー基準に該当しない設備で、エネルギー消費効率が高い設備の導入"]
[]
[]
[null,null,null,null,"（イ）省エネルギー設備等を新設、又は増設し、工場・事業場全体におけるエネルギー\n　　 消費原単位が１％以上改善される事業。",null,null,null,null,null,null,null,null,null,null,null,null,null,null,null,null,null,null,{"$f":"E49","v":"（イ）省エネルギー設備等を新設、又は増設し、工場・事業場全体におけるエネルギー\n　　 消費原単位が１％以上改善される事業。"},null,null,null,null,null,null,null,null,null,null,null,null,null,null,null,null,null,null,null,"（イ）省エネルギー設備等を新設、又は増設し、工場・事業場全体におけるエネルギー\n　　 消費原単位が１％以上改善される事業。"]
[]
[]
[null,null,null,null,"（ウ）データセンターのクラウドサービス活用に関する事業。",null,null,null,null,null,null,null,null,null,null,null,null,null,null,null,null,null,null,{"$f":"E52","v":"（ウ）データセンターのクラウドサービス活用に関する事業。"},null,null,null,null,null,null,null,null,null,null,null,null,null,null,null,null,null,null,null,"（ウ）データセンターのクラウドサービス活用に関する事業。"]
[]
[]
[null,null,null,"　","（ウ）ＥＭＳの導入等による省エネルギー取組に関する事業。",null,null,null,null,null,null,null,null,null,null,null,null,null,null,null,null,null,null,{"$f":"E55","v":"（ウ）ＥＭＳの導入等による省エネルギー取組に関する事業。"},null,null,null,null,null,null,null,null,null,null,null,null,null,null,null,null,null,null,null,"（ウ）ＥＭＳの導入等による省エネルギー取組に関する事業。"]
[]
[]
[null,null,null,null,null,null,null,null,null,null,null,null,null,null,null,null,null,null,null,{"$f":"IF(W9=\"\",\"\",IF(CO17=\"NG\",\"↑該当する対象要件（チェックボックス）を選択してください。\",\"\"))","v":""},null,null,null,null,null,null,null,null,null,null,null,null,null,null,null,null,null,null,null,{"$f":"IF(AQ9=\"\",\"\",IF(DI17=\"NG\",\"↑該当する対象要件（チェックボックス）を選択してください。\",\"\"))","v":""}]
["７．利子補給対象事業の概要",null,null,null,null,null,null,null,null,null,null,null,null,null,null,null,null,null,null,{"$f":"A59","v":"７．利子補給対象事業の概要"},null,null,null,null,null,null,null,null,null,null,null,null,null,null,null,null,null,null,null,"７．利子補給対象事業の概要"]
[]
["導入設備区分",null,null,null,"新設",null,null,"増設",null,{"$f":"IF(BP19=\"NG\",\"←該当する導入設備区分（チェックボックス）を選択してください。\",\"\")","v":"←該当する導入設備区分（チェックボックス）を選択してください。"},null,null,null,null,null,null,null,null,null,{"$f":"A61","v":"導入設備区分"},null,null,"☑","新設",null,"☑","増設",null,{"$f":"IF(W9=\"\",\"\",IF(CI18=\"NG\",\"←該当する導入設備区分（チェックボックス）を選択してください。\",\"\"))","v":""},null,null,null,null,null,null,null,null,null,null,"導入設備区分",null,null,"☑","新設",null,"☑","増設",null,{"$f":"IF(AQ9=\"\",\"\",IF(DC18=\"NG\",\"←該当する導入設備区分（チェックボックス）を選択してください。\",\"\"))","v":""}]
[]
["対象事業の概要",null,null,null,null,null,null,null,null,null,null,null,null,null,null,null,null,null,null,"対象事業の概要",null,null,"例①：○○工場に○○機器を新設する事業\n例②：○○作業所の生産ラインを増設する事業\n　　　（現状6ラインから8ラインへ2ライン増設）",null,null,null,null,null,null,null,null,null,null,null,null,null,null,null,null,"対象事業の概要",null,null,"例①：○○工場に○○機器を新設する事業\n例②：○○作業所の生産ラインを増設する事業\n　　　（現状6ラインから8ラインへ2ライン増設）"]
[]
[]
[]
[]
[]
[]
[]
[]
[]
["導入設備の概要",null,null,null,null,null,null,null,null,null,null,null,null,null,null,null,null,null,null,"導入設備の概要",null,null,"例①：工場新設による○○機器新規導入\n　　　○○機器○台、○○機器○台の新規導入\n例②：生産ライン拡大による○○機器の増設\n　　　○○機器○台、○○機器○台の増設",null,null,null,null,null,null,null,null,null,null,null,null,null,null,null,null,"導入設備の概要",null,null,"例①：工場新設による○○機器新規導入\n　　　○○機器○台、○○機器○台の新規導入\n例②：生産ライン拡大による○○機器の増設\n　　　○○機器○台、○○機器○台の増設"]
[]
[]
[]
[]
[]
[]
[]
[]
[]
[]
["８．経営革新計画の承認状況（任意）",null,null,null,null,null,null,null,null,null,null,null,null,null,null,null,null,null,null,{"$f":"A84","v":"８．経営革新計画の承認状況（任意）"},null,null,null,null,null,null,null,null,null,null,null,null,null,null,null,null,null,null,null,{"$f":"T84","v":"８．経営革新計画の承認状況（任意）"}]
[]
["経営革新計画の\n承認有無",null,null,null,null,null,null,null,null,null,null,null,null,null,null,null,null,null,null,{"$f":"A86","v":"経営革新計画の\n承認有無"},null,null,"☑",null,null,null,null,null,null,null,null,null,null,null,null,null,null,null,null,{"$f":"T86","v":"経営革新計画の\n承認有無"},null,null,"☑"]
[]
[]
[]
["経営革新計画の\n承認取得年",null,null,null,null,null,null,null,null,null,null,null,null,null,null,null,null,null,null,{"$f":"A90","v":"経営革新計画の\n承認取得年"},null,null,"2021",null,null,null,null,null,null,null,null,null,null,null,null,null,null,null,null,{"$f":"T90","v":"経営革新計画の\n承認取得年"},null,null,"2021"]

{"sheet":"（別添１）融資計画詳細３","index":12,"n_rows":34,"n_cols":56,"rows_kept":34,"cut":false,"hidden":false,"merged":[[0,0,1,9],[24,16,26,18],[27,16,29,18],[30,16,32,18],[33,16,35,18],[9,0,11,4],[9,5,11,7],[12,0,14,4],[12,5,14,7],[15,0,17,4],[15,5,17,7],[9,16,11,18],[12,16,14,18],[15,16,17,18],[18,0,20,4],[18,5,20,7],[18,16,20,18],[30,0,32,4],[30,5,32,7],[33,0,35,4],[33,5,35,7],[27,11,29,15],[30,11,32,15],[33,11,35,15],[24,0,26,4],[24,5,26,7],[27,0,29,4],[27,5,29,7],[9,11,11,15],[12,11,14,15],[15,11,17,15],[18,11,20,15],[24,11,26,15]]}
["（別添１）融資計画詳細３"]
[]
["（別添１）",null,null,null,null,null,null,null,null,null,null,{"$f":"A3","v":"（別添１）"},null,null,null,null,null,null,null,null,null,null,null,null,null,null,null,null,null,null,null,null,null,null,null,null,null,null,null,null,null,null,null,null,null,null,null,null,null,null,null,null,null,"別添1-3_F10","指定金融機関_担当部署等",{"$f":"IF(F10=\"\",\"\",F10)","v":""}]
["融資計画詳細３",null,null,null,null,null,null,null,null,null,null,{"$f":"A4","v":"融資計画詳細３"},null,null,null,null,null,null,null,null,null,null,null,null,null,null,null,null,null,null,null,null,null,null,null,null,null,null,null,null,null,null,null,null,null,null,null,null,null,null,null,null,null,"別添1-3_F13","指定金融機関_担当者名",{"$f":"IF(F13=\"\",\"\",F13)","v":""}]
[null,null,null,null,null,null,null,null,null,null,null,null,null,null,null,null,null,null,null,null,null,null,null,null,null,null,null,null,null,null,null,null,null,null,null,null,null,null,null,null,null,null,null,null,null,null,null,null,null,null,null,null,null,"別添1-3_F16","指定金融機関_連絡先電話番号",{"$f":"IF(F16=\"\",\"\",F16)","v":""}]
["本提出書類に関する問い合わせ先",null,null,null,null,null,null,null,null,null,null,{"$f":"A6","v":"本提出書類に関する問い合わせ先"},null,null,null,null,null,null,null,null,null,null,null,null,null,null,null,null,null,null,null,null,null,null,null,null,null,null,null,null,null,null,null,null,null,null,null,null,null,null,null,null,null,"別添1-3_F19","指定金融機関_連絡先E-MAIL",{"$f":"IF(F19=\"\",\"\",F19)","v":""}]
[null,null,null,null,null,null,null,null,null,null,null,null,null,null,null,null,null,null,null,null,null,null,null,null,null,null,null,null,null,null,null,null,null,null,null,null,null,null,null,null,null,null,null,null,null,null,null,null,null,null,null,null,null,"別添1-3_F25","利子補給対象事業者_担当部署等",{"$f":"IF(F25=\"\",\"\",F25)","v":""}]
["指定金融機関",null,null,null,null,null,null,null,null,null,null,{"$f":"A8","v":"指定金融機関"},null,null,null,null,null,null,null,null,null,null,null,null,null,null,null,null,null,null,null,null,null,null,null,null,null,null,null,null,null,null,null,null,null,null,null,null,null,null,null,null,null,"別添1-3_F28","利子補給対象事業者_担当者名",{"$f":"IF(F28=\"\",\"\",F28)","v":""}]
[null,null,null,null,null,null,null,null,null,null,null,null,null,null,null,null,null,null,null,null,null,null,null,null,null,null,null,null,null,null,null,null,null,null,null,null,null,null,null,null,null,null,null,null,null,null,null,null,null,null,null,null,null,"別添1-3_F31","利子補給対象事業者_連絡先電話番号",{"$f":"IF(F31=\"\",\"\",F31)","v":""}]
["担当部署等",null,null,null,null,null,null,null,null,null,null,{"$f":"A10","v":"担当部署等"},null,null,null,null,"○○○○部",null,null,null,null,null,null,null,null,null,null,null,null,null,null,null,null,null,null,null,null,null,null,null,null,null,null,null,null,null,null,null,null,null,null,null,null,"別添1-3_F34","利子補給対象事業者_連絡先E-MAIL",{"$f":"IF(F34=\"\",\"\",F34)","v":""}]
[]
[]
["担当者名",null,null,null,null,null,null,null,null,null,null,{"$f":"A13","v":"担当者名"},null,null,null,null,"○○　○○"]
[]
[]
["連絡先電話番号",null,null,null,null,null,null,null,null,null,null,{"$f":"A16","v":"連絡先電話番号"},null,null,null,null,"○○‐○○○○‐○○○○"]
[]
[]
["連絡先e-mail",null,null,null,null,null,null,null,null,null,null,{"$f":"A19","v":"連絡先e-mail"},null,null,null,null,"○○○○＠○○○○"]
[]
[]
[]
["利子補給対象事業者",null,null,null,null,null,null,null,null,null,null,{"$f":"A23","v":"利子補給対象事業者"}]
[]
["担当部署等",null,null,null,null,null,null,null,null,null,null,{"$f":"A25","v":"担当部署等"},null,null,null,null,"○○○○部"]
[]
[]
["担当者名",null,null,null,null,null,null,null,null,null,null,{"$f":"A28","v":"担当者名"},null,null,null,null,"○○　○○"]
[]
[]
["連絡先電話番号",null,null,null,null,null,null,null,null,null,null,{"$f":"A31","v":"連絡先電話番号"},null,null,null,null,"○○‐○○○○‐○○○○"]
[]
[]
["連絡先e-mail",null,null,null,null,null,null,null,null,null,null,{"$f":"A34","v":"連絡先e-mail"},null,null,null,null,"○○○○＠○○○○"]

{"sheet":"（別添２）役員名簿（利子補給対象事業者）","index":13,"n_rows":30,"n_cols":29,"rows_kept":30,"cut":false,"hidden":false,"merged":[[0,0,1,9],[7,17,8,17],[7,18,8,18],[7,19,8,19],[29,11,33,19],[7,0,8,0],[29,0,33,8],[7,11,8,11],[7,12,8,12],[7,13,7,16],[7,1,8,1],[7,2,7,5],[7,6,8,6],[7,7,8,7],[7,8,8,8]]}
["（別添２）役員名簿（利子補給対象事業者）"]
[]
["（別添２）",null,null,null,null,null,null,null,null,null,null,{"$f":"A3","v":"（別添２）"}]
["役員名簿（利子補給対象事業者）",null,null,null,null,null,null,null,null,null,null,{"$f":"A4","v":"役員名簿（利子補給対象事業者）"}]
[]
[]
[]
["氏名（ｶﾅ）","氏名（漢字）","生年月日",null,null,null,"性別","会社名","役職名",null,null,{"$f":"A8","v":"氏名（ｶﾅ）"},{"$f":"B8","v":"氏名（漢字）"},{"$f":"C8","v":"生年月日"},null,null,null,{"$f":"G8","v":"性別"},{"$f":"H8","v":"会社名"},{"$f":"I8","v":"役職名"},null,null,null,null,null,null,null,"T","M"]
[null,null,"和暦","年","月","日",null,null,null,null,null,null,null,{"$f":"C9","v":"和暦"},{"$f":"D9","v":"年"},"月","日",null,null,null,null,null,null,null,null,null,null,"S","F"]
[null,null,null,null,null,null,null,null,null,null,null,"○○○ ○○○","○○　○○","S","30","03","04","M","株式会社○○○○","代表取締役",null,null,null,null,null,null,null,"H"]
[null,null,null,null,null,null,null,null,null,null,null,"△△△△ △△△△","△△△　△△","S","40","01","10","M","株式会社○○○○","取締役"]
[null,null,null,null,null,null,null,null,null,null,null,"□□ □□□","□　□□","S","45","12","12","M","株式会社○○○○","取締役"]
[]
[]
[]
[]
[]
[]
[]
[]
[]
[]
[]
[]
[]
[]
[]
[]
[]
["（注）\n　役員名簿については、氏名カナ（半角、姓と名の間も半角で１マス空け）、氏名漢字（全角、姓と名の間も全角で１マス空け）、生年月日（半角で大正はT、昭和はS、平成はH、数字は２桁半角）、性別（半角で男性はM、女性はF）、会社名及び役職名を入力すること。\n　また、外国人については、氏名漢字欄はアルファベットを、氏名カナ欄は当該アルファベットのカナ読みを入力すること。",null,null,null,null,null,null,null,null,null,null,"（注）\n　役員名簿については、氏名カナ（半角、姓と名の間も半角で１マス空け）、氏名漢字（全角、姓と名の間も全角で１マス空け）、生年月日（半角で大正はT、昭和はS、平成はH、数字は２桁半角）、性別（半角で男性はM、女性はF）、会社名及び役職名を入力すること。\n　また、外国人については、氏名漢字欄はアルファベットを、氏名カナ欄は当該アルファベットのカナ読みを入力すること。"]

{"sheet":"（別添３）利子補給金の交付の対象となる経費リスト","index":14,"n_rows":84,"n_cols":84,"rows_kept":84,"cut":false,"hidden":false,"merged":[[66,54,66,55],[67,54,67,55],[49,54,49,55],[50,54,50,55],[51,54,51,55],[52,54,52,55],[53,54,53,55],[54,54,54,55],[55,54,55,55],[56,54,56,55],[57,54,57,55],[58,54,58,55],[59,54,59,55],[60,54,60,55],[61,54,61,55],[62,54,62,55],[63,54,63,55],[64,54,64,55],[65,54,65,55],[67,56,67,57],[18,54,18,55],[19,54,19,55],[20,54,20,55],[21,54,21,55],[22,54,22,55],[23,54,23,55],[24,54,24,55],[25,54,25,55],[26,54,26,55],[27,54,27,55],[28,54,28,55],[29,54,29,55],[30,54,30,55],[31,54,31,55],[32,54,32,55],[33,54,33,55],[34,54,34,55],[35,54,35,55],[36,54,36,55],[37,54,37,55],[38,54,38,55],[39,54,39,55],[40,54,40,55],[41,54,41,55],[42,54,42,55],[43,54,43,55],[44,54,44,55],[45,54,45,55],[46,54,46,55],[47,54,47,55],[48,54,48,55],[50,56,50,57],[51,56,51,57],[52,56,52,57],[53,56,53,57],[54,56,54,57],[55,56,55,57],[56,56,56,57],[57,56,57,57],[58,56,58,57],[59,56,59,57],[60,56,60,57],[61,56,61,57],[62,56,62,57],[63,56,63,57],[64,56,64,57],[65,56,65,57],[66,56,66,57],[33,56,33,57],[34,56,34,57],[35,56,35,57],[36,56,36,57],[37,56,37,57],[38,56,38,57],[39,56,39,57],[40,56,40,57],[41,56,41,57],[42,56,42,57],[43,56,43,57],[44,56,44,57],[45,56,45,57],[46,56,46,57],[47,56,47,57],[48,56,48,57],[49,56,49,57],[17,54,17,55],[17,56,17,57],[18,56,18,57],[19,56,19,57],[20,56,20,57],[21,56,21,57],[22,56,22,57],[23,56,23,57],[24,56,24,57],[25,56,25,57],[26,56,26,57],[27,56,27,57],[28,56,28,57],[29,56,29,57],[30,56,30,57],[31,56,31,57],[32,56,32,57],[56,25,56,26],[57,25,57,26],[58,25,58,26],[59,25,59,26],[60,25,60,26],[61,25,61,26],[62,25,62,26],[63,25,63,26],[64,25,64,26],[65,25,65,26],[66,25,66,26],[67,25,67,26],[6,54,7,55],[6,56,7,57],[8,54,8,55],[8,56,8,57],[9,54,9,55],[9,56,9,57],[10,54,10,55],[10,56,10,57],[11,54,11,55],[11,56,11,57],[12,54,12,55],[12,56,12,57],[13,54,13,55],[13,56,13,57],[14,54,14,55],[14,56,14,57],[15,54,15,55],[15,56,15,57],[16,54,16,55],[16,56,16,57],[24,25,24,26],[25,25,25,26],[26,25,26,26],[27,25,27,26],[28,25,28,26],[29,25,29,26],[30,25,30,26],[31,25,31,26],[32,25,32,26],[33,25,33,26],[34,25,34,26],[35,25,35,26],[36,25,36,26],[37,25,37,26],[38,25,38,26],[39,25,39,26],[40,25,40,26],[6,25,7,26],[8,25,8,26],[9,25,9,26],[10,25,10,26],[11,25,11,26],[12,25,12,26],[13,25,13,26],[14,25,14,26],[15,25,15,26],[16,25,16,26],[17,25,17,26],[18,25,18,26],[19,25,19,26],[20,25,20,26],[21,25,21,26],[22,25,22,26],[23,25,23,26],[3,47,4,47],[3,48,4,49],[3,19,4,20],[3,18,4,18],[0,0,1,24],[66,2,66,4],[66,5,66,6],[66,7,66,8],[66,9,66,10],[66,11,66,12],[66,13,66,14],[66,16,66,17],[66,19,66,20],[66,21,66,24],[55,34,55,35],[55,36,55,37],[55,38,55,39],[55,40,55,41],[55,42,55,43],[56,2,56,4],[56,5,56,6],[56,7,56,8],[56,9,56,10],[56,11,56,12],[56,13,56,14],[56,16,56,17],[56,19,56,20],[56,21,56,24],[55,2,55,4],[55,5,55,6],[55,7,55,8],[55,9,55,10],[60,40,60,41],[60,42,60,43],[60,45,60,46],[60,48,60,49],[58,31,58,33],[58,34,58,35],[58,36,58,37],[58,38,58,39],[58,40,58,41],[58,42,58,43],[58,45,58,46],[58,48,58,49],[56,31,56,33],[56,34,56,35],[56,36,56,37],[56,38,56,39],[56,40,56,41],[56,42,56,43],[56,45,56,46],[56,48,56,49],[56,50,56,53],[55,31,55,33],[64,50,64,53],[65,2,65,4],[65,21,65,24],[65,31,65,33],[65,34,65,35],[67,5,67,6],[67,7,67,8],[67,9,67,10],[67,11,67,12],[67,13,67,14],[67,16,67,17],[67,19,67,20],[67,21,67,24],[64,21,64,24],[64,31,64,33],[64,34,64,35],[64,36,64,37],[64,38,64,39],[64,40,64,41],[64,42,64,43],[64,45,64,46],[55,45,55,46],[67,31,67,33],[67,34,67,35],[67,36,67,37],[67,38,67,39],[67,40,67,41],[67,42,67,43],[67,45,67,46],[67,48,67,49],[65,5,65,6],[65,7,65,8],[65,9,65,10],[65,11,65,12],[65,13,65,14],[65,16,65,17],[65,19,65,20],[65,36,65,37],[65,38,65,39],[65,40,65,41],[65,42,65,43],[65,45,65,46],[65,48,65,49],[65,50,65,53],[63,31,63,33],[63,34,63,35],[63,36,63,37],[63,38,63,39],[63,40,63,41],[63,42,63,43],[63,45,63,46],[63,48,63,49],[63,50,63,53],[63,2,63,4],[63,5,63,6],[63,7,63,8],[63,9,63,10],[63,11,63,12],[63,13,63,14],[63,16,63,17],[63,19,63,20],[63,21,63,24],[64,48,64,49],[62,50,62,53],[62,2,62,4],[62,5,62,6],[62,7,62,8],[62,9,62,10],[62,11,62,12],[62,13,62,14],[62,16,62,17],[62,19,62,20],[62,21,62,24],[62,40,62,41],[62,42,62,43],[62,45,62,46],[62,48,62,49],[61,36,61,37],[61,38,61,39],[61,40,61,41],[61,42,61,43],[61,45,61,46],[61,48,61,49],[61,50,61,53],[61,2,61,4],[61,5,61,6],[61,7,61,8],[61,9,61,10],[61,11,61,12],[61,13,61,14],[61,16,61,17],[61,19,61,20],[61,21,61,24],[62,31,62,33],[62,34,62,35],[62,36,62,37],[62,38,62,39],[61,31,61,33],[61,34,61,35],[60,50,60,53],[60,2,60,4],[60,5,60,6],[60,7,60,8],[60,9,60,10],[60,11,60,12],[60,13,60,14],[60,16,60,17],[60,19,60,20],[60,21,60,24],[59,31,59,33],[59,34,59,35],[59,36,59,37],[59,38,59,39],[59,40,59,41],[59,42,59,43],[59,45,59,46],[59,48,59,49],[59,50,59,53],[59,2,59,4],[59,5,59,6],[59,7,59,8],[59,9,59,10],[59,11,59,12],[59,13,59,14],[59,16,59,17],[59,19,59,20],[59,21,59,24],[60,31,60,33],[60,34,60,35],[60,36,60,37],[60,38,60,39],[58,50,58,53],[58,2,58,4],[58,5,58,6],[58,7,58,8],[58,9,58,10],[58,11,58,12],[58,13,58,14],[58,16,58,17],[58,19,58,20],[58,21,58,24],[57,31,57,33],[57,34,57,35],[57,36,57,37],[57,38,57,39],[57,40,57,41],[57,42,57,43],[57,45,57,46],[57,48,57,49],[57,50,57,53],[57,2,57,4],[57,5,57,6],[57,7,57,8],[57,9,57,10],[57,11,57,12],[57,13,57,14],[57,16,57,17],[57,19,57,20],[57,21,57,24],[55,19,55,20],[55,21,55,24],[54,31,54,33],[54,34,54,35],[54,36,54,37],[54,38,54,39],[54,40,54,41],[54,42,54,43],[54,45,54,46],[54,48,54,49],[54,50,54,53],[54,2,54,4],[54,5,54,6],[54,7,54,8],[54,9,54,10],[54,11,54,12],[54,13,54,14],[54,16,54,17],[54,19,54,20],[54,21,54,24],[55,50,55,53],[55,48,55,49],[55,11,55,12],[55,13,55,14],[54,25,54,26],[55,25,55,26],[53,31,53,33],[53,34,53,35],[53,36,53,37],[53,38,53,39],[53,40,53,41],[53,42,53,43],[53,45,53,46],[53,48,53,49],[53,50,53,53],[53,2,53,4],[53,5,53,6],[53,7,53,8],[53,9,53,10],[53,11,53,12],[53,13,53,14],[53,16,53,17],[53,19,53,20],[53,21,53,24],[53,25,53,26],[52,31,52,33],[52,34,52,35],[52,36,52,37],[52,38,52,39],[52,40,52,41],[52,42,52,43],[52,45,52,46],[52,48,52,49],[52,50,52,53],[52,2,52,4],[52,5,52,6],[52,7,52,8],[52,9,52,10],[52,11,52,12],[52,13,52,14],[52,16,52,17],[52,19,52,20],[52,21,52,24],[52,25,52,26],[51,31,51,33],[51,34,51,35],[51,36,51,37],[51,38,51,39],[51,40,51,41],[51,42,51,43],[51,45,51,46],[51,48,51,49],[51,50,51,53],[51,2,51,4],[51,5,51,6],[51,7,51,8],[51,9,51,10],[51,11,51,12],[51,13,51,14],[51,16,51,17],[51,19,51,20],[51,21,51,24],[51,25,51,26],[50,31,50,33],[50,34,50,35],[50,36,50,37],[50,38,50,39],[50,40,50,41],[50,42,50,43],[50,45,50,46],[50,48,50,49],[50,50,50,53],[50,2,50,4],[50,5,50,6],[50,7,50,8],[50,9,50,10],[50,11,50,12],[50,13,50,14],[50,16,50,17],[50,19,50,20],[50,21,50,24],[50,25,50,26],[49,31,49,33],[49,34,49,35],[49,36,49,37],[49,38,49,39],[49,40,49,41],[49,42,49,43],[49,45,49,46],[49,48,49,49],[49,50,49,53],[49,2,49,4],[49,5,49,6],[49,7,49,8],[49,9,49,10],[49,11,49,12],[49,13,49,14],[49,16,49,17],[49,19,49,20],[49,21,49,24],[49,25,49,26],[48,31,48,33],[48,34,48,35],[48,36,48,37],[48,38,48,39],[48,40,48,41],[48,42,48,43],[48,45,48,46],[48,48,48,49],[48,50,48,53],[48,2,48,4],[48,5,48,6],[48,7,48,8],[48,9,48,10],[48,11,48,12],[48,13,48,14],[48,16,48,17],[48,19,48,20],[48,21,48,24],[48,25,48,26],[47,31,47,33],[47,34,47,35],[47,36,47,37],[47,38,47,39],[47,40,47,41],[47,42,47,43],[47,45,47,46],[47,48,47,49],[47,50,47,53],[47,2,47,4],[47,5,47,6],[47,7,47,8],[47,9,47,10],[47,11,47,12],[47,13,47,14],[47,16,47,17],[47,19,47,20],[47,21,47,24],[47,25,47,26],[46,31,46,33],[46,34,46,35],[46,36,46,37],[46,38,46,39],[46,40,46,41],[46,42,46,43],[46,45,46,46],[46,48,46,49],[46,50,46,53],[46,2,46,4],[46,5,46,6],[46,7,46,8],[46,9,46,10],[46,11,46,12],[46,13,46,14],[46,16,46,17],[46,19,46,20],[46,21,46,24],[46,25,46,26],[45,31,45,33],[45,34,45,35],[45,36,45,37],[45,38,45,39],[45,40,45,41],[45,42,45,43],[45,45,45,46],[45,48,45,49],[45,50,45,53],[45,2,45,4],[45,5,45,6],[45,7,45,8],[45,9,45,10],[45,11,45,12],[45,13,45,14],[45,16,45,17],[45,19,45,20],[45,21,45,24],[45,25,45,26],[44,31,44,33],[44,34,44,35],[44,36,44,37],[44,38,44,39],[44,40,44,41],[44,42,44,43],[44,45,44,46],[44,48,44,49],[44,50,44,53],[44,2,44,4],[44,5,44,6],[44,7,44,8],[44,9,44,10],[44,11,44,12],[44,13,44,14],[44,16,44,17],[44,19,44,20],[44,21,44,24],[44,25,44,26],[43,31,43,33],[43,34,43,35],[43,36,43,37],[43,38,43,39],[43,40,43,41],[43,42,43,43],[43,45,43,46],[43,48,43,49],[43,50,43,53],[43,2,43,4],[43,5,43,6],[43,7,43,8],[43,9,43,10],[43,11,43,12],[43,13,43,14],[43,16,43,17],[43,19,43,20],[43,21,43,24],[43,25,43,26],[42,31,42,33],[42,34,42,35],[42,36,42,37],[42,38,42,39],[42,40,42,41],[42,42,42,43],[42,45,42,46],[42,48,42,49],[42,50,42,53],[42,2,42,4],[42,5,42,6],[42,7,42,8],[42,9,42,10],[42,11,42,12],[42,13,42,14],[42,16,42,17],[42,19,42,20],[42,21,42,24],[42,25,42,26],[41,31,41,33],[41,34,41,35],[41,36,41,37],[41,38,41,39],[41,40,41,41],[41,42,41,43],[41,45,41,46],[41,48,41,49],[41,50,41,53],[41,2,41,4],[41,5,41,6],[41,7,41,8],[41,9,41,10],[41,11,41,12],[41,13,41,14],[41,16,41,17],[41,19,41,20],[41,21,41,24],[41,25,41,26],[40,31,40,33],[40,34,40,35],[40,36,40,37],[40,38,40,39],[40,40,40,41],[40,42,40,43],[40,45,40,46],[40,48,40,49],[40,50,40,53],[40,2,40,4],[40,5,40,6],[40,7,40,8],[40,9,40,10],[40,11,40,12],[40,13,40,14],[40,16,40,17],[40,19,40,20],[40,21,40,24],[39,31,39,33],[39,34,39,35],[39,36,39,37],[39,38,39,39],[39,40,39,41],[39,42,39,43],[39,45,39,46],[39,48,39,49],[39,50,39,53],[39,2,39,4],[39,5,39,6],[39,7,39,8],[39,9,39,10],[39,11,39,12],[39,13,39,14],[39,16,39,17],[39,19,39,20],[39,21,39,24],[38,31,38,33],[38,34,38,35],[38,36,38,37],[38,38,38,39],[38,40,38,41],[38,42,38,43],[38,45,38,46],[38,48,38,49],[38,50,38,53],[38,2,38,4],[38,5,38,6],[38,7,38,8],[38,9,38,10],[38,11,38,12],[38,13,38,14],[38,16,38,17],[38,19,38,20],[38,21,38,24],[37,31,37,33],[37,34,37,35],[37,36,37,37],[37,38,37,39],[37,40,37,41],[37,42,37,43],[37,45,37,46],[37,48,37,49],[37,50,37,53],[37,2,37,4],[37,5,37,6],[37,7,37,8],[37,9,37,10],[37,11,37,12],[37,13,37,14],[37,16,37,17],[37,19,37,20],[37,21,37,24],[36,31,36,33],[36,34,36,35],[36,36,36,37],[36,38,36,39],[36,40,36,41],[36,42,36,43],[36,45,36,46],[36,48,36,49],[36,50,36,53],[36,2,36,4],[36,5,36,6],[36,7,36,8],[36,9,36,10],[36,11,36,12],[36,13,36,14],[36,16,36,17],[36,19,36,20],[36,21,36,24],[34,31,34,33],[34,34,34,35],[32,45,32,46],[32,48,32,49],[34,36,34,37],[34,38,34,39],[34,40,34,41],[34,42,34,43],[34,45,34,46],[34,48,34,49],[34,50,34,53],[35,2,35,4],[35,5,35,6],[35,7,35,8],[35,9,35,10],[35,11,35,12],[35,13,35,14],[35,16,35,17],[35,19,35,20],[35,21,35,24],[32,50,32,53],[33,2,33,4],[33,5,33,6],[33,7,33,8],[33,9,33,10],[33,11,33,12],[33,13,33,14],[33,16,33,17],[33,19,33,20],[33,21,33,24],[33,31,33,33],[30,31,30,33],[30,34,30,35],[30,36,30,37],[30,38,30,39],[30,40,30,41],[30,42,30,43],[33,34,33,35],[33,36,33,37],[33,38,33,39],[33,40,33,41],[33,42,33,43],[33,45,33,46],[33,48,33,49],[33,50,33,53],[32,16,32,17],[32,19,32,20],[32,21,32,24],[32,31,32,33],[32,34,32,35],[32,36,32,37],[32,38,32,39],[32,40,32,41],[32,42,32,43],[29,38,29,39],[29,40,29,41],[29,42,29,43],[29,45,29,46],[29,48,29,49],[29,50,29,53],[28,16,28,17],[28,19,28,20],[28,21,28,24],[28,31,28,33],[28,34,28,35],[28,36,28,37],[28,38,28,39],[28,40,28,41],[28,42,28,43],[31,9,31,10],[31,11,31,12],[31,13,31,14],[31,16,31,17],[31,19,31,20],[31,21,31,24],[31,31,31,33],[31,34,31,35],[31,36,31,37],[31,38,31,39],[31,40,31,41],[31,42,31,43],[31,45,31,46],[31,48,31,49],[30,16,30,17],[30,19,30,20],[30,21,30,24],[9,31,9,33],[9,34,9,35],[9,36,9,37],[9,38,9,39],[9,40,9,41],[9,42,9,43],[9,45,9,46],[9,48,9,49],[9,50,9,53],[6,29,7,29],[6,31,7,33],[6,34,7,35],[6,36,7,37],[6,38,7,39],[6,40,7,41],[6,42,7,43],[6,44,7,44],[6,45,7,46],[6,30,7,30],[6,47,7,47],[6,48,7,49],[6,50,7,53],[8,31,8,33],[8,34,8,35],[8,36,8,37],[8,38,8,39],[8,40,8,41],[8,42,8,43],[8,45,8,46],[8,48,8,49],[8,50,8,53],[70,0,70,2],[26,21,26,24],[27,2,27,4],[27,5,27,6],[27,7,27,8],[27,9,27,10],[27,11,27,12],[27,13,27,14],[27,16,27,17],[27,19,27,20],[27,21,27,24],[23,21,23,24],[24,21,24,24],[25,19,25,20],[25,21,25,24],[26,2,26,4],[26,5,26,6],[26,16,26,17],[26,19,26,20],[25,2,25,4],[25,5,25,6],[25,7,25,8],[25,9,25,10],[25,11,25,12],[25,13,25,14],[29,2,29,4],[29,5,29,6],[29,7,29,8],[29,16,29,17],[29,21,29,24],[34,21,34,24],[55,16,55,17],[15,30,16,30],[24,16,24,17],[24,19,24,20],[25,16,25,17],[24,2,24,4],[21,21,21,24],[22,2,22,4],[22,5,22,6],[22,7,22,8],[22,9,22,10],[22,11,22,12],[22,13,22,14],[22,16,22,17],[22,19,22,20],[22,21,22,24],[21,11,21,12],[21,13,21,14],[21,16,21,17],[21,2,21,4],[21,5,21,6],[21,7,21,8],[21,9,21,10],[21,19,21,20],[15,29,16,29],[18,21,18,24],[15,21,15,24],[19,19,19,20],[19,21,19,24],[20,2,20,4],[20,5,20,6],[20,7,20,8],[20,9,20,10],[20,11,20,12],[20,13,20,14],[20,16,20,17],[20,19,20,20],[20,21,20,24],[19,2,19,4],[19,5,19,6],[19,7,19,8],[19,9,19,10],[19,11,19,12],[19,13,19,14],[19,16,19,17],[16,2,16,4],[16,5,16,6],[16,7,16,8],[16,9,16,10],[16,11,16,12],[16,13,16,14],[16,16,16,17],[16,19,16,20],[16,21,16,24],[17,19,17,20],[17,21,17,24],[18,19,18,20],[15,2,15,4],[15,5,15,6],[15,7,15,8],[15,9,15,10],[15,11,15,12],[15,13,15,14],[15,16,15,17],[18,2,18,4],[18,5,18,6],[18,7,18,8],[18,9,18,10],[18,11,18,12],[18,13,18,14],[17,5,17,6],[17,7,17,8],[17,9,17,10],[17,11,17,12],[17,13,17,14],[17,16,17,17],[18,16,18,17],[14,21,14,24],[11,21,11,24],[12,2,12,4],[12,5,12,6],[12,7,12,8],[12,9,12,10],[12,11,12,12],[12,13,12,14],[12,16,12,17],[12,21,12,24],[13,16,13,17],[13,19,13,20],[10,21,10,24],[10,16,10,17],[10,19,10,20],[13,2,13,4],[13,5,13,6],[13,7,13,8],[13,9,13,10],[13,11,13,12],[13,13,13,14],[11,19,11,20],[11,2,11,4],[12,19,12,20],[13,21,13,24],[11,5,11,6],[11,7,11,8],[10,7,10,8],[10,9,10,10],[10,11,10,12],[10,13,10,14]],"merged_total":1305,"flags":["merged_cut"]}
["（別添３）利子補給金の交付の対象となる経費リスト"]
[]
["（別添３）",null,null,null,null,null,null,null,null,null,null,null,null,null,null,null,null,null,null,null,null,null,null,null,null,null,null,null,null,{"$f":"A3","v":"（別添３）"}]
["利子補給金の交付の対象となる経費リスト",null,null,null,null,null,null,null,null,null,null,null,null,null,null,null,null,null,"合計",{"$f":"IF(T9=\"\",\"\",SUM(T9:U68))","v":""},null,null,null,null,null,null,null,null,null,{"$f":"A4","v":"利子補給金の交付の対象となる経費リスト"},null,null,null,null,null,null,null,null,null,null,null,null,null,null,null,null,null,"合計","○○○,○○○"]
[]
[]
["No","対象\n要件","名称",null,null,"費用区分",null,"発注予定日",null,"支払予定日",null,"納入予定日",null,"型番",null,"耐用\n年数","単価",null,"個数\n（回数）","小計",null,"補足事項",null,null,null,"登録済設備",null,"見込省エネ量\n（kl/台）",null,{"$f":"A7","v":"No"},{"$f":"B7","v":"対象\n要件"},{"$f":"C7","v":"名称"},null,null,{"$f":"F7","v":"費用区分"},null,{"$f":"H7","v":"発注予定日"},null,{"$f":"J7","v":"支払予定日"},null,{"$f":"L7","v":"納入予定日"},null,{"$f":"N7","v":"型番"},null,{"$f":"P7","v":"耐用\n年数"},{"$f":"Q7","v":"単価"},null,{"$f":"S7","v":"個数\n（回数）"},{"$f":"T7","v":"小計"},null,{"$f":"V7","v":"補足事項"},null,null,null,"登録済設備",null,"見込省エネ量\n（kl/台）",null,null,null,null,null,null,"見込省エネ量"]
[null,null,null,null,null,null,null,null,null,null,null,null,null,null,null,null,null,null,null,null,null,null,null,null,null,null,null,null,null,null,null,null,null,null,null,null,null,null,null,null,null,null,null,null,null,null,null,null,null,null,null,null,null,null,null,null,null,null,null,null,null,null,null,null,null,null,null,null,null,null,null,null,null,null,null,null,null,null,null,null,null,null,null,{"$f":"COUNTIF(P9:P28,\"<>\")","v":0}]
[1,null,null,null,null,null,null,null,null,null,null,null,null,null,null,null,null,null,null,{"$f":"IF(S9=\"\",\"\",Q9*S9)","v":""},null,null,null,null,null,null,null,{"$f":"IFERROR(S9*BL9,\"\")","v":""},null,1,"（ア）","○○加工機",null,null,"設備費",null,"2022/○/○",null,"2022/○/○",null,"2022/○/○",null,"○○‐○○",null,7,"○○○,○○○",null,2,"○○○,○○○",null,"見積書①参照",null,null,null,null,null,null,null,null,null,null,null,null,{"$f":"IFERROR(VLOOKUP(Z9,見込み省エネルギー量!$B$2:$D$4,3,0),\"\")","v":""},null,null,null,null,null,null,null,null,null,null,null,null,null,null,null,null,null,null,null,{"$f":"IF(CF8=0,\"\",MAX(P9:P28))","v":""}]
[2,null,null,null,null,null,null,null,null,null,null,null,null,null,null,null,null,null,null,{"$f":"IF(S10=\"\",\"\",Q10*S10)","v":""},null,null,null,null,null,null,null,"",null,2,"（ア）","○○加工機",null,null,"工事費",null,"2022/○/○",null,"2022/○/○",null,"2022/○/○",null,"-",null,"-","○○○,○○○",null,1,"○○○,○○○",null,"見積書①参照",null,null,null,null,null,null,null,null,null,null,null,null,{"$f":"IFERROR(VLOOKUP(Z10,見込み省エネルギー量!$B$2:$D$4,3,0),\"\")","v":""}]
[3,null,null,null,null,null,null,null,null,null,null,null,null,null,null,null,null,null,null,"",null,null,null,null,null,null,null,"",null,3,"（ア）","○○エアコン",null,null,"設備費",null,"2022/○/○",null,"2022/○/○",null,"2022/○/○",null,"○○‐○○",null,7,"○○○,○○○",null,5,"○○○,○○○",null,"見積書②参照",null,null,null,"高効率空調",null,"○○",null,null,null,null,null,null,{"$f":"IFERROR(VLOOKUP(Z11,見込み省エネルギー量!$B$2:$D$4,3,0),\"\")","v":""}]
[4,null,null,null,null,null,null,null,null,null,null,null,null,null,null,null,null,null,null,"",null,null,null,null,null,null,null,"",null,4,"（ア）","○○エアコン",null,null,"工事費",null,"2022/○/○",null,"2022/○/○",null,"2022/○/○",null,"-",null,"-","○○○,○○○",null,1,"○○○,○○○",null,"見積書②参照",null,null,null,null,null,null,null,null,null,null,null,null,{"$f":"IFERROR(VLOOKUP(Z12,見込み省エネルギー量!$B$2:$D$4,3,0),\"\")","v":""}]
[5,null,null,null,null,null,null,null,null,null,null,null,null,null,null,null,null,null,null,"",null,null,null,null,null,null,null,"",null,5,"（ア）","○○照明",null,null,"設備費",null,"2022/○/○",null,"2022/○/○",null,"2022/○/○",null,"○○‐○○",null,5,"○○○,○○○",null,10,"○○○,○○○",null,"見積書③参照",null,null,null,"調光制御設備",null,"○○",null,null,null,null,null,null,{"$f":"IFERROR(VLOOKUP(Z13,見込み省エネルギー量!$B$2:$D$4,3,0),\"\")","v":""}]
[6,null,null,null,null,null,null,null,null,null,null,null,null,null,null,null,null,null,null,"",null,null,null,null,null,null,null,"",null,6,"（ア）","○○照明",null,null,"設備費",null,"2022/○/○",null,"2022/○/○",null,"2022/○/○",null,"○○‐○○",null,5,"○○○,○○○",null,10,"○○○,○○○",null,"見積書③参照",null,null,null,"調光制御設備",null,"○○",null,null,null,null,null,null,{"$f":"IFERROR(VLOOKUP(Z14,見込み省エネルギー量!$B$2:$D$4,3,0),\"\")","v":""}]
[7,null,null,null,null,null,null,null,null,null,null,null,null,null,null,null,null,null,null,"",null,null,null,null,null,null,null,"",null,7,"（ア）","○○照明",null,null,"設備費",null,"2022/○/○",null,"2022/○/○",null,"2022/○/○",null,"○○‐○○",null,5,"○○○,○○○",null,10,"○○○,○○○",null,"見積書③参照",null,null,null,null,null,null,null,null,null,null,null,null,{"$f":"IFERROR(VLOOKUP(Z15,見込み省エネルギー量!$B$2:$D$4,3,0),\"\")","v":""}]
[8,null,null,null,null,null,null,null,null,null,null,null,null,null,null,null,null,null,null,"",null,null,null,null,null,null,null,"",null,8,"（ア）","○○照明",null,null,"工事費",null,"2022/○/○",null,"2022/○/○",null,"2022/○/○",null,"-",null,"-","○○○,○○○",null,1,"○○○,○○○",null,"見積書③参照\n※NO,5～7の工事費合計",null,null,null,null,null,null,null,null,null,null,null,null,{"$f":"IFERROR(VLOOKUP(Z16,見込み省エネルギー量!$B$2:$D$4,3,0),\"\")","v":""}]
[9,null,null,null,null,null,null,null,null,null,null,null,null,null,null,null,null,null,null,"",null,null,null,null,null,null,null,"",null,null,null,null,null,null,null,null,null,null,null,null,null,null,null,null,null,null,null,null,null,null,null,null,null,null,null,null,null,null,null,null,null,null,null,{"$f":"IFERROR(VLOOKUP(Z17,見込み省エネルギー量!$B$2:$D$4,3,0),\"\")","v":""}]
[10,null,null,null,null,null,null,null,null,null,null,null,null,null,null,null,null,null,null,"",null,null,null,null,null,null,null,"",null,10,"（ア）","○○ポンプ",null,null,"設備費",null,"2022/○/○",null,"2022/○/○",null,"2022/○/○",null,"○○‐○○",null,7,"○○○,○○○",null,5,"○○○,○○○",null,"見積書④参照",null,null,null,"産業用モータ",null,"○○",null,null,null,null,null,null,{"$f":"IFERROR(VLOOKUP(Z18,見込み省エネルギー量!$B$2:$D$4,3,0),\"\")","v":""}]
[11,null,null,null,null,null,null,null,null,null,null,null,null,null,null,null,null,null,null,"",null,null,null,null,null,null,null,"",null,11,"（ア）","○○ポンプ",null,null,"工事費",null,"2022/○/○",null,"2022/○/○",null,"2022/○/○",null,"-",null,"-","○○○,○○○",null,1,"○○○,○○○",null,"見積書④参照",null,null,null,null,null,null,null,null,null,null,null,null,{"$f":"IFERROR(VLOOKUP(Z19,見込み省エネルギー量!$B$2:$D$4,3,0),\"\")","v":""}]
[12,null,null,null,null,null,null,null,null,null,null,null,null,null,null,null,null,null,null,"",null,null,null,null,null,null,null,"",null,12,null,null,null,null,null,null,null,null,null,null,null,null,null,null,null,null,null,null,{"$f":"IF(AT20=\"\",\"\",AT20*AV20)","v":""},null,null,null,null,null,null,null,null,null,null,null,null,null,null,{"$f":"IFERROR(VLOOKUP(Z20,見込み省エネルギー量!$B$2:$D$4,3,0),\"\")","v":""}]
[13,null,null,null,null,null,null,null,null,null,null,null,null,null,null,null,null,null,null,"",null,null,null,null,null,null,null,"",null,13,null,null,null,null,null,null,null,null,null,null,null,null,null,null,null,null,null,null,"",null,null,null,null,null,null,null,null,null,null,null,null,null,null,{"$f":"IFERROR(VLOOKUP(Z21,見込み省エネルギー量!$B$2:$D$4,3,0),\"\")","v":""}]
[14,null,null,null,null,null,null,null,null,null,null,null,null,null,null,null,null,null,null,"",null,null,null,null,null,null,null,"",null,14,null,null,null,null,null,null,null,null,null,null,null,null,null,null,null,null,null,null,"",null,null,null,null,null,null,null,null,null,null,null,null,null,null,{"$f":"IFERROR(VLOOKUP(Z22,見込み省エネルギー量!$B$2:$D$4,3,0),\"\")","v":""}]
[15,null,null,null,null,null,null,null,null,null,null,null,null,null,null,null,null,null,null,"",null,null,null,null,null,null,null,"",null,15,null,null,null,null,null,null,null,null,null,null,null,null,null,null,null,null,null,null,"",null,null,null,null,null,null,null,null,null,null,null,null,null,null,{"$f":"IFERROR(VLOOKUP(Z23,見込み省エネルギー量!$B$2:$D$4,3,0),\"\")","v":""}]
[16,null,null,null,null,null,null,null,null,null,null,null,null,null,null,null,null,null,null,"",null,null,null,null,null,null,null,"",null,16,null,null,null,null,null,null,null,null,null,null,null,null,null,null,null,null,null,null,"",null,null,null,null,null,null,null,null,null,null,null,null,null,null,{"$f":"IFERROR(VLOOKUP(Z24,見込み省エネルギー量!$B$2:$D$4,3,0),\"\")","v":""}]
[17,null,null,null,null,null,null,null,null,null,null,null,null,null,null,null,null,null,null,"",null,null,null,null,null,null,null,"",null,17,null,null,null,null,null,null,null,null,null,null,null,null,null,null,null,null,null,null,"",null,null,null,null,null,null,null,null,null,null,null,null,null,null,{"$f":"IFERROR(VLOOKUP(Z25,見込み省エネルギー量!$B$2:$D$4,3,0),\"\")","v":""}]
[18,null,null,null,null,null,null,null,null,null,null,null,null,null,null,null,null,null,null,"",null,null,null,null,null,null,null,"",null,18,null,null,null,null,null,null,null,null,null,null,null,null,null,null,null,null,null,null,"",null,null,null,null,null,null,null,null,null,null,null,null,null,null,{"$f":"IFERROR(VLOOKUP(Z26,見込み省エネルギー量!$B$2:$D$4,3,0),\"\")","v":""}]
[19,null,null,null,null,null,null,null,null,null,null,null,null,null,null,null,null,null,null,"",null,null,null,null,null,null,null,"",null,19,null,null,null,null,null,null,null,null,null,null,null,null,null,null,null,null,null,null,"",null,null,null,null,null,null,null,null,null,null,null,null,null,null,{"$f":"IFERROR(VLOOKUP(Z27,見込み省エネルギー量!$B$2:$D$4,3,0),\"\")","v":""}]
[20,null,null,null,null,null,null,null,null,null,null,null,null,null,null,null,null,null,null,"",null,null,null,null,null,null,null,"",null,20,null,null,null,null,null,null,null,null,null,null,null,null,null,null,null,null,null,null,"",null,null,null,null,null,null,null,null,null,null,null,null,null,null,{"$f":"IFERROR(VLOOKUP(Z28,見込み省エネルギー量!$B$2:$D$4,3,0),\"\")","v":""}]
[21,null,null,null,null,null,null,null,null,null,null,null,null,null,null,null,null,null,null,"",null,null,null,null,null,null,null,"",null,21,null,null,null,null,null,null,null,null,null,null,null,null,null,null,null,null,null,null,null,null,null,null,null,null,null,null,null,null,null,null,null,null,null,{"$f":"IFERROR(VLOOKUP(Z29,見込み省エネルギー量!$B$2:$D$4,3,0),\"\")","v":""},null,null,null,null,null,null,null,null,null,null,null,null,null,null,null,null,null,null,null,{"$f":"IF(CF28=0,\"\",MAX(P29:P47))","v":""}]
[22,null,null,null,null,null,null,null,null,null,null,null,null,null,null,null,null,null,null,"",null,null,null,null,null,null,null,"",null,22,null,null,null,null,null,null,null,null,null,null,null,null,null,null,null,null,null,null,null,null,null,null,null,null,null,null,null,null,null,null,null,null,null,{"$f":"IFERROR(VLOOKUP(Z30,見込み省エネルギー量!$B$2:$D$4,3,0),\"\")","v":""}]
[23,null,null,null,null,null,null,null,null,null,null,null,null,null,null,null,null,null,null,"",null,null,null,null,null,null,null,"",null,23,null,null,null,null,null,null,null,null,null,null,null,null,null,null,null,null,null,null,null,null,null,null,null,null,null,null,null,null,null,null,null,null,null,{"$f":"IFERROR(VLOOKUP(Z31,見込み省エネルギー量!$B$2:$D$4,3,0),\"\")","v":""}]
[24,null,null,null,null,null,null,null,null,null,null,null,null,null,null,null,null,null,null,"",null,null,null,null,null,null,null,"",null,24,null,null,null,null,null,null,null,null,null,null,null,null,null,null,null,null,null,null,null,null,null,null,null,null,null,null,null,null,null,null,null,null,null,{"$f":"IFERROR(VLOOKUP(Z32,見込み省エネルギー量!$B$2:$D$4,3,0),\"\")","v":""}]
[25,null,null,null,null,null,null,null,null,null,null,null,null,null,null,null,null,null,null,"",null,null,null,null,null,null,null,"",null,25,null,null,null,null,null,null,null,null,null,null,null,null,null,null,null,null,null,null,null,null,null,null,null,null,null,null,null,null,null,null,null,null,null,{"$f":"IFERROR(VLOOKUP(Z33,見込み省エネルギー量!$B$2:$D$4,3,0),\"\")","v":""}]
[26,null,null,null,null,null,null,null,null,null,null,null,null,null,null,null,null,null,null,"",null,null,null,null,null,null,null,"",null,26,null,null,null,null,null,null,null,null,null,null,null,null,null,null,null,null,null,null,null,null,null,null,null,null,null,null,null,null,null,null,null,null,null,{"$f":"IFERROR(VLOOKUP(Z34,見込み省エネルギー量!$B$2:$D$4,3,0),\"\")","v":""}]
[27,null,null,null,null,null,null,null,null,null,null,null,null,null,null,null,null,null,null,"",null,null,null,null,null,null,null,"",null,27,null,null,null,null,null,null,null,null,null,null,null,null,null,null,null,null,null,null,null,null,null,null,null,null,null,null,null,null,null,null,null,null,null,{"$f":"IFERROR(VLOOKUP(Z35,見込み省エネルギー量!$B$2:$D$4,3,0),\"\")","v":""}]
[28,null,null,null,null,null,null,null,null,null,null,null,null,null,null,null,null,null,null,"",null,null,null,null,null,null,null,"",null,28,null,null,null,null,null,null,null,null,null,null,null,null,null,null,null,null,null,null,null,null,null,null,null,null,null,null,null,null,null,null,null,null,null,{"$f":"IFERROR(VLOOKUP(Z36,見込み省エネルギー量!$B$2:$D$4,3,0),\"\")","v":""}]
[29,null,null,null,null,null,null,null,null,null,null,null,null,null,null,null,null,null,null,"",null,null,null,null,null,null,null,"",null,29,null,null,null,null,null,null,null,null,null,null,null,null,null,null,null,null,null,null,{"$f":"IF(AT37=\"\",\"\",AT37*AV37)","v":""},null,null,null,null,null,null,null,null,null,null,null,null,null,null,{"$f":"IFERROR(VLOOKUP(Z37,見込み省エネルギー量!$B$2:$D$4,3,0),\"\")","v":""}]
[30,null,null,null,null,null,null,null,null,null,null,null,null,null,null,null,null,null,null,"",null,null,null,null,null,null,null,"",null,30,null,null,null,null,null,null,null,null,null,null,null,null,null,null,null,null,null,null,"",null,null,null,null,null,null,null,null,null,null,null,null,null,null,{"$f":"IFERROR(VLOOKUP(Z38,見込み省エネルギー量!$B$2:$D$4,3,0),\"\")","v":""}]
[31,null,null,null,null,null,null,null,null,null,null,null,null,null,null,null,null,null,null,"",null,null,null,null,null,null,null,"",null,31,null,null,null,null,null,null,null,null,null,null,null,null,null,null,null,null,null,null,"",null,null,null,null,null,null,null,null,null,null,null,null,null,null,{"$f":"IFERROR(VLOOKUP(Z39,見込み省エネルギー量!$B$2:$D$4,3,0),\"\")","v":""}]
[32,null,null,null,null,null,null,null,null,null,null,null,null,null,null,null,null,null,null,"",null,null,null,null,null,null,null,"",null,32,null,null,null,null,null,null,null,null,null,null,null,null,null,null,null,null,null,null,"",null,null,null,null,null,null,null,null,null,null,null,null,null,null,{"$f":"IFERROR(VLOOKUP(Z40,見込み省エネルギー量!$B$2:$D$4,3,0),\"\")","v":""}]
[33,null,null,null,null,null,null,null,null,null,null,null,null,null,null,null,null,null,null,"",null,null,null,null,null,null,null,{"$f":"IFERROR(S41*BL41,\"\")","v":""},null,33,null,null,null,null,null,null,null,null,null,null,null,null,null,null,null,null,null,null,"",null,null,null,null,null,null,null,null,null,null,null,null,null,null,{"$f":"IFERROR(VLOOKUP(Z41,見込み省エネルギー量!$B$2:$D$4,3,0),\"\")","v":""}]
[34,null,null,null,null,null,null,null,null,null,null,null,null,null,null,null,null,null,null,"",null,null,null,null,null,null,null,"",null,34,null,null,null,null,null,null,null,null,null,null,null,null,null,null,null,null,null,null,"",null,null,null,null,null,null,null,null,null,null,null,null,null,null,{"$f":"IFERROR(VLOOKUP(Z42,見込み省エネルギー量!$B$2:$D$4,3,0),\"\")","v":""}]
[35,null,null,null,null,null,null,null,null,null,null,null,null,null,null,null,null,null,null,"",null,null,null,null,null,null,null,"",null,35,null,null,null,null,null,null,null,null,null,null,null,null,null,null,null,null,null,null,"",null,null,null,null,null,null,null,null,null,null,null,null,null,null,{"$f":"IFERROR(VLOOKUP(Z43,見込み省エネルギー量!$B$2:$D$4,3,0),\"\")","v":""}]
[36,null,null,null,null,null,null,null,null,null,null,null,null,null,null,null,null,null,null,"",null,null,null,null,null,null,null,"",null,36,null,null,null,null,null,null,null,null,null,null,null,null,null,null,null,null,null,null,"",null,null,null,null,null,null,null,null,null,null,null,null,null,null,{"$f":"IFERROR(VLOOKUP(Z44,見込み省エネルギー量!$B$2:$D$4,3,0),\"\")","v":""}]
[37,null,null,null,null,null,null,null,null,null,null,null,null,null,null,null,null,null,null,"",null,null,null,null,null,null,null,"",null,37,null,null,null,null,null,null,null,null,null,null,null,null,null,null,null,null,null,null,"",null,null,null,null,null,null,null,null,null,null,null,null,null,null,{"$f":"IFERROR(VLOOKUP(Z45,見込み省エネルギー量!$B$2:$D$4,3,0),\"\")","v":""}]
[38,null,null,null,null,null,null,null,null,null,null,null,null,null,null,null,null,null,null,"",null,null,null,null,null,null,null,"",null,38,null,null,null,null,null,null,null,null,null,null,null,null,null,null,null,null,null,null,"",null,null,null,null,null,null,null,null,null,null,null,null,null,null,{"$f":"IFERROR(VLOOKUP(Z46,見込み省エネルギー量!$B$2:$D$4,3,0),\"\")","v":""}]
[39,null,null,null,null,null,null,null,null,null,null,null,null,null,null,null,null,null,null,"",null,null,null,null,null,null,null,"",null,39,null,null,null,null,null,null,null,null,null,null,null,null,null,null,null,null,null,null,"",null,null,null,null,null,null,null,null,null,null,null,null,null,null,{"$f":"IFERROR(VLOOKUP(Z47,見込み省エネルギー量!$B$2:$D$4,3,0),\"\")","v":""}]
[40,null,null,null,null,null,null,null,null,null,null,null,null,null,null,null,null,null,null,"",null,null,null,null,null,null,null,"",null,40,null,null,null,null,null,null,null,null,null,null,null,null,null,null,null,null,null,null,"",null,null,null,null,null,null,null,null,null,null,null,null,null,null,{"$f":"IFERROR(VLOOKUP(Z48,見込み省エネルギー量!$B$2:$D$4,3,0),\"\")","v":""}]
[41,null,null,null,null,null,null,null,null,null,null,null,null,null,null,null,null,null,null,"",null,null,null,null,null,null,null,"",null,41,null,null,null,null,null,null,null,null,null,null,null,null,null,null,null,null,null,null,null,null,null,null,null,null,null,null,null,null,null,null,null,null,null,{"$f":"IFERROR(VLOOKUP(Z49,見込み省エネルギー量!$B$2:$D$4,3,0),\"\")","v":""},null,null,null,null,null,null,null,null,null,null,null,null,null,null,null,null,null,null,null,{"$f":"IF(CF48=0,\"\",MAX(P49:P68))","v":""}]
[42,null,null,null,null,null,null,null,null,null,null,null,null,null,null,null,null,null,null,"",null,null,null,null,null,null,null,"",null,42,null,null,null,null,null,null,null,null,null,null,null,null,null,null,null,null,null,null,null,null,null,null,null,null,null,null,null,null,null,null,null,null,null,{"$f":"IFERROR(VLOOKUP(Z50,見込み省エネルギー量!$B$2:$D$4,3,0),\"\")","v":""}]
[43,null,null,null,null,null,null,null,null,null,null,null,null,null,null,null,null,null,null,"",null,null,null,null,null,null,null,"",null,43,null,null,null,null,null,null,null,null,null,null,null,null,null,null,null,null,null,null,null,null,null,null,null,null,null,null,null,null,null,null,null,null,null,{"$f":"IFERROR(VLOOKUP(Z51,見込み省エネルギー量!$B$2:$D$4,3,0),\"\")","v":""}]
[44,null,null,null,null,null,null,null,null,null,null,null,null,null,null,null,null,null,null,"",null,null,null,null,null,null,null,"",null,44,null,null,null,null,null,null,null,null,null,null,null,null,null,null,null,null,null,null,null,null,null,null,null,null,null,null,null,null,null,null,null,null,null,{"$f":"IFERROR(VLOOKUP(Z52,見込み省エネルギー量!$B$2:$D$4,3,0),\"\")","v":""}]
[45,null,null,null,null,null,null,null,null,null,null,null,null,null,null,null,null,null,null,"",null,null,null,null,null,null,null,"",null,45,null,null,null,null,null,null,null,null,null,null,null,null,null,null,null,null,null,null,null,null,null,null,null,null,null,null,null,null,null,null,null,null,null,{"$f":"IFERROR(VLOOKUP(Z53,見込み省エネルギー量!$B$2:$D$4,3,0),\"\")","v":""}]
[46,null,null,null,null,null,null,null,null,null,null,null,null,null,null,null,null,null,null,"",null,null,null,null,null,null,null,"",null,46,null,null,null,null,null,null,null,null,null,null,null,null,null,null,null,null,null,null,null,null,null,null,null,null,null,null,null,null,null,null,null,null,null,{"$f":"IFERROR(VLOOKUP(Z54,見込み省エネルギー量!$B$2:$D$4,3,0),\"\")","v":""}]
[47,null,null,null,null,null,null,null,null,null,null,null,null,null,null,null,null,null,null,"",null,null,null,null,null,null,null,"",null,47,null,null,null,null,null,null,null,null,null,null,null,null,null,null,null,null,null,null,null,null,null,null,null,null,null,null,null,null,null,null,null,null,null,{"$f":"IFERROR(VLOOKUP(Z55,見込み省エネルギー量!$B$2:$D$4,3,0),\"\")","v":""}]
[48,null,null,null,null,null,null,null,null,null,null,null,null,null,null,null,null,null,null,"",null,null,null,null,null,null,null,"",null,48,null,null,null,null,null,null,null,null,null,null,null,null,null,null,null,null,null,null,null,null,null,null,null,null,null,null,null,null,null,null,null,null,null,{"$f":"IFERROR(VLOOKUP(Z56,見込み省エネルギー量!$B$2:$D$4,3,0),\"\")","v":""}]
[49,null,null,null,null,null,null,null,null,null,null,null,null,null,null,null,null,null,null,"",null,null,null,null,null,null,null,"",null,49,null,null,null,null,null,null,null,null,null,null,null,null,null,null,null,null,null,null,null,null,null,null,null,null,null,null,null,null,null,null,null,null,null,{"$f":"IFERROR(VLOOKUP(Z57,見込み省エネルギー量!$B$2:$D$4,3,0),\"\")","v":""}]
[50,null,null,null,null,null,null,null,null,null,null,null,null,null,null,null,null,null,null,"",null,null,null,null,null,null,null,"",null,50,null,null,null,null,null,null,null,null,null,null,null,null,null,null,null,null,null,null,null,null,null,null,null,null,null,null,null,null,null,null,null,null,null,{"$f":"IFERROR(VLOOKUP(Z58,見込み省エネルギー量!$B$2:$D$4,3,0),\"\")","v":""}]
[51,null,null,null,null,null,null,null,null,null,null,null,null,null,null,null,null,null,null,"",null,null,null,null,null,null,null,"",null,51,null,null,null,null,null,null,null,null,null,null,null,null,null,null,null,null,null,null,{"$f":"IF(AT59=\"\",\"\",AT59*AV59)","v":""},null,null,null,null,null,null,null,null,null,null,null,null,null,null,{"$f":"IFERROR(VLOOKUP(Z59,見込み省エネルギー量!$B$2:$D$4,3,0),\"\")","v":""}]
[52,null,null,null,null,null,null,null,null,null,null,null,null,null,null,null,null,null,null,"",null,null,null,null,null,null,null,"",null,52,null,null,null,null,null,null,null,null,null,null,null,null,null,null,null,null,null,null,"",null,null,null,null,null,null,null,null,null,null,null,null,null,null,{"$f":"IFERROR(VLOOKUP(Z60,見込み省エネルギー量!$B$2:$D$4,3,0),\"\")","v":""}]
[53,null,null,null,null,null,null,null,null,null,null,null,null,null,null,null,null,null,null,"",null,null,null,null,null,null,null,"",null,53,null,null,null,null,null,null,null,null,null,null,null,null,null,null,null,null,null,null,"",null,null,null,null,null,null,null,null,null,null,null,null,null,null,{"$f":"IFERROR(VLOOKUP(Z61,見込み省エネルギー量!$B$2:$D$4,3,0),\"\")","v":""}]
[54,null,null,null,null,null,null,null,null,null,null,null,null,null,null,null,null,null,null,"",null,null,null,null,null,null,null,"",null,54,null,null,null,null,null,null,null,null,null,null,null,null,null,null,null,null,null,null,"",null,null,null,null,null,null,null,null,null,null,null,null,null,null,{"$f":"IFERROR(VLOOKUP(Z62,見込み省エネルギー量!$B$2:$D$4,3,0),\"\")","v":""}]
[55,null,null,null,null,null,null,null,null,null,null,null,null,null,null,null,null,null,null,"",null,null,null,null,null,null,null,"",null,55,null,null,null,null,null,null,null,null,null,null,null,null,null,null,null,null,null,null,"",null,null,null,null,null,null,null,null,null,null,null,null,null,null,{"$f":"IFERROR(VLOOKUP(Z63,見込み省エネルギー量!$B$2:$D$4,3,0),\"\")","v":""}]
[56,null,null,null,null,null,null,null,null,null,null,null,null,null,null,null,null,null,null,"",null,null,null,null,null,null,null,"",null,56,null,null,null,null,null,null,null,null,null,null,null,null,null,null,null,null,null,null,"",null,null,null,null,null,null,null,null,null,null,null,null,null,null,{"$f":"IFERROR(VLOOKUP(Z64,見込み省エネルギー量!$B$2:$D$4,3,0),\"\")","v":""}]
[57,null,null,null,null,null,null,null,null,null,null,null,null,null,null,null,null,null,null,"",null,null,null,null,null,null,null,"",null,57,null,null,null,null,null,null,null,null,null,null,null,null,null,null,null,null,null,null,"",null,null,null,null,null,null,null,null,null,null,null,null,null,null,{"$f":"IFERROR(VLOOKUP(Z65,見込み省エネルギー量!$B$2:$D$4,3,0),\"\")","v":""}]
[58,null,null,null,null,null,null,null,null,null,null,null,null,null,null,null,null,null,null,"",null,null,null,null,null,null,null,"",null,58,null,null,null,null,null,null,null,null,null,null,null,null,null,null,null,null,null,null,"",null,null,null,null,null,null,null,null,null,null,null,null,null,null,{"$f":"IFERROR(VLOOKUP(Z66,見込み省エネルギー量!$B$2:$D$4,3,0),\"\")","v":""}]
[59,null,null,null,null,null,null,null,null,null,null,null,null,null,null,null,null,null,null,"",null,null,null,null,null,null,null,"",null,59,null,null,null,null,null,null,null,null,null,null,null,null,null,null,null,null,null,null,null,null,null,null,null,null,null,null,null,null,null,null,null,null,null,{"$f":"IFERROR(VLOOKUP(Z67,見込み省エネルギー量!$B$2:$D$4,3,0),\"\")","v":""}]
[60,null,null,null,null,null,null,null,null,null,null,null,null,null,null,null,null,null,null,"",null,null,null,null,null,null,null,"",null,60,null,null,null,null,null,null,null,null,null,null,null,null,null,null,null,null,null,null,{"$f":"IF(AT68=\"\",\"\",AT68*AV68)","v":""},null,null,null,null,null,null,null,null,null,null,null,null,null,null,{"$f":"IFERROR(VLOOKUP(Z68,見込み省エネルギー量!$B$2:$D$4,3,0),\"\")","v":""}]
[]
[]
["対象要件",null,null,"内容",null,null,null,null,null,null,null,null,null,null,null,null,null,null,null,null,null,null,null,null,null,null,null,null,null,"対象要件",null,null,"内容"]
["（ア）",null,null,"エネルギー消費効率が高い省エネルギー設備を新設、又は増設する事業。",null,null,null,null,null,null,null,null,null,null,null,null,null,null,null,null,null,null,null,null,null,null,null,null,null,"（ア）",null,null,"エネルギー消費効率が高い省エネルギー設備を新設、又は増設する事業。"]
[]
["（イ）",null,null,"省エネルギー設備等を新設、又は増設し、工場・事業場全体におけるエネルギー消費原単位が１％以上改善される事業。",null,null,null,null,null,null,null,null,null,null,null,null,null,null,null,null,null,null,null,null,null,null,null,null,null,"（イ）",null,null,"省エネルギー設備等を新設、又は増設し、工場・事業場全体におけるエネルギー消費原単位が１％以上改善される事業。"]
[]
["（ウ）",null,null,"データセンターのクラウドサービス活用やＥＭＳの導入等による省エネルギー取組に関する事業。",null,null,null,null,null,null,null,null,null,null,null,null,null,null,null,null,null,null,null,null,null,null,null,null,null,"（ウ）",null,null,"データセンターのクラウドサービス活用やＥＭＳの導入等による省エネルギー取組に関する事業。"]
[]
[]
["費用区分",null,null,"内容",null,null,null,null,null,null,null,null,null,null,null,null,null,null,null,null,null,null,null,null,null,null,null,null,null,"費用区分",null,null,"内容"]
["設計費",null,null,"省エネルギー設備等の導入に必要な機械装置の設計費、システム設計費等。",null,null,null,null,null,null,null,null,null,null,null,null,null,null,null,null,null,null,null,null,null,null,null,null,null,"設計費",null,null,"省エネルギー設備等の導入に必要な機械装置の設計費、システム設計費等。"]
[]
["設備費",null,null,"省エネルギー設備等の購入に必要な経費。",null,null,null,null,null,null,null,null,null,null,null,null,null,null,null,null,null,null,null,null,null,null,null,null,null,"設備費",null,null,"省エネルギー設備等の購入に必要な経費。"]
[]
["工事費",null,null,"省エネルギー設備等の導入に不可欠な工事に要する経費。\n※工事実施に伴う工事用図面等の経費は、設計費に含めず、工事費に含めること。",null,null,null,null,null,null,null,null,null,null,null,null,null,null,null,null,null,null,null,null,null,null,null,null,null,"工事費",null,null,"省エネルギー設備等の導入に不可欠な工事に要する経費。\n※工事実施に伴う工事用図面等の経費は、設計費に含めず、工事費に含めること。"]

{"sheet":"（別添４）エネルギー消費効率の根拠（要件ア）入力例","index":15,"n_rows":33,"n_cols":31,"rows_kept":33,"cut":false,"hidden":false,"merged":[[19,15,19,16],[19,17,19,18],[20,15,20,16],[20,17,20,18],[22,15,23,15],[22,16,23,16],[22,17,23,18],[24,15,24,18],[25,16,25,18],[13,15,13,18],[14,15,14,16],[14,17,14,18],[15,15,15,16],[15,17,15,18],[16,15,16,16],[16,17,16,18],[17,15,17,16],[17,17,17,18],[19,29,19,30],[20,27,20,28],[20,29,20,30],[11,3,11,6],[12,3,12,6],[13,3,13,6],[14,3,14,4],[14,5,14,6],[15,3,15,4],[15,5,15,6],[16,3,16,4],[16,5,16,6],[20,13,20,14],[11,11,11,14],[12,11,12,14],[13,11,13,14],[14,11,14,12],[14,13,14,14],[15,11,15,12],[15,13,15,14],[16,11,16,12],[16,13,16,14],[11,15,11,18],[12,15,12,18],[26,24,26,26],[24,23,24,26],[25,8,25,10],[25,4,25,6],[26,4,26,6],[20,23,20,24],[20,7,20,8],[20,9,20,10],[20,25,20,26],[20,3,20,4],[20,5,20,6],[22,3,23,3],[22,4,23,4],[22,5,23,6],[24,7,24,10],[22,11,23,11],[22,12,23,12],[22,13,23,14],[24,11,24,14],[25,12,25,14],[26,12,26,14],[26,16,26,18],[22,29,23,30],[22,25,23,26],[22,19,23,19],[22,20,23,20],[22,21,23,22],[22,23,23,23],[22,24,23,24],[24,3,24,6],[17,11,17,12],[17,13,17,14],[19,11,19,12],[19,13,19,14],[20,11,20,12],[17,3,17,4],[17,5,17,6],[19,3,19,4],[19,5,19,6],[17,7,17,8],[17,9,17,10],[17,27,17,28],[24,27,24,30],[19,7,19,8],[19,9,19,10],[19,27,19,28],[10,27,10,30],[17,23,17,24],[13,23,13,26],[14,23,14,24],[14,25,14,26],[15,23,15,24],[15,25,15,26],[15,21,15,22],[16,19,16,20],[16,21,16,22],[17,19,17,20],[17,21,17,22],[11,19,11,22],[12,19,12,22],[13,19,13,22],[14,19,14,20],[17,25,17,26],[11,27,11,30],[12,27,12,30],[13,27,13,30],[17,29,17,30],[14,29,14,30],[15,27,15,28],[15,29,15,30],[27,0,31,30],[26,8,26,10],[11,23,11,26],[12,23,12,26],[19,23,19,24],[19,25,19,26],[11,7,11,10],[12,7,12,10],[13,7,13,10],[15,7,15,8],[15,9,15,10],[14,7,14,8],[14,9,14,10],[14,27,14,28],[26,28,26,30],[20,19,20,20],[20,21,20,22],[25,24,25,26],[25,28,25,30],[22,7,23,7],[22,8,23,8],[22,9,23,10],[22,27,23,27],[22,28,23,28],[10,1,10,2],[11,1,11,2],[12,1,12,2],[8,0,26,0],[8,1,8,2],[9,1,9,2],[22,1,25,1],[22,2,23,2],[32,0,37,30],[26,20,26,22],[13,1,13,2],[14,1,21,1],[25,20,25,22],[14,21,14,22],[24,19,24,22],[16,23,16,24],[16,25,16,26],[19,19,19,20],[19,21,19,22],[15,19,15,20],[16,7,16,8],[16,9,16,10],[16,27,16,28],[16,29,16,30],[2,21,3,22],[4,21,5,22],[7,19,7,22],[8,19,8,22],[9,19,9,22],[7,23,7,26],[8,23,8,26],[9,23,9,26],[3,0,3,2],[7,0,7,2],[7,7,7,10],[2,17,3,18],[4,17,5,18],[7,15,7,18],[8,15,8,18],[9,15,9,18],[7,27,7,30],[8,7,8,10],[8,27,8,30],[9,7,9,10],[9,27,9,30],[7,3,7,6],[8,3,8,6],[9,3,9,6],[7,11,7,14],[8,11,8,14],[9,11,9,14]]}
["（別添４）エネルギー消費効率の根拠（要件ア）入力例"]
[]
["（別添４)"]
["エネルギー消費効率の根拠（要件ア）"]
[]
[]
[]
["No",null,null,"省エネ補助金で登録済みの\n工作機械の入力例　（ 製品情報証明書を利用 ）",null,null,null,"加工設備の入力例",null,null,null,"省エネ補助金で登録済みの\n高効率空調の入力例①",null,null,null,"省エネ補助金で登録済みの\n高効率空調の入力例②",null,null,null,"空調設備の入力例",null,null,null,"照明設備の入力例",null,null,null,"　　同じ設備種類が多数ある場合や、様式が不足する場合の入力例"]
["エネルギｌ消費効率の改善についての根拠","トップランナー基準",null,"トップランナー基準に該当しない設備で、エネルギー消費効率が高い設備の導入",null,null,null,"トップランナー基準に該当しない設備で、エネルギー消費効率が高い設備の導入",null,null,null,"トップランナー基準を満たす設備の導入",null,null,null,"トップランナー基準に該当しない設備で、エネルギー消費効率が高い設備の導入",null,null,null,"トップランナー基準を満たす設備の導入",null,null,null,"トップランナー基準を満たす設備の導入",null,null,null,"別紙参照"]
[null,"トップランナー基準の区分名又は数値",null,null,null,null,null,null,null,null,null,"区分名af　4.8",null,null,null,null,null,null,null,"区分名af　4.8",null,null,null,"照明器具　区分1　100.0"]
[null,"トップランナー基準の数値（導入設備）",null,null,null,null,null,null,null,null,null,"導入設備　5.4",null,null,null,null,null,null,null,"導入設備　5.4",null,null,null,163.01]
[null,"比較指標/トップランナー基準\n（基準エネルギー消費効率又はその算定式）",null,"１サイクルあたりの電力使用量",null,null,null,"１サイクルあたりの電力使用量",null,null,null,"基準エネルギー消費効率",null,null,null,"省エネ補助金における指定設備",null,null,null,"基準エネルギー消費効率",null,null,null,"基準エネルギー消費効率",null,null,null,"別紙参照"]
[null,"省エネ計算の裏付け資料\n（根拠情報記載箇所）",null,"製品情報証明書",null,null,null,"追加資料「〇〇一覧表」",null,null,null,"省エネ補助金における指定設備",null,null,null,"省エネ補助金における指定設備",null,null,null,"カタログの3ページ",null,null,null,"例）カタログの51ページ\n例）追加資料「〇〇一覧表」",null,null,null,"別紙参照"]
[null,"省エネ要因",null,"省エネモーターの採用による加工サイクルタイム短縮を実現。",null,null,null,"パワーセーブ機能が搭載されたことにより、工具交換時等の機械停止時の消費電力量を削減。",null,null,null,"エネルギー消費効率の改善。",null,null,null,"エネルギー消費効率の改善。",null,null,null,"エネルギー消費効率の改善。",null,null,null,"エネルギー消費効率の改善。",null,null,null,"別紙参照"]
[null,"年間\nエネルギー使用量",null,"導入設備",null,"一代前モデル",null,"導入設備",null,"一代前モデル",null,"導入設備",null,"一代前モデル",null,"導入設備",null,"一代前モデル",null,"導入設備",null,"一代前モデル",null,"導入設備",null,"一代前モデル",null,"導入設備",null,"一代前モデル"]
[null,null,"製品名","〇〇マシニングセンタ",null,"〇〇マシニングセンタ",null,"〇〇加工機",null,"〇〇加工機",null,"〇〇エアコン",null,null,null,"〇〇エアコン",null,null,null,"〇〇エアコン",null,"〇〇エアコン",null,"○○照明",null,"○○照明",null,"照明器具",null,"照明器具"]
[null,null,"製造メーカー","株式会社〇〇〇",null,"株式会社〇〇〇",null,"株式会社〇〇〇",null,"株式会社〇〇〇",null,"株式会社〇〇〇〇",null,null,null,"株式会社〇〇〇〇",null,null,null,"株式会社〇〇〇〇",null,"株式会社〇〇〇〇",null,"株式会社○○",null,"株式会社○○",null,"別紙参照",null,"別紙参照"]
[null,null,"型番","〇〇 - 〇〇",null,"〇〇 - 〇〇",null,"〇〇 - 〇〇",null,"〇〇 - 〇〇",null,"〇〇 - 〇〇",null,null,null,"〇〇 - 〇〇",null,null,null,"〇〇 - 〇〇",null,"〇〇 - 〇〇",null,"〇〇 - 〇〇",null,"〇〇 - 〇〇",null,"別紙参照",null,"別紙参照"]
[null,null,"導入台数",3,"台",3,"台",2,"台",2,"台",3,"台",null,"台",2,"台",null,"台",5,"台",5,"台",4,"台",4,"台",null,"台",null,"台"]
[null,null,"1台あたりの\n使用エネルギー","1サイクルあたりの電力使用量：0.875ｋｗｈ",null,"1サイクルあたりの電力使用量：0.967ｋｗｈ",null,"○○製品を加工する際の1サイクルあたりの電力使用量：20.2kWh",null,"○○製品を加工する際の1サイクルあたりの電力使用量：28.7kWh",null,"冷房能力：7.10kW",null,null,null,"冷房能力：7.10kW",null,null,null,"冷房能力：7.10kW\n暖房能力：8.00kW\n冷房消費電力：2.03kW\n暖房消費電力：2.12kW",null,"冷房能力：7.10kW\n暖房能力：8.00kW\n冷房消費電力：2.04kW\n暖房消費電力：2.24kW",null,"定格消費電力：31.9W\n光束：5200.00lm",null,"定格消費電力：34.60W\n光束：5000.00lm",null,"別紙参照",null,"別紙参照"]
[null,null,"年間\nエネルギー使用量\n計算式","算出根拠は、別添「製品情報証明書」を利用。\n年間の想定サイクル数を300回として算出。\n\n導入設備の1サイクルあたりの電力使用量[kWh] × 年間想定サイクル数 × 導入台数　3台 ＝ 年間エネルギー使用量[kWh/年]\n　\n導入設備の電力使用量 ： 787.5kWh/年",null,"算出根拠は、別添「製品情報証明書」を利用。\n年間の想定サイクル数を300回として計算。　　\n\n導入設備の1サイクルあたりの電力使用量[kWh] × 年間想定サイクル数 × 導入台数　3台 ＝ 年間エネルギー使用量[kWh/年]\n\n一代前モデルの電力使用量 ： 870.3kWh/年",null,"年間の想定サイクル数を200回として以下の式に代入し、年間エネルギー使用量[kWh/年]を算出。\n\n導入設備の1サイクルあたりの電力使用量[kWh] × 年間想定サイクル数 × 導入台数　2台 ＝ 年間エネルギー使用量[kWh/年]\n\n年間エネルギー使用量：8,080kWh/年",null,"年間の想定サイクル数を200回として以下の式に代入し、年間エネルギー使用量[kWh/年]を算出。\n\n一代前モデルの1サイクルあたりの電力使用量[kWh] × 年間想定サイクル数 × 導入台数　2台 ＝ 年間エネルギー使用量[kWh/年]\n\n年間エネルギー使用量：11,480kWh/年",null,null,null,null,null,null,null,null,null,"算出根拠は、別添「申請サポートツール（空調）」を利用。\n　　\n導入設備の電力使用量 ： 5460.900kWh/年",null,"算出根拠は、別添「申請サポートツール（空調）」を利用。\n\n一代前モデルの電力使用量 ： 5,553.200kWh/年",null,"算出根拠は、別添「申請サポートツール（照明）」を利用。　　\n\n導入予定設備の電力使用量 ： 433.84kWh/年",null,"算出根拠は、別添「申請サポートツール（照明）」を利用。\n\n比較対象設備の電力使用量 ： 470.56kWh/年",null,"別紙参照",null,"別紙参照"]
[null,null,"計算結果",787.5,"kWh",870.3,{"$f":"E22","v":"kWh"},8080,"kWh",11480,{"$f":"I22","v":"kWh"},null,"kWh",null,{"$f":"M22","v":"kWh"},null,"kWh",null,{"$f":"Q22","v":"kWh"},5460.9,"kWh",5553.2,{"$f":"U22","v":"kWh"},433.84,"kWh",470.56,{"$f":"Y22","v":"kWh"},372.59,"kWh",404.13,{"$f":"AC22","v":"kWh"}]
[null,"年間見込み\n省エネルギー量\n[kl/年]","年間見込み\n省エネルギー量",{"$f":"F22-D22","v":82.799999999999955},"kWh",null,null,{"$f":"J22-H22","v":3400},"kWh",null,null,{"$f":"N22-L22","v":0},"kWh",null,null,{"$f":"R22-P22","v":0},"kWh",null,null,{"$f":"V22-T22","v":92.300000000000182},"kWh",null,null,{"$f":"Z22-X22","v":36.720000000000027},"kWh",null,null,{"$f":"AD22-AB22","v":31.54000000000002},"kWh"]
[]
[null,null,"原油換算\n計算式","見込み省エネルギー量を以下の式に代入し、原油換算[kl/年]する。\n見込み省エネルギー量[kWh/年]×熱量換算係数[昼間電力：千kWh/9.97]×原油換算係数[10GJ=0.258]\n\n見込み省エネルギー量 ： 82.8[kWh/年] ÷ 1,000 × 9.97[GJ]（熱量換算係数） ÷ 10 × 0.258[ｋｌ]（原油換算係数） = 0.021298[kl/年]\n※算出根拠は、申請者自ら手計算した見込み省エネルギー計算を記載してもよい。",null,null,null,"見込み省エネルギー量を以下の式に代入し、原油換算[kl/年]する。\n見込み省エネルギー量[kWh/年]×熱量換算係数[昼間電力：千kWh/9.97]×原油換算係数[10GJ=0.258]\n\n見込み省エネルギー量 ： 3,400[kWh/年] ÷ 1,000 × 9.97[GJ]（熱量換算係数） ÷ 10 × 0.258[ｋｌ]（原油換算係数） = 0.875[kl/年]\n※算出根拠は、申請者自ら手計算した見込み省エネルギー計算を記載してもよい。",null,null,null,null,null,null,null,null,null,null,null,"見込み省エネルギー量を以下の式に代入し、原油換算[kl/年]する。\n見込み省エネルギー量[kWh/年]×熱量換算係数[昼間電力：千kWh/9.97]×原油換算係数[10GJ=0.258]\n\n見込み省エネルギー量 ： 92.300[kWh/年] ÷ 1,000 × 9.97[GJ]（熱量換算係数） ÷ 10 × 0.258[ｋｌ]（原油換算係数） = 0.024[kl/年]\n※算出根拠は、申請者自ら手計算した見込み省エネルギー計算を記載してもよい。",null,null,null,"見込み省エネルギー量を以下の式に代入し、原油換算[kl/年]する。\n見込み省エネルギー量[kWh/年]×熱量換算係数[昼間電力：千kWh/9.97]×原油換算係数[10GJ=0.258]\n\n見込み省エネルギー量 ： 36.720[kWh/年] ÷ 1,000 × 9.97[GJ]（熱量換算係数） ÷ 10 × 0.258[ｋｌ]（原油換算係数） = 0.009[kl/年]\n※算出根拠は、申請者自ら手計算した見込み省エネルギー計算を記載してもよい。",null,null,null,"別紙参照"]
[null,null,"計算結果",2.1298000000000001E-2,"kl/年",null,null,0.875,"kl/年",null,null,3.399,"kl/年",null,null,2.266,"kl/年",null,null,2.4E-2,"kl/年",null,null,8.9999999999999993E-3,"kl/年",null,null,8.0000000000000002E-3,"kl/年"]
[null,"年間見込み\n省エネルギー率\n[%/年]","自動計算",{"$f":"IFERROR(ROUND((1-(D22/F22)),5)*100,\"\")","v":9.5139999999999993},"％",null,null,{"$f":"IFERROR(ROUND((1-(H22/J22)),5)*100,\"\")","v":29.616999999999997},"％",null,null,{"$f":"IFERROR(ROUND((1-(L22/N22)),5)*100,\"\")","v":""},"％",null,null,{"$f":"IFERROR(ROUND((1-(P22/R22)),5)*100,\"\")","v":""},"％",null,null,{"$f":"IFERROR(ROUND((1-(T22/V22)),5)*100,\"\")","v":1.6619999999999999},"％",null,null,{"$f":"IFERROR(ROUND((1-(X22/Z22)),5)*100,\"\")","v":7.8029999999999999},"％",null,null,{"$f":"IFERROR(ROUND((1-(AB22/AD22)),5)*100,\"\")","v":7.8040000000000003},"％"]
["（注）\nトップランナー基準とは、現在商品化されている製品のうち、エネルギー消費効率が最も優れているもの（トップランナー）の性能に加え、\n技術開発の将来の見通し等を勘案して定めているものです。トップランナー制度に関する詳細については、資源エネルギー庁のホームページ（下記URL）をご参照ください。\nhttps://www.enecho.meti.go.jp/category/saving_and_new/saving/enterprise/equipment/#t01"]
[]
[]
[]
[]
["（注）\n導入設備と一代前モデルの設備を比較し、エネルギー消費効率が改善されていることを明示してください。\n導入設備と同一製造メーカー同等製品にて、機能や構造などエネルギー使用量に係る変更があった場合をモデル変更とみなし、導入設備に対して最も近いモデル変更を一代前とし、その変更前の設備を原則として一代前モデルとします。\nどのような技術を用いてそのエネルギー消費効率の改善を実現しているかを説明すること。カタログや仕様書又は実測データ、図面等の省エネ計算の裏付け資料を添付してください。"]

{"sheet":"（別添４）エネルギー消費効率の根拠（要件ア）","index":16,"n_rows":63,"n_cols":243,"rows_kept":63,"cut":false,"hidden":false,"merged":[[22,224,23,226],[22,228,23,230],[22,232,23,234],[22,236,23,238],[22,240,23,242],[22,4,23,6],[22,8,23,10],[22,12,23,14],[22,16,23,18],[22,20,23,22],[22,24,23,26],[22,28,23,30],[22,32,23,34],[22,36,23,38],[22,40,23,42],[22,44,23,46],[22,48,23,50],[22,52,23,54],[22,56,23,58],[22,60,23,62],[22,64,23,66],[22,68,23,70],[22,11,23,11],[22,19,23,19],[22,35,23,35],[22,39,23,39],[22,43,23,43],[22,47,23,47],[22,51,23,51],[22,63,23,63],[22,67,23,67],[22,71,23,71],[26,220,26,222],[26,224,26,226],[26,228,26,230],[26,232,26,234],[26,236,26,238],[26,240,26,242],[25,240,25,242],[25,220,25,222],[25,224,25,226],[25,228,25,230],[25,232,25,234],[25,236,25,238],[24,219,24,222],[24,223,24,226],[24,227,24,230],[24,231,24,234],[24,235,24,238],[24,239,24,242],[20,219,20,220],[20,221,20,222],[20,223,20,224],[20,225,20,226],[20,227,20,228],[20,229,20,230],[20,231,20,232],[20,233,20,234],[20,235,20,236],[20,237,20,238],[20,239,20,240],[20,241,20,242],[19,219,19,220],[19,221,19,222],[19,223,19,224],[19,225,19,226],[19,227,19,228],[19,229,19,230],[19,231,19,232],[19,233,19,234],[19,235,19,236],[19,237,19,238],[19,239,19,240],[19,241,19,242],[17,219,17,220],[17,221,17,222],[17,223,17,224],[17,225,17,226],[17,227,17,228],[17,229,17,230],[17,231,17,232],[17,233,17,234],[17,235,17,236],[17,237,17,238],[17,239,17,240],[17,241,17,242],[16,219,16,220],[16,221,16,222],[16,223,16,224],[16,225,16,226],[16,227,16,228],[16,229,16,230],[16,231,16,232],[16,233,16,234],[16,235,16,236],[16,237,16,238],[16,239,16,240],[16,241,16,242],[15,219,15,220],[15,221,15,222],[15,223,15,224],[15,225,15,226],[15,227,15,228],[15,229,15,230],[15,231,15,232],[15,233,15,234],[15,235,15,236],[15,237,15,238],[15,239,15,240],[15,241,15,242],[14,219,14,220],[14,221,14,222],[14,223,14,224],[14,225,14,226],[14,227,14,228],[14,229,14,230],[14,231,14,232],[14,233,14,234],[14,235,14,236],[14,237,14,238],[14,239,14,240],[14,241,14,242],[13,239,13,242],[13,219,13,222],[13,223,13,226],[13,227,13,230],[13,231,13,234],[13,235,13,238],[12,219,12,222],[12,223,12,226],[12,227,12,230],[12,231,12,234],[12,235,12,238],[12,239,12,242],[11,239,11,242],[11,219,11,222],[11,223,11,226],[11,227,11,230],[11,231,11,234],[11,235,11,238],[10,219,10,222],[10,223,10,226],[10,227,10,230],[10,231,10,234],[10,235,10,238],[10,239,10,242],[9,239,9,242],[9,219,9,222],[9,223,9,226],[9,227,9,230],[9,231,9,234],[9,235,9,238],[8,219,8,222],[8,223,8,226],[8,227,8,230],[8,231,8,234],[8,235,8,238],[8,239,8,242],[7,239,7,242],[7,219,7,222],[7,223,7,226],[7,227,7,230],[7,231,7,234],[7,235,7,238],[25,208,25,210],[25,212,25,214],[25,216,25,218],[26,168,26,170],[26,172,26,174],[26,176,26,178],[26,180,26,182],[26,184,26,186],[26,188,26,190],[26,192,26,194],[26,196,26,198],[26,200,26,202],[26,204,26,206],[26,208,26,210],[26,212,26,214],[26,216,26,218],[25,188,25,190],[25,192,25,194],[25,196,25,198],[25,200,25,202],[25,204,25,206],[25,168,25,170],[25,172,25,174],[25,176,25,178],[25,180,25,182],[25,184,25,186],[20,215,20,216],[20,217,20,218],[24,167,24,170],[24,171,24,174],[24,175,24,178],[24,179,24,182],[24,183,24,186],[24,187,24,190],[24,191,24,194],[24,195,24,198],[24,199,24,202],[24,203,24,206],[24,207,24,210],[24,211,24,214],[24,215,24,218],[20,203,20,204],[20,205,20,206],[20,207,20,208],[20,209,20,210],[20,211,20,212],[20,193,20,194],[20,195,20,196],[20,197,20,198],[20,199,20,200],[20,201,20,202],[20,167,20,168],[20,169,20,170],[20,171,20,172],[20,173,20,174],[20,175,20,176],[20,177,20,178],[20,179,20,180],[20,181,20,182],[20,183,20,184],[20,185,20,186],[20,187,20,188],[20,189,20,190],[20,191,20,192],[19,203,19,204],[19,205,19,206],[19,207,19,208],[19,209,19,210],[19,193,19,194],[19,195,19,196],[19,197,19,198],[19,199,19,200],[19,201,19,202],[17,213,17,214],[20,213,20,214],[17,215,17,216],[17,217,17,218],[19,167,19,168],[19,169,19,170],[19,171,19,172],[19,173,19,174],[19,175,19,176],[19,177,19,178],[19,179,19,180],[19,181,19,182],[19,183,19,184],[19,185,19,186],[19,187,19,188],[19,189,19,190],[19,191,19,192],[17,203,17,204],[17,205,17,206],[17,207,17,208],[17,209,17,210],[17,211,17,212],[17,193,17,194],[17,195,17,196],[17,197,17,198],[17,199,17,200],[17,201,17,202],[19,213,19,214],[19,215,19,216],[19,217,19,218],[19,211,19,212],[17,167,17,168],[17,169,17,170],[17,171,17,172],[17,173,17,174],[17,175,17,176],[17,177,17,178],[17,179,17,180],[17,181,17,182],[17,183,17,184],[17,185,17,186],[17,187,17,188],[17,189,17,190],[17,191,17,192],[16,203,16,204],[16,205,16,206],[16,207,16,208],[16,209,16,210],[16,193,16,194],[16,195,16,196],[16,197,16,198],[16,199,16,200],[16,201,16,202],[15,213,15,214],[15,215,15,216],[15,217,15,218],[16,167,16,168],[16,169,16,170],[16,171,16,172],[16,173,16,174],[16,175,16,176],[16,177,16,178],[16,179,16,180],[16,181,16,182],[16,183,16,184],[16,185,16,186],[16,187,16,188],[16,189,16,190],[16,191,16,192],[15,203,15,204],[15,205,15,206],[15,207,15,208],[15,209,15,210],[15,211,15,212],[15,193,15,194],[15,195,15,196],[15,197,15,198],[15,199,15,200],[15,201,15,202],[16,213,16,214],[16,215,16,216],[16,217,16,218],[16,211,16,212],[15,167,15,168],[15,169,15,170],[15,171,15,172],[15,173,15,174],[15,175,15,176],[15,177,15,178],[15,179,15,180],[15,181,15,182],[15,183,15,184],[15,185,15,186],[15,187,15,188],[15,189,15,190],[15,191,15,192],[14,203,14,204],[14,205,14,206],[14,207,14,208],[14,209,14,210],[14,193,14,194],[14,195,14,196],[14,197,14,198],[14,199,14,200],[14,201,14,202],[13,207,13,210],[13,211,13,214],[13,215,13,218],[14,167,14,168],[14,169,14,170],[14,171,14,172],[14,173,14,174],[14,175,14,176],[14,177,14,178],[14,179,14,180],[14,181,14,182],[14,183,14,184],[14,185,14,186],[14,187,14,188],[14,189,14,190],[14,191,14,192],[13,187,13,190],[13,191,13,194],[13,195,13,198],[13,199,13,202],[13,203,13,206],[13,167,13,170],[13,171,13,174],[13,175,13,178],[13,179,13,182],[13,183,13,186],[14,213,14,214],[14,215,14,216],[14,217,14,218],[14,211,14,212],[11,207,11,210],[11,211,11,214],[11,215,11,218],[12,167,12,170],[12,171,12,174],[12,175,12,178],[12,179,12,182],[12,183,12,186],[12,187,12,190],[12,191,12,194],[12,195,12,198],[12,199,12,202],[12,203,12,206],[12,207,12,210],[12,211,12,214],[12,215,12,218],[11,187,11,190],[11,191,11,194],[11,195,11,198],[11,199,11,202],[11,203,11,206],[11,167,11,170],[11,171,11,174],[11,175,11,178],[11,179,11,182],[11,183,11,186],[9,207,9,210],[9,211,9,214],[9,215,9,218],[10,167,10,170],[10,171,10,174],[10,175,10,178],[10,179,10,182],[10,183,10,186],[10,187,10,190],[10,191,10,194],[10,195,10,198],[10,199,10,202],[10,203,10,206],[10,207,10,210],[10,211,10,214],[10,215,10,218],[9,187,9,190],[9,191,9,194],[9,195,9,198],[9,199,9,202],[9,203,9,206],[9,167,9,170],[9,171,9,174],[9,175,9,178],[9,179,9,182],[9,183,9,186],[7,207,7,210],[7,211,7,214],[7,215,7,218],[8,167,8,170],[8,171,8,174],[8,175,8,178],[8,179,8,182],[8,183,8,186],[8,187,8,190],[8,191,8,194],[8,195,8,198],[8,199,8,202],[8,203,8,206],[8,207,8,210],[8,211,8,214],[8,215,8,218],[7,187,7,190],[7,191,7,194],[7,195,7,198],[7,199,7,202],[7,203,7,206],[7,167,7,170],[7,171,7,174],[7,175,7,178],[7,179,7,182],[7,183,7,186],[25,156,25,158],[25,160,25,162],[25,164,25,166],[26,116,26,118],[26,120,26,122],[26,124,26,126],[26,128,26,130],[26,132,26,134],[26,136,26,138],[26,140,26,142],[26,144,26,146],[26,148,26,150],[26,152,26,154],[26,156,26,158],[26,160,26,162],[26,164,26,166],[25,136,25,138],[25,140,25,142],[25,144,25,146],[25,148,25,150],[25,152,25,154],[25,116,25,118],[25,120,25,122],[25,124,25,126],[25,128,25,130],[25,132,25,134],[20,163,20,164],[20,165,20,166],[24,115,24,118],[24,119,24,122],[24,123,24,126],[24,127,24,130],[24,131,24,134],[24,135,24,138],[24,139,24,142],[24,143,24,146],[24,147,24,150],[24,151,24,154],[24,155,24,158],[24,159,24,162],[24,163,24,166],[20,151,20,152],[20,153,20,154],[20,155,20,156],[20,157,20,158],[20,159,20,160],[20,141,20,142],[20,143,20,144],[20,145,20,146],[20,147,20,148],[20,149,20,150],[20,115,20,116],[20,117,20,118],[20,119,20,120],[20,121,20,122],[20,123,20,124],[20,125,20,126],[20,127,20,128],[20,129,20,130],[20,131,20,132],[20,133,20,134],[20,135,20,136],[20,137,20,138],[20,139,20,140],[19,151,19,152],[19,153,19,154],[19,155,19,156],[19,157,19,158],[19,141,19,142],[19,143,19,144],[19,145,19,146],[19,147,19,148],[19,149,19,150],[17,161,17,162],[20,161,20,162],[17,163,17,164],[17,165,17,166],[19,115,19,116],[19,117,19,118],[19,119,19,120],[19,121,19,122],[19,123,19,124],[19,125,19,126],[19,127,19,128],[19,129,19,130],[19,131,19,132],[19,133,19,134],[19,135,19,136],[19,137,19,138],[19,139,19,140],[17,151,17,152],[17,153,17,154],[17,155,17,156],[17,157,17,158],[17,159,17,160],[17,141,17,142],[17,143,17,144],[17,145,17,146],[17,147,17,148],[17,149,17,150],[19,161,19,162],[19,163,19,164],[19,165,19,166],[19,159,19,160],[17,115,17,116],[17,117,17,118],[17,119,17,120],[17,121,17,122],[17,123,17,124],[17,125,17,126],[17,127,17,128],[17,129,17,130],[17,131,17,132],[17,133,17,134],[17,135,17,136],[17,137,17,138],[17,139,17,140],[16,151,16,152],[16,153,16,154],[16,155,16,156],[16,157,16,158],[16,141,16,142],[16,143,16,144],[16,145,16,146],[16,147,16,148],[16,149,16,150],[15,161,15,162],[15,163,15,164],[15,165,15,166],[16,115,16,116],[16,117,16,118],[16,119,16,120],[16,121,16,122],[16,123,16,124],[16,125,16,126],[16,127,16,128],[16,129,16,130],[16,131,16,132],[16,133,16,134],[16,135,16,136],[16,137,16,138],[16,139,16,140],[15,151,15,152],[15,153,15,154],[15,155,15,156],[15,157,15,158],[15,159,15,160],[15,141,15,142],[15,143,15,144],[15,145,15,146],[15,147,15,148],[15,149,15,150],[16,161,16,162],[16,163,16,164],[16,165,16,166],[16,159,16,160],[15,115,15,116],[15,117,15,118],[15,119,15,120],[15,121,15,122],[15,123,15,124],[15,125,15,126],[15,127,15,128],[15,129,15,130],[15,131,15,132],[15,133,15,134],[15,135,15,136],[15,137,15,138],[15,139,15,140],[14,151,14,152],[14,153,14,154],[14,155,14,156],[14,157,14,158],[14,141,14,142],[14,143,14,144],[14,145,14,146],[14,147,14,148],[14,149,14,150],[13,155,13,158],[13,159,13,162],[13,163,13,166],[14,115,14,116],[14,117,14,118],[14,119,14,120],[14,121,14,122],[14,123,14,124],[14,125,14,126],[14,127,14,128],[14,129,14,130],[14,131,14,132],[14,133,14,134],[14,135,14,136],[14,137,14,138],[14,139,14,140],[13,135,13,138],[13,139,13,142],[13,143,13,146],[13,147,13,150],[13,151,13,154],[13,115,13,118],[13,119,13,122],[13,123,13,126],[13,127,13,130],[13,131,13,134],[14,161,14,162],[14,163,14,164],[14,165,14,166],[14,159,14,160],[11,155,11,158],[11,159,11,162],[11,163,11,166],[12,115,12,118],[12,119,12,122],[12,123,12,126],[12,127,12,130],[12,131,12,134],[12,135,12,138],[12,139,12,142],[12,143,12,146],[12,147,12,150],[12,151,12,154],[12,155,12,158],[12,159,12,162],[12,163,12,166],[11,135,11,138],[11,139,11,142],[11,143,11,146],[11,147,11,150],[11,151,11,154],[11,115,11,118],[11,119,11,122],[11,123,11,126],[11,127,11,130],[11,131,11,134],[9,155,9,158],[9,159,9,162],[9,163,9,166],[10,115,10,118],[10,119,10,122],[10,123,10,126],[10,127,10,130],[10,131,10,134],[10,135,10,138],[10,139,10,142],[10,143,10,146],[10,147,10,150],[10,151,10,154],[10,155,10,158],[10,159,10,162],[10,163,10,166],[9,135,9,138],[9,139,9,142],[9,143,9,146],[9,147,9,150],[9,151,9,154],[9,115,9,118],[9,119,9,122],[9,123,9,126],[9,127,9,130],[9,131,9,134],[7,155,7,158],[7,159,7,162],[7,163,7,166],[8,115,8,118],[8,119,8,122],[8,123,8,126],[8,127,8,130],[8,131,8,134],[8,135,8,138],[8,139,8,142],[8,143,8,146],[8,147,8,150],[8,151,8,154],[8,155,8,158],[8,159,8,162],[8,163,8,166],[7,135,7,138],[7,139,7,142],[7,143,7,146],[7,147,7,150],[7,151,7,154],[7,115,7,118],[7,119,7,122],[7,123,7,126],[7,127,7,130],[7,131,7,134],[25,104,25,106],[25,108,25,110],[25,112,25,114],[26,64,26,66],[26,68,26,70],[26,72,26,74],[26,76,26,78],[26,80,26,82],[26,84,26,86],[26,88,26,90],[26,92,26,94],[26,96,26,98],[26,100,26,102],[26,104,26,106],[26,108,26,110],[26,112,26,114],[25,84,25,86],[25,88,25,90],[25,92,25,94],[25,96,25,98],[25,100,25,102],[25,64,25,66],[25,68,25,70],[25,72,25,74],[25,76,25,78],[25,80,25,82],[20,111,20,112],[20,113,20,114],[24,63,24,66],[24,67,24,70],[24,71,24,74],[24,75,24,78],[24,79,24,82],[24,83,24,86],[24,87,24,90],[24,91,24,94],[24,95,24,98],[24,99,24,102],[24,103,24,106],[24,107,24,110],[24,111,24,114],[20,99,20,100],[20,101,20,102],[20,103,20,104],[20,105,20,106],[20,107,20,108],[20,89,20,90],[20,91,20,92],[20,93,20,94],[20,95,20,96],[20,97,20,98],[20,63,20,64],[20,65,20,66],[20,67,20,68],[20,69,20,70],[20,71,20,72],[20,73,20,74],[20,75,20,76],[20,77,20,78],[20,79,20,80],[20,81,20,82],[20,83,20,84],[20,85,20,86],[20,87,20,88],[19,99,19,100],[19,101,19,102],[19,103,19,104],[19,105,19,106],[19,89,19,90],[19,91,19,92],[19,93,19,94],[19,95,19,96],[19,97,19,98],[17,109,17,110],[20,109,20,110],[17,111,17,112],[17,113,17,114],[19,63,19,64],[19,65,19,66],[19,67,19,68],[19,69,19,70],[19,71,19,72],[19,73,19,74],[19,75,19,76],[19,77,19,78],[19,79,19,80],[19,81,19,82],[19,83,19,84],[19,85,19,86],[19,87,19,88],[17,99,17,100],[17,101,17,102],[17,103,17,104],[17,105,17,106],[17,107,17,108],[17,89,17,90],[17,91,17,92],[17,93,17,94],[17,95,17,96],[17,97,17,98],[19,109,19,110],[19,111,19,112],[19,113,19,114],[19,107,19,108],[17,63,17,64],[17,65,17,66],[17,67,17,68],[17,69,17,70],[17,71,17,72],[17,73,17,74],[17,75,17,76],[17,77,17,78],[17,79,17,80],[17,81,17,82],[17,83,17,84],[17,85,17,86],[17,87,17,88],[16,99,16,100],[16,101,16,102],[16,103,16,104],[16,105,16,106],[16,89,16,90],[16,91,16,92],[16,93,16,94],[16,95,16,96],[16,97,16,98],[15,109,15,110],[15,111,15,112],[15,113,15,114],[16,63,16,64],[16,65,16,66],[16,67,16,68],[16,69,16,70],[16,71,16,72],[16,73,16,74],[16,75,16,76],[16,77,16,78],[16,79,16,80],[16,81,16,82],[16,83,16,84],[16,85,16,86],[16,87,16,88],[15,99,15,100],[15,101,15,102],[15,103,15,104],[15,105,15,106],[15,107,15,108],[15,89,15,90],[15,91,15,92],[15,93,15,94],[15,95,15,96],[15,97,15,98],[16,109,16,110],[16,111,16,112],[16,113,16,114],[16,107,16,108],[15,63,15,64],[15,65,15,66],[15,67,15,68],[15,69,15,70],[15,71,15,72],[15,73,15,74],[15,75,15,76],[15,77,15,78],[15,79,15,80],[15,81,15,82],[15,83,15,84],[15,85,15,86],[15,87,15,88],[14,99,14,100],[14,101,14,102],[14,103,14,104],[14,105,14,106],[14,89,14,90],[14,91,14,92],[14,93,14,94],[14,95,14,96],[14,97,14,98],[13,103,13,106],[13,107,13,110],[13,111,13,114],[14,63,14,64],[14,65,14,66],[14,67,14,68],[14,69,14,70],[14,71,14,72],[14,73,14,74],[14,75,14,76],[14,77,14,78],[14,79,14,80],[14,81,14,82],[14,83,14,84],[14,85,14,86],[14,87,14,88],[13,83,13,86],[13,87,13,90],[13,91,13,94],[13,95,13,98],[13,99,13,102],[13,63,13,66],[13,67,13,70],[13,71,13,74],[13,75,13,78],[13,79,13,82],[14,109,14,110],[14,111,14,112],[14,113,14,114],[14,107,14,108],[11,103,11,106],[11,107,11,110],[11,111,11,114],[12,63,12,66],[12,67,12,70],[12,71,12,74],[12,75,12,78],[12,79,12,82],[12,83,12,86],[12,87,12,90],[12,91,12,94],[12,95,12,98],[12,99,12,102],[12,103,12,106],[12,107,12,110],[12,111,12,114],[11,83,11,86],[11,87,11,90],[11,91,11,94],[11,95,11,98],[11,99,11,102],[11,63,11,66],[11,67,11,70],[11,71,11,74],[11,75,11,78],[11,79,11,82],[9,103,9,106],[9,107,9,110],[9,111,9,114],[10,63,10,66],[10,67,10,70],[10,71,10,74],[10,75,10,78],[10,79,10,82],[10,83,10,86],[10,87,10,90],[10,91,10,94],[10,95,10,98],[10,99,10,102],[10,103,10,106],[10,107,10,110],[10,111,10,114],[9,83,9,86],[9,87,9,90],[9,91,9,94],[9,95,9,98],[9,99,9,102],[9,63,9,66],[9,67,9,70],[9,71,9,74],[9,75,9,78],[9,79,9,82],[7,103,7,106],[7,107,7,110],[7,111,7,114],[8,63,8,66]],"merged_total":1457,"flags":["merged_cut"]}
["（別添４）エネルギー消費効率の根拠（要件ア）"]
[]
["（別添４)"]
["エネルギー消費効率の根拠（要件ア）",null,null,null,"年間見込み省エネルギー率[%]",null,{"$f":"IF(D27=\"\",\"\",AVERAGE(D27:II27))","v":""}]
[null,null,null,null,"年間見込み省エネルギー量[kl]",null,{"$f":"IF(D26=0,\"\",SUM(D26:II26))","v":""}]
[]
[]
["No",null,null,1,null,null,null,2,null,null,null,3,null,null,null,4,null,null,null,5,null,null,null,6,null,null,null,7,null,null,null,8,null,null,null,9,null,null,null,10,null,null,null,11,null,null,null,12,null,null,null,13,null,null,null,14,null,null,null,15,null,null,null,16,null,null,null,17,null,null,null,18,null,null,null,19,null,null,null,20,null,null,null,21,null,null,null,22,null,null,null,23,null,null,null,24,null,null,null,25,null,null,null,26,null,null,null,27,null,null,null,28,null,null,null,29,null,null,null,30,null,null,null,31,null,null,null,32,null,null,null,33,null,null,null,34,null,null,null,35,null,null,null,36,null,null,null,37,null,null,null,38,null,null,null,39,null,null,null,40,null,null,null,41,null,null,null,42,null,null,null,43,null,null,null,44,null,null,null,45,null,null,null,46,null,null,null,47,null,null,null,48,null,null,null,49,null,null,null,50,null,null,null,51,null,null,null,52,null,null,null,53,null,null,null,54,null,null,null,55,null,null,null,56,null,null,null,57,null,null,null,58,null,null,null,59,null,null,null,60]
["エネルギｌ消費効率の改善についての根拠","トップランナー基準"]
[null,"トップランナー基準の区分名又は数値"]
[null,"トップランナー基準の数値（導入設備）"]
[null,"比較指標/トップランナー基準\n（基準エネルギー消費効率又はその算定式）"]
[null,"省エネ計算の裏付け資料\n（根拠情報記載箇所）"]
[null,"省エネ要因"]
[null,"年間\nエネルギー使用量",null,"導入設備",null,"一代前モデル",null,"導入設備",null,"一代前モデル",null,"導入設備",null,"一代前モデル",null,"導入設備",null,"一代前モデル",null,"導入設備",null,"一代前モデル",null,"導入設備",null,"一代前モデル",null,"導入設備",null,"一代前モデル",null,"導入設備",null,"一代前モデル",null,"導入設備",null,"一代前モデル",null,"導入設備",null,"一代前モデル",null,"導入設備",null,"一代前モデル",null,"導入設備",null,"一代前モデル",null,"導入設備",null,"一代前モデル",null,"導入設備",null,"一代前モデル",null,"導入設備",null,"一代前モデル",null,"導入設備",null,"一代前モデル",null,"導入設備",null,"一代前モデル",null,"導入設備",null,"一代前モデル",null,"導入設備",null,"一代前モデル",null,"導入設備",null,"一代前モデル",null,"導入設備",null,"一代前モデル",null,"導入設備",null,"一代前モデル",null,"導入設備",null,"一代前モデル",null,"導入設備",null,"一代前モデル",null,"導入設備",null,"一代前モデル",null,"導入設備",null,"一代前モデル",null,"導入設備",null,"一代前モデル",null,"導入設備",null,"一代前モデル",null,"導入設備",null,"一代前モデル",null,"導入設備",null,"一代前モデル",null,"導入設備",null,"一代前モデル",null,"導入設備",null,"一代前モデル",null,"導入設備",null,"一代前モデル",null,"導入設備",null,"一代前モデル",null,"導入設備",null,"一代前モデル",null,"導入設備",null,"一代前モデル",null,"導入設備",null,"一代前モデル",null,"導入設備",null,"一代前モデル",null,"導入設備",null,"一代前モデル",null,"導入設備",null,"一代前モデル",null,"導入設備",null,"一代前モデル",null,"導入設備",null,"一代前モデル",null,"導入設備",null,"一代前モデル",null,"導入設備",null,"一代前モデル",null,"導入設備",null,"一代前モデル",null,"導入設備",null,"一代前モデル",null,"導入設備",null,"一代前モデル",null,"導入設備",null,"一代前モデル",null,"導入設備",null,"一代前モデル",null,"導入設備",null,"一代前モデル",null,"導入設備",null,"一代前モデル",null,"導入設備",null,"一代前モデル",null,"導入設備",null,"一代前モデル",null,"導入設備",null,"一代前モデル",null,"導入設備",null,"一代前モデル",null,"導入設備",null,"一代前モデル",null,"導入設備",null,"一代前モデル",null,"導入設備",null,"一代前モデル",null,"導入設備",null,"一代前モデル",null,"導入設備",null,"一代前モデル"]
[null,null,"製品名"]
[null,null,"製造メーカー"]
[null,null,"型番"]
[null,null,"導入台数",null,"台",null,"台",null,"台",null,"台",null,"台",null,"台",null,"台",null,"台",null,"台",null,"台",null,"台",null,"台",null,"台",null,"台",null,"台",null,"台",null,"台",null,"台",null,"台",null,"台",null,"台",null,"台",null,"台",null,"台",null,"台",null,"台",null,"台",null,"台",null,"台",null,"台",null,"台",null,"台",null,"台",null,"台",null,"台",null,"台",null,"台",null,"台",null,"台",null,"台",null,"台",null,"台",null,"台",null,"台",null,"台",null,"台",null,"台",null,"台",null,"台",null,"台",null,"台",null,"台",null,"台",null,"台",null,"台",null,"台",null,"台",null,"台",null,"台",null,"台",null,"台",null,"台",null,"台",null,"台",null,"台",null,"台",null,"台",null,"台",null,"台",null,"台",null,"台",null,"台",null,"台",null,"台",null,"台",null,"台",null,"台",null,"台",null,"台",null,"台",null,"台",null,"台",null,"台",null,"台",null,"台",null,"台",null,"台",null,"台",null,"台",null,"台",null,"台",null,"台",null,"台",null,"台",null,"台",null,"台",null,"台",null,"台",null,"台",null,"台",null,"台",null,"台",null,"台",null,"台",null,"台",null,"台",null,"台",null,"台",null,"台",null,"台",null,"台",null,"台",null,"台",null,"台",null,"台",null,"台",null,"台",null,"台",null,"台",null,"台"]
[null,null,"1台あたりの\n使用エネルギー"]
[null,null,"年間\nエネルギー使用量\n計算式"]
[null,null,"計算結果",null,"単位を選択してください",null,{"$f":"E22","v":"単位を選択してください"},null,"単位を選択してください",null,{"$f":"I22","v":"単位を選択してください"},null,"単位を選択してください",null,{"$f":"M22","v":"単位を選択してください"},null,"単位を選択してください",null,{"$f":"Q22","v":"単位を選択してください"},null,"単位を選択してください",null,{"$f":"U22","v":"単位を選択してください"},null,"単位を選択してください",null,{"$f":"Y22","v":"単位を選択してください"},null,"単位を選択してください",null,{"$f":"AC22","v":"単位を選択してください"},null,"単位を選択してください",null,"単位を選択してください",null,"単位を選択してください",null,"単位を選択してください",null,"単位を選択してください",null,"単位を選択してください",null,"単位を選択してください",null,"単位を選択してください",null,"単位を選択してください",null,"単位を選択してください",null,"単位を選択してください",null,"単位を選択してください",null,"単位を選択してください",null,"単位を選択してください",null,"単位を選択してください",null,"単位を選択してください",null,"単位を選択してください",null,"単位を選択してください",null,"単位を選択してください",null,"単位を選択してください",null,"単位を選択してください",null,"単位を選択してください",null,"単位を選択してください",null,"単位を選択してください",null,"単位を選択してください",null,"単位を選択してください",null,"単位を選択してください",null,"単位を選択してください",null,"単位を選択してください",null,"単位を選択してください",null,"単位を選択してください",null,"単位を選択してください",null,"単位を選択してください",null,"単位を選択してください",null,"単位を選択してください",null,"単位を選択してください",null,"単位を選択してください",null,"単位を選択してください",null,"単位を選択してください",null,"単位を選択してください",null,"単位を選択してください",null,"単位を選択してください",null,"単位を選択してください",null,"単位を選択してください",null,"単位を選択してください",null,"単位を選択してください",null,"単位を選択してください",null,"単位を選択してください",null,"単位を選択してください",null,"単位を選択してください",null,"単位を選択してください",null,"単位を選択してください",null,"単位を選択してください",null,"単位を選択してください",null,"単位を選択してください",null,"単位を選択してください",null,"単位を選択してください",null,"単位を選択してください",null,"単位を選択してください",null,"単位を選択してください",null,"単位を選択してください",null,"単位を選択してください",null,"単位を選択してください",null,"単位を選択してください",null,"単位を選択してください",null,"単位を選択してください",null,"単位を選択してください",null,"単位を選択してください",null,"単位を選択してください",null,"単位を選択してください",null,"単位を選択してください",null,"単位を選択してください",null,"単位を選択してください",null,"単位を選択してください",null,"単位を選択してください",null,"単位を選択してください",null,"単位を選択してください",null,"単位を選択してください",null,"単位を選択してください",null,"単位を選択してください",null,"単位を選択してください",null,"単位を選択してください",null,"単位を選択してください",null,"単位を選択してください",null,"単位を選択してください",null,"単位を選択してください",null,"単位を選択してください",null,"単位を選択してください",null,"単位を選択してください",null,"単位を選択してください",null,"単位を選択してください",null,"単位を選択してください",null,"単位を選択してください",null,"単位を選択してください",null,"単位を選択してください",null,"単位を選択してください",null,"単位を選択してください",null,"単位を選択してください",null,"単位を選択してください",null,"単位を選択してください",null,"単位を選択してください",null,"単位を選択してください",null,"単位を選択してください",null,"単位を選択してください",null,"単位を選択してください",null,"単位を選択してください"]
[null,"年間見込み\n省エネルギー量\n[kl/年]","年間見込み\n省エネルギー量",{"$f":"F22-D22","v":0},{"$f":"E22","v":"単位を選択してください"},null,null,{"$f":"J22-H22","v":0},{"$f":"I22","v":"単位を選択してください"},null,null,{"$f":"N22-L22","v":0},{"$f":"M22","v":"単位を選択してください"},null,null,{"$f":"R22-P22","v":0},{"$f":"Q22","v":"単位を選択してください"},null,null,{"$f":"V22-T22","v":0},{"$f":"U22","v":"単位を選択してください"},null,null,{"$f":"Z22-X22","v":0},{"$f":"Y22","v":"単位を選択してください"},null,null,{"$f":"AD22-AB22","v":0},{"$f":"AC22","v":"単位を選択してください"},null,null,{"$f":"AH22-AF22","v":0},{"$f":"AG22","v":"単位を選択してください"},null,null,{"$f":"AL22-AJ22","v":0},{"$f":"AK22","v":"単位を選択してください"},null,null,{"$f":"AP22-AN22","v":0},{"$f":"AO22","v":"単位を選択してください"},null,null,{"$f":"AT22-AR22","v":0},{"$f":"AS22","v":"単位を選択してください"},null,null,{"$f":"AX22-AV22","v":0},{"$f":"AW22","v":"単位を選択してください"},null,null,{"$f":"BB22-AZ22","v":0},{"$f":"BA22","v":"単位を選択してください"},null,null,{"$f":"BF22-BD22","v":0},{"$f":"BE22","v":"単位を選択してください"},null,null,{"$f":"BJ22-BH22","v":0},{"$f":"BI22","v":"単位を選択してください"},null,null,{"$f":"BN22-BL22","v":0},{"$f":"BM22","v":"単位を選択してください"},null,null,{"$f":"BR22-BP22","v":0},{"$f":"BQ22","v":"単位を選択してください"},null,null,{"$f":"BV22-BT22","v":0},{"$f":"BU22","v":"単位を選択してください"},null,null,{"$f":"BZ22-BX22","v":0},{"$f":"BY22","v":"単位を選択してください"},null,null,{"$f":"CD22-CB22","v":0},{"$f":"CC22","v":"単位を選択してください"},null,null,{"$f":"CH22-CF22","v":0},{"$f":"CG22","v":"単位を選択してください"},null,null,{"$f":"CL22-CJ22","v":0},{"$f":"CK22","v":"単位を選択してください"},null,null,{"$f":"CP22-CN22","v":0},{"$f":"CO22","v":"単位を選択してください"},null,null,{"$f":"CT22-CR22","v":0},{"$f":"CS22","v":"単位を選択してください"},null,null,{"$f":"CX22-CV22","v":0},{"$f":"CW22","v":"単位を選択してください"},null,null,{"$f":"DB22-CZ22","v":0},{"$f":"DA22","v":"単位を選択してください"},null,null,{"$f":"DF22-DD22","v":0},{"$f":"DE22","v":"単位を選択してください"},null,null,{"$f":"DJ22-DH22","v":0},{"$f":"DI22","v":"単位を選択してください"},null,null,{"$f":"DN22-DL22","v":0},{"$f":"DM22","v":"単位を選択してください"},null,null,{"$f":"DR22-DP22","v":0},{"$f":"DQ22","v":"単位を選択してください"},null,null,{"$f":"DV22-DT22","v":0},{"$f":"DU22","v":"単位を選択してください"},null,null,{"$f":"DZ22-DX22","v":0},{"$f":"DY22","v":"単位を選択してください"},null,null,{"$f":"ED22-EB22","v":0},{"$f":"EC22","v":"単位を選択してください"},null,null,{"$f":"EH22-EF22","v":0},{"$f":"EG22","v":"単位を選択してください"},null,null,{"$f":"EL22-EJ22","v":0},{"$f":"EK22","v":"単位を選択してください"},null,null,{"$f":"EP22-EN22","v":0},{"$f":"EO22","v":"単位を選択してください"},null,null,{"$f":"ET22-ER22","v":0},{"$f":"ES22","v":"単位を選択してください"},null,null,{"$f":"EX22-EV22","v":0},{"$f":"EW22","v":"単位を選択してください"},null,null,{"$f":"FB22-EZ22","v":0},{"$f":"FA22","v":"単位を選択してください"},null,null,{"$f":"FF22-FD22","v":0},{"$f":"FE22","v":"単位を選択してください"},null,null,{"$f":"FJ22-FH22","v":0},{"$f":"FI22","v":"単位を選択してください"},null,null,{"$f":"FN22-FL22","v":0},{"$f":"FM22","v":"単位を選択してください"},null,null,{"$f":"FR22-FP22","v":0},{"$f":"FQ22","v":"単位を選択してください"},null,null,{"$f":"FV22-FT22","v":0},{"$f":"FU22","v":"単位を選択してください"},null,null,{"$f":"FZ22-FX22","v":0},{"$f":"FY22","v":"単位を選択してください"},null,null,{"$f":"GD22-GB22","v":0},{"$f":"GC22","v":"単位を選択してください"},null,null,{"$f":"GH22-GF22","v":0},{"$f":"GG22","v":"単位を選択してください"},null,null,{"$f":"GL22-GJ22","v":0},{"$f":"GK22","v":"単位を選択してください"},null,null,{"$f":"GP22-GN22","v":0},{"$f":"GO22","v":"単位を選択してください"},null,null,{"$f":"GT22-GR22","v":0},{"$f":"GS22","v":"単位を選択してください"},null,null,{"$f":"GX22-GV22","v":0},{"$f":"GW22","v":"単位を選択してください"},null,null,{"$f":"HB22-GZ22","v":0},{"$f":"HA22","v":"単位を選択してください"},null,null,{"$f":"HF22-HD22","v":0},{"$f":"HE22","v":"単位を選択してください"},null,null,{"$f":"HJ22-HH22","v":0},{"$f":"HI22","v":"単位を選択してください"},null,null,{"$f":"HN22-HL22","v":0},{"$f":"HM22","v":"単位を選択してください"},null,null,{"$f":"HR22-HP22","v":0},{"$f":"HQ22","v":"単位を選択してください"},null,null,{"$f":"HV22-HT22","v":0},{"$f":"HU22","v":"単位を選択してください"},null,null,{"$f":"HZ22-HX22","v":0},{"$f":"HY22","v":"単位を選択してください"},null,null,{"$f":"ID22-IB22","v":0},{"$f":"IC22","v":"単位を選択してください"},null,null,{"$f":"IH22-IF22","v":0},{"$f":"IG22","v":"単位を選択してください"}]
[]
[null,null,"原油換算\n計算式"]
[null,null,"計算結果",null,"kl/年",null,null,null,"kl/年",null,null,null,"kl/年",null,null,null,"kl/年",null,null,null,"kl/年",null,null,null,"kl/年",null,null,null,"kl/年",null,null,null,"kl/年",null,null,null,"kl/年",null,null,null,"kl/年",null,null,null,"kl/年",null,null,null,"kl/年",null,null,null,"kl/年",null,null,null,"kl/年",null,null,null,"kl/年",null,null,null,"kl/年",null,null,null,"kl/年",null,null,null,"kl/年",null,null,null,"kl/年",null,null,null,"kl/年",null,null,null,"kl/年",null,null,null,"kl/年",null,null,null,"kl/年",null,null,null,"kl/年",null,null,null,"kl/年",null,null,null,"kl/年",null,null,null,"kl/年",null,null,null,"kl/年",null,null,null,"kl/年",null,null,null,"kl/年",null,null,null,"kl/年",null,null,null,"kl/年",null,null,null,"kl/年",null,null,null,"kl/年",null,null,null,"kl/年",null,null,null,"kl/年",null,null,null,"kl/年",null,null,null,"kl/年",null,null,null,"kl/年",null,null,null,"kl/年",null,null,null,"kl/年",null,null,null,"kl/年",null,null,null,"kl/年",null,null,null,"kl/年",null,null,null,"kl/年",null,null,null,"kl/年",null,null,null,"kl/年",null,null,null,"kl/年",null,null,null,"kl/年",null,null,null,"kl/年",null,null,null,"kl/年",null,null,null,"kl/年",null,null,null,"kl/年",null,null,null,"kl/年",null,null,null,"kl/年",null,null,null,"kl/年",null,null,null,"kl/年",null,null,null,"kl/年",null,null,null,"kl/年",null,null,null,"kl/年"]
[null,"年間見込み\n省エネルギー率\n[%/年]","自動計算",{"$f":"IFERROR(ROUND((1-(D22/F22)),5)*100,\"\")","v":""},"％",null,null,{"$f":"IFERROR(ROUND((1-(H22/J22)),5)*100,\"\")","v":""},"％",null,null,{"$f":"IFERROR(ROUND((1-(L22/N22)),5)*100,\"\")","v":""},"％",null,null,{"$f":"IFERROR(ROUND((1-(P22/R22)),5)*100,\"\")","v":""},"％",null,null,{"$f":"IFERROR(ROUND((1-(T22/V22)),5)*100,\"\")","v":""},"％",null,null,{"$f":"IFERROR(ROUND((1-(X22/Z22)),5)*100,\"\")","v":""},"％",null,null,{"$f":"IFERROR(ROUND((1-(AB22/AD22)),5)*100,\"\")","v":""},"％",null,null,{"$f":"IFERROR(ROUND((1-(AF22/AH22)),5)*100,\"\")","v":""},"％",null,null,{"$f":"IFERROR(ROUND((1-(AJ22/AL22)),5)*100,\"\")","v":""},"％",null,null,{"$f":"IFERROR(ROUND((1-(AN22/AP22)),5)*100,\"\")","v":""},"％",null,null,{"$f":"IFERROR(ROUND((1-(AR22/AT22)),5)*100,\"\")","v":""},"％",null,null,{"$f":"IFERROR(ROUND((1-(AV22/AX22)),5)*100,\"\")","v":""},"％",null,null,{"$f":"IFERROR(ROUND((1-(AZ22/BB22)),5)*100,\"\")","v":""},"％",null,null,{"$f":"IFERROR(ROUND((1-(BD22/BF22)),5)*100,\"\")","v":""},"％",null,null,{"$f":"IFERROR(ROUND((1-(BH22/BJ22)),5)*100,\"\")","v":""},"％",null,null,{"$f":"IFERROR(ROUND((1-(BL22/BN22)),5)*100,\"\")","v":""},"％",null,null,{"$f":"IFERROR(ROUND((1-(BP22/BR22)),5)*100,\"\")","v":""},"％",null,null,{"$f":"IFERROR(ROUND((1-(BT22/BV22)),5)*100,\"\")","v":""},"％",null,null,{"$f":"IFERROR(ROUND((1-(BX22/BZ22)),5)*100,\"\")","v":""},"％",null,null,{"$f":"IFERROR(ROUND((1-(CB22/CD22)),5)*100,\"\")","v":""},"％",null,null,{"$f":"IFERROR(ROUND((1-(CF22/CH22)),5)*100,\"\")","v":""},"％",null,null,{"$f":"IFERROR(ROUND((1-(CJ22/CL22)),5)*100,\"\")","v":""},"％",null,null,{"$f":"IFERROR(ROUND((1-(CN22/CP22)),5)*100,\"\")","v":""},"％",null,null,{"$f":"IFERROR(ROUND((1-(CR22/CT22)),5)*100,\"\")","v":""},"％",null,null,{"$f":"IFERROR(ROUND((1-(CV22/CX22)),5)*100,\"\")","v":""},"％",null,null,{"$f":"IFERROR(ROUND((1-(CZ22/DB22)),5)*100,\"\")","v":""},"％",null,null,{"$f":"IFERROR(ROUND((1-(DD22/DF22)),5)*100,\"\")","v":""},"％",null,null,{"$f":"IFERROR(ROUND((1-(DH22/DJ22)),5)*100,\"\")","v":""},"％",null,null,{"$f":"IFERROR(ROUND((1-(DL22/DN22)),5)*100,\"\")","v":""},"％",null,null,{"$f":"IFERROR(ROUND((1-(DP22/DR22)),5)*100,\"\")","v":""},"％",null,null,{"$f":"IFERROR(ROUND((1-(DT22/DV22)),5)*100,\"\")","v":""},"％",null,null,{"$f":"IFERROR(ROUND((1-(DX22/DZ22)),5)*100,\"\")","v":""},"％",null,null,{"$f":"IFERROR(ROUND((1-(EB22/ED22)),5)*100,\"\")","v":""},"％",null,null,{"$f":"IFERROR(ROUND((1-(EF22/EH22)),5)*100,\"\")","v":""},"％",null,null,{"$f":"IFERROR(ROUND((1-(EJ22/EL22)),5)*100,\"\")","v":""},"％",null,null,{"$f":"IFERROR(ROUND((1-(EN22/EP22)),5)*100,\"\")","v":""},"％",null,null,{"$f":"IFERROR(ROUND((1-(ER22/ET22)),5)*100,\"\")","v":""},"％",null,null,{"$f":"IFERROR(ROUND((1-(EV22/EX22)),5)*100,\"\")","v":""},"％",null,null,{"$f":"IFERROR(ROUND((1-(EZ22/FB22)),5)*100,\"\")","v":""},"％",null,null,{"$f":"IFERROR(ROUND((1-(FD22/FF22)),5)*100,\"\")","v":""},"％",null,null,{"$f":"IFERROR(ROUND((1-(FH22/FJ22)),5)*100,\"\")","v":""},"％",null,null,{"$f":"IFERROR(ROUND((1-(FL22/FN22)),5)*100,\"\")","v":""},"％",null,null,{"$f":"IFERROR(ROUND((1-(FP22/FR22)),5)*100,\"\")","v":""},"％",null,null,{"$f":"IFERROR(ROUND((1-(FT22/FV22)),5)*100,\"\")","v":""},"％",null,null,{"$f":"IFERROR(ROUND((1-(FX22/FZ22)),5)*100,\"\")","v":""},"％",null,null,{"$f":"IFERROR(ROUND((1-(GB22/GD22)),5)*100,\"\")","v":""},"％",null,null,{"$f":"IFERROR(ROUND((1-(GF22/GH22)),5)*100,\"\")","v":""},"％",null,null,{"$f":"IFERROR(ROUND((1-(GJ22/GL22)),5)*100,\"\")","v":""},"％",null,null,{"$f":"IFERROR(ROUND((1-(GN22/GP22)),5)*100,\"\")","v":""},"％",null,null,{"$f":"IFERROR(ROUND((1-(GR22/GT22)),5)*100,\"\")","v":""},"％",null,null,{"$f":"IFERROR(ROUND((1-(GV22/GX22)),5)*100,\"\")","v":""},"％",null,null,{"$f":"IFERROR(ROUND((1-(GZ22/HB22)),5)*100,\"\")","v":""},"％",null,null,{"$f":"IFERROR(ROUND((1-(HD22/HF22)),5)*100,\"\")","v":""},"％",null,null,{"$f":"IFERROR(ROUND((1-(HH22/HJ22)),5)*100,\"\")","v":""},"％",null,null,{"$f":"IFERROR(ROUND((1-(HL22/HN22)),5)*100,\"\")","v":""},"％",null,null,{"$f":"IFERROR(ROUND((1-(HP22/HR22)),5)*100,\"\")","v":""},"％",null,null,{"$f":"IFERROR(ROUND((1-(HT22/HV22)),5)*100,\"\")","v":""},"％",null,null,{"$f":"IFERROR(ROUND((1-(HX22/HZ22)),5)*100,\"\")","v":""},"％",null,null,{"$f":"IFERROR(ROUND((1-(IB22/ID22)),5)*100,\"\")","v":""},"％",null,null,{"$f":"IFERROR(ROUND((1-(IF22/IH22)),5)*100,\"\")","v":""},"％"]
["（注）\nトップランナー基準とは、現在商品化されている製品のうち、エネルギー消費効率が最も優れているもの（トップランナー）の性能に加え、\n技術開発の将来の見通し等を勘案して定めているものです。トップランナー制度に関する詳細については、資源エネルギー庁のホームページ（下記URL）をご参照ください。\nhttps://www.enecho.meti.go.jp/category/saving_and_new/saving/enterprise/equipment/#t01"]
[]
[]
[]
[]
["（注）\n導入設備と一代前モデルの設備を比較し、エネルギー消費効率が改善されていることを明示すること。\n導入設備と同一製造メーカー同等製品にて、機能や構造などエネルギー使用量に係る変更があった場合をモデル変更とみなし、導入設備に対して最も近いモデル変更を一代前とし、その変更前の設備を原則として一代前モデルとする。\nどのような技術を用いてそのエネルギー消費効率の改善を実現しているかを説明すること。カタログや仕様書又は実測データ、図面等の省エネ計算の裏付け資料を添付すること。"]
[]
[]
[]
[]
[]
[]
[null,null,null,"別添4_1_1","トップランナー基準",{"$f":"D9","v":0},null,"別添4_2_1","トップランナー基準",{"$f":"H9","v":0},null,"別添4_3_1","トップランナー基準",{"$f":"L9","v":0},null,"別添4_4_1","トップランナー基準",{"$f":"P9","v":0},null,"別添4_5_1","トップランナー基準",{"$f":"T9","v":0},null,"別添4_6_1","トップランナー基準",{"$f":"X9","v":0},null,"別添4_7_1","トップランナー基準",{"$f":"AB9","v":0},null,"別添4_8_1","トップランナー基準",{"$f":"AF9","v":0},null,"別添4_9_1","トップランナー基準",{"$f":"AJ9","v":0},null,"別添4_10_1","トップランナー基準",{"$f":"AN9","v":0},null,"別添4_11_1","トップランナー基準",{"$f":"AR9","v":0},null,"別添4_12_1","トップランナー基準",{"$f":"AV9","v":0},null,"別添4_13_1","トップランナー基準",{"$f":"AZ9","v":0},null,"別添4_14_1","トップランナー基準",{"$f":"BD9","v":0},null,"別添4_15_1","トップランナー基準",{"$f":"BH9","v":0},null,"別添4_16_1","トップランナー基準",{"$f":"BL9","v":0},null,"別添4_17_1","トップランナー基準",{"$f":"BP9","v":0},null,"別添4_18_1","トップランナー基準",{"$f":"BT9","v":0},null,"別添4_19_1","トップランナー基準",{"$f":"BX9","v":0},null,"別添4_20_1","トップランナー基準",{"$f":"CB9","v":0},null,"別添4_21_1","トップランナー基準",{"$f":"CF9","v":0},null,"別添4_22_1","トップランナー基準",{"$f":"CJ9","v":0},null,"別添4_23_1","トップランナー基準",{"$f":"CN9","v":0},null,"別添4_24_1","トップランナー基準",{"$f":"CR9","v":0},null,"別添4_25_1","トップランナー基準",{"$f":"CV9","v":0},null,"別添4_26_1","トップランナー基準",{"$f":"CZ9","v":0},null,"別添4_27_1","トップランナー基準",{"$f":"DD9","v":0},null,"別添4_28_1","トップランナー基準",{"$f":"DH9","v":0},null,"別添4_29_1","トップランナー基準",{"$f":"DL9","v":0},null,"別添4_30_1","トップランナー基準",{"$f":"DP9","v":0},null,"別添4_31_1","トップランナー基準",{"$f":"DT9","v":0},null,"別添4_32_1","トップランナー基準",{"$f":"DX9","v":0},null,"別添4_33_1","トップランナー基準",{"$f":"EB9","v":0},null,"別添4_34_1","トップランナー基準",{"$f":"EF9","v":0},null,"別添4_35_1","トップランナー基準",{"$f":"EJ9","v":0},null,"別添4_36_1","トップランナー基準",{"$f":"EN9","v":0},null,"別添4_37_1","トップランナー基準",{"$f":"ER9","v":0},null,"別添4_38_1","トップランナー基準",{"$f":"EV9","v":0},null,"別添4_39_1","トップランナー基準",{"$f":"EZ9","v":0},null,"別添4_40_1","トップランナー基準",{"$f":"FD9","v":0},null,"別添4_41_1","トップランナー基準",{"$f":"FH9","v":0},null,"別添4_42_1","トップランナー基準",{"$f":"FL9","v":0},null,"別添4_43_1","トップランナー基準",{"$f":"FP9","v":0},null,"別添4_44_1","トップランナー基準",{"$f":"FT9","v":0},null,"別添4_45_1","トップランナー基準",{"$f":"FX9","v":0},null,"別添4_46_1","トップランナー基準",{"$f":"GB9","v":0},null,"別添4_47_1","トップランナー基準",{"$f":"GF9","v":0},null,"別添4_48_1","トップランナー基準",{"$f":"GJ9","v":0},null,"別添4_49_1","トップランナー基準",{"$f":"GN9","v":0},null,"別添4_50_1","トップランナー基準",{"$f":"GR9","v":0},null,"別添4_51_1","トップランナー基準",{"$f":"GV9","v":0},null,"別添4_52_1","トップランナー基準",{"$f":"GZ9","v":0},null,"別添4_53_1","トップランナー基準",{"$f":"HD9","v":0},null,"別添4_54_1","トップランナー基準",{"$f":"HH9","v":0},null,"別添4_55_1","トップランナー基準",{"$f":"HL9","v":0},null,"別添4_56_1","トップランナー基準",{"$f":"HP9","v":0},null,"別添4_57_1","トップランナー基準",{"$f":"HT9","v":0},null,"別添4_58_1","トップランナー基準",{"$f":"HX9","v":0},null,"別添4_59_1","トップランナー基準",{"$f":"IB9","v":0},null,"別添4_60_1","トップランナー基準",{"$f":"IF9","v":0}]
[null,null,null,"別添4_1_2","トップランナー基準の区分名又は数値",0,null,"別添4_2_2","トップランナー基準の区分名又は数値",0,null,"別添4_3_2","トップランナー基準の区分名又は数値",0,null,"別添4_4_2","トップランナー基準の区分名又は数値",0,null,"別添4_5_2","トップランナー基準の区分名又は数値",0,null,"別添4_6_2","トップランナー基準の区分名又は数値",0,null,"別添4_7_2","トップランナー基準の区分名又は数値",0,null,"別添4_8_2","トップランナー基準の区分名又は数値",0,null,"別添4_9_2","トップランナー基準の区分名又は数値",0,null,"別添4_10_2","トップランナー基準の区分名又は数値",0,null,"別添4_11_2","トップランナー基準の区分名又は数値",0,null,"別添4_12_2","トップランナー基準の区分名又は数値",0,null,"別添4_13_2","トップランナー基準の区分名又は数値",0,null,"別添4_14_2","トップランナー基準の区分名又は数値",0,null,"別添4_15_2","トップランナー基準の区分名又は数値",0,null,"別添4_16_2","トップランナー基準の区分名又は数値",0,null,"別添4_17_2","トップランナー基準の区分名又は数値",0,null,"別添4_18_2","トップランナー基準の区分名又は数値",0,null,"別添4_19_2","トップランナー基準の区分名又は数値",0,null,"別添4_20_2","トップランナー基準の区分名又は数値",0,null,"別添4_21_2","トップランナー基準の区分名又は数値",0,null,"別添4_22_2","トップランナー基準の区分名又は数値",0,null,"別添4_23_2","トップランナー基準の区分名又は数値",0,null,"別添4_24_2","トップランナー基準の区分名又は数値",0,null,"別添4_25_2","トップランナー基準の区分名又は数値",0,null,"別添4_26_2","トップランナー基準の区分名又は数値",0,null,"別添4_27_2","トップランナー基準の区分名又は数値",0,null,"別添4_28_2","トップランナー基準の区分名又は数値",0,null,"別添4_29_2","トップランナー基準の区分名又は数値",0,null,"別添4_30_2","トップランナー基準の区分名又は数値",0,null,"別添4_31_2","トップランナー基準の区分名又は数値",0,null,"別添4_32_2","トップランナー基準の区分名又は数値",0,null,"別添4_33_2","トップランナー基準の区分名又は数値",0,null,"別添4_34_2","トップランナー基準の区分名又は数値",0,null,"別添4_35_2","トップランナー基準の区分名又は数値",0,null,"別添4_36_2","トップランナー基準の区分名又は数値",0,null,"別添4_37_2","トップランナー基準の区分名又は数値",0,null,"別添4_38_2","トップランナー基準の区分名又は数値",0,null,"別添4_39_2","トップランナー基準の区分名又は数値",0,null,"別添4_40_2","トップランナー基準の区分名又は数値",0,null,"別添4_41_2","トップランナー基準の区分名又は数値",0,null,"別添4_42_2","トップランナー基準の区分名又は数値",0,null,"別添4_43_2","トップランナー基準の区分名又は数値",0,null,"別添4_44_2","トップランナー基準の区分名又は数値",0,null,"別添4_45_2","トップランナー基準の区分名又は数値",0,null,"別添4_46_2","トップランナー基準の区分名又は数値",0,null,"別添4_47_2","トップランナー基準の区分名又は数値",0,null,"別添4_48_2","トップランナー基準の区分名又は数値",0,null,"別添4_49_2","トップランナー基準の区分名又は数値",0,null,"別添4_50_2","トップランナー基準の区分名又は数値",0,null,"別添4_51_2","トップランナー基準の区分名又は数値",0,null,"別添4_52_2","トップランナー基準の区分名又は数値",0,null,"別添4_53_2","トップランナー基準の区分名又は数値",0,null,"別添4_54_2","トップランナー基準の区分名又は数値",0,null,"別添4_55_2","トップランナー基準の区分名又は数値",0,null,"別添4_56_2","トップランナー基準の区分名又は数値",0,null,"別添4_57_2","トップランナー基準の区分名又は数値",0,null,"別添4_58_2","トップランナー基準の区分名又は数値",0,null,"別添4_59_2","トップランナー基準の区分名又は数値",0,null,"別添4_60_2","トップランナー基準の区分名又は数値",0]
[null,null,null,"別添4_1_3","トップランナー基準の数値（導入設備）",0,null,"別添4_2_3","トップランナー基準の数値（導入設備）",0,null,"別添4_3_3","トップランナー基準の数値（導入設備）",0,null,"別添4_4_3","トップランナー基準の数値（導入設備）",0,null,"別添4_5_3","トップランナー基準の数値（導入設備）",0,null,"別添4_6_3","トップランナー基準の数値（導入設備）",0,null,"別添4_7_3","トップランナー基準の数値（導入設備）",0,null,"別添4_8_3","トップランナー基準の数値（導入設備）",0,null,"別添4_9_3","トップランナー基準の数値（導入設備）",0,null,"別添4_10_3","トップランナー基準の数値（導入設備）",0,null,"別添4_11_3","トップランナー基準の数値（導入設備）",0,null,"別添4_12_3","トップランナー基準の数値（導入設備）",0,null,"別添4_13_3","トップランナー基準の数値（導入設備）",0,null,"別添4_14_3","トップランナー基準の数値（導入設備）",0,null,"別添4_15_3","トップランナー基準の数値（導入設備）",0,null,"別添4_16_3","トップランナー基準の数値（導入設備）",0,null,"別添4_17_3","トップランナー基準の数値（導入設備）",0,null,"別添4_18_3","トップランナー基準の数値（導入設備）",0,null,"別添4_19_3","トップランナー基準の数値（導入設備）",0,null,"別添4_20_3","トップランナー基準の数値（導入設備）",0,null,"別添4_21_3","トップランナー基準の数値（導入設備）",0,null,"別添4_22_3","トップランナー基準の数値（導入設備）",0,null,"別添4_23_3","トップランナー基準の数値（導入設備）",0,null,"別添4_24_3","トップランナー基準の数値（導入設備）",0,null,"別添4_25_3","トップランナー基準の数値（導入設備）",0,null,"別添4_26_3","トップランナー基準の数値（導入設備）",0,null,"別添4_27_3","トップランナー基準の数値（導入設備）",0,null,"別添4_28_3","トップランナー基準の数値（導入設備）",0,null,"別添4_29_3","トップランナー基準の数値（導入設備）",0,null,"別添4_30_3","トップランナー基準の数値（導入設備）",0,null,"別添4_31_3","トップランナー基準の数値（導入設備）",0,null,"別添4_32_3","トップランナー基準の数値（導入設備）",0,null,"別添4_33_3","トップランナー基準の数値（導入設備）",0,null,"別添4_34_3","トップランナー基準の数値（導入設備）",0,null,"別添4_35_3","トップランナー基準の数値（導入設備）",0,null,"別添4_36_3","トップランナー基準の数値（導入設備）",0,null,"別添4_37_3","トップランナー基準の数値（導入設備）",0,null,"別添4_38_3","トップランナー基準の数値（導入設備）",0,null,"別添4_39_3","トップランナー基準の数値（導入設備）",0,null,"別添4_40_3","トップランナー基準の数値（導入設備）",0,null,"別添4_41_3","トップランナー基準の数値（導入設備）",0,null,"別添4_42_3","トップランナー基準の数値（導入設備）",0,null,"別添4_43_3","トップランナー基準の数値（導入設備）",0,null,"別添4_44_3","トップランナー基準の数値（導入設備）",0,null,"別添4_45_3","トップランナー基準の数値（導入設備）",0,null,"別添4_46_3","トップランナー基準の数値（導入設備）",0,null,"別添4_47_3","トップランナー基準の数値（導入設備）",0,null,"別添4_48_3","トップランナー基準の数値（導入設備）",0,null,"別添4_49_3","トップランナー基準の数値（導入設備）",0,null,"別添4_50_3","トップランナー基準の数値（導入設備）",0,null,"別添4_51_3","トップランナー基準の数値（導入設備）",0,null,"別添4_52_3","トップランナー基準の数値（導入設備）",0,null,"別添4_53_3","トップランナー基準の数値（導入設備）",0,null,"別添4_54_3","トップランナー基準の数値（導入設備）",0,null,"別添4_55_3","トップランナー基準の数値（導入設備）",0,null,"別添4_56_3","トップランナー基準の数値（導入設備）",0,null,"別添4_57_3","トップランナー基準の数値（導入設備）",0,null,"別添4_58_3","トップランナー基準の数値（導入設備）",0,null,"別添4_59_3","トップランナー基準の数値（導入設備）",0,null,"別添4_60_3","トップランナー基準の数値（導入設備）",0]
[null,null,null,"別添4_1_4","比較指標/トップランナー基準",0,null,"別添4_2_4","比較指標/トップランナー基準",0,null,"別添4_3_4","比較指標/トップランナー基準",0,null,"別添4_4_4","比較指標/トップランナー基準",0,null,"別添4_5_4","比較指標/トップランナー基準",0,null,"別添4_6_4","比較指標/トップランナー基準",0,null,"別添4_7_4","比較指標/トップランナー基準",0,null,"別添4_8_4","比較指標/トップランナー基準",0,null,"別添4_9_4","比較指標/トップランナー基準",0,null,"別添4_10_4","比較指標/トップランナー基準",0,null,"別添4_11_4","比較指標/トップランナー基準",0,null,"別添4_12_4","比較指標/トップランナー基準",0,null,"別添4_13_4","比較指標/トップランナー基準",0,null,"別添4_14_4","比較指標/トップランナー基準",0,null,"別添4_15_4","比較指標/トップランナー基準",0,null,"別添4_16_4","比較指標/トップランナー基準",0,null,"別添4_17_4","比較指標/トップランナー基準",0,null,"別添4_18_4","比較指標/トップランナー基準",0,null,"別添4_19_4","比較指標/トップランナー基準",0,null,"別添4_20_4","比較指標/トップランナー基準",0,null,"別添4_21_4","比較指標/トップランナー基準",0,null,"別添4_22_4","比較指標/トップランナー基準",0,null,"別添4_23_4","比較指標/トップランナー基準",0,null,"別添4_24_4","比較指標/トップランナー基準",0,null,"別添4_25_4","比較指標/トップランナー基準",0,null,"別添4_26_4","比較指標/トップランナー基準",0,null,"別添4_27_4","比較指標/トップランナー基準",0,null,"別添4_28_4","比較指標/トップランナー基準",0,null,"別添4_29_4","比較指標/トップランナー基準",0,null,"別添4_30_4","比較指標/トップランナー基準",0,null,"別添4_31_4","比較指標/トップランナー基準",0,null,"別添4_32_4","比較指標/トップランナー基準",0,null,"別添4_33_4","比較指標/トップランナー基準",0,null,"別添4_34_4","比較指標/トップランナー基準",0,null,"別添4_35_4","比較指標/トップランナー基準",0,null,"別添4_36_4","比較指標/トップランナー基準",0,null,"別添4_37_4","比較指標/トップランナー基準",0,null,"別添4_38_4","比較指標/トップランナー基準",0,null,"別添4_39_4","比較指標/トップランナー基準",0,null,"別添4_40_4","比較指標/トップランナー基準",0,null,"別添4_41_4","比較指標/トップランナー基準",0,null,"別添4_42_4","比較指標/トップランナー基準",0,null,"別添4_43_4","比較指標/トップランナー基準",0,null,"別添4_44_4","比較指標/トップランナー基準",0,null,"別添4_45_4","比較指標/トップランナー基準",0,null,"別添4_46_4","比較指標/トップランナー基準",0,null,"別添4_47_4","比較指標/トップランナー基準",0,null,"別添4_48_4","比較指標/トップランナー基準",0,null,"別添4_49_4","比較指標/トップランナー基準",0,null,"別添4_50_4","比較指標/トップランナー基準",0,null,"別添4_51_4","比較指標/トップランナー基準",0,null,"別添4_52_4","比較指標/トップランナー基準",0,null,"別添4_53_4","比較指標/トップランナー基準",0,null,"別添4_54_4","比較指標/トップランナー基準",0,null,"別添4_55_4","比較指標/トップランナー基準",0,null,"別添4_56_4","比較指標/トップランナー基準",0,null,"別添4_57_4","比較指標/トップランナー基準",0,null,"別添4_58_4","比較指標/トップランナー基準",0,null,"別添4_59_4","比較指標/トップランナー基準",0,null,"別添4_60_4","比較指標/トップランナー基準",0]
[null,null,null,"別添4_1_5","添付資料の根拠記載箇所",0,null,"別添4_2_5","添付資料の根拠記載箇所",0,null,"別添4_3_5","添付資料の根拠記載箇所",0,null,"別添4_4_5","添付資料の根拠記載箇所",0,null,"別添4_5_5","添付資料の根拠記載箇所",0,null,"別添4_6_5","添付資料の根拠記載箇所",0,null,"別添4_7_5","添付資料の根拠記載箇所",0,null,"別添4_8_5","添付資料の根拠記載箇所",0,null,"別添4_9_5","添付資料の根拠記載箇所",0,null,"別添4_10_5","添付資料の根拠記載箇所",0,null,"別添4_11_5","添付資料の根拠記載箇所",0,null,"別添4_12_5","添付資料の根拠記載箇所",0,null,"別添4_13_5","添付資料の根拠記載箇所",0,null,"別添4_14_5","添付資料の根拠記載箇所",0,null,"別添4_15_5","添付資料の根拠記載箇所",0,null,"別添4_16_5","添付資料の根拠記載箇所",0,null,"別添4_17_5","添付資料の根拠記載箇所",0,null,"別添4_18_5","添付資料の根拠記載箇所",0,null,"別添4_19_5","添付資料の根拠記載箇所",0,null,"別添4_20_5","添付資料の根拠記載箇所",0,null,"別添4_21_5","添付資料の根拠記載箇所",0,null,"別添4_22_5","添付資料の根拠記載箇所",0,null,"別添4_23_5","添付資料の根拠記載箇所",0,null,"別添4_24_5","添付資料の根拠記載箇所",0,null,"別添4_25_5","添付資料の根拠記載箇所",0,null,"別添4_26_5","添付資料の根拠記載箇所",0,null,"別添4_27_5","添付資料の根拠記載箇所",0,null,"別添4_28_5","添付資料の根拠記載箇所",0,null,"別添4_29_5","添付資料の根拠記載箇所",0,null,"別添4_30_5","添付資料の根拠記載箇所",0,null,"別添4_31_5","添付資料の根拠記載箇所",0,null,"別添4_32_5","添付資料の根拠記載箇所",0,null,"別添4_33_5","添付資料の根拠記載箇所",0,null,"別添4_34_5","添付資料の根拠記載箇所",0,null,"別添4_35_5","添付資料の根拠記載箇所",0,null,"別添4_36_5","添付資料の根拠記載箇所",0,null,"別添4_37_5","添付資料の根拠記載箇所",0,null,"別添4_38_5","添付資料の根拠記載箇所",0,null,"別添4_39_5","添付資料の根拠記載箇所",0,null,"別添4_40_5","添付資料の根拠記載箇所",0,null,"別添4_41_5","添付資料の根拠記載箇所",0,null,"別添4_42_5","添付資料の根拠記載箇所",0,null,"別添4_43_5","添付資料の根拠記載箇所",0,null,"別添4_44_5","添付資料の根拠記載箇所",0,null,"別添4_45_5","添付資料の根拠記載箇所",0,null,"別添4_46_5","添付資料の根拠記載箇所",0,null,"別添4_47_5","添付資料の根拠記載箇所",0,null,"別添4_48_5","添付資料の根拠記載箇所",0,null,"別添4_49_5","添付資料の根拠記載箇所",0,null,"別添4_50_5","添付資料の根拠記載箇所",0,null,"別添4_51_5","添付資料の根拠記載箇所",0,null,"別添4_52_5","添付資料の根拠記載箇所",0,null,"別添4_53_5","添付資料の根拠記載箇所",0,null,"別添4_54_5","添付資料の根拠記載箇所",0,null,"別添4_55_5","添付資料の根拠記載箇所",0,null,"別添4_56_5","添付資料の根拠記載箇所",0,null,"別添4_57_5","添付資料の根拠記載箇所",0,null,"別添4_58_5","添付資料の根拠記載箇所",0,null,"別添4_59_5","添付資料の根拠記載箇所",0,null,"別添4_60_5","添付資料の根拠記載箇所",0]
[null,null,null,"別添4_1_6","省エネ要因",0,null,"別添4_2_6","省エネ要因",0,null,"別添4_3_6","省エネ要因",0,null,"別添4_4_6","省エネ要因",0,null,"別添4_5_6","省エネ要因",0,null,"別添4_6_6","省エネ要因",0,null,"別添4_7_6","省エネ要因",0,null,"別添4_8_6","省エネ要因",0,null,"別添4_9_6","省エネ要因",0,null,"別添4_10_6","省エネ要因",0,null,"別添4_11_6","省エネ要因",0,null,"別添4_12_6","省エネ要因",0,null,"別添4_13_6","省エネ要因",0,null,"別添4_14_6","省エネ要因",0,null,"別添4_15_6","省エネ要因",0,null,"別添4_16_6","省エネ要因",0,null,"別添4_17_6","省エネ要因",0,null,"別添4_18_6","省エネ要因",0,null,"別添4_19_6","省エネ要因",0,null,"別添4_20_6","省エネ要因",0,null,"別添4_21_6","省エネ要因",0,null,"別添4_22_6","省エネ要因",0,null,"別添4_23_6","省エネ要因",0,null,"別添4_24_6","省エネ要因",0,null,"別添4_25_6","省エネ要因",0,null,"別添4_26_6","省エネ要因",0,null,"別添4_27_6","省エネ要因",0,null,"別添4_28_6","省エネ要因",0,null,"別添4_29_6","省エネ要因",0,null,"別添4_30_6","省エネ要因",0,null,"別添4_31_6","省エネ要因",0,null,"別添4_32_6","省エネ要因",0,null,"別添4_33_6","省エネ要因",0,null,"別添4_34_6","省エネ要因",0,null,"別添4_35_6","省エネ要因",0,null,"別添4_36_6","省エネ要因",0,null,"別添4_37_6","省エネ要因",0,null,"別添4_38_6","省エネ要因",0,null,"別添4_39_6","省エネ要因",0,null,"別添4_40_6","省エネ要因",0,null,"別添4_41_6","省エネ要因",0,null,"別添4_42_6","省エネ要因",0,null,"別添4_43_6","省エネ要因",0,null,"別添4_44_6","省エネ要因",0,null,"別添4_45_6","省エネ要因",0,null,"別添4_46_6","省エネ要因",0,null,"別添4_47_6","省エネ要因",0,null,"別添4_48_6","省エネ要因",0,null,"別添4_49_6","省エネ要因",0,null,"別添4_50_6","省エネ要因",0,null,"別添4_51_6","省エネ要因",0,null,"別添4_52_6","省エネ要因",0,null,"別添4_53_6","省エネ要因",0,null,"別添4_54_6","省エネ要因",0,null,"別添4_55_6","省エネ要因",0,null,"別添4_56_6","省エネ要因",0,null,"別添4_57_6","省エネ要因",0,null,"別添4_58_6","省エネ要因",0,null,"別添4_59_6","省エネ要因",0,null,"別添4_60_6","省エネ要因",0]
[null,null,null,"別添4_1_7","導入設備_製品名",{"$f":"D16","v":0},null,"別添4_2_7","導入設備_製品名",{"$f":"H16","v":0},null,"別添4_3_7","導入設備_製品名",{"$f":"L16","v":0},null,"別添4_4_7","導入設備_製品名",{"$f":"P16","v":0},null,"別添4_5_7","導入設備_製品名",{"$f":"T16","v":0},null,"別添4_6_7","導入設備_製品名",{"$f":"X16","v":0},null,"別添4_7_7","導入設備_製品名",{"$f":"AB16","v":0},null,"別添4_8_7","導入設備_製品名",{"$f":"AF16","v":0},null,"別添4_9_7","導入設備_製品名",{"$f":"AJ16","v":0},null,"別添4_10_7","導入設備_製品名",{"$f":"AN16","v":0},null,"別添4_11_7","導入設備_製品名",{"$f":"AR16","v":0},null,"別添4_12_7","導入設備_製品名",{"$f":"AV16","v":0},null,"別添4_13_7","導入設備_製品名",{"$f":"AZ16","v":0},null,"別添4_14_7","導入設備_製品名",{"$f":"BD16","v":0},null,"別添4_15_7","導入設備_製品名",{"$f":"BH16","v":0},null,"別添4_16_7","導入設備_製品名",{"$f":"BL16","v":0},null,"別添4_17_7","導入設備_製品名",{"$f":"BP16","v":0},null,"別添4_18_7","導入設備_製品名",{"$f":"BT16","v":0},null,"別添4_19_7","導入設備_製品名",{"$f":"BX16","v":0},null,"別添4_20_7","導入設備_製品名",{"$f":"CB16","v":0},null,"別添4_21_7","導入設備_製品名",{"$f":"CF16","v":0},null,"別添4_22_7","導入設備_製品名",{"$f":"CJ16","v":0},null,"別添4_23_7","導入設備_製品名",{"$f":"CN16","v":0},null,"別添4_24_7","導入設備_製品名",{"$f":"CR16","v":0},null,"別添4_25_7","導入設備_製品名",{"$f":"CV16","v":0},null,"別添4_26_7","導入設備_製品名",{"$f":"CZ16","v":0},null,"別添4_27_7","導入設備_製品名",{"$f":"DD16","v":0},null,"別添4_28_7","導入設備_製品名",{"$f":"DH16","v":0},null,"別添4_29_7","導入設備_製品名",{"$f":"DL16","v":0},null,"別添4_30_7","導入設備_製品名",{"$f":"DP16","v":0},null,"別添4_31_7","導入設備_製品名",{"$f":"DT16","v":0},null,"別添4_32_7","導入設備_製品名",{"$f":"DX16","v":0},null,"別添4_33_7","導入設備_製品名",{"$f":"EB16","v":0},null,"別添4_34_7","導入設備_製品名",{"$f":"EF16","v":0},null,"別添4_35_7","導入設備_製品名",{"$f":"EJ16","v":0},null,"別添4_36_7","導入設備_製品名",{"$f":"EN16","v":0},null,"別添4_37_7","導入設備_製品名",{"$f":"ER16","v":0},null,"別添4_38_7","導入設備_製品名",{"$f":"EV16","v":0},null,"別添4_39_7","導入設備_製品名",{"$f":"EZ16","v":0},null,"別添4_40_7","導入設備_製品名",{"$f":"FD16","v":0},null,"別添4_41_7","導入設備_製品名",{"$f":"FH16","v":0},null,"別添4_42_7","導入設備_製品名",{"$f":"FL16","v":0},null,"別添4_43_7","導入設備_製品名",{"$f":"FP16","v":0},null,"別添4_44_7","導入設備_製品名",{"$f":"FT16","v":0},null,"別添4_45_7","導入設備_製品名",{"$f":"FX16","v":0},null,"別添4_46_7","導入設備_製品名",{"$f":"GB16","v":0},null,"別添4_47_7","導入設備_製品名",{"$f":"GF16","v":0},null,"別添4_48_7","導入設備_製品名",{"$f":"GJ16","v":0},null,"別添4_49_7","導入設備_製品名",{"$f":"GN16","v":0},null,"別添4_50_7","導入設備_製品名",{"$f":"GR16","v":0},null,"別添4_51_7","導入設備_製品名",{"$f":"GV16","v":0},null,"別添4_52_7","導入設備_製品名",{"$f":"GZ16","v":0},null,"別添4_53_7","導入設備_製品名",{"$f":"HD16","v":0},null,"別添4_54_7","導入設備_製品名",{"$f":"HH16","v":0},null,"別添4_55_7","導入設備_製品名",{"$f":"HL16","v":0},null,"別添4_56_7","導入設備_製品名",{"$f":"HP16","v":0},null,"別添4_57_7","導入設備_製品名",{"$f":"HT16","v":0},null,"別添4_58_7","導入設備_製品名",{"$f":"HX16","v":0},null,"別添4_59_7","導入設備_製品名",{"$f":"IB16","v":0},null,"別添4_60_7","導入設備_製品名",{"$f":"IF16","v":0}]
[null,null,null,"別添4_1_8","導入設備_製造メーカー",{"$f":"D17","v":0},null,"別添4_2_8","導入設備_製造メーカー",{"$f":"H17","v":0},null,"別添4_3_8","導入設備_製造メーカー",{"$f":"L17","v":0},null,"別添4_4_8","導入設備_製造メーカー",{"$f":"P17","v":0},null,"別添4_5_8","導入設備_製造メーカー",{"$f":"T17","v":0},null,"別添4_6_8","導入設備_製造メーカー",{"$f":"X17","v":0},null,"別添4_7_8","導入設備_製造メーカー",{"$f":"AB17","v":0},null,"別添4_8_8","導入設備_製造メーカー",{"$f":"AF17","v":0},null,"別添4_9_8","導入設備_製造メーカー",{"$f":"AJ17","v":0},null,"別添4_10_8","導入設備_製造メーカー",{"$f":"AN17","v":0},null,"別添4_11_8","導入設備_製造メーカー",{"$f":"AR17","v":0},null,"別添4_12_8","導入設備_製造メーカー",{"$f":"AV17","v":0},null,"別添4_13_8","導入設備_製造メーカー",{"$f":"AZ17","v":0},null,"別添4_14_8","導入設備_製造メーカー",{"$f":"BD17","v":0},null,"別添4_15_8","導入設備_製造メーカー",{"$f":"BH17","v":0},null,"別添4_16_8","導入設備_製造メーカー",{"$f":"BL17","v":0},null,"別添4_17_8","導入設備_製造メーカー",{"$f":"BP17","v":0},null,"別添4_18_8","導入設備_製造メーカー",{"$f":"BT17","v":0},null,"別添4_19_8","導入設備_製造メーカー",{"$f":"BX17","v":0},null,"別添4_20_8","導入設備_製造メーカー",{"$f":"CB17","v":0},null,"別添4_21_8","導入設備_製造メーカー",{"$f":"CF17","v":0},null,"別添4_22_8","導入設備_製造メーカー",{"$f":"CJ17","v":0},null,"別添4_23_8","導入設備_製造メーカー",{"$f":"CN17","v":0},null,"別添4_24_8","導入設備_製造メーカー",{"$f":"CR17","v":0},null,"別添4_25_8","導入設備_製造メーカー",{"$f":"CV17","v":0},null,"別添4_26_8","導入設備_製造メーカー",{"$f":"CZ17","v":0},null,"別添4_27_8","導入設備_製造メーカー",{"$f":"DD17","v":0},null,"別添4_28_8","導入設備_製造メーカー",{"$f":"DH17","v":0},null,"別添4_29_8","導入設備_製造メーカー",{"$f":"DL17","v":0},null,"別添4_30_8","導入設備_製造メーカー",{"$f":"DP17","v":0},null,"別添4_31_8","導入設備_製造メーカー",{"$f":"DT17","v":0},null,"別添4_32_8","導入設備_製造メーカー",{"$f":"DX17","v":0},null,"別添4_33_8","導入設備_製造メーカー",{"$f":"EB17","v":0},null,"別添4_34_8","導入設備_製造メーカー",{"$f":"EF17","v":0},null,"別添4_35_8","導入設備_製造メーカー",{"$f":"EJ17","v":0},null,"別添4_36_8","導入設備_製造メーカー",{"$f":"EN17","v":0},null,"別添4_37_8","導入設備_製造メーカー",{"$f":"ER17","v":0},null,"別添4_38_8","導入設備_製造メーカー",{"$f":"EV17","v":0},null,"別添4_39_8","導入設備_製造メーカー",{"$f":"EZ17","v":0},null,"別添4_40_8","導入設備_製造メーカー",{"$f":"FD17","v":0},null,"別添4_41_8","導入設備_製造メーカー",{"$f":"FH17","v":0},null,"別添4_42_8","導入設備_製造メーカー",{"$f":"FL17","v":0},null,"別添4_43_8","導入設備_製造メーカー",{"$f":"FP17","v":0},null,"別添4_44_8","導入設備_製造メーカー",{"$f":"FT17","v":0},null,"別添4_45_8","導入設備_製造メーカー",{"$f":"FX17","v":0},null,"別添4_46_8","導入設備_製造メーカー",{"$f":"GB17","v":0},null,"別添4_47_8","導入設備_製造メーカー",{"$f":"GF17","v":0},null,"別添4_48_8","導入設備_製造メーカー",{"$f":"GJ17","v":0},null,"別添4_49_8","導入設備_製造メーカー",{"$f":"GN17","v":0},null,"別添4_50_8","導入設備_製造メーカー",{"$f":"GR17","v":0},null,"別添4_51_8","導入設備_製造メーカー",{"$f":"GV17","v":0},null,"別添4_52_8","導入設備_製造メーカー",{"$f":"GZ17","v":0},null,"別添4_53_8","導入設備_製造メーカー",{"$f":"HD17","v":0},null,"別添4_54_8","導入設備_製造メーカー",{"$f":"HH17","v":0},null,"別添4_55_8","導入設備_製造メーカー",{"$f":"HL17","v":0},null,"別添4_56_8","導入設備_製造メーカー",{"$f":"HP17","v":0},null,"別添4_57_8","導入設備_製造メーカー",{"$f":"HT17","v":0},null,"別添4_58_8","導入設備_製造メーカー",{"$f":"HX17","v":0},null,"別添4_59_8","導入設備_製造メーカー",{"$f":"IB17","v":0},null,"別添4_60_8","導入設備_製造メーカー",{"$f":"IF17","v":0}]
[null,null,null,"別添4_1_9","導入設備_型番",{"$f":"D18","v":0},null,"別添4_2_9","導入設備_型番",{"$f":"H18","v":0},null,"別添4_3_9","導入設備_型番",{"$f":"L18","v":0},null,"別添4_4_9","導入設備_型番",{"$f":"P18","v":0},null,"別添4_5_9","導入設備_型番",{"$f":"T18","v":0},null,"別添4_6_9","導入設備_型番",{"$f":"X18","v":0},null,"別添4_7_9","導入設備_型番",{"$f":"AB18","v":0},null,"別添4_8_9","導入設備_型番",{"$f":"AF18","v":0},null,"別添4_9_9","導入設備_型番",{"$f":"AJ18","v":0},null,"別添4_10_9","導入設備_型番",{"$f":"AN18","v":0},null,"別添4_11_9","導入設備_型番",{"$f":"AR18","v":0},null,"別添4_12_9","導入設備_型番",{"$f":"AV18","v":0},null,"別添4_13_9","導入設備_型番",{"$f":"AZ18","v":0},null,"別添4_14_9","導入設備_型番",{"$f":"BD18","v":0},null,"別添4_15_9","導入設備_型番",{"$f":"BH18","v":0},null,"別添4_16_9","導入設備_型番",{"$f":"BL18","v":0},null,"別添4_17_9","導入設備_型番",{"$f":"BP18","v":0},null,"別添4_18_9","導入設備_型番",{"$f":"BT18","v":0},null,"別添4_19_9","導入設備_型番",{"$f":"BX18","v":0},null,"別添4_20_9","導入設備_型番",{"$f":"CB18","v":0},null,"別添4_21_9","導入設備_型番",{"$f":"CF18","v":0},null,"別添4_22_9","導入設備_型番",{"$f":"CJ18","v":0},null,"別添4_23_9","導入設備_型番",{"$f":"CN18","v":0},null,"別添4_24_9","導入設備_型番",{"$f":"CR18","v":0},null,"別添4_25_9","導入設備_型番",{"$f":"CV18","v":0},null,"別添4_26_9","導入設備_型番",{"$f":"CZ18","v":0},null,"別添4_27_9","導入設備_型番",{"$f":"DD18","v":0},null,"別添4_28_9","導入設備_型番",{"$f":"DH18","v":0},null,"別添4_29_9","導入設備_型番",{"$f":"DL18","v":0},null,"別添4_30_9","導入設備_型番",{"$f":"DP18","v":0},null,"別添4_31_9","導入設備_型番",{"$f":"DT18","v":0},null,"別添4_32_9","導入設備_型番",{"$f":"DX18","v":0},null,"別添4_33_9","導入設備_型番",{"$f":"EB18","v":0},null,"別添4_34_9","導入設備_型番",{"$f":"EF18","v":0},null,"別添4_35_9","導入設備_型番",{"$f":"EJ18","v":0},null,"別添4_36_9","導入設備_型番",{"$f":"EN18","v":0},null,"別添4_37_9","導入設備_型番",{"$f":"ER18","v":0},null,"別添4_38_9","導入設備_型番",{"$f":"EV18","v":0},null,"別添4_39_9","導入設備_型番",{"$f":"EZ18","v":0},null,"別添4_40_9","導入設備_型番",{"$f":"FD18","v":0},null,"別添4_41_9","導入設備_型番",{"$f":"FH18","v":0},null,"別添4_42_9","導入設備_型番",{"$f":"FL18","v":0},null,"別添4_43_9","導入設備_型番",{"$f":"FP18","v":0},null,"別添4_44_9","導入設備_型番",{"$f":"FT18","v":0},null,"別添4_45_9","導入設備_型番",{"$f":"FX18","v":0},null,"別添4_46_9","導入設備_型番",{"$f":"GB18","v":0},null,"別添4_47_9","導入設備_型番",{"$f":"GF18","v":0},null,"別添4_48_9","導入設備_型番",{"$f":"GJ18","v":0},null,"別添4_49_9","導入設備_型番",{"$f":"GN18","v":0},null,"別添4_50_9","導入設備_型番",{"$f":"GR18","v":0},null,"別添4_51_9","導入設備_型番",{"$f":"GV18","v":0},null,"別添4_52_9","導入設備_型番",{"$f":"GZ18","v":0},null,"別添4_53_9","導入設備_型番",{"$f":"HD18","v":0},null,"別添4_54_9","導入設備_型番",{"$f":"HH18","v":0},null,"別添4_55_9","導入設備_型番",{"$f":"HL18","v":0},null,"別添4_56_9","導入設備_型番",{"$f":"HP18","v":0},null,"別添4_57_9","導入設備_型番",{"$f":"HT18","v":0},null,"別添4_58_9","導入設備_型番",{"$f":"HX18","v":0},null,"別添4_59_9","導入設備_型番",{"$f":"IB18","v":0},null,"別添4_60_9","導入設備_型番",{"$f":"IF18","v":0}]
[null,null,null,"別添4_1_10","導入設備_導入台数",{"$f":"D19&E19","v":"台"},null,"別添4_2_10","導入設備_導入台数",{"$f":"H19&I19","v":"台"},null,"別添4_3_10","導入設備_導入台数",{"$f":"L19&M19","v":"台"},null,"別添4_4_10","導入設備_導入台数",{"$f":"P19&Q19","v":"台"},null,"別添4_5_10","導入設備_導入台数",{"$f":"T19&U19","v":"台"},null,"別添4_6_10","導入設備_導入台数",{"$f":"X19&Y19","v":"台"},null,"別添4_7_10","導入設備_導入台数",{"$f":"AB19&AC19","v":"台"},null,"別添4_8_10","導入設備_導入台数",{"$f":"AF19&AG19","v":"台"},null,"別添4_9_10","導入設備_導入台数",{"$f":"AJ19&AK19","v":"台"},null,"別添4_10_10","導入設備_導入台数",{"$f":"AN19&AO19","v":"台"},null,"別添4_11_10","導入設備_導入台数",{"$f":"AR19&AS19","v":"台"},null,"別添4_12_10","導入設備_導入台数",{"$f":"AV19&AW19","v":"台"},null,"別添4_13_10","導入設備_導入台数",{"$f":"AZ19&BA19","v":"台"},null,"別添4_14_10","導入設備_導入台数",{"$f":"BD19&BE19","v":"台"},null,"別添4_15_10","導入設備_導入台数",{"$f":"BH19&BI19","v":"台"},null,"別添4_16_10","導入設備_導入台数",{"$f":"BL19&BM19","v":"台"},null,"別添4_17_10","導入設備_導入台数",{"$f":"BP19&BQ19","v":"台"},null,"別添4_18_10","導入設備_導入台数",{"$f":"BT19&BU19","v":"台"},null,"別添4_19_10","導入設備_導入台数",{"$f":"BX19&BY19","v":"台"},null,"別添4_20_10","導入設備_導入台数",{"$f":"CB19&CC19","v":"台"},null,"別添4_21_10","導入設備_導入台数",{"$f":"CF19&CG19","v":"台"},null,"別添4_22_10","導入設備_導入台数",{"$f":"CJ19&CK19","v":"台"},null,"別添4_23_10","導入設備_導入台数",{"$f":"CN19&CO19","v":"台"},null,"別添4_24_10","導入設備_導入台数",{"$f":"CR19&CS19","v":"台"},null,"別添4_25_10","導入設備_導入台数",{"$f":"CV19&CW19","v":"台"},null,"別添4_26_10","導入設備_導入台数",{"$f":"CZ19&DA19","v":"台"},null,"別添4_27_10","導入設備_導入台数",{"$f":"DD19&DE19","v":"台"},null,"別添4_28_10","導入設備_導入台数",{"$f":"DH19&DI19","v":"台"},null,"別添4_29_10","導入設備_導入台数",{"$f":"DL19&DM19","v":"台"},null,"別添4_30_10","導入設備_導入台数",{"$f":"DP19&DQ19","v":"台"},null,"別添4_31_10","導入設備_導入台数",{"$f":"DT19&DU19","v":"台"},null,"別添4_32_10","導入設備_導入台数",{"$f":"DX19&DY19","v":"台"},null,"別添4_33_10","導入設備_導入台数",{"$f":"EB19&EC19","v":"台"},null,"別添4_34_10","導入設備_導入台数",{"$f":"EF19&EG19","v":"台"},null,"別添4_35_10","導入設備_導入台数",{"$f":"EJ19&EK19","v":"台"},null,"別添4_36_10","導入設備_導入台数",{"$f":"EN19&EO19","v":"台"},null,"別添4_37_10","導入設備_導入台数",{"$f":"ER19&ES19","v":"台"},null,"別添4_38_10","導入設備_導入台数",{"$f":"EV19&EW19","v":"台"},null,"別添4_39_10","導入設備_導入台数",{"$f":"EZ19&FA19","v":"台"},null,"別添4_40_10","導入設備_導入台数",{"$f":"FD19&FE19","v":"台"},null,"別添4_41_10","導入設備_導入台数",{"$f":"FH19&FI19","v":"台"},null,"別添4_42_10","導入設備_導入台数",{"$f":"FL19&FM19","v":"台"},null,"別添4_43_10","導入設備_導入台数",{"$f":"FP19&FQ19","v":"台"},null,"別添4_44_10","導入設備_導入台数",{"$f":"FT19&FU19","v":"台"},null,"別添4_45_10","導入設備_導入台数",{"$f":"FX19&FY19","v":"台"},null,"別添4_46_10","導入設備_導入台数",{"$f":"GB19&GC19","v":"台"},null,"別添4_47_10","導入設備_導入台数",{"$f":"GF19&GG19","v":"台"},null,"別添4_48_10","導入設備_導入台数",{"$f":"GJ19&GK19","v":"台"},null,"別添4_49_10","導入設備_導入台数",{"$f":"GN19&GO19","v":"台"},null,"別添4_50_10","導入設備_導入台数",{"$f":"GR19&GS19","v":"台"},null,"別添4_51_10","導入設備_導入台数",{"$f":"GV19&GW19","v":"台"},null,"別添4_52_10","導入設備_導入台数",{"$f":"GZ19&HA19","v":"台"},null,"別添4_53_10","導入設備_導入台数",{"$f":"HD19&HE19","v":"台"},null,"別添4_54_10","導入設備_導入台数",{"$f":"HH19&HI19","v":"台"},null,"別添4_55_10","導入設備_導入台数",{"$f":"HL19&HM19","v":"台"},null,"別添4_56_10","導入設備_導入台数",{"$f":"HP19&HQ19","v":"台"},null,"別添4_57_10","導入設備_導入台数",{"$f":"HT19&HU19","v":"台"},null,"別添4_58_10","導入設備_導入台数",{"$f":"HX19&HY19","v":"台"},null,"別添4_59_10","導入設備_導入台数",{"$f":"IB19&IC19","v":"台"},null,"別添4_60_10","導入設備_導入台数",{"$f":"IF19&IG19","v":"台"}]
[null,null,null,"別添4_1_11","導入設備_1台あたりの使用エネルギー",{"$f":"D20","v":0},null,"別添4_2_11","導入設備_1台あたりの使用エネルギー",{"$f":"H20","v":0},null,"別添4_3_11","導入設備_1台あたりの使用エネルギー",{"$f":"L20","v":0},null,"別添4_4_11","導入設備_1台あたりの使用エネルギー",{"$f":"P20","v":0},null,"別添4_5_11","導入設備_1台あたりの使用エネルギー",{"$f":"T20","v":0},null,"別添4_6_11","導入設備_1台あたりの使用エネルギー",{"$f":"X20","v":0},null,"別添4_7_11","導入設備_1台あたりの使用エネルギー",{"$f":"AB20","v":0},null,"別添4_8_11","導入設備_1台あたりの使用エネルギー",{"$f":"AF20","v":0},null,"別添4_9_11","導入設備_1台あたりの使用エネルギー",{"$f":"AJ20","v":0},null,"別添4_10_11","導入設備_1台あたりの使用エネルギー",{"$f":"AN20","v":0},null,"別添4_11_11","導入設備_1台あたりの使用エネルギー",{"$f":"AR20","v":0},null,"別添4_12_11","導入設備_1台あたりの使用エネルギー",{"$f":"AV20","v":0},null,"別添4_13_11","導入設備_1台あたりの使用エネルギー",{"$f":"AZ20","v":0},null,"別添4_14_11","導入設備_1台あたりの使用エネルギー",{"$f":"BD20","v":0},null,"別添4_15_11","導入設備_1台あたりの使用エネルギー",{"$f":"BH20","v":0},null,"別添4_16_11","導入設備_1台あたりの使用エネルギー",{"$f":"BL20","v":0},null,"別添4_17_11","導入設備_1台あたりの使用エネルギー",{"$f":"BP20","v":0},null,"別添4_18_11","導入設備_1台あたりの使用エネルギー",{"$f":"BT20","v":0},null,"別添4_19_11","導入設備_1台あたりの使用エネルギー",{"$f":"BX20","v":0},null,"別添4_20_11","導入設備_1台あたりの使用エネルギー",{"$f":"CB20","v":0},null,"別添4_21_11","導入設備_1台あたりの使用エネルギー",{"$f":"CF20","v":0},null,"別添4_22_11","導入設備_1台あたりの使用エネルギー",{"$f":"CJ20","v":0},null,"別添4_23_11","導入設備_1台あたりの使用エネルギー",{"$f":"CN20","v":0},null,"別添4_24_11","導入設備_1台あたりの使用エネルギー",{"$f":"CR20","v":0},null,"別添4_25_11","導入設備_1台あたりの使用エネルギー",{"$f":"CV20","v":0},null,"別添4_26_11","導入設備_1台あたりの使用エネルギー",{"$f":"CZ20","v":0},null,"別添4_27_11","導入設備_1台あたりの使用エネルギー",{"$f":"DD20","v":0},null,"別添4_28_11","導入設備_1台あたりの使用エネルギー",{"$f":"DH20","v":0},null,"別添4_29_11","導入設備_1台あたりの使用エネルギー",{"$f":"DL20","v":0},null,"別添4_30_11","導入設備_1台あたりの使用エネルギー",{"$f":"DP20","v":0},null,"別添4_31_11","導入設備_1台あたりの使用エネルギー",{"$f":"DT20","v":0},null,"別添4_32_11","導入設備_1台あたりの使用エネルギー",{"$f":"DX20","v":0},null,"別添4_33_11","導入設備_1台あたりの使用エネルギー",{"$f":"EB20","v":0},null,"別添4_34_11","導入設備_1台あたりの使用エネルギー",{"$f":"EF20","v":0},null,"別添4_35_11","導入設備_1台あたりの使用エネルギー",{"$f":"EJ20","v":0},null,"別添4_36_11","導入設備_1台あたりの使用エネルギー",{"$f":"EN20","v":0},null,"別添4_37_11","導入設備_1台あたりの使用エネルギー",{"$f":"ER20","v":0},null,"別添4_38_11","導入設備_1台あたりの使用エネルギー",{"$f":"EV20","v":0},null,"別添4_39_11","導入設備_1台あたりの使用エネルギー",{"$f":"EZ20","v":0},null,"別添4_40_11","導入設備_1台あたりの使用エネルギー",{"$f":"FD20","v":0},null,"別添4_41_11","導入設備_1台あたりの使用エネルギー",{"$f":"FH20","v":0},null,"別添4_42_11","導入設備_1台あたりの使用エネルギー",{"$f":"FL20","v":0},null,"別添4_43_11","導入設備_1台あたりの使用エネルギー",{"$f":"FP20","v":0},null,"別添4_44_11","導入設備_1台あたりの使用エネルギー",{"$f":"FT20","v":0},null,"別添4_45_11","導入設備_1台あたりの使用エネルギー",{"$f":"FX20","v":0},null,"別添4_46_11","導入設備_1台あたりの使用エネルギー",{"$f":"GB20","v":0},null,"別添4_47_11","導入設備_1台あたりの使用エネルギー",{"$f":"GF20","v":0},null,"別添4_48_11","導入設備_1台あたりの使用エネルギー",{"$f":"GJ20","v":0},null,"別添4_49_11","導入設備_1台あたりの使用エネルギー",{"$f":"GN20","v":0},null,"別添4_50_11","導入設備_1台あたりの使用エネルギー",{"$f":"GR20","v":0},null,"別添4_51_11","導入設備_1台あたりの使用エネルギー",{"$f":"GV20","v":0},null,"別添4_52_11","導入設備_1台あたりの使用エネルギー",{"$f":"GZ20","v":0},null,"別添4_53_11","導入設備_1台あたりの使用エネルギー",{"$f":"HD20","v":0},null,"別添4_54_11","導入設備_1台あたりの使用エネルギー",{"$f":"HH20","v":0},null,"別添4_55_11","導入設備_1台あたりの使用エネルギー",{"$f":"HL20","v":0},null,"別添4_56_11","導入設備_1台あたりの使用エネルギー",{"$f":"HP20","v":0},null,"別添4_57_11","導入設備_1台あたりの使用エネルギー",{"$f":"HT20","v":0},null,"別添4_58_11","導入設備_1台あたりの使用エネルギー",{"$f":"HX20","v":0},null,"別添4_59_11","導入設備_1台あたりの使用エネルギー",{"$f":"IB20","v":0},null,"別添4_60_11","導入設備_1台あたりの使用エネルギー",{"$f":"IF20","v":0}]
[null,null,null,"別添4_1_12","導入設備_年間エネルギー使用量計算式",{"$f":"D21","v":0},null,"別添4_2_12","導入設備_年間エネルギー使用量計算式",{"$f":"H21","v":0},null,"別添4_3_12","導入設備_年間エネルギー使用量計算式",{"$f":"L21","v":0},null,"別添4_4_12","導入設備_年間エネルギー使用量計算式",{"$f":"P21","v":0},null,"別添4_5_12","導入設備_年間エネルギー使用量計算式",{"$f":"T21","v":0},null,"別添4_6_12","導入設備_年間エネルギー使用量計算式",{"$f":"X21","v":0},null,"別添4_7_12","導入設備_年間エネルギー使用量計算式",{"$f":"AB21","v":0},null,"別添4_8_12","導入設備_年間エネルギー使用量計算式",{"$f":"AF21","v":0},null,"別添4_9_12","導入設備_年間エネルギー使用量計算式",{"$f":"AJ21","v":0},null,"別添4_10_12","導入設備_年間エネルギー使用量計算式",{"$f":"AN21","v":0},null,"別添4_11_12","導入設備_年間エネルギー使用量計算式",{"$f":"AR21","v":0},null,"別添4_12_12","導入設備_年間エネルギー使用量計算式",{"$f":"AV21","v":0},null,"別添4_13_12","導入設備_年間エネルギー使用量計算式",{"$f":"AZ21","v":0},null,"別添4_14_12","導入設備_年間エネルギー使用量計算式",{"$f":"BD21","v":0},null,"別添4_15_12","導入設備_年間エネルギー使用量計算式",{"$f":"BH21","v":0},null,"別添4_16_12","導入設備_年間エネルギー使用量計算式",{"$f":"BL21","v":0},null,"別添4_17_12","導入設備_年間エネルギー使用量計算式",{"$f":"BP21","v":0},null,"別添4_18_12","導入設備_年間エネルギー使用量計算式",{"$f":"BT21","v":0},null,"別添4_19_12","導入設備_年間エネルギー使用量計算式",{"$f":"BX21","v":0},null,"別添4_20_12","導入設備_年間エネルギー使用量計算式",{"$f":"CB21","v":0},null,"別添4_21_12","導入設備_年間エネルギー使用量計算式",{"$f":"CF21","v":0},null,"別添4_22_12","導入設備_年間エネルギー使用量計算式",{"$f":"CJ21","v":0},null,"別添4_23_12","導入設備_年間エネルギー使用量計算式",{"$f":"CN21","v":0},null,"別添4_24_12","導入設備_年間エネルギー使用量計算式",{"$f":"CR21","v":0},null,"別添4_25_12","導入設備_年間エネルギー使用量計算式",{"$f":"CV21","v":0},null,"別添4_26_12","導入設備_年間エネルギー使用量計算式",{"$f":"CZ21","v":0},null,"別添4_27_12","導入設備_年間エネルギー使用量計算式",{"$f":"DD21","v":0},null,"別添4_28_12","導入設備_年間エネルギー使用量計算式",{"$f":"DH21","v":0},null,"別添4_29_12","導入設備_年間エネルギー使用量計算式",{"$f":"DL21","v":0},null,"別添4_30_12","導入設備_年間エネルギー使用量計算式",{"$f":"DP21","v":0},null,"別添4_31_12","導入設備_年間エネルギー使用量計算式",{"$f":"DT21","v":0},null,"別添4_32_12","導入設備_年間エネルギー使用量計算式",{"$f":"DX21","v":0},null,"別添4_33_12","導入設備_年間エネルギー使用量計算式",{"$f":"EB21","v":0},null,"別添4_34_12","導入設備_年間エネルギー使用量計算式",{"$f":"EF21","v":0},null,"別添4_35_12","導入設備_年間エネルギー使用量計算式",{"$f":"EJ21","v":0},null,"別添4_36_12","導入設備_年間エネルギー使用量計算式",{"$f":"EN21","v":0},null,"別添4_37_12","導入設備_年間エネルギー使用量計算式",{"$f":"ER21","v":0},null,"別添4_38_12","導入設備_年間エネルギー使用量計算式",{"$f":"EV21","v":0},null,"別添4_39_12","導入設備_年間エネルギー使用量計算式",{"$f":"EZ21","v":0},null,"別添4_40_12","導入設備_年間エネルギー使用量計算式",{"$f":"FD21","v":0},null,"別添4_41_12","導入設備_年間エネルギー使用量計算式",{"$f":"FH21","v":0},null,"別添4_42_12","導入設備_年間エネルギー使用量計算式",{"$f":"FL21","v":0},null,"別添4_43_12","導入設備_年間エネルギー使用量計算式",{"$f":"FP21","v":0},null,"別添4_44_12","導入設備_年間エネルギー使用量計算式",{"$f":"FT21","v":0},null,"別添4_45_12","導入設備_年間エネルギー使用量計算式",{"$f":"FX21","v":0},null,"別添4_46_12","導入設備_年間エネルギー使用量計算式",{"$f":"GB21","v":0},null,"別添4_47_12","導入設備_年間エネルギー使用量計算式",{"$f":"GF21","v":0},null,"別添4_48_12","導入設備_年間エネルギー使用量計算式",{"$f":"GJ21","v":0},null,"別添4_49_12","導入設備_年間エネルギー使用量計算式",{"$f":"GN21","v":0},null,"別添4_50_12","導入設備_年間エネルギー使用量計算式",{"$f":"GR21","v":0},null,"別添4_51_12","導入設備_年間エネルギー使用量計算式",{"$f":"GV21","v":0},null,"別添4_52_12","導入設備_年間エネルギー使用量計算式",{"$f":"GZ21","v":0},null,"別添4_53_12","導入設備_年間エネルギー使用量計算式",{"$f":"HD21","v":0},null,"別添4_54_12","導入設備_年間エネルギー使用量計算式",{"$f":"HH21","v":0},null,"別添4_55_12","導入設備_年間エネルギー使用量計算式",{"$f":"HL21","v":0},null,"別添4_56_12","導入設備_年間エネルギー使用量計算式",{"$f":"HP21","v":0},null,"別添4_57_12","導入設備_年間エネルギー使用量計算式",{"$f":"HT21","v":0},null,"別添4_58_12","導入設備_年間エネルギー使用量計算式",{"$f":"HX21","v":0},null,"別添4_59_12","導入設備_年間エネルギー使用量計算式",{"$f":"IB21","v":0},null,"別添4_60_12","導入設備_年間エネルギー使用量計算式",{"$f":"IF21","v":0}]
[null,null,null,"別添4_1_13","導入設備_計算結果",{"$f":"D22&E22","v":"単位を選択してください"},null,"別添4_2_13","導入設備_計算結果",{"$f":"H22&I22","v":"単位を選択してください"},null,"別添4_3_13","導入設備_計算結果",{"$f":"L22&M22","v":"単位を選択してください"},null,"別添4_4_13","導入設備_計算結果",{"$f":"P22&Q22","v":"単位を選択してください"},null,"別添4_5_13","導入設備_計算結果",{"$f":"T22&U22","v":"単位を選択してください"},null,"別添4_6_13","導入設備_計算結果",{"$f":"X22&Y22","v":"単位を選択してください"},null,"別添4_7_13","導入設備_計算結果",{"$f":"AB22&AC22","v":"単位を選択してください"},null,"別添4_8_13","導入設備_計算結果",{"$f":"AF22&AG22","v":"単位を選択してください"},null,"別添4_9_13","導入設備_計算結果",{"$f":"AJ22&AK22","v":"単位を選択してください"},null,"別添4_10_13","導入設備_計算結果",{"$f":"AN22&AO22","v":"単位を選択してください"},null,"別添4_11_13","導入設備_計算結果",{"$f":"AR22&AS22","v":"単位を選択してください"},null,"別添4_12_13","導入設備_計算結果",{"$f":"AV22&AW22","v":"単位を選択してください"},null,"別添4_13_13","導入設備_計算結果",{"$f":"AZ22&BA22","v":"単位を選択してください"},null,"別添4_14_13","導入設備_計算結果",{"$f":"BD22&BE22","v":"単位を選択してください"},null,"別添4_15_13","導入設備_計算結果",{"$f":"BH22&BI22","v":"単位を選択してください"},null,"別添4_16_13","導入設備_計算結果",{"$f":"BL22&BM22","v":"単位を選択してください"},null,"別添4_17_13","導入設備_計算結果",{"$f":"BP22&BQ22","v":"単位を選択してください"},null,"別添4_18_13","導入設備_計算結果",{"$f":"BT22&BU22","v":"単位を選択してください"},null,"別添4_19_13","導入設備_計算結果",{"$f":"BX22&BY22","v":"単位を選択してください"},null,"別添4_20_13","導入設備_計算結果",{"$f":"CB22&CC22","v":"単位を選択してください"},null,"別添4_21_13","導入設備_計算結果",{"$f":"CF22&CG22","v":"単位を選択してください"},null,"別添4_22_13","導入設備_計算結果",{"$f":"CJ22&CK22","v":"単位を選択してください"},null,"別添4_23_13","導入設備_計算結果",{"$f":"CN22&CO22","v":"単位を選択してください"},null,"別添4_24_13","導入設備_計算結果",{"$f":"CR22&CS22","v":"単位を選択してください"},null,"別添4_25_13","導入設備_計算結果",{"$f":"CV22&CW22","v":"単位を選択してください"},null,"別添4_26_13","導入設備_計算結果",{"$f":"CZ22&DA22","v":"単位を選択してください"},null,"別添4_27_13","導入設備_計算結果",{"$f":"DD22&DE22","v":"単位を選択してください"},null,"別添4_28_13","導入設備_計算結果",{"$f":"DH22&DI22","v":"単位を選択してください"},null,"別添4_29_13","導入設備_計算結果",{"$f":"DL22&DM22","v":"単位を選択してください"},null,"別添4_30_13","導入設備_計算結果",{"$f":"DP22&DQ22","v":"単位を選択してください"},null,"別添4_31_13","導入設備_計算結果",{"$f":"DT22&DU22","v":"単位を選択してください"},null,"別添4_32_13","導入設備_計算結果",{"$f":"DX22&DY22","v":"単位を選択してください"},null,"別添4_33_13","導入設備_計算結果",{"$f":"EB22&EC22","v":"単位を選択してください"},null,"別添4_34_13","導入設備_計算結果",{"$f":"EF22&EG22","v":"単位を選択してください"},null,"別添4_35_13","導入設備_計算結果",{"$f":"EJ22&EK22","v":"単位を選択してください"},null,"別添4_36_13","導入設備_計算結果",{"$f":"EN22&EO22","v":"単位を選択してください"},null,"別添4_37_13","導入設備_計算結果",{"$f":"ER22&ES22","v":"単位を選択してください"},null,"別添4_38_13","導入設備_計算結果",{"$f":"EV22&EW22","v":"単位を選択してください"},null,"別添4_39_13","導入設備_計算結果",{"$f":"EZ22&FA22","v":"単位を選択してください"},null,"別添4_40_13","導入設備_計算結果",{"$f":"FD22&FE22","v":"単位を選択してください"},null,"別添4_41_13","導入設備_計算結果",{"$f":"FH22&FI22","v":"単位を選択してください"},null,"別添4_42_13","導入設備_計算結果",{"$f":"FL22&FM22","v":"単位を選択してください"},null,"別添4_43_13","導入設備_計算結果",{"$f":"FP22&FQ22","v":"単位を選択してください"},null,"別添4_44_13","導入設備_計算結果",{"$f":"FT22&FU22","v":"単位を選択してください"},null,"別添4_45_13","導入設備_計算結果",{"$f":"FX22&FY22","v":"単位を選択してください"},null,"別添4_46_13","導入設備_計算結果",{"$f":"GB22&GC22","v":"単位を選択してください"},null,"別添4_47_13","導入設備_計算結果",{"$f":"GF22&GG22","v":"単位を選択してください"},null,"別添4_48_13","導入設備_計算結果",{"$f":"GJ22&GK22","v":"単位を選択してください"},null,"別添4_49_13","導入設備_計算結果",{"$f":"GN22&GO22","v":"単位を選択してください"},null,"別添4_50_13","導入設備_計算結果",{"$f":"GR22&GS22","v":"単位を選択してください"},null,"別添4_51_13","導入設備_計算結果",{"$f":"GV22&GW22","v":"単位を選択してください"},null,"別添4_52_13","導入設備_計算結果",{"$f":"GZ22&HA22","v":"単位を選択してください"},null,"別添4_53_13","導入設備_計算結果",{"$f":"HD22&HE22","v":"単位を選択してください"},null,"別添4_54_13","導入設備_計算結果",{"$f":"HH22&HI22","v":"単位を選択してください"},null,"別添4_55_13","導入設備_計算結果",{"$f":"HL22&HM22","v":"単位を選択してください"},null,"別添4_56_13","導入設備_計算結果",{"$f":"HP22&HQ22","v":"単位を選択してください"},null,"別添4_57_13","導入設備_計算結果",{"$f":"HT22&HU22","v":"単位を選択してください"},null,"別添4_58_13","導入設備_計算結果",{"$f":"HX22&HY22","v":"単位を選択してください"},null,"別添4_59_13","導入設備_計算結果",{"$f":"IB22&IC22","v":"単位を選択してください"},null,"別添4_60_13","導入設備_計算結果",{"$f":"IF22&IG22","v":"単位を選択してください"}]
[null,null,null,"別添4_1_14","一代前モデル_製品名",{"$f":"F16","v":0},null,"別添4_2_14","一代前モデル_製品名",{"$f":"J16","v":0},null,"別添4_3_14","一代前モデル_製品名",{"$f":"N16","v":0},null,"別添4_4_14","一代前モデル_製品名",{"$f":"R16","v":0},null,"別添4_5_14","一代前モデル_製品名",{"$f":"V16","v":0},null,"別添4_6_14","一代前モデル_製品名",{"$f":"Z16","v":0},null,"別添4_7_14","一代前モデル_製品名",{"$f":"AD16","v":0},null,"別添4_8_14","一代前モデル_製品名",{"$f":"AH16","v":0},null,"別添4_9_14","一代前モデル_製品名",{"$f":"AL16","v":0},null,"別添4_10_14","一代前モデル_製品名",{"$f":"AP16","v":0},null,"別添4_11_14","一代前モデル_製品名",{"$f":"AT16","v":0},null,"別添4_12_14","一代前モデル_製品名",{"$f":"AX16","v":0},null,"別添4_13_14","一代前モデル_製品名",{"$f":"BB16","v":0},null,"別添4_14_14","一代前モデル_製品名",{"$f":"BF16","v":0},null,"別添4_15_14","一代前モデル_製品名",{"$f":"BJ16","v":0},null,"別添4_16_14","一代前モデル_製品名",{"$f":"BN16","v":0},null,"別添4_17_14","一代前モデル_製品名",{"$f":"BR16","v":0},null,"別添4_18_14","一代前モデル_製品名",{"$f":"BV16","v":0},null,"別添4_19_14","一代前モデル_製品名",{"$f":"BZ16","v":0},null,"別添4_20_14","一代前モデル_製品名",{"$f":"CD16","v":0},null,"別添4_21_14","一代前モデル_製品名",{"$f":"CH16","v":0},null,"別添4_22_14","一代前モデル_製品名",{"$f":"CL16","v":0},null,"別添4_23_14","一代前モデル_製品名",{"$f":"CP16","v":0},null,"別添4_24_14","一代前モデル_製品名",{"$f":"CT16","v":0},null,"別添4_25_14","一代前モデル_製品名",{"$f":"CX16","v":0},null,"別添4_26_14","一代前モデル_製品名",{"$f":"DB16","v":0},null,"別添4_27_14","一代前モデル_製品名",{"$f":"DF16","v":0},null,"別添4_28_14","一代前モデル_製品名",{"$f":"DJ16","v":0},null,"別添4_29_14","一代前モデル_製品名",{"$f":"DN16","v":0},null,"別添4_30_14","一代前モデル_製品名",{"$f":"DR16","v":0},null,"別添4_31_14","一代前モデル_製品名",{"$f":"DV16","v":0},null,"別添4_32_14","一代前モデル_製品名",{"$f":"DZ16","v":0},null,"別添4_33_14","一代前モデル_製品名",{"$f":"ED16","v":0},null,"別添4_34_14","一代前モデル_製品名",{"$f":"EH16","v":0},null,"別添4_35_14","一代前モデル_製品名",{"$f":"EL16","v":0},null,"別添4_36_14","一代前モデル_製品名",{"$f":"EP16","v":0},null,"別添4_37_14","一代前モデル_製品名",{"$f":"ET16","v":0},null,"別添4_38_14","一代前モデル_製品名",{"$f":"EX16","v":0},null,"別添4_39_14","一代前モデル_製品名",{"$f":"FB16","v":0},null,"別添4_40_14","一代前モデル_製品名",{"$f":"FF16","v":0},null,"別添4_41_14","一代前モデル_製品名",{"$f":"FJ16","v":0},null,"別添4_42_14","一代前モデル_製品名",{"$f":"FN16","v":0},null,"別添4_43_14","一代前モデル_製品名",{"$f":"FR16","v":0},null,"別添4_44_14","一代前モデル_製品名",{"$f":"FV16","v":0},null,"別添4_45_14","一代前モデル_製品名",{"$f":"FZ16","v":0},null,"別添4_46_14","一代前モデル_製品名",{"$f":"GD16","v":0},null,"別添4_47_14","一代前モデル_製品名",{"$f":"GH16","v":0},null,"別添4_48_14","一代前モデル_製品名",{"$f":"GL16","v":0},null,"別添4_49_14","一代前モデル_製品名",{"$f":"GP16","v":0},null,"別添4_50_14","一代前モデル_製品名",{"$f":"GT16","v":0},null,"別添4_51_14","一代前モデル_製品名",{"$f":"GX16","v":0},null,"別添4_52_14","一代前モデル_製品名",{"$f":"HB16","v":0},null,"別添4_53_14","一代前モデル_製品名",{"$f":"HF16","v":0},null,"別添4_54_14","一代前モデル_製品名",{"$f":"HJ16","v":0},null,"別添4_55_14","一代前モデル_製品名",{"$f":"HN16","v":0},null,"別添4_56_14","一代前モデル_製品名",{"$f":"HR16","v":0},null,"別添4_57_14","一代前モデル_製品名",{"$f":"HV16","v":0},null,"別添4_58_14","一代前モデル_製品名",{"$f":"HZ16","v":0},null,"別添4_59_14","一代前モデル_製品名",{"$f":"ID16","v":0},null,"別添4_60_14","一代前モデル_製品名",{"$f":"IH16","v":0}]
[null,null,null,"別添4_1_15","一代前モデル_製造メーカー",{"$f":"F17","v":0},null,"別添4_2_15","一代前モデル_製造メーカー",{"$f":"J17","v":0},null,"別添4_3_15","一代前モデル_製造メーカー",{"$f":"N17","v":0},null,"別添4_4_15","一代前モデル_製造メーカー",{"$f":"R17","v":0},null,"別添4_5_15","一代前モデル_製造メーカー",{"$f":"V17","v":0},null,"別添4_6_15","一代前モデル_製造メーカー",{"$f":"Z17","v":0},null,"別添4_7_15","一代前モデル_製造メーカー",{"$f":"AD17","v":0},null,"別添4_8_15","一代前モデル_製造メーカー",{"$f":"AH17","v":0},null,"別添4_9_15","一代前モデル_製造メーカー",{"$f":"AL17","v":0},null,"別添4_10_15","一代前モデル_製造メーカー",{"$f":"AP17","v":0},null,"別添4_11_15","一代前モデル_製造メーカー",{"$f":"AT17","v":0},null,"別添4_12_15","一代前モデル_製造メーカー",{"$f":"AX17","v":0},null,"別添4_13_15","一代前モデル_製造メーカー",{"$f":"BB17","v":0},null,"別添4_14_15","一代前モデル_製造メーカー",{"$f":"BF17","v":0},null,"別添4_15_15","一代前モデル_製造メーカー",{"$f":"BJ17","v":0},null,"別添4_16_15","一代前モデル_製造メーカー",{"$f":"BN17","v":0},null,"別添4_17_15","一代前モデル_製造メーカー",{"$f":"BR17","v":0},null,"別添4_18_15","一代前モデル_製造メーカー",{"$f":"BV17","v":0},null,"別添4_19_15","一代前モデル_製造メーカー",{"$f":"BZ17","v":0},null,"別添4_20_15","一代前モデル_製造メーカー",{"$f":"CD17","v":0},null,"別添4_21_15","一代前モデル_製造メーカー",{"$f":"CH17","v":0},null,"別添4_22_15","一代前モデル_製造メーカー",{"$f":"CL17","v":0},null,"別添4_23_15","一代前モデル_製造メーカー",{"$f":"CP17","v":0},null,"別添4_24_15","一代前モデル_製造メーカー",{"$f":"CT17","v":0},null,"別添4_25_15","一代前モデル_製造メーカー",{"$f":"CX17","v":0},null,"別添4_26_15","一代前モデル_製造メーカー",{"$f":"DB17","v":0},null,"別添4_27_15","一代前モデル_製造メーカー",{"$f":"DF17","v":0},null,"別添4_28_15","一代前モデル_製造メーカー",{"$f":"DJ17","v":0},null,"別添4_29_15","一代前モデル_製造メーカー",{"$f":"DN17","v":0},null,"別添4_30_15","一代前モデル_製造メーカー",{"$f":"DR17","v":0},null,"別添4_31_15","一代前モデル_製造メーカー",{"$f":"DV17","v":0},null,"別添4_32_15","一代前モデル_製造メーカー",{"$f":"DZ17","v":0},null,"別添4_33_15","一代前モデル_製造メーカー",{"$f":"ED17","v":0},null,"別添4_34_15","一代前モデル_製造メーカー",{"$f":"EH17","v":0},null,"別添4_35_15","一代前モデル_製造メーカー",{"$f":"EL17","v":0},null,"別添4_36_15","一代前モデル_製造メーカー",{"$f":"EP17","v":0},null,"別添4_37_15","一代前モデル_製造メーカー",{"$f":"ET17","v":0},null,"別添4_38_15","一代前モデル_製造メーカー",{"$f":"EX17","v":0},null,"別添4_39_15","一代前モデル_製造メーカー",{"$f":"FB17","v":0},null,"別添4_40_15","一代前モデル_製造メーカー",{"$f":"FF17","v":0},null,"別添4_41_15","一代前モデル_製造メーカー",{"$f":"FJ17","v":0},null,"別添4_42_15","一代前モデル_製造メーカー",{"$f":"FN17","v":0},null,"別添4_43_15","一代前モデル_製造メーカー",{"$f":"FR17","v":0},null,"別添4_44_15","一代前モデル_製造メーカー",{"$f":"FV17","v":0},null,"別添4_45_15","一代前モデル_製造メーカー",{"$f":"FZ17","v":0},null,"別添4_46_15","一代前モデル_製造メーカー",{"$f":"GD17","v":0},null,"別添4_47_15","一代前モデル_製造メーカー",{"$f":"GH17","v":0},null,"別添4_48_15","一代前モデル_製造メーカー",{"$f":"GL17","v":0},null,"別添4_49_15","一代前モデル_製造メーカー",{"$f":"GP17","v":0},null,"別添4_50_15","一代前モデル_製造メーカー",{"$f":"GT17","v":0},null,"別添4_51_15","一代前モデル_製造メーカー",{"$f":"GX17","v":0},null,"別添4_52_15","一代前モデル_製造メーカー",{"$f":"HB17","v":0},null,"別添4_53_15","一代前モデル_製造メーカー",{"$f":"HF17","v":0},null,"別添4_54_15","一代前モデル_製造メーカー",{"$f":"HJ17","v":0},null,"別添4_55_15","一代前モデル_製造メーカー",{"$f":"HN17","v":0},null,"別添4_56_15","一代前モデル_製造メーカー",{"$f":"HR17","v":0},null,"別添4_57_15","一代前モデル_製造メーカー",{"$f":"HV17","v":0},null,"別添4_58_15","一代前モデル_製造メーカー",{"$f":"HZ17","v":0},null,"別添4_59_15","一代前モデル_製造メーカー",{"$f":"ID17","v":0},null,"別添4_60_15","一代前モデル_製造メーカー",{"$f":"IH17","v":0}]
[null,null,null,"別添4_1_16","一代前モデル_型番",{"$f":"F18","v":0},null,"別添4_2_16","一代前モデル_型番",{"$f":"J18","v":0},null,"別添4_3_16","一代前モデル_型番",{"$f":"N18","v":0},null,"別添4_4_16","一代前モデル_型番",{"$f":"R18","v":0},null,"別添4_5_16","一代前モデル_型番",{"$f":"V18","v":0},null,"別添4_6_16","一代前モデル_型番",{"$f":"Z18","v":0},null,"別添4_7_16","一代前モデル_型番",{"$f":"AD18","v":0},null,"別添4_8_16","一代前モデル_型番",{"$f":"AH18","v":0},null,"別添4_9_16","一代前モデル_型番",{"$f":"AL18","v":0},null,"別添4_10_16","一代前モデル_型番",{"$f":"AP18","v":0},null,"別添4_11_16","一代前モデル_型番",{"$f":"AT18","v":0},null,"別添4_12_16","一代前モデル_型番",{"$f":"AX18","v":0},null,"別添4_13_16","一代前モデル_型番",{"$f":"BB18","v":0},null,"別添4_14_16","一代前モデル_型番",{"$f":"BF18","v":0},null,"別添4_15_16","一代前モデル_型番",{"$f":"BJ18","v":0},null,"別添4_16_16","一代前モデル_型番",{"$f":"BN18","v":0},null,"別添4_17_16","一代前モデル_型番",{"$f":"BR18","v":0},null,"別添4_18_16","一代前モデル_型番",{"$f":"BV18","v":0},null,"別添4_19_16","一代前モデル_型番",{"$f":"BZ18","v":0},null,"別添4_20_16","一代前モデル_型番",{"$f":"CD18","v":0},null,"別添4_21_16","一代前モデル_型番",{"$f":"CH18","v":0},null,"別添4_22_16","一代前モデル_型番",{"$f":"CL18","v":0},null,"別添4_23_16","一代前モデル_型番",{"$f":"CP18","v":0},null,"別添4_24_16","一代前モデル_型番",{"$f":"CT18","v":0},null,"別添4_25_16","一代前モデル_型番",{"$f":"CX18","v":0},null,"別添4_26_16","一代前モデル_型番",{"$f":"DB18","v":0},null,"別添4_27_16","一代前モデル_型番",{"$f":"DF18","v":0},null,"別添4_28_16","一代前モデル_型番",{"$f":"DJ18","v":0},null,"別添4_29_16","一代前モデル_型番",{"$f":"DN18","v":0},null,"別添4_30_16","一代前モデル_型番",{"$f":"DR18","v":0},null,"別添4_31_16","一代前モデル_型番",{"$f":"DV18","v":0},null,"別添4_32_16","一代前モデル_型番",{"$f":"DZ18","v":0},null,"別添4_33_16","一代前モデル_型番",{"$f":"ED18","v":0},null,"別添4_34_16","一代前モデル_型番",{"$f":"EH18","v":0},null,"別添4_35_16","一代前モデル_型番",{"$f":"EL18","v":0},null,"別添4_36_16","一代前モデル_型番",{"$f":"EP18","v":0},null,"別添4_37_16","一代前モデル_型番",{"$f":"ET18","v":0},null,"別添4_38_16","一代前モデル_型番",{"$f":"EX18","v":0},null,"別添4_39_16","一代前モデル_型番",{"$f":"FB18","v":0},null,"別添4_40_16","一代前モデル_型番",{"$f":"FF18","v":0},null,"別添4_41_16","一代前モデル_型番",{"$f":"FJ18","v":0},null,"別添4_42_16","一代前モデル_型番",{"$f":"FN18","v":0},null,"別添4_43_16","一代前モデル_型番",{"$f":"FR18","v":0},null,"別添4_44_16","一代前モデル_型番",{"$f":"FV18","v":0},null,"別添4_45_16","一代前モデル_型番",{"$f":"FZ18","v":0},null,"別添4_46_16","一代前モデル_型番",{"$f":"GD18","v":0},null,"別添4_47_16","一代前モデル_型番",{"$f":"GH18","v":0},null,"別添4_48_16","一代前モデル_型番",{"$f":"GL18","v":0},null,"別添4_49_16","一代前モデル_型番",{"$f":"GP18","v":0},null,"別添4_50_16","一代前モデル_型番",{"$f":"GT18","v":0},null,"別添4_51_16","一代前モデル_型番",{"$f":"GX18","v":0},null,"別添4_52_16","一代前モデル_型番",{"$f":"HB18","v":0},null,"別添4_53_16","一代前モデル_型番",{"$f":"HF18","v":0},null,"別添4_54_16","一代前モデル_型番",{"$f":"HJ18","v":0},null,"別添4_55_16","一代前モデル_型番",{"$f":"HN18","v":0},null,"別添4_56_16","一代前モデル_型番",{"$f":"HR18","v":0},null,"別添4_57_16","一代前モデル_型番",{"$f":"HV18","v":0},null,"別添4_58_16","一代前モデル_型番",{"$f":"HZ18","v":0},null,"別添4_59_16","一代前モデル_型番",{"$f":"ID18","v":0},null,"別添4_60_16","一代前モデル_型番",{"$f":"IH18","v":0}]
[null,null,null,"別添4_1_17","一代前モデル_導入台数",{"$f":"F19&G19","v":"台"},null,"別添4_2_17","一代前モデル_導入台数",{"$f":"J19&K19","v":"台"},null,"別添4_3_17","一代前モデル_導入台数",{"$f":"N19&O19","v":"台"},null,"別添4_4_17","一代前モデル_導入台数",{"$f":"R19&S19","v":"台"},null,"別添4_5_17","一代前モデル_導入台数",{"$f":"V19&W19","v":"台"},null,"別添4_6_17","一代前モデル_導入台数",{"$f":"Z19&AA19","v":"台"},null,"別添4_7_17","一代前モデル_導入台数",{"$f":"AD19&AE19","v":"台"},null,"別添4_8_17","一代前モデル_導入台数",{"$f":"AH19&AI19","v":"台"},null,"別添4_9_17","一代前モデル_導入台数",{"$f":"AL19&AM19","v":"台"},null,"別添4_10_17","一代前モデル_導入台数",{"$f":"AP19&AQ19","v":"台"},null,"別添4_11_17","一代前モデル_導入台数",{"$f":"AT19&AU19","v":"台"},null,"別添4_12_17","一代前モデル_導入台数",{"$f":"AX19&AY19","v":"台"},null,"別添4_13_17","一代前モデル_導入台数",{"$f":"BB19&BC19","v":"台"},null,"別添4_14_17","一代前モデル_導入台数",{"$f":"BF19&BG19","v":"台"},null,"別添4_15_17","一代前モデル_導入台数",{"$f":"BJ19&BK19","v":"台"},null,"別添4_16_17","一代前モデル_導入台数",{"$f":"BN19&BO19","v":"台"},null,"別添4_17_17","一代前モデル_導入台数",{"$f":"BR19&BS19","v":"台"},null,"別添4_18_17","一代前モデル_導入台数",{"$f":"BV19&BW19","v":"台"},null,"別添4_19_17","一代前モデル_導入台数",{"$f":"BZ19&CA19","v":"台"},null,"別添4_20_17","一代前モデル_導入台数",{"$f":"CD19&CE19","v":"台"},null,"別添4_21_17","一代前モデル_導入台数",{"$f":"CH19&CI19","v":"台"},null,"別添4_22_17","一代前モデル_導入台数",{"$f":"CL19&CM19","v":"台"},null,"別添4_23_17","一代前モデル_導入台数",{"$f":"CP19&CQ19","v":"台"},null,"別添4_24_17","一代前モデル_導入台数",{"$f":"CT19&CU19","v":"台"},null,"別添4_25_17","一代前モデル_導入台数",{"$f":"CX19&CY19","v":"台"},null,"別添4_26_17","一代前モデル_導入台数",{"$f":"DB19&DC19","v":"台"},null,"別添4_27_17","一代前モデル_導入台数",{"$f":"DF19&DG19","v":"台"},null,"別添4_28_17","一代前モデル_導入台数",{"$f":"DJ19&DK19","v":"台"},null,"別添4_29_17","一代前モデル_導入台数",{"$f":"DN19&DO19","v":"台"},null,"別添4_30_17","一代前モデル_導入台数",{"$f":"DR19&DS19","v":"台"},null,"別添4_31_17","一代前モデル_導入台数",{"$f":"DV19&DW19","v":"台"},null,"別添4_32_17","一代前モデル_導入台数",{"$f":"DZ19&EA19","v":"台"},null,"別添4_33_17","一代前モデル_導入台数",{"$f":"ED19&EE19","v":"台"},null,"別添4_34_17","一代前モデル_導入台数",{"$f":"EH19&EI19","v":"台"},null,"別添4_35_17","一代前モデル_導入台数",{"$f":"EL19&EM19","v":"台"},null,"別添4_36_17","一代前モデル_導入台数",{"$f":"EP19&EQ19","v":"台"},null,"別添4_37_17","一代前モデル_導入台数",{"$f":"ET19&EU19","v":"台"},null,"別添4_38_17","一代前モデル_導入台数",{"$f":"EX19&EY19","v":"台"},null,"別添4_39_17","一代前モデル_導入台数",{"$f":"FB19&FC19","v":"台"},null,"別添4_40_17","一代前モデル_導入台数",{"$f":"FF19&FG19","v":"台"},null,"別添4_41_17","一代前モデル_導入台数",{"$f":"FJ19&FK19","v":"台"},null,"別添4_42_17","一代前モデル_導入台数",{"$f":"FN19&FO19","v":"台"},null,"別添4_43_17","一代前モデル_導入台数",{"$f":"FR19&FS19","v":"台"},null,"別添4_44_17","一代前モデル_導入台数",{"$f":"FV19&FW19","v":"台"},null,"別添4_45_17","一代前モデル_導入台数",{"$f":"FZ19&GA19","v":"台"},null,"別添4_46_17","一代前モデル_導入台数",{"$f":"GD19&GE19","v":"台"},null,"別添4_47_17","一代前モデル_導入台数",{"$f":"GH19&GI19","v":"台"},null,"別添4_48_17","一代前モデル_導入台数",{"$f":"GL19&GM19","v":"台"},null,"別添4_49_17","一代前モデル_導入台数",{"$f":"GP19&GQ19","v":"台"},null,"別添4_50_17","一代前モデル_導入台数",{"$f":"GT19&GU19","v":"台"},null,"別添4_51_17","一代前モデル_導入台数",{"$f":"GX19&GY19","v":"台"},null,"別添4_52_17","一代前モデル_導入台数",{"$f":"HB19&HC19","v":"台"},null,"別添4_53_17","一代前モデル_導入台数",{"$f":"HF19&HG19","v":"台"},null,"別添4_54_17","一代前モデル_導入台数",{"$f":"HJ19&HK19","v":"台"},null,"別添4_55_17","一代前モデル_導入台数",{"$f":"HN19&HO19","v":"台"},null,"別添4_56_17","一代前モデル_導入台数",{"$f":"HR19&HS19","v":"台"},null,"別添4_57_17","一代前モデル_導入台数",{"$f":"HV19&HW19","v":"台"},null,"別添4_58_17","一代前モデル_導入台数",{"$f":"HZ19&IA19","v":"台"},null,"別添4_59_17","一代前モデル_導入台数",{"$f":"ID19&IE19","v":"台"},null,"別添4_60_17","一代前モデル_導入台数",{"$f":"IH19&II19","v":"台"}]
[null,null,null,"別添4_1_18","一代前モデル_1台あたりの使用エネルギー",{"$f":"F20","v":0},null,"別添4_2_18","一代前モデル_1台あたりの使用エネルギー",{"$f":"J20","v":0},null,"別添4_3_18","一代前モデル_1台あたりの使用エネルギー",{"$f":"N20","v":0},null,"別添4_4_18","一代前モデル_1台あたりの使用エネルギー",{"$f":"R20","v":0},null,"別添4_5_18","一代前モデル_1台あたりの使用エネルギー",{"$f":"V20","v":0},null,"別添4_6_18","一代前モデル_1台あたりの使用エネルギー",{"$f":"Z20","v":0},null,"別添4_7_18","一代前モデル_1台あたりの使用エネルギー",{"$f":"AD20","v":0},null,"別添4_8_18","一代前モデル_1台あたりの使用エネルギー",{"$f":"AH20","v":0},null,"別添4_9_18","一代前モデル_1台あたりの使用エネルギー",{"$f":"AL20","v":0},null,"別添4_10_18","一代前モデル_1台あたりの使用エネルギー",{"$f":"AP20","v":0},null,"別添4_11_18","一代前モデル_1台あたりの使用エネルギー",{"$f":"AT20","v":0},null,"別添4_12_18","一代前モデル_1台あたりの使用エネルギー",{"$f":"AX20","v":0},null,"別添4_13_18","一代前モデル_1台あたりの使用エネルギー",{"$f":"BB20","v":0},null,"別添4_14_18","一代前モデル_1台あたりの使用エネルギー",{"$f":"BF20","v":0},null,"別添4_15_18","一代前モデル_1台あたりの使用エネルギー",{"$f":"BJ20","v":0},null,"別添4_16_18","一代前モデル_1台あたりの使用エネルギー",{"$f":"BN20","v":0},null,"別添4_17_18","一代前モデル_1台あたりの使用エネルギー",{"$f":"BR20","v":0},null,"別添4_18_18","一代前モデル_1台あたりの使用エネルギー",{"$f":"BV20","v":0},null,"別添4_19_18","一代前モデル_1台あたりの使用エネルギー",{"$f":"BZ20","v":0},null,"別添4_20_18","一代前モデル_1台あたりの使用エネルギー",{"$f":"CD20","v":0},null,"別添4_21_18","一代前モデル_1台あたりの使用エネルギー",{"$f":"CH20","v":0},null,"別添4_22_18","一代前モデル_1台あたりの使用エネルギー",{"$f":"CL20","v":0},null,"別添4_23_18","一代前モデル_1台あたりの使用エネルギー",{"$f":"CP20","v":0},null,"別添4_24_18","一代前モデル_1台あたりの使用エネルギー",{"$f":"CT20","v":0},null,"別添4_25_18","一代前モデル_1台あたりの使用エネルギー",{"$f":"CX20","v":0},null,"別添4_26_18","一代前モデル_1台あたりの使用エネルギー",{"$f":"DB20","v":0},null,"別添4_27_18","一代前モデル_1台あたりの使用エネルギー",{"$f":"DF20","v":0},null,"別添4_28_18","一代前モデル_1台あたりの使用エネルギー",{"$f":"DJ20","v":0},null,"別添4_29_18","一代前モデル_1台あたりの使用エネルギー",{"$f":"DN20","v":0},null,"別添4_30_18","一代前モデル_1台あたりの使用エネルギー",{"$f":"DR20","v":0},null,"別添4_31_18","一代前モデル_1台あたりの使用エネルギー",{"$f":"DV20","v":0},null,"別添4_32_18","一代前モデル_1台あたりの使用エネルギー",{"$f":"DZ20","v":0},null,"別添4_33_18","一代前モデル_1台あたりの使用エネルギー",{"$f":"ED20","v":0},null,"別添4_34_18","一代前モデル_1台あたりの使用エネルギー",{"$f":"EH20","v":0},null,"別添4_35_18","一代前モデル_1台あたりの使用エネルギー",{"$f":"EL20","v":0},null,"別添4_36_18","一代前モデル_1台あたりの使用エネルギー",{"$f":"EP20","v":0},null,"別添4_37_18","一代前モデル_1台あたりの使用エネルギー",{"$f":"ET20","v":0},null,"別添4_38_18","一代前モデル_1台あたりの使用エネルギー",{"$f":"EX20","v":0},null,"別添4_39_18","一代前モデル_1台あたりの使用エネルギー",{"$f":"FB20","v":0},null,"別添4_40_18","一代前モデル_1台あたりの使用エネルギー",{"$f":"FF20","v":0},null,"別添4_41_18","一代前モデル_1台あたりの使用エネルギー",{"$f":"FJ20","v":0},null,"別添4_42_18","一代前モデル_1台あたりの使用エネルギー",{"$f":"FN20","v":0},null,"別添4_43_18","一代前モデル_1台あたりの使用エネルギー",{"$f":"FR20","v":0},null,"別添4_44_18","一代前モデル_1台あたりの使用エネルギー",{"$f":"FV20","v":0},null,"別添4_45_18","一代前モデル_1台あたりの使用エネルギー",{"$f":"FZ20","v":0},null,"別添4_46_18","一代前モデル_1台あたりの使用エネルギー",{"$f":"GD20","v":0},null,"別添4_47_18","一代前モデル_1台あたりの使用エネルギー",{"$f":"GH20","v":0},null,"別添4_48_18","一代前モデル_1台あたりの使用エネルギー",{"$f":"GL20","v":0},null,"別添4_49_18","一代前モデル_1台あたりの使用エネルギー",{"$f":"GP20","v":0},null,"別添4_50_18","一代前モデル_1台あたりの使用エネルギー",{"$f":"GT20","v":0},null,"別添4_51_18","一代前モデル_1台あたりの使用エネルギー",{"$f":"GX20","v":0},null,"別添4_52_18","一代前モデル_1台あたりの使用エネルギー",{"$f":"HB20","v":0},null,"別添4_53_18","一代前モデル_1台あたりの使用エネルギー",{"$f":"HF20","v":0},null,"別添4_54_18","一代前モデル_1台あたりの使用エネルギー",{"$f":"HJ20","v":0},null,"別添4_55_18","一代前モデル_1台あたりの使用エネルギー",{"$f":"HN20","v":0},null,"別添4_56_18","一代前モデル_1台あたりの使用エネルギー",{"$f":"HR20","v":0},null,"別添4_57_18","一代前モデル_1台あたりの使用エネルギー",{"$f":"HV20","v":0},null,"別添4_58_18","一代前モデル_1台あたりの使用エネルギー",{"$f":"HZ20","v":0},null,"別添4_59_18","一代前モデル_1台あたりの使用エネルギー",{"$f":"ID20","v":0},null,"別添4_60_18","一代前モデル_1台あたりの使用エネルギー",{"$f":"IH20","v":0}]
[null,null,null,"別添4_1_19","一代前モデル_年間エネルギー使用量計算式",{"$f":"F21","v":0},null,"別添4_2_19","一代前モデル_年間エネルギー使用量計算式",{"$f":"J21","v":0},null,"別添4_3_19","一代前モデル_年間エネルギー使用量計算式",{"$f":"N21","v":0},null,"別添4_4_19","一代前モデル_年間エネルギー使用量計算式",{"$f":"R21","v":0},null,"別添4_5_19","一代前モデル_年間エネルギー使用量計算式",{"$f":"V21","v":0},null,"別添4_6_19","一代前モデル_年間エネルギー使用量計算式",{"$f":"Z21","v":0},null,"別添4_7_19","一代前モデル_年間エネルギー使用量計算式",{"$f":"AD21","v":0},null,"別添4_8_19","一代前モデル_年間エネルギー使用量計算式",{"$f":"AH21","v":0},null,"別添4_9_19","一代前モデル_年間エネルギー使用量計算式",{"$f":"AL21","v":0},null,"別添4_10_19","一代前モデル_年間エネルギー使用量計算式",{"$f":"AP21","v":0},null,"別添4_11_19","一代前モデル_年間エネルギー使用量計算式",{"$f":"AT21","v":0},null,"別添4_12_19","一代前モデル_年間エネルギー使用量計算式",{"$f":"AX21","v":0},null,"別添4_13_19","一代前モデル_年間エネルギー使用量計算式",{"$f":"BB21","v":0},null,"別添4_14_19","一代前モデル_年間エネルギー使用量計算式",{"$f":"BF21","v":0},null,"別添4_15_19","一代前モデル_年間エネルギー使用量計算式",{"$f":"BJ21","v":0},null,"別添4_16_19","一代前モデル_年間エネルギー使用量計算式",{"$f":"BN21","v":0},null,"別添4_17_19","一代前モデル_年間エネルギー使用量計算式",{"$f":"BR21","v":0},null,"別添4_18_19","一代前モデル_年間エネルギー使用量計算式",{"$f":"BV21","v":0},null,"別添4_19_19","一代前モデル_年間エネルギー使用量計算式",{"$f":"BZ21","v":0},null,"別添4_20_19","一代前モデル_年間エネルギー使用量計算式",{"$f":"CD21","v":0},null,"別添4_21_19","一代前モデル_年間エネルギー使用量計算式",{"$f":"CH21","v":0},null,"別添4_22_19","一代前モデル_年間エネルギー使用量計算式",{"$f":"CL21","v":0},null,"別添4_23_19","一代前モデル_年間エネルギー使用量計算式",{"$f":"CP21","v":0},null,"別添4_24_19","一代前モデル_年間エネルギー使用量計算式",{"$f":"CT21","v":0},null,"別添4_25_19","一代前モデル_年間エネルギー使用量計算式",{"$f":"CX21","v":0},null,"別添4_26_19","一代前モデル_年間エネルギー使用量計算式",{"$f":"DB21","v":0},null,"別添4_27_19","一代前モデル_年間エネルギー使用量計算式",{"$f":"DF21","v":0},null,"別添4_28_19","一代前モデル_年間エネルギー使用量計算式",{"$f":"DJ21","v":0},null,"別添4_29_19","一代前モデル_年間エネルギー使用量計算式",{"$f":"DN21","v":0},null,"別添4_30_19","一代前モデル_年間エネルギー使用量計算式",{"$f":"DR21","v":0},null,"別添4_31_19","一代前モデル_年間エネルギー使用量計算式",{"$f":"DV21","v":0},null,"別添4_32_19","一代前モデル_年間エネルギー使用量計算式",{"$f":"DZ21","v":0},null,"別添4_33_19","一代前モデル_年間エネルギー使用量計算式",{"$f":"ED21","v":0},null,"別添4_34_19","一代前モデル_年間エネルギー使用量計算式",{"$f":"EH21","v":0},null,"別添4_35_19","一代前モデル_年間エネルギー使用量計算式",{"$f":"EL21","v":0},null,"別添4_36_19","一代前モデル_年間エネルギー使用量計算式",{"$f":"EP21","v":0},null,"別添4_37_19","一代前モデル_年間エネルギー使用量計算式",{"$f":"ET21","v":0},null,"別添4_38_19","一代前モデル_年間エネルギー使用量計算式",{"$f":"EX21","v":0},null,"別添4_39_19","一代前モデル_年間エネルギー使用量計算式",{"$f":"FB21","v":0},null,"別添4_40_19","一代前モデル_年間エネルギー使用量計算式",{"$f":"FF21","v":0},null,"別添4_41_19","一代前モデル_年間エネルギー使用量計算式",{"$f":"FJ21","v":0},null,"別添4_42_19","一代前モデル_年間エネルギー使用量計算式",{"$f":"FN21","v":0},null,"別添4_43_19","一代前モデル_年間エネルギー使用量計算式",{"$f":"FR21","v":0},null,"別添4_44_19","一代前モデル_年間エネルギー使用量計算式",{"$f":"FV21","v":0},null,"別添4_45_19","一代前モデル_年間エネルギー使用量計算式",{"$f":"FZ21","v":0},null,"別添4_46_19","一代前モデル_年間エネルギー使用量計算式",{"$f":"GD21","v":0},null,"別添4_47_19","一代前モデル_年間エネルギー使用量計算式",{"$f":"GH21","v":0},null,"別添4_48_19","一代前モデル_年間エネルギー使用量計算式",{"$f":"GL21","v":0},null,"別添4_49_19","一代前モデル_年間エネルギー使用量計算式",{"$f":"GP21","v":0},null,"別添4_50_19","一代前モデル_年間エネルギー使用量計算式",{"$f":"GT21","v":0},null,"別添4_51_19","一代前モデル_年間エネルギー使用量計算式",{"$f":"GX21","v":0},null,"別添4_52_19","一代前モデル_年間エネルギー使用量計算式",{"$f":"HB21","v":0},null,"別添4_53_19","一代前モデル_年間エネルギー使用量計算式",{"$f":"HF21","v":0},null,"別添4_54_19","一代前モデル_年間エネルギー使用量計算式",{"$f":"HJ21","v":0},null,"別添4_55_19","一代前モデル_年間エネルギー使用量計算式",{"$f":"HN21","v":0},null,"別添4_56_19","一代前モデル_年間エネルギー使用量計算式",{"$f":"HR21","v":0},null,"別添4_57_19","一代前モデル_年間エネルギー使用量計算式",{"$f":"HV21","v":0},null,"別添4_58_19","一代前モデル_年間エネルギー使用量計算式",{"$f":"HZ21","v":0},null,"別添4_59_19","一代前モデル_年間エネルギー使用量計算式",{"$f":"ID21","v":0},null,"別添4_60_19","一代前モデル_年間エネルギー使用量計算式",{"$f":"IH21","v":0}]
[null,null,null,"別添4_1_20","一代前モデル_計算結果",{"$f":"F22&G22","v":"単位を選択してください"},null,"別添4_2_20","一代前モデル_計算結果",{"$f":"J22&K22","v":"単位を選択してください"},null,"別添4_3_20","一代前モデル_計算結果",{"$f":"N22&O22","v":"単位を選択してください"},null,"別添4_4_20","一代前モデル_計算結果",{"$f":"R22&S22","v":"単位を選択してください"},null,"別添4_5_20","一代前モデル_計算結果",{"$f":"V22&W22","v":"単位を選択してください"},null,"別添4_6_20","一代前モデル_計算結果",{"$f":"Z22&AA22","v":"単位を選択してください"},null,"別添4_7_20","一代前モデル_計算結果",{"$f":"AD22&AE22","v":"単位を選択してください"},null,"別添4_8_20","一代前モデル_計算結果",{"$f":"AH22&AI22","v":"単位を選択してください"},null,"別添4_9_20","一代前モデル_計算結果",{"$f":"AL22&AM22","v":"単位を選択してください"},null,"別添4_10_20","一代前モデル_計算結果",{"$f":"AP22&AQ22","v":"単位を選択してください"},null,"別添4_11_20","一代前モデル_計算結果",{"$f":"AT22&AU22","v":"単位を選択してください"},null,"別添4_12_20","一代前モデル_計算結果",{"$f":"AX22&AY22","v":"単位を選択してください"},null,"別添4_13_20","一代前モデル_計算結果",{"$f":"BB22&BC22","v":"単位を選択してください"},null,"別添4_14_20","一代前モデル_計算結果",{"$f":"BF22&BG22","v":"単位を選択してください"},null,"別添4_15_20","一代前モデル_計算結果",{"$f":"BJ22&BK22","v":"単位を選択してください"},null,"別添4_16_20","一代前モデル_計算結果",{"$f":"BN22&BO22","v":"単位を選択してください"},null,"別添4_17_20","一代前モデル_計算結果",{"$f":"BR22&BS22","v":"単位を選択してください"},null,"別添4_18_20","一代前モデル_計算結果",{"$f":"BV22&BW22","v":"単位を選択してください"},null,"別添4_19_20","一代前モデル_計算結果",{"$f":"BZ22&CA22","v":"単位を選択してください"},null,"別添4_20_20","一代前モデル_計算結果",{"$f":"CD22&CE22","v":"単位を選択してください"},null,"別添4_21_20","一代前モデル_計算結果",{"$f":"CH22&CI22","v":"単位を選択してください"},null,"別添4_22_20","一代前モデル_計算結果",{"$f":"CL22&CM22","v":"単位を選択してください"},null,"別添4_23_20","一代前モデル_計算結果",{"$f":"CP22&CQ22","v":"単位を選択してください"},null,"別添4_24_20","一代前モデル_計算結果",{"$f":"CT22&CU22","v":"単位を選択してください"},null,"別添4_25_20","一代前モデル_計算結果",{"$f":"CX22&CY22","v":"単位を選択してください"},null,"別添4_26_20","一代前モデル_計算結果",{"$f":"DB22&DC22","v":"単位を選択してください"},null,"別添4_27_20","一代前モデル_計算結果",{"$f":"DF22&DG22","v":"単位を選択してください"},null,"別添4_28_20","一代前モデル_計算結果",{"$f":"DJ22&DK22","v":"単位を選択してください"},null,"別添4_29_20","一代前モデル_計算結果",{"$f":"DN22&DO22","v":"単位を選択してください"},null,"別添4_30_20","一代前モデル_計算結果",{"$f":"DR22&DS22","v":"単位を選択してください"},null,"別添4_31_20","一代前モデル_計算結果",{"$f":"DV22&DW22","v":"単位を選択してください"},null,"別添4_32_20","一代前モデル_計算結果",{"$f":"DZ22&EA22","v":"単位を選択してください"},null,"別添4_33_20","一代前モデル_計算結果",{"$f":"ED22&EE22","v":"単位を選択してください"},null,"別添4_34_20","一代前モデル_計算結果",{"$f":"EH22&EI22","v":"単位を選択してください"},null,"別添4_35_20","一代前モデル_計算結果",{"$f":"EL22&EM22","v":"単位を選択してください"},null,"別添4_36_20","一代前モデル_計算結果",{"$f":"EP22&EQ22","v":"単位を選択してください"},null,"別添4_37_20","一代前モデル_計算結果",{"$f":"ET22&EU22","v":"単位を選択してください"},null,"別添4_38_20","一代前モデル_計算結果",{"$f":"EX22&EY22","v":"単位を選択してください"},null,"別添4_39_20","一代前モデル_計算結果",{"$f":"FB22&FC22","v":"単位を選択してください"},null,"別添4_40_20","一代前モデル_計算結果",{"$f":"FF22&FG22","v":"単位を選択してください"},null,"別添4_41_20","一代前モデル_計算結果",{"$f":"FJ22&FK22","v":"単位を選択してください"},null,"別添4_42_20","一代前モデル_計算結果",{"$f":"FN22&FO22","v":"単位を選択してください"},null,"別添4_43_20","一代前モデル_計算結果",{"$f":"FR22&FS22","v":"単位を選択してください"},null,"別添4_44_20","一代前モデル_計算結果",{"$f":"FV22&FW22","v":"単位を選択してください"},null,"別添4_45_20","一代前モデル_計算結果",{"$f":"FZ22&GA22","v":"単位を選択してください"},null,"別添4_46_20","一代前モデル_計算結果",{"$f":"GD22&GE22","v":"単位を選択してください"},null,"別添4_47_20","一代前モデル_計算結果",{"$f":"GH22&GI22","v":"単位を選択してください"},null,"別添4_48_20","一代前モデル_計算結果",{"$f":"GL22&GM22","v":"単位を選択してください"},null,"別添4_49_20","一代前モデル_計算結果",{"$f":"GP22&GQ22","v":"単位を選択してください"},null,"別添4_50_20","一代前モデル_計算結果",{"$f":"GT22&GU22","v":"単位を選択してください"},null,"別添4_51_20","一代前モデル_計算結果",{"$f":"GX22&GY22","v":"単位を選択してください"},null,"別添4_52_20","一代前モデル_計算結果",{"$f":"HB22&HC22","v":"単位を選択してください"},null,"別添4_53_20","一代前モデル_計算結果",{"$f":"HF22&HG22","v":"単位を選択してください"},null,"別添4_54_20","一代前モデル_計算結果",{"$f":"HJ22&HK22","v":"単位を選択してください"},null,"別添4_55_20","一代前モデル_計算結果",{"$f":"HN22&HO22","v":"単位を選択してください"},null,"別添4_56_20","一代前モデル_計算結果",{"$f":"HR22&HS22","v":"単位を選択してください"},null,"別添4_57_20","一代前モデル_計算結果",{"$f":"HV22&HW22","v":"単位を選択してください"},null,"別添4_58_20","一代前モデル_計算結果",{"$f":"HZ22&IA22","v":"単位を選択してください"},null,"別添4_59_20","一代前モデル_計算結果",{"$f":"ID22&IE22","v":"単位を選択してください"},null,"別添4_60_20","一代前モデル_計算結果",{"$f":"IH22&II22","v":"単位を選択してください"}]
[null,null,null,"別添4_1_21","年間見込み省エネルギー量__計算結果",{"$f":"D23&E23","v":"0単位を選択してください"},null,"別添4_2_21","年間見込み省エネルギー量__計算結果",{"$f":"H23&I23","v":"0単位を選択してください"},null,"別添4_3_21","年間見込み省エネルギー量__計算結果",{"$f":"L23&M23","v":"0単位を選択してください"},null,"別添4_4_21","年間見込み省エネルギー量__計算結果",{"$f":"P23&Q23","v":"0単位を選択してください"},null,"別添4_5_21","年間見込み省エネルギー量__計算結果",{"$f":"T23&U23","v":"0単位を選択してください"},null,"別添4_6_21","年間見込み省エネルギー量__計算結果",{"$f":"X23&Y23","v":"0単位を選択してください"},null,"別添4_7_21","年間見込み省エネルギー量__計算結果",{"$f":"AB23&AC23","v":"0単位を選択してください"},null,"別添4_8_21","年間見込み省エネルギー量__計算結果",{"$f":"AF23&AG23","v":"0単位を選択してください"},null,"別添4_9_21","年間見込み省エネルギー量__計算結果",{"$f":"AJ23&AK23","v":"0単位を選択してください"},null,"別添4_10_21","年間見込み省エネルギー量__計算結果",{"$f":"AN23&AO23","v":"0単位を選択してください"},null,"別添4_11_21","年間見込み省エネルギー量__計算結果",{"$f":"AR23&AS23","v":"0単位を選択してください"},null,"別添4_12_21","年間見込み省エネルギー量__計算結果",{"$f":"AV23&AW23","v":"0単位を選択してください"},null,"別添4_13_21","年間見込み省エネルギー量__計算結果",{"$f":"AZ23&BA23","v":"0単位を選択してください"},null,"別添4_14_21","年間見込み省エネルギー量__計算結果",{"$f":"BD23&BE23","v":"0単位を選択してください"},null,"別添4_15_21","年間見込み省エネルギー量__計算結果",{"$f":"BH23&BI23","v":"0単位を選択してください"},null,"別添4_16_21","年間見込み省エネルギー量__計算結果",{"$f":"BL23&BM23","v":"0単位を選択してください"},null,"別添4_17_21","年間見込み省エネルギー量__計算結果",{"$f":"BP23&BQ23","v":"0単位を選択してください"},null,"別添4_18_21","年間見込み省エネルギー量__計算結果",{"$f":"BT23&BU23","v":"0単位を選択してください"},null,"別添4_19_21","年間見込み省エネルギー量__計算結果",{"$f":"BX23&BY23","v":"0単位を選択してください"},null,"別添4_20_21","年間見込み省エネルギー量__計算結果",{"$f":"CB23&CC23","v":"0単位を選択してください"},null,"別添4_21_21","年間見込み省エネルギー量__計算結果",{"$f":"CF23&CG23","v":"0単位を選択してください"},null,"別添4_22_21","年間見込み省エネルギー量__計算結果",{"$f":"CJ23&CK23","v":"0単位を選択してください"},null,"別添4_23_21","年間見込み省エネルギー量__計算結果",{"$f":"CN23&CO23","v":"0単位を選択してください"},null,"別添4_24_21","年間見込み省エネルギー量__計算結果",{"$f":"CR23&CS23","v":"0単位を選択してください"},null,"別添4_25_21","年間見込み省エネルギー量__計算結果",{"$f":"CV23&CW23","v":"0単位を選択してください"},null,"別添4_26_21","年間見込み省エネルギー量__計算結果",{"$f":"CZ23&DA23","v":"0単位を選択してください"},null,"別添4_27_21","年間見込み省エネルギー量__計算結果",{"$f":"DD23&DE23","v":"0単位を選択してください"},null,"別添4_28_21","年間見込み省エネルギー量__計算結果",{"$f":"DH23&DI23","v":"0単位を選択してください"},null,"別添4_29_21","年間見込み省エネルギー量__計算結果",{"$f":"DL23&DM23","v":"0単位を選択してください"},null,"別添4_30_21","年間見込み省エネルギー量__計算結果",{"$f":"DP23&DQ23","v":"0単位を選択してください"},null,"別添4_31_21","年間見込み省エネルギー量__計算結果",{"$f":"DT23&DU23","v":"0単位を選択してください"},null,"別添4_32_21","年間見込み省エネルギー量__計算結果",{"$f":"DX23&DY23","v":"0単位を選択してください"},null,"別添4_33_21","年間見込み省エネルギー量__計算結果",{"$f":"EB23&EC23","v":"0単位を選択してください"},null,"別添4_34_21","年間見込み省エネルギー量__計算結果",{"$f":"EF23&EG23","v":"0単位を選択してください"},null,"別添4_35_21","年間見込み省エネルギー量__計算結果",{"$f":"EJ23&EK23","v":"0単位を選択してください"},null,"別添4_36_21","年間見込み省エネルギー量__計算結果",{"$f":"EN23&EO23","v":"0単位を選択してください"},null,"別添4_37_21","年間見込み省エネルギー量__計算結果",{"$f":"ER23&ES23","v":"0単位を選択してください"},null,"別添4_38_21","年間見込み省エネルギー量__計算結果",{"$f":"EV23&EW23","v":"0単位を選択してください"},null,"別添4_39_21","年間見込み省エネルギー量__計算結果",{"$f":"EZ23&FA23","v":"0単位を選択してください"},null,"別添4_40_21","年間見込み省エネルギー量__計算結果",{"$f":"FD23&FE23","v":"0単位を選択してください"},null,"別添4_41_21","年間見込み省エネルギー量__計算結果",{"$f":"FH23&FI23","v":"0単位を選択してください"},null,"別添4_42_21","年間見込み省エネルギー量__計算結果",{"$f":"FL23&FM23","v":"0単位を選択してください"},null,"別添4_43_21","年間見込み省エネルギー量__計算結果",{"$f":"FP23&FQ23","v":"0単位を選択してください"},null,"別添4_44_21","年間見込み省エネルギー量__計算結果",{"$f":"FT23&FU23","v":"0単位を選択してください"},null,"別添4_45_21","年間見込み省エネルギー量__計算結果",{"$f":"FX23&FY23","v":"0単位を選択してください"},null,"別添4_46_21","年間見込み省エネルギー量__計算結果",{"$f":"GB23&GC23","v":"0単位を選択してください"},null,"別添4_47_21","年間見込み省エネルギー量__計算結果",{"$f":"GF23&GG23","v":"0単位を選択してください"},null,"別添4_48_21","年間見込み省エネルギー量__計算結果",{"$f":"GJ23&GK23","v":"0単位を選択してください"},null,"別添4_49_21","年間見込み省エネルギー量__計算結果",{"$f":"GN23&GO23","v":"0単位を選択してください"},null,"別添4_50_21","年間見込み省エネルギー量__計算結果",{"$f":"GR23&GS23","v":"0単位を選択してください"},null,"別添4_51_21","年間見込み省エネルギー量__計算結果",{"$f":"GV23&GW23","v":"0単位を選択してください"},null,"別添4_52_21","年間見込み省エネルギー量__計算結果",{"$f":"GZ23&HA23","v":"0単位を選択してください"},null,"別添4_53_21","年間見込み省エネルギー量__計算結果",{"$f":"HD23&HE23","v":"0単位を選択してください"},null,"別添4_54_21","年間見込み省エネルギー量__計算結果",{"$f":"HH23&HI23","v":"0単位を選択してください"},null,"別添4_55_21","年間見込み省エネルギー量__計算結果",{"$f":"HL23&HM23","v":"0単位を選択してください"},null,"別添4_56_21","年間見込み省エネルギー量__計算結果",{"$f":"HP23&HQ23","v":"0単位を選択してください"},null,"別添4_57_21","年間見込み省エネルギー量__計算結果",{"$f":"HT23&HU23","v":"0単位を選択してください"},null,"別添4_58_21","年間見込み省エネルギー量__計算結果",{"$f":"HX23&HY23","v":"0単位を選択してください"},null,"別添4_59_21","年間見込み省エネルギー量__計算結果",{"$f":"IB23&IC23","v":"0単位を選択してください"},null,"別添4_60_21","年間見込み省エネルギー量__計算結果",{"$f":"IF23&IG23","v":"0単位を選択してください"}]
[null,null,null,"別添4_1_22","年間見込み省エネルギー量_原油換算計算式",{"$f":"D25","v":0},null,"別添4_2_22","年間見込み省エネルギー量_原油換算計算式",{"$f":"H25","v":0},null,"別添4_3_22","年間見込み省エネルギー量_原油換算計算式",{"$f":"L25","v":0},null,"別添4_4_22","年間見込み省エネルギー量_原油換算計算式",{"$f":"P25","v":0},null,"別添4_5_22","年間見込み省エネルギー量_原油換算計算式",{"$f":"T25","v":0},null,"別添4_6_22","年間見込み省エネルギー量_原油換算計算式",{"$f":"X25","v":0},null,"別添4_7_22","年間見込み省エネルギー量_原油換算計算式",{"$f":"AB25","v":0},null,"別添4_8_22","年間見込み省エネルギー量_原油換算計算式",{"$f":"AF25","v":0},null,"別添4_9_22","年間見込み省エネルギー量_原油換算計算式",{"$f":"AJ25","v":0},null,"別添4_10_22","年間見込み省エネルギー量_原油換算計算式",{"$f":"AN25","v":0},null,"別添4_11_22","年間見込み省エネルギー量_原油換算計算式",{"$f":"AR25","v":0},null,"別添4_12_22","年間見込み省エネルギー量_原油換算計算式",{"$f":"AV25","v":0},null,"別添4_13_22","年間見込み省エネルギー量_原油換算計算式",{"$f":"AZ25","v":0},null,"別添4_14_22","年間見込み省エネルギー量_原油換算計算式",{"$f":"BD25","v":0},null,"別添4_15_22","年間見込み省エネルギー量_原油換算計算式",{"$f":"BH25","v":0},null,"別添4_16_22","年間見込み省エネルギー量_原油換算計算式",{"$f":"BL25","v":0},null,"別添4_17_22","年間見込み省エネルギー量_原油換算計算式",{"$f":"BP25","v":0},null,"別添4_18_22","年間見込み省エネルギー量_原油換算計算式",{"$f":"BT25","v":0},null,"別添4_19_22","年間見込み省エネルギー量_原油換算計算式",{"$f":"BX25","v":0},null,"別添4_20_22","年間見込み省エネルギー量_原油換算計算式",{"$f":"CB25","v":0},null,"別添4_21_22","年間見込み省エネルギー量_原油換算計算式",{"$f":"CF25","v":0},null,"別添4_22_22","年間見込み省エネルギー量_原油換算計算式",{"$f":"CJ25","v":0},null,"別添4_23_22","年間見込み省エネルギー量_原油換算計算式",{"$f":"CN25","v":0},null,"別添4_24_22","年間見込み省エネルギー量_原油換算計算式",{"$f":"CR25","v":0},null,"別添4_25_22","年間見込み省エネルギー量_原油換算計算式",{"$f":"CV25","v":0},null,"別添4_26_22","年間見込み省エネルギー量_原油換算計算式",{"$f":"CZ25","v":0},null,"別添4_27_22","年間見込み省エネルギー量_原油換算計算式",{"$f":"DD25","v":0},null,"別添4_28_22","年間見込み省エネルギー量_原油換算計算式",{"$f":"DH25","v":0},null,"別添4_29_22","年間見込み省エネルギー量_原油換算計算式",{"$f":"DL25","v":0},null,"別添4_30_22","年間見込み省エネルギー量_原油換算計算式",{"$f":"DP25","v":0},null,"別添4_31_22","年間見込み省エネルギー量_原油換算計算式",{"$f":"DT25","v":0},null,"別添4_32_22","年間見込み省エネルギー量_原油換算計算式",{"$f":"DX25","v":0},null,"別添4_33_22","年間見込み省エネルギー量_原油換算計算式",{"$f":"EB25","v":0},null,"別添4_34_22","年間見込み省エネルギー量_原油換算計算式",{"$f":"EF25","v":0},null,"別添4_35_22","年間見込み省エネルギー量_原油換算計算式",{"$f":"EJ25","v":0},null,"別添4_36_22","年間見込み省エネルギー量_原油換算計算式",{"$f":"EN25","v":0},null,"別添4_37_22","年間見込み省エネルギー量_原油換算計算式",{"$f":"ER25","v":0},null,"別添4_38_22","年間見込み省エネルギー量_原油換算計算式",{"$f":"EV25","v":0},null,"別添4_39_22","年間見込み省エネルギー量_原油換算計算式",{"$f":"EZ25","v":0},null,"別添4_40_22","年間見込み省エネルギー量_原油換算計算式",{"$f":"FD25","v":0},null,"別添4_41_22","年間見込み省エネルギー量_原油換算計算式",{"$f":"FH25","v":0},null,"別添4_42_22","年間見込み省エネルギー量_原油換算計算式",{"$f":"FL25","v":0},null,"別添4_43_22","年間見込み省エネルギー量_原油換算計算式",{"$f":"FP25","v":0},null,"別添4_44_22","年間見込み省エネルギー量_原油換算計算式",{"$f":"FT25","v":0},null,"別添4_45_22","年間見込み省エネルギー量_原油換算計算式",{"$f":"FX25","v":0},null,"別添4_46_22","年間見込み省エネルギー量_原油換算計算式",{"$f":"GB25","v":0},null,"別添4_47_22","年間見込み省エネルギー量_原油換算計算式",{"$f":"GF25","v":0},null,"別添4_48_22","年間見込み省エネルギー量_原油換算計算式",{"$f":"GJ25","v":0},null,"別添4_49_22","年間見込み省エネルギー量_原油換算計算式",{"$f":"GN25","v":0},null,"別添4_50_22","年間見込み省エネルギー量_原油換算計算式",{"$f":"GR25","v":0},null,"別添4_51_22","年間見込み省エネルギー量_原油換算計算式",{"$f":"GV25","v":0},null,"別添4_52_22","年間見込み省エネルギー量_原油換算計算式",{"$f":"GZ25","v":0},null,"別添4_53_22","年間見込み省エネルギー量_原油換算計算式",{"$f":"HD25","v":0},null,"別添4_54_22","年間見込み省エネルギー量_原油換算計算式",{"$f":"HH25","v":0},null,"別添4_55_22","年間見込み省エネルギー量_原油換算計算式",{"$f":"HL25","v":0},null,"別添4_56_22","年間見込み省エネルギー量_原油換算計算式",{"$f":"HP25","v":0},null,"別添4_57_22","年間見込み省エネルギー量_原油換算計算式",{"$f":"HT25","v":0},null,"別添4_58_22","年間見込み省エネルギー量_原油換算計算式",{"$f":"HX25","v":0},null,"別添4_59_22","年間見込み省エネルギー量_原油換算計算式",{"$f":"IB25","v":0},null,"別添4_60_22","年間見込み省エネルギー量_原油換算計算式",{"$f":"IF25","v":0}]
[null,null,null,"別添4_1_23","年間見込み省エネルギー量原油換算計算結果",{"$f":"D26","v":0},null,"別添4_2_23","年間見込み省エネルギー量原油換算計算結果",{"$f":"H26","v":0},null,"別添4_3_23","年間見込み省エネルギー量原油換算計算結果",{"$f":"L26","v":0},null,"別添4_4_23","年間見込み省エネルギー量原油換算計算結果",{"$f":"P26","v":0},null,"別添4_5_23","年間見込み省エネルギー量原油換算計算結果",{"$f":"T26","v":0},null,"別添4_6_23","年間見込み省エネルギー量原油換算計算結果",{"$f":"X26","v":0},null,"別添4_7_23","年間見込み省エネルギー量原油換算計算結果",{"$f":"AB26","v":0},null,"別添4_8_23","年間見込み省エネルギー量原油換算計算結果",{"$f":"AF26","v":0},null,"別添4_9_23","年間見込み省エネルギー量原油換算計算結果",{"$f":"AJ26","v":0},null,"別添4_10_23","年間見込み省エネルギー量原油換算計算結果",{"$f":"AN26","v":0},null,"別添4_11_23","年間見込み省エネルギー量原油換算計算結果",{"$f":"AR26","v":0},null,"別添4_12_23","年間見込み省エネルギー量原油換算計算結果",{"$f":"AV26","v":0},null,"別添4_13_23","年間見込み省エネルギー量原油換算計算結果",{"$f":"AZ26","v":0},null,"別添4_14_23","年間見込み省エネルギー量原油換算計算結果",{"$f":"BD26","v":0},null,"別添4_15_23","年間見込み省エネルギー量原油換算計算結果",{"$f":"BH26","v":0},null,"別添4_16_23","年間見込み省エネルギー量原油換算計算結果",{"$f":"BL26","v":0},null,"別添4_17_23","年間見込み省エネルギー量原油換算計算結果",{"$f":"BP26","v":0},null,"別添4_18_23","年間見込み省エネルギー量原油換算計算結果",{"$f":"BT26","v":0},null,"別添4_19_23","年間見込み省エネルギー量原油換算計算結果",{"$f":"BX26","v":0},null,"別添4_20_23","年間見込み省エネルギー量原油換算計算結果",{"$f":"CB26","v":0},null,"別添4_21_23","年間見込み省エネルギー量原油換算計算結果",{"$f":"CF26","v":0},null,"別添4_22_23","年間見込み省エネルギー量原油換算計算結果",{"$f":"CJ26","v":0},null,"別添4_23_23","年間見込み省エネルギー量原油換算計算結果",{"$f":"CN26","v":0},null,"別添4_24_23","年間見込み省エネルギー量原油換算計算結果",{"$f":"CR26","v":0},null,"別添4_25_23","年間見込み省エネルギー量原油換算計算結果",{"$f":"CV26","v":0},null,"別添4_26_23","年間見込み省エネルギー量原油換算計算結果",{"$f":"CZ26","v":0},null,"別添4_27_23","年間見込み省エネルギー量原油換算計算結果",{"$f":"DD26","v":0},null,"別添4_28_23","年間見込み省エネルギー量原油換算計算結果",{"$f":"DH26","v":0},null,"別添4_29_23","年間見込み省エネルギー量原油換算計算結果",{"$f":"DL26","v":0},null,"別添4_30_23","年間見込み省エネルギー量原油換算計算結果",{"$f":"DP26","v":0},null,"別添4_31_23","年間見込み省エネルギー量原油換算計算結果",{"$f":"DT26","v":0},null,"別添4_32_23","年間見込み省エネルギー量原油換算計算結果",{"$f":"DX26","v":0},null,"別添4_33_23","年間見込み省エネルギー量原油換算計算結果",{"$f":"EB26","v":0},null,"別添4_34_23","年間見込み省エネルギー量原油換算計算結果",{"$f":"EF26","v":0},null,"別添4_35_23","年間見込み省エネルギー量原油換算計算結果",{"$f":"EJ26","v":0},null,"別添4_36_23","年間見込み省エネルギー量原油換算計算結果",{"$f":"EN26","v":0},null,"別添4_37_23","年間見込み省エネルギー量原油換算計算結果",{"$f":"ER26","v":0},null,"別添4_38_23","年間見込み省エネルギー量原油換算計算結果",{"$f":"EV26","v":0},null,"別添4_39_23","年間見込み省エネルギー量原油換算計算結果",{"$f":"EZ26","v":0},null,"別添4_40_23","年間見込み省エネルギー量原油換算計算結果",{"$f":"FD26","v":0},null,"別添4_41_23","年間見込み省エネルギー量原油換算計算結果",{"$f":"FH26","v":0},null,"別添4_42_23","年間見込み省エネルギー量原油換算計算結果",{"$f":"FL26","v":0},null,"別添4_43_23","年間見込み省エネルギー量原油換算計算結果",{"$f":"FP26","v":0},null,"別添4_44_23","年間見込み省エネルギー量原油換算計算結果",{"$f":"FT26","v":0},null,"別添4_45_23","年間見込み省エネルギー量原油換算計算結果",{"$f":"FX26","v":0},null,"別添4_46_23","年間見込み省エネルギー量原油換算計算結果",{"$f":"GB26","v":0},null,"別添4_47_23","年間見込み省エネルギー量原油換算計算結果",{"$f":"GF26","v":0},null,"別添4_48_23","年間見込み省エネルギー量原油換算計算結果",{"$f":"GJ26","v":0},null,"別添4_49_23","年間見込み省エネルギー量原油換算計算結果",{"$f":"GN26","v":0},null,"別添4_50_23","年間見込み省エネルギー量原油換算計算結果",{"$f":"GR26","v":0},null,"別添4_51_23","年間見込み省エネルギー量原油換算計算結果",{"$f":"GV26","v":0},null,"別添4_52_23","年間見込み省エネルギー量原油換算計算結果",{"$f":"GZ26","v":0},null,"別添4_53_23","年間見込み省エネルギー量原油換算計算結果",{"$f":"HD26","v":0},null,"別添4_54_23","年間見込み省エネルギー量原油換算計算結果",{"$f":"HH26","v":0},null,"別添4_55_23","年間見込み省エネルギー量原油換算計算結果",{"$f":"HL26","v":0},null,"別添4_56_23","年間見込み省エネルギー量原油換算計算結果",{"$f":"HP26","v":0},null,"別添4_57_23","年間見込み省エネルギー量原油換算計算結果",{"$f":"HT26","v":0},null,"別添4_58_23","年間見込み省エネルギー量原油換算計算結果",{"$f":"HX26","v":0},null,"別添4_59_23","年間見込み省エネルギー量原油換算計算結果",{"$f":"IB26","v":0},null,"別添4_60_23","年間見込み省エネルギー量原油換算計算結果",{"$f":"IF26","v":0}]
[null,null,null,"別添4_1_24","年間見込み省エネルギー率_自動計算",{"$f":"D27","v":""},null,"別添4_2_24","年間見込み省エネルギー率_自動計算",{"$f":"H27","v":""},null,"別添4_3_24","年間見込み省エネルギー率_自動計算",{"$f":"L27","v":""},null,"別添4_4_24","年間見込み省エネルギー率_自動計算",{"$f":"P27","v":""},null,"別添4_5_24","年間見込み省エネルギー率_自動計算",{"$f":"T27","v":""},null,"別添4_6_24","年間見込み省エネルギー率_自動計算",{"$f":"X27","v":""},null,"別添4_7_24","年間見込み省エネルギー率_自動計算",{"$f":"AB27","v":""},null,"別添4_8_24","年間見込み省エネルギー率_自動計算",{"$f":"AF27","v":""},null,"別添4_9_24","年間見込み省エネルギー率_自動計算",{"$f":"AJ27","v":""},null,"別添4_10_24","年間見込み省エネルギー率_自動計算",{"$f":"AN27","v":""},null,"別添4_11_24","年間見込み省エネルギー率_自動計算",{"$f":"AR27","v":""},null,"別添4_12_24","年間見込み省エネルギー率_自動計算",{"$f":"AV27","v":""},null,"別添4_13_24","年間見込み省エネルギー率_自動計算",{"$f":"AZ27","v":""},null,"別添4_14_24","年間見込み省エネルギー率_自動計算",{"$f":"BD27","v":""},null,"別添4_15_24","年間見込み省エネルギー率_自動計算",{"$f":"BH27","v":""},null,"別添4_16_24","年間見込み省エネルギー率_自動計算",{"$f":"BL27","v":""},null,"別添4_17_24","年間見込み省エネルギー率_自動計算",{"$f":"BP27","v":""},null,"別添4_18_24","年間見込み省エネルギー率_自動計算",{"$f":"BT27","v":""},null,"別添4_19_24","年間見込み省エネルギー率_自動計算",{"$f":"BX27","v":""},null,"別添4_20_24","年間見込み省エネルギー率_自動計算",{"$f":"CB27","v":""},null,"別添4_21_24","年間見込み省エネルギー率_自動計算",{"$f":"CF27","v":""},null,"別添4_22_24","年間見込み省エネルギー率_自動計算",{"$f":"CJ27","v":""},null,"別添4_23_24","年間見込み省エネルギー率_自動計算",{"$f":"CN27","v":""},null,"別添4_24_24","年間見込み省エネルギー率_自動計算",{"$f":"CR27","v":""},null,"別添4_25_24","年間見込み省エネルギー率_自動計算",{"$f":"CV27","v":""},null,"別添4_26_24","年間見込み省エネルギー率_自動計算",{"$f":"CZ27","v":""},null,"別添4_27_24","年間見込み省エネルギー率_自動計算",{"$f":"DD27","v":""},null,"別添4_28_24","年間見込み省エネルギー率_自動計算",{"$f":"DH27","v":""},null,"別添4_29_24","年間見込み省エネルギー率_自動計算",{"$f":"DL27","v":""},null,"別添4_30_24","年間見込み省エネルギー率_自動計算",{"$f":"DP27","v":""},null,"別添4_31_24","年間見込み省エネルギー率_自動計算",{"$f":"DT27","v":""},null,"別添4_32_24","年間見込み省エネルギー率_自動計算",{"$f":"DX27","v":""},null,"別添4_33_24","年間見込み省エネルギー率_自動計算",{"$f":"EB27","v":""},null,"別添4_34_24","年間見込み省エネルギー率_自動計算",{"$f":"EF27","v":""},null,"別添4_35_24","年間見込み省エネルギー率_自動計算",{"$f":"EJ27","v":""},null,"別添4_36_24","年間見込み省エネルギー率_自動計算",{"$f":"EN27","v":""},null,"別添4_37_24","年間見込み省エネルギー率_自動計算",{"$f":"ER27","v":""},null,"別添4_38_24","年間見込み省エネルギー率_自動計算",{"$f":"EV27","v":""},null,"別添4_39_24","年間見込み省エネルギー率_自動計算",{"$f":"EZ27","v":""},null,"別添4_40_24","年間見込み省エネルギー率_自動計算",{"$f":"FD27","v":""},null,"別添4_41_24","年間見込み省エネルギー率_自動計算",{"$f":"FH27","v":""},null,"別添4_42_24","年間見込み省エネルギー率_自動計算",{"$f":"FL27","v":""},null,"別添4_43_24","年間見込み省エネルギー率_自動計算",{"$f":"FP27","v":""},null,"別添4_44_24","年間見込み省エネルギー率_自動計算",{"$f":"FT27","v":""},null,"別添4_45_24","年間見込み省エネルギー率_自動計算",{"$f":"FX27","v":""},null,"別添4_46_24","年間見込み省エネルギー率_自動計算",{"$f":"GB27","v":""},null,"別添4_47_24","年間見込み省エネルギー率_自動計算",{"$f":"GF27","v":""},null,"別添4_48_24","年間見込み省エネルギー率_自動計算",{"$f":"GJ27","v":""},null,"別添4_49_24","年間見込み省エネルギー率_自動計算",{"$f":"GN27","v":""},null,"別添4_50_24","年間見込み省エネルギー率_自動計算",{"$f":"GR27","v":""},null,"別添4_51_24","年間見込み省エネルギー率_自動計算",{"$f":"GV27","v":""},null,"別添4_52_24","年間見込み省エネルギー率_自動計算",{"$f":"GZ27","v":""},null,"別添4_53_24","年間見込み省エネルギー率_自動計算",{"$f":"HD27","v":""},null,"別添4_54_24","年間見込み省エネルギー率_自動計算",{"$f":"HH27","v":""},null,"別添4_55_24","年間見込み省エネルギー率_自動計算",{"$f":"HL27","v":""},null,"別添4_56_24","年間見込み省エネルギー率_自動計算",{"$f":"HP27","v":""},null,"別添4_57_24","年間見込み省エネルギー率_自動計算",{"$f":"HT27","v":""},null,"別添4_58_24","年間見込み省エネルギー率_自動計算",{"$f":"HX27","v":""},null,"別添4_59_24","年間見込み省エネルギー率_自動計算",{"$f":"IB27","v":""},null,"別添4_60_24","年間見込み省エネルギー率_自動計算",{"$f":"IF27","v":""}]

{"sheet":"（別添５）エネルギー消費原単位の改善根拠（要件イ）","index":17,"n_rows":83,"n_cols":82,"rows_kept":83,"cut":false,"hidden":false,"merged":[[63,14,63,24],[31,14,31,24],[33,14,33,21],[34,14,34,24],[80,14,80,18],[79,22,79,26],[78,20,80,20],[80,22,80,26],[78,22,78,26],[70,7,74,11],[73,49,73,59],[70,45,74,46],[71,49,71,59],[74,49,74,59],[70,40,74,44],[69,33,75,38],[70,47,74,47],[70,48,74,48],[70,49,70,59],[71,39,74,39],[70,12,74,13],[70,16,70,26],[78,7,80,11],[78,12,80,13],[78,14,79,18],[78,39,80,39],[78,53,80,53],[78,40,80,44],[77,33,81,38],[78,55,78,59],[79,55,79,59],[80,47,80,51],[80,55,80,59],[78,45,80,46],[78,47,79,51],[7,0,17,5],[18,0,28,5],[7,6,17,29],[18,6,28,29],[29,0,35,5],[31,6,34,6],[30,7,34,11],[30,12,34,13],[30,14,30,21],[62,47,62,54],[63,47,63,57],[65,47,65,54],[66,47,66,57],[7,33,17,38],[7,39,17,62],[18,33,28,38],[18,39,28,62],[30,47,30,54],[30,45,34,46],[31,47,31,57],[33,47,33,54],[34,47,34,57],[29,33,35,38],[0,0,1,30],[39,0,49,5],[63,39,66,39],[62,40,66,44],[62,45,66,46],[50,0,60,5],[50,6,60,29],[61,0,67,5],[31,39,34,39],[30,40,34,44],[62,12,66,13],[39,33,49,38],[39,39,49,62],[50,33,60,38],[50,39,60,62],[61,33,67,38],[82,0,85,29],[63,6,66,6],[39,6,49,29],[65,14,65,21],[66,14,66,24],[62,7,66,11],[62,14,62,21],[69,0,75,5],[71,6,74,6],[77,0,81,5],[78,6,80,6],[71,16,71,26],[73,16,73,26],[74,16,74,26],[70,14,74,14],[70,15,74,15]]}
["（別添５）エネルギー消費原単位の改善根拠（要件イ）"]
[]
["(別添５）",null,null,null,null,null,null,null,null,null,null,null,null,null,null,null,null,null,null,null,null,null,null,null,null,null,null,null,null,null,null,null,{"$f":"A3","v":"(別添５）"}]
["エネルギー消費原単位の改善根拠（要件イ）",null,null,null,null,null,null,null,null,null,null,null,null,null,null,null,null,null,null,null,null,null,null,null,null,null,null,null,null,null,null,null,{"$f":"A4","v":"エネルギー消費原単位の改善根拠（要件イ）"},null,null,null,null,null,null,null,null,null,null,null,null,null,null,null,null,null,null,null,null,null,null,null,null,null,null,null,null,null,null,null,null,null,null,null,null,null,null,null,null,null,null,null,null,null,"別添5_G8","【A】 事業実施前の生産量_式",{"$f":"IF(G8=\"\",\"\",G8)","v":""},"　"]
[null,null,null,null,null,null,null,null,null,null,null,null,null,null,null,null,null,null,null,null,null,null,null,null,null,null,null,null,null,null,null,null,null,null,null,null,null,null,null,null,null,null,null,null,null,null,null,null,null,null,null,null,null,null,null,null,null,null,null,null,null,null,null,null,null,null,null,null,null,null,null,null,null,null,null,null,null,null,"別添5_G19","【Ｂ】事業実施前の年間エネルギー使用量[kl]_式",{"$f":"IF(G19=\"\",\"\",G19)","v":""},"　"]
["１．事業実施前のエネルギー消費原単位及びエネルギー使用量",null,null,null,null,null,null,null,null,null,null,null,null,null,null,null,null,null,null,null,null,null,null,null,null,null,null,null,null,null,null,null,{"$f":"A6","v":"１．事業実施前のエネルギー消費原単位及びエネルギー使用量"},null,null,null,null,null,null,null,null,null,null,null,null,null,null,null,null,null,null,null,null,null,null,null,null,null,null,null,null,null,null,null,null,null,null,null,null,null,null,null,null,null,null,null,null,null,"別添5_O35","【A】 事業実施前の生産量_解",{"$f":"IF(O35=\"\",\"\",O35&X34)","v":""},"　"]
[null,null,null,null,null,null,null,null,null,null,null,null,null,null,null,null,null,null,null,null,null,null,null,null,null,null,null,null,null,null,null,null,null,null,null,null,null,null,null,null,null,null,null,null,null,null,null,null,null,null,null,null,null,null,null,null,null,null,null,null,null,null,null,null,null,null,null,null,null,null,null,null,null,null,null,null,null,null,"別添5_O32","【Ｂ】事業実施前の年間エネルギー使用量[kl]_解",{"$f":"IF(O32=\"\",\"\",O32&X31)","v":""},"　"]
["【A】 \n事業実施前の生産量",null,null,null,null,null,null,null,null,null,null,null,null,null,null,null,null,null,null,null,null,null,null,null,null,null,null,null,null,null,null,null,null,{"$f":"A8","v":"【A】 \n事業実施前の生産量"},null,null,null,null,null,"・射出成形機（A-01）について\n　　生産量 51.0（t/年）\n",null,null,null,null,null,null,null,null,null,null,null,null,null,null,null,null,null,null,null,null,null,null,null,null,null,null,null,null,null,null,null,null,null,null,null,null,null,null,"別添5_H31","【Ｃ】事業実施前のエネルギー消費原単位",{"$f":"IF(H31=\"\",\"\",H31&I36&J36&K36)","v":"【Ａ】と【Ｂ】に値を入力してくださいkl/"},"　"]
[null,null,null,null,null,null,null,null,null,null,null,null,null,null,null,null,null,null,null,null,null,null,null,null,null,null,null,null,null,null,null,null,null,null,null,null,null,null,null,null,null,null,null,null,null,null,null,null,null,null,null,null,null,null,null,null,null,null,null,null,null,null,null,null,null,null,null,null,null,null,null,null,null,null,null,null,null,null,"別添5_G40","【D】 事業実施後の生産量_式",{"$f":"IF(G40=\"\",\"\",G40)","v":""},"　"]
[null,null,null,null,null,null,null,null,null,null,null,null,null,null,null,null,null,null,null,null,null,null,null,null,null,null,null,null,null,null,null,null,null,null,null,null,null,null,null,null,null,null,null,null,null,null,null,null,null,null,null,null,null,null,null,null,null,null,null,null,null,null,null,null,null,null,null,null,null,null,null,null,null,null,null,null,null,null,"別添5_G51","【E】事業実施後の年間エネルギー使用量[kl]_式",{"$f":"IF(G51=\"\",\"\",G51)","v":""},"　"]
[null,null,null,null,null,null,null,null,null,null,null,null,null,null,null,null,null,null,null,null,null,null,null,null,null,null,null,null,null,null,null,null,null,null,null,null,null,null,null,null,null,null,null,null,null,null,null,null,null,null,null,null,null,null,null,null,null,null,null,null,null,null,null,null,null,null,null,null,null,null,null,null,null,null,null,null,null,null,"別添5_O67","【D】 事業実施後の生産量_解",{"$f":"IF(O67=\"\",\"\",O67&X66)","v":""},"　"]
[null,null,null,null,null,null,null,null,null,null,null,null,null,null,null,null,null,null,null,null,null,null,null,null,null,null,null,null,null,null,null,null,null,null,null,null,null,null,null,null,null,null,null,null,null,null,null,null,null,null,null,null,null,null,null,null,null,null,null,null,null,null,null,null,null,null,null,null,null,null,null,null,null,null,null,null,null,null,"別添5_O64","【E】事業実施後の年間エネルギー使用量[kl]_解",{"$f":"IF(O64=\"\",\"\",O64&X63)","v":""},"　"]
[null,null,null,null,null,null,null,null,null,null,null,null,null,null,null,null,null,null,null,null,null,null,null,null,null,null,null,null,null,null,null,null,null,null,null,null,null,null,null,null,null,null,null,null,null,null,null,null,null,null,null,null,null,null,null,null,null,null,null,null,null,null,null,null,null,null,null,null,null,null,null,null,null,null,null,null,null,null,"別添5_H63","【F】事業実施後のエネルギー消費原単位",{"$f":"IF(H63=\"\",\"\",H63&I68&J68&K68)","v":"【Ｄ】と【Ｅ】に値を入力してくださいkl/"},"　"]
[null,null,null,null,null,null,null,null,null,null,null,null,null,null,null,null,null,null,null,null,null,null,null,null,null,null,null,null,null,null,null,null,null,null,null,null,null,null,null,null,null,null,null,null,null,null,null,null,null,null,null,null,null,null,null,null,null,null,null,null,null,null,null,null,null,null,null,null,null,null,null,null,null,null,null,null,null,null,"別添5_H71","【Ｇ】エネルギー消費原単位改善率",{"$f":"IF(H71=\"\",\"\",H71)","v":"【Ｃ】と【Ｆ】に値を入力してください"},"　"]
[null,null,null,null,null,null,null,null,null,null,null,null,null,null,null,null,null,null,null,null,null,null,null,null,null,null,null,null,null,null,null,null,null,null,null,null,null,null,null,null,null,null,null,null,null,null,null,null,null,null,null,null,null,null,null,null,null,null,null,null,null,null,null,null,null,null,null,null,null,null,null,null,null,null,null,null,null,null,"別添5_H79","【H】年間見込み省エネルギー量[kl]",{"$f":"IF(H79=\"\",\"\",H79&I68)","v":"【B】と【I】が入力された状態にしてくださいkl"},"　"]
[null,null,null,null,null,null,null,null,null,null,null,null,null,null,null,null,null,null,null,null,null,null,null,null,null,null,null,null,null,null,null,null,null,null,null,null,null,null,null,null,null,null,null,null,null,null,null,null,null,null,null,null,null,null,null,null,null,null,null,null,null,null,null,null,null,null,null,null,null,null,null,null,null,null,null,null,null,null,null,null,{"$f":"IF(G20=\"\",\"\",G20)","v":""},"　"]
[null,null,null,null,null,null,null,null,null,null,null,null,null,null,null,null,null,null,null,null,null,null,null,null,null,null,null,null,null,null,null,null,null,null,null,null,null,null,null,null,null,null,null,null,null,null,null,null,null,null,null,null,null,null,null,null,null,null,null,null,null,null,null,null,null,null,null,null,null,null,null,null,null,null,null,null,null,null,null,null,"","　"]
[null,null,null,null,null,null,null,null,null,null,null,null,null,null,null,null,null,null,null,null,null,null,null,null,null,null,null,null,null,null,null,null,null,null,null,null,null,null,null,null,null,null,null,null,null,null,null,null,null,null,null,null,null,null,null,null,null,null,null,null,null,null,null,null,null,null,null,null,null,null,null,null,null,null,null,null,null,null,null,null,"","　"]
["【Ｂ】\n事業実施前の\n年間エネルギー使用量[kl]",null,null,null,null,null,null,null,null,null,null,null,null,null,null,null,null,null,null,null,null,null,null,null,null,null,null,null,null,null,null,null,null,{"$f":"A19","v":"【Ｂ】\n事業実施前の\n年間エネルギー使用量[kl]"},null,null,null,null,null,"・射出成形機（A-01）について\n　　電力消費量 214,200（kWh/年）　※昼間買電のみ\n　　エネルギー使用量（原油換算）\n　 214,200（kWh/年）　÷　1000　×　9.97[GJ]（熱量換算係数）　×　0.0258[kl]（原油換算係数：10GJ=0.258kl）　＝　55.098（kl/年）\n\n・事業場全体のエネルギー使用量\n　　電力消費量 233,000（kWh/年）　※昼間買電のみ\n　　エネルギー使用量（原油換算）\n　  233,000（kWh/年）　÷　1000　 ×　9.97[GJ]（熱量換算係数）　×　0.0258[kl]（原油換算係数：10GJ=0.258kl）　＝　59.934（kl/年）",null,null,null,null,null,null,null,null,null,null,null,null,null,null,null,null,null,null,null,null,null,null,null,null,null,null,null,null,null,null,null,null,null,null,null,null,null,null,null,null,"","　"]
[null,null,null,null,null,null,null,null,null,null,null,null,null,null,null,null,null,null,null,null,null,null,null,null,null,null,null,null,null,null,null,null,null,null,null,null,null,null,null,null,null,null,null,null,null,null,null,null,null,null,null,null,null,null,null,null,null,null,null,null,null,null,null,null,null,null,null,null,null,null,null,null,null,null,null,null,null,null,null,null,"","　"]
[null,null,null,null,null,null,null,null,null,null,null,null,null,null,null,null,null,null,null,null,null,null,null,null,null,null,null,null,null,null,null,null,null,null,null,null,null,null,null,null,null,null,null,null,null,null,null,null,null,null,null,null,null,null,null,null,null,null,null,null,null,null,null,null,null,null,null,null,null,null,null,null,null,null,null,null,null,null,null,null,"","　"]
[null,null,null,null,null,null,null,null,null,null,null,null,null,null,null,null,null,null,null,null,null,null,null,null,null,null,null,null,null,null,null,null,null,null,null,null,null,null,null,null,null,null,null,null,null,null,null,null,null,null,null,null,null,null,null,null,null,null,null,null,null,null,null,null,null,null,null,null,null,null,null,null,null,null,null,null,null,null,null,null,"","　"]
[null,null,null,null,null,null,null,null,null,null,null,null,null,null,null,null,null,null,null,null,null,null,null,null,null,null,null,null,null,null,null,null,null,null,null,null,null,null,null,null,null,null,null,null,null,null,null,null,null,null,null,null,null,null,null,null,null,null,null,null,null,null,null,null,null,null,null,null,null,null,null,null,null,null,null,null,null,null,null,null,"","　"]
[null,null,null,null,null,null,null,null,null,null,null,null,null,null,null,null,null,null,null,null,null,null,null,null,null,null,null,null,null,null,null,null,null,null,null,null,null,null,null,null,null,null,null,null,null,null,null,null,null,null,null,null,null,null,null,null,null,null,null,null,null,null,null,null,null,null,null,null,null,null,null,null,null,null,null,null,null,null,null,null,"","　"]
[null,null,null,null,null,null,null,null,null,null,null,null,null,null,null,null,null,null,null,null,null,null,null,null,null,null,null,null,null,null,null,null,null,null,null,null,null,null,null,null,null,null,null,null,null,null,null,null,null,null,null,null,null,null,null,null,null,null,null,null,null,null,null,null,null,null,null,null,null,null,null,null,null,null,null,null,null,null,null,null,"","　"]
[null,null,null,null,null,null,null,null,null,null,null,null,null,null,null,null,null,null,null,null,null,null,null,null,null,null,null,null,null,null,null,null,null,null,null,null,null,null,null,null,null,null,null,null,null,null,null,null,null,null,null,null,null,null,null,null,null,null,null,null,null,null,null,null,null,null,null,null,null,null,null,null,null,null,null,null,null,null,null,null,"","　"]
[null,null,null,null,null,null,null,null,null,null,null,null,null,null,null,null,null,null,null,null,null,null,null,null,null,null,null,null,null,null,null,null,null,null,null,null,null,null,null,null,null,null,null,null,null,null,null,null,null,null,null,null,null,null,null,null,null,null,null,null,null,null,null,null,null,null,null,null,null,null,null,null,null,null,null,null,null,null,null,null,"","　"]
[null,null,null,null,null,null,null,null,null,null,null,null,null,null,null,null,null,null,null,null,null,null,null,null,null,null,null,null,null,null,null,null,null,null,null,null,null,null,null,null,null,null,null,null,null,null,null,null,null,null,null,null,null,null,null,null,null,null,null,null,null,null,null,null,null,null,null,null,null,null,null,null,null,null,null,null,null,null,null,null,"","　"]
[null,null,null,null,null,null,null,null,null,null,null,null,null,null,null,null,null,null,null,null,null,null,null,null,null,null,null,null,null,null,null,null,null,null,null,null,null,null,null,null,null,null,null,null,null,null,null,null,null,null,null,null,null,null,null,null,null,null,null,null,null,null,null,null,null,null,null,null,null,null,null,null,null,null,null,null,null,null,null,null,"","　"]
["【Ｃ】\n事業実施前の\nエネルギー消費原単位",null,null,null,null,null,null,null,null,null,null,null,null,null,null,null,null,null,null,null,null,null,null,null,null,null,null,null,null,null,null,null,null,{"$f":"A30","v":"【Ｃ】\n事業実施前の\nエネルギー消費原単位"},null,null,null,null,null,null,null,null,null,null,null,null,null,null,null,null,null,null,null,null,null,null,null,null,null,null,null,null,null,null,null,null,null,null,null,null,null,null,null,null,null,null,null,null,null,null,"","　"]
[null,null,null,null,null,null,null,{"$f":"IF(OR(O32=\"\",O35=\"\"),\"【Ａ】と【Ｂ】に値を入力してください\",O32/O35)","v":"【Ａ】と【Ｂ】に値を入力してください"},null,null,null,null,"＝",null,"【B】事業実施前の年間エネルギー使用量",null,null,null,null,null,null,null,"[","kl","]",null,null,null,null,null,null,null,null,null,null,null,null,null,null,null,{"$f":"IF(OR(AV32=\"\",AV35=\"\"),\"【Ａ】と【Ｂ】に値を入力してください\",AV32/AV35)","v":1.1751764705882353},null,null,null,null,"＝",null,{"$f":"O31","v":"【B】事業実施前の年間エネルギー使用量"},null,null,null,null,null,null,null,"[","kl","]",null,null,null,null,null,null,null,null,null,null,null,null,null,null,null,null,null,null,null,null,null,null,"","　"]
[null,null,null,null,null,null,null,null,null,null,null,null,null,null,null,null,null,null,null,null,null,null,null,null,null,null,null,null,null,null,null,null,null,null,null,null,null,null,null,null,null,null,null,null,null,null,null,59.933999999999997,null,null,null,null,null,null,null,null,null,null,null,null,null,null,null,null,null,null,null,null,null,null,null,null,null,null,null,null,null,null,null,null,"","　"]
[null,null,null,null,null,null,null,null,null,null,null,null,null,null,null,null,null,null,null,null,null,null,null,null,null,null,null,null,null,null,null,null,null,null,null,null,null,null,null,null,null,null,null,null,null,null,null,null,null,null,null,null,null,null,null,null,null,null,null,null,null,null,null,null,null,null,null,null,null,null,null,null,null,null,null,null,null,null,null,null,"","　"]
[null,null,null,null,null,null,null,null,null,null,null,null,null,null,"【Ａ】事業実施前の生産量",null,null,null,null,null,null,null,"[",null,"]",{"$f":"IF(X34=\"\",\"←単位をご入力ください\",\"\")","v":"←単位をご入力ください"},null,null,null,null,null,null,null,null,null,null,null,null,null,null,null,null,null,null,null,null,null,{"$f":"O34","v":"【Ａ】事業実施前の生産量"},null,null,null,null,null,null,null,"[","t","]",{"$f":"IF(BE34=\"\",\"←単位をご入力ください\",\"\")","v":""}]
[null,null,null,null,null,null,null,null,null,null,null,null,null,null,null,null,null,null,null,null,null,null,null,null,null,null,null,null,null,null,null,null,null,null,null,null,null,null,null,null,null,null,null,null,null,null,null,51]
[null,null,null,null,null,null,null,"[","kl","/",{"$f":"IF(X34=\"\",\"\",X34)","v":""},"]",null,null,null,null,null,null,null,null,null,null,null,null,null,null,null,null,null,null,null,null,null,null,null,null,null,null,null,null,"[","kl","/",{"$f":"IF(BE34=\"\",\"\",BE34)","v":"t"},"]"]
[]
["２．事業実施後のエネルギー原単位及びエネルギー使用量",null,null,null,null,null,null,null,null,null,null,null,null,null,null,null,null,null,null,null,null,null,null,null,null,null,null,null,null,null,null,null,{"$f":"A38","v":"２．事業実施後のエネルギー原単位及びエネルギー使用量"}]
[]
["【D】 \n事業実施後の生産量",null,null,null,null,null,null,null,null,null,null,null,null,null,null,null,null,null,null,null,null,null,null,null,null,null,null,null,null,null,null,null,null,{"$f":"A40","v":"【D】 \n事業実施後の生産量"},null,null,null,null,null,"・射出成形機（A-02）について\n　  生産量 31.0（t/年）\n　　電力消費量 136,000（kWh/年）　※昼間買電のみ\n\n・射出成形機（A-01及びA-02の合算）について\n　　生産量 51.0（t/年）＋ 31.0（t/年）＝ 82.0（t/年）"]
[]
[]
[]
[]
[]
[]
[]
[]
[]
[]
["【E】\n事業実施後の\n年間エネルギー使用量[kl]",null,null,null,null,null,null,null,null,null,null,null,null,null,null,null,null,null,null,null,null,null,null,null,null,null,null,null,null,null,null,null,null,{"$f":"A51","v":"【E】\n事業実施後の\n年間エネルギー使用量[kl]"},null,null,null,null,null,"・射出成形機（A-01及びA-02の合算）について\n　　電力消費量 214,200（kWh/年）＋136,000（kWh/年）＝ 350,200（kWh/年）\nエネルギー使用量（原油換算）\n    350,200（kWh/年）　÷　1000　×　9.97[GJ]（熱量換算係数）　×　0.0258[kl]（原油換算係数：10GJ=0.258kl）　＝　90.08（kl/年）\n\n・その他の設備のエネルギー使用量 ※事業実施前と同じと仮定する。\n　　59.934（kl/年）　－　55.098（kl/年）　＝　4.836（kl/年）\n\n・事業場全体のエネルギー使用量\n　　90.08（kl/年）　＋　4.836（kl/年）　＝　94.916（kl/年）"]
[]
[]
[]
[]
[]
[]
[]
[]
[]
[]
["【F】\n事業実施後の\nエネルギー消費原単位",null,null,null,null,null,null,null,null,null,null,null,null,null,null,null,null,null,null,null,null,null,null,null,null,null,null,null,null,null,null,null,null,{"$f":"A62","v":"【F】\n事業実施後の\nエネルギー消費原単位"}]
[null,null,null,null,null,null,null,{"$f":"IF(OR(O64=\"\",O67=\"\"),\"【Ｄ】と【Ｅ】に値を入力してください\",O64/O67)","v":"【Ｄ】と【Ｅ】に値を入力してください"},null,null,null,null,"＝",null,"【E】事業実施後の年間エネルギー使用量",null,null,null,null,null,null,null,"[","kl","]",null,null,null,null,null,null,null,null,null,null,null,null,null,null,null,{"$f":"IF(OR(AV64=\"\",AV67=\"\"),\"【Ｄ】と【Ｅ】に値を入力してください\",AV64/AV67)","v":1.1575121951219511},null,null,null,null,"＝",null,{"$f":"O63","v":"【E】事業実施後の年間エネルギー使用量"},null,null,null,null,null,null,null,"[","kl","]"]
[null,null,null,null,null,null,null,null,null,null,null,null,null,null,null,null,null,null,null,null,null,null,null,null,null,null,null,null,null,null,null,null,null,null,null,null,null,null,null,null,null,null,null,null,null,null,null,94.915999999999997]
[]
[null,null,null,null,null,null,null,null,null,null,null,null,null,null,"【D】事業実施後の生産量",null,null,null,null,null,null,null,"[",null,"]",{"$f":"IF(X66=\"\",\"←単位をご入力ください\",\"\")","v":"←単位をご入力ください"},null,null,null,null,null,null,null,null,null,null,null,null,null,null,null,null,null,null,null,null,null,{"$f":"O66","v":"【D】事業実施後の生産量"},null,null,null,null,null,null,null,"[","t","]",{"$f":"IF(BE66=\"\",\"←単位をご入力ください\",\"\")","v":""}]
[null,null,null,null,null,null,null,null,null,null,null,null,null,null,null,null,null,null,null,null,null,null,null,null,null,null,null,null,null,null,null,null,null,null,null,null,null,null,null,null,null,null,null,null,null,null,null,82]
[null,null,null,null,null,null,null,"[","kl","/",{"$f":"IF(X66=\"\",\"\",X66)","v":""},"]",null,null,null,null,null,null,null,null,null,null,null,null,null,null,null,null,null,null,null,null,null,null,null,null,null,null,null,null,"[","kl","/",{"$f":"IF(BE66=\"\",\"\",BE66)","v":"t"},"]"]
[]
["【Ｇ】\nエネルギー消費原単位\n改善率",null,null,null,null,null,null,null,null,null,null,null,null,null,null,null,null,null,null,null,null,null,null,null,null,null,null,null,null,null,null,null,null,{"$f":"A70","v":"【Ｇ】\nエネルギー消費原単位\n改善率"}]
[null,null,null,null,null,null,null,{"$f":"IF(OR(Q72=\"【Ｄ】と【Ｅ】に値を入力してください\",Q75=\"【Ａ】と【Ｂ】に値を入力してください\"),\"【Ｃ】と【Ｆ】に値を入力してください\",((1-(Q72/Q75))*100)*0.01)","v":"【Ｃ】と【Ｆ】に値を入力してください"},null,null,null,null,"＝",null,1,"－","【Ｆ】事業実施後のエネルギー消費原単位",null,null,null,null,null,null,null,null,null,null,null,null,null,null,null,null,null,null,null,null,null,null,null,{"$f":"IF(OR(AX72=\"【Ｄ】と【Ｅ】に値を入力してください\",AX75=\"【Ａ】と【Ｂ】に値を入力してください\"),\"【Ｃ】と【Ｆ】に値を入力してください\",((1-(AX72/AX75))*100)*0.01)","v":1.5031168431616337E-2},null,null,null,null,"＝",null,1,"－",{"$f":"Q71","v":"【Ｆ】事業実施後のエネルギー消費原単位"}]
[null,null,null,null,null,null,null,null,null,null,null,null,null,null,null,null,{"$f":"H63","v":"【Ｄ】と【Ｅ】に値を入力してください"},null,null,null,null,null,null,null,null,null,null,null,null,null,null,null,null,null,null,null,null,null,null,null,null,null,null,null,null,null,null,null,null,{"$f":"AO63","v":1.1575121951219511}]
[]
[null,null,null,null,null,null,null,null,null,null,null,null,null,null,null,null,"【Ｃ】事業実施前のエネルギー消費原単位",null,null,null,null,null,null,null,null,null,null,null,null,null,null,null,null,null,null,null,null,null,null,null,null,null,null,null,null,null,null,null,null,{"$f":"Q74","v":"【Ｃ】事業実施前のエネルギー消費原単位"}]
[null,null,null,null,null,null,null,null,null,null,null,null,null,null,null,null,{"$f":"H31","v":"【Ａ】と【Ｂ】に値を入力してください"},null,null,null,null,null,null,null,null,null,null,null,null,null,null,null,null,null,null,null,null,null,null,null,null,null,null,null,null,null,null,null,null,{"$f":"AO31","v":1.1751764705882353}]
[]
[]
["【H】\n年間見込み\n省エネルギー量[kl]",null,null,null,null,null,null,null,null,null,null,null,null,null,null,null,null,null,null,null,null,null,null,null,null,null,null,null,null,null,null,null,null,{"$f":"A78","v":"【H】\n年間見込み\n省エネルギー量[kl]"}]
[null,null,null,null,null,null,null,{"$f":"IF(OR(O32=\"\",O35=\"\",H63=\"\"),\"【B】と【I】が入力された状態にしてください\",O81-W81)","v":"【B】と【I】が入力された状態にしてください"},null,null,null,null,"＝",null,"【B】\n事業実施前の\n年間エネルギー使用量[kl]",null,null,null,null,null,"－",null,"【I】\n年間見込みエネルギー\n使用量[kl]",null,null,null,null,null,null,null,null,null,null,null,null,null,null,null,null,null,{"$f":"IF(OR(AV32=\"\",AV35=\"\",AO63=\"\"),\"【B】と【I】が入力された状態にしてください\",AV81-BD81)","v":0.90087804878049127},null,null,null,null,"＝",null,{"$f":"O79","v":"【B】\n事業実施前の\n年間エネルギー使用量[kl]"},null,null,null,null,null,"－",null,{"$f":"W79","v":"【I】\n年間見込みエネルギー\n使用量[kl]"}]
[null,null,null,null,null,null,null,null,null,null,null,null,null,null,null,null,null,null,null,null,null,null,"(A)×(F)",null,null,null,null,null,null,null,null,null,null,null,null,null,null,null,null,null,null,null,null,null,null,null,null,null,null,null,null,null,null,null,null,{"$f":"W80","v":"(A)×(F)"}]
[null,null,null,null,null,null,null,null,null,null,null,null,null,null,{"$f":"IF(O32=\"\",\"\",O32)","v":""},null,null,null,null,null,null,null,{"$f":"IF(O35=\"\",\"\",O35*Q72)","v":""},null,null,null,null,null,null,null,null,null,null,null,null,null,null,null,null,null,null,null,null,null,null,null,null,{"$f":"IF(AV32=\"\",\"\",AV32)","v":59.933999999999997},null,null,null,null,null,null,null,{"$f":"IF(AV35=\"\",\"\",AV35*AX72)","v":59.033121951219506}]
[]
["（注）\n【C】、【F】、【G】、【H】欄の計算については、表示形式は小数点第3位までとなっておりますが、実際の計算は小数点第4以降の値も含めて行っています。"]

{"sheet":"（別添６）省エネルギー取組の根拠（要件ウ）","index":18,"n_rows":61,"n_cols":100,"rows_kept":61,"cut":false,"hidden":false,"merged":[[76,0,79,29],[76,32,79,61],[60,33,74,35],[60,36,74,38],[60,47,74,61],[60,0,74,0],[60,1,74,3],[60,4,74,6],[60,39,74,42],[60,43,74,46],[35,38,38,61],[42,48,42,55],[42,56,42,61],[44,39,44,42],[44,43,44,46],[45,47,59,61],[45,39,59,42],[45,43,59,46],[44,47,44,61],[41,48,41,55],[41,56,41,61],[7,32,8,37],[7,38,8,61],[13,32,16,37],[17,32,20,37],[21,32,24,37],[13,38,16,61],[17,38,20,61],[21,38,24,61],[27,32,30,37],[44,11,44,14],[60,15,74,29],[44,33,44,35],[44,36,44,38],[60,32,74,32],[31,32,34,37],[35,32,38,37],[45,32,59,32],[45,33,59,35],[42,24,42,29],[45,15,59,29],[44,15,44,29],[45,36,59,38],[27,38,30,61],[31,38,34,61],[44,1,44,3],[44,4,44,6],[45,0,59,0],[45,1,59,3],[45,4,59,6],[45,7,59,10],[45,11,59,14],[60,7,74,10],[60,11,74,14],[44,7,44,10],[35,0,38,5],[35,6,38,29],[41,16,41,23],[41,24,41,29],[42,16,42,23],[21,0,24,5],[21,6,24,29],[17,6,20,29],[7,0,8,5],[31,0,34,5],[31,6,34,29],[27,0,30,5],[27,6,30,29],[0,0,1,30],[7,6,8,29],[13,0,16,5],[13,6,16,29],[17,0,20,5]]}
["（別添６）省エネルギー取組の根拠（要件ウ）"]
[]
["(別添６）",null,null,null,null,null,null,null,null,null,null,null,null,null,null,null,null,null,null,null,null,null,null,null,null,null,null,null,null,null,null,null,{"$f":"A3","v":"(別添６）"},null,null,null,null,null,null,null,null,null,null,null,null,null,null,null,null,null,null,null,null,null,null,null,null,null,null,null,null,null,null,null,null,null,null,null,null,null,null,null,null,null,null,null,null,null,null,null,null,null,null,null,null,null,null,null,null,null,null,null,null,null,null,null,"別添6_G8","対象要件内容",{"$f":"IF(G8=\"\",\"\",G8)","v":""}]
["省エネルギー取組の根拠（要件ウ）",null,null,null,null,null,null,null,null,null,null,null,null,null,null,null,null,null,null,null,null,null,null,null,null,null,null,null,null,null,null,null,{"$f":"A4","v":"省エネルギー取組の根拠（要件ウ）"},null,null,null,null,null,null,null,null,null,null,null,null,null,null,null,null,null,null,null,null,null,null,null,null,null,null,null,null,null,null,null,null,null,null,null,null,null,null,null,null,null,null,null,null,null,null,null,null,null,null,null,null,null,null,null,null,null,null,null,null,null,null,null,"別添6_G14","利用データセンター名称",{"$f":"IF(G14=\"\",\"\",G14)","v":""}]
[null,null,null,null,null,null,null,null,null,null,null,null,null,null,null,null,null,null,null,null,null,null,null,null,null,null,null,null,null,null,null,null,null,null,null,null,null,null,null,null,null,null,null,null,null,null,null,null,null,null,null,null,null,null,null,null,null,null,null,null,null,null,null,null,null,null,null,null,null,null,null,null,null,null,null,null,null,null,null,null,null,null,null,null,null,null,null,null,null,null,null,null,null,null,null,null,"別添6_G18","データセンターのＰＵＥ値",{"$f":"IF(G18=\"\",\"\",G18)","v":""}]
["１.対象要件内容",null,null,null,null,null,null,null,null,null,null,null,null,null,null,null,null,null,null,null,null,null,null,null,null,null,null,null,null,null,null,null,{"$f":"A6","v":"１.対象要件内容"},null,null,null,null,null,null,null,null,null,null,null,null,null,null,null,null,null,null,null,null,null,null,null,null,null,null,null,null,null,null,null,null,null,null,null,null,null,null,null,null,null,null,null,null,null,null,null,null,null,null,null,null,null,null,null,null,null,null,null,null,null,null,null,"別添6_G22","省エネルギー取組概要",{"$f":"IF(G22=\"\",\"\",G22)","v":""}]
[null,null,null,null,null,null,null,null,null,null,null,null,null,null,null,null,null,null,null,null,null,null,null,null,null,null,null,null,null,null,null,null,null,null,null,null,null,null,null,null,null,null,null,null,null,null,null,null,null,null,null,null,null,null,null,null,null,null,null,null,null,null,null,null,null,null,null,null,null,null,null,null,null,null,null,null,null,null,null,null,null,null,null,null,null,null,null,null,null,null,null,null,null,null,null,null,"別添6_G28","導入機器",{"$f":"IF(G28=\"\",\"\",G28)","v":""}]
["対象要件内容",null,null,null,null,null,null,null,null,null,null,null,null,null,null,null,null,null,null,null,null,null,null,null,null,null,null,null,null,null,null,null,{"$f":"A8","v":"対象要件内容"},null,null,null,null,null,"データセンターのクラウドサービス活用",null,null,null,null,null,null,null,null,null,null,null,null,null,null,null,null,null,null,null,null,null,null,null,null,null,null,null,null,null,null,null,null,null,null,null,null,null,null,null,null,null,null,null,null,null,null,null,null,null,null,null,null,null,null,null,null,null,"別添6_G32","削減効果（計画値）",{"$f":"IF(G32=\"\",\"\",G32)","v":""}]
[null,null,null,null,null,null,null,null,null,null,null,null,null,null,null,null,null,null,null,null,null,null,null,null,null,null,null,null,null,null,null,null,null,null,null,null,null,null,null,null,null,null,null,null,null,null,null,null,null,null,null,null,null,null,null,null,null,null,null,null,null,null,null,null,null,null,null,null,null,null,null,null,null,null,null,null,null,null,null,null,null,null,null,null,null,null,null,null,null,null,null,null,null,null,null,null,"別添6_G36","省エネルギー取組概要",{"$f":"IF(G36=\"\",\"\",G36)","v":""}]
[null,null,null,null,null,null,null,null,null,null,null,null,null,null,null,null,null,null,null,null,null,null,null,null,null,null,null,null,null,null,null,null,null,null,null,null,null,null,null,null,null,null,null,null,null,null,null,null,null,null,null,null,null,null,null,null,null,null,null,null,null,null,null,null,null,null,null,null,null,null,null,null,null,null,null,null,null,null,null,null,null,null,null,null,null,null,null,null,null,null,null,null,null,null,null,null,"別添6_Y42","年間見込み省エネルギー率[%]",{"$f":"IF(Y42=\"\",\"\",Y42&CV10)","v":""},"%"]
["２．取組内容の詳細",null,null,null,null,null,null,null,null,null,null,null,null,null,null,null,null,null,null,null,null,null,null,null,null,null,null,null,null,null,null,null,{"$f":"A11","v":"２．取組内容の詳細"},null,null,null,null,null,null,null,null,null,null,null,null,null,null,null,null,null,null,null,null,null,null,null,null,null,null,null,null,null,null,null,null,null,null,null,null,null,null,null,null,null,null,null,null,null,null,null,null,null,null,null,null,null,null,null,null,null,null,null,null,null,null,null,"別添6_Y43","年間見込み省エネルギー量[kl]",{"$f":"IF(Y43=\"\",\"\",Y43&CV11)","v":""},"kl"]
[]
["＜データセンターのクラウドサービスの活用＞",null,null,null,null,null,null,null,null,null,null,null,null,null,null,null,null,null,null,null,null,null,null,null,null,null,null,null,null,null,null,null,{"$f":"A13","v":"＜データセンターのクラウドサービスの活用＞"}]
["利用データセンター名称",null,null,null,null,null,null,null,null,null,null,null,null,null,null,null,null,null,null,null,null,null,null,null,null,null,null,null,null,null,null,null,{"$f":"A14","v":"利用データセンター名称"},null,null,null,null,null,"○○データセンター"]
[]
[]
[]
["データセンターのＰＵＥ値\n（実測値又は設計値）",null,null,null,null,null,null,null,null,null,null,null,null,null,null,null,null,null,null,null,null,null,null,null,null,null,null,null,null,null,null,null,{"$f":"A18","v":"データセンターのＰＵＥ値\n（実測値又は設計値）"},null,null,null,null,null,"ＰＵＥ値：2.0（設計値）※添付資料○ページを参照"]
[]
[]
[]
["省エネルギー取組概要",null,null,null,null,null,null,null,null,null,null,null,null,null,null,null,null,null,null,null,null,null,null,null,null,null,null,null,null,null,null,null,{"$f":"A22","v":"省エネルギー取組概要"},null,null,null,null,null,"社内で運用しているメールシステム・勤怠管理システムを、データセンターを活用したクラウドサービスへ\n移行することにより、社内での消費エネルギーを削減する。"]
[]
[]
[]
[]
["＜ＥＭＳの導入＞",null,null,null,null,null,null,null,null,null,null,null,null,null,null,null,null,null,null,null,null,null,null,null,null,null,null,null,null,null,null,null,{"$f":"A27","v":"＜ＥＭＳの導入＞"}]
["導入機器",null,null,null,null,null,null,null,null,null,null,null,null,null,null,null,null,null,null,null,null,null,null,null,null,null,null,null,null,null,null,null,{"$f":"A28","v":"導入機器"},null,null,null,null,null,"動力制御装置　※添付資料○ページ参照"]
[]
[]
[]
["削減効果（計画値）",null,null,null,null,null,null,null,null,null,null,null,null,null,null,null,null,null,null,null,null,null,null,null,null,null,null,null,null,null,null,null,{"$f":"A32","v":"削減効果（計画値）"},null,null,null,null,null,"使用エネルギー量○○％削減見込み　※添付資料○ページ参照"]
[]
[]
[]
["省エネルギー取組概要",null,null,null,null,null,null,null,null,null,null,null,null,null,null,null,null,null,null,null,null,null,null,null,null,null,null,null,null,null,null,null,{"$f":"A36","v":"省エネルギー取組概要"},null,null,null,null,null,"社内エネルギーコストの低減を図るべく、施設内の照明・空調設備・冷却設備等が使用するエネルギー量の\n現状把握（見える化）し、当該設備が使用するエネルギー量の削減を実現する為にＥＭＳを導入する。"]
[]
[]
[]
[]
["3．見込み省エネルギー量の算出",null,null,null,null,null,null,null,null,null,null,null,null,null,null,null,null,null,null,null,null,null,null,null,null,null,null,null,null,null,null,null,{"$f":"A41","v":"3．見込み省エネルギー量の算出"}]
[null,null,null,null,null,null,null,null,null,null,null,null,null,null,null,null,"年間見込み省エネルギー率[%]",null,null,null,null,null,null,null,{"$f":"IF(H46=\"\",\"\",AVERAGE(H46:K75))","v":""},null,null,null,null,null,null,null,null,null,null,null,null,null,null,null,null,null,null,null,null,null,null,null,{"$f":"Q42","v":"年間見込み省エネルギー率[%]"},null,null,null,null,null,null,null,{"$f":"IF(AR46=\"\",\"\",AVERAGE(AN46:AQ75))","v":23}]
[null,null,null,null,null,null,null,null,null,null,null,null,null,null,null,null,"年間見込み省エネルギー量[kl]",null,null,null,null,null,null,null,{"$f":"IF(L46=\"\",\"\",SUM(L46:O75))","v":""},null,null,null,null,null,null,null,null,null,null,null,null,null,null,null,null,null,null,null,null,null,null,null,{"$f":"Q43","v":"年間見込み省エネルギー量[kl]"},null,null,null,null,null,null,null,{"$f":"IF(AV46=\"\",\"\",SUM(AR46:AU75))","v":7.3040000000000003}]
[]
["No","製品名",null,null,"型番",null,null,"年間見込み\n省エネルギー率\n[%]",null,null,null,"年間見込み\n省エネルギー量\n[kl]",null,null,null,"算出根拠",null,null,null,null,null,null,null,null,null,null,null,null,null,null,null,null,{"$f":"A45","v":"No"},{"$f":"B45","v":"製品名"},null,null,{"$f":"E45","v":"型番"},null,null,{"$f":"H45","v":"年間見込み\n省エネルギー率\n[%]"},null,null,null,{"$f":"L45","v":"年間見込み\n省エネルギー量\n[kl]"},null,null,null,{"$f":"P45","v":"算出根拠"}]
[1,null,null,null,null,null,null,null,null,null,null,null,null,null,null,null,null,null,null,null,null,null,null,null,null,null,null,null,null,null,null,null,{"$f":"A46","v":1},"データセンターのクラウドサービス",null,null,"○○データセンター",null,null,23,null,null,null,7.3040000000000003,null,null,null,"算出根拠は、別添「申請サポートツール（データセンターのクラウドサービス活用）」を利用。\n　 データセンター移行前システムの推計消費電力量：123,456kWh/年\n　PUE値の改善率：23％\n\n上記を以下の式に代入し、見込み省エネルギー量[kWh/年]を算出。\n・見込み省エネルギー量[kWh/年] = 推計消費電力量[kWh/年] × 改善率[%]\n　見込み省エネルギー量：‭28,394.88‬kWh/年\n\n見込み省エネルギー量[kWh/年]を以下の式に代入し、原油換算[kl/年]。\n・見込み省エネルギー量[kl/年] = 見込み省エネルギー量[kWh/年] ÷ 1000 ×9.97[GJ]（熱量換算係数） × 0.0258[kl]（原油換算係数：10GJ=0.258kl）\n\n　見込み省エネルギー量：7.304kl/年\n　見込み省エネルギー率：23.0%/年\n\n※算出根拠は、申請者自ら手計算した見込み省エネルギー計算を記載してもよい。"]
[]
[]
[]
[]
[]
[]
[]
[]
[]
[]
[]
[]
[]
[]
[2,null,null,null,null,null,null,null,null,null,null,null,null,null,null,null,null,null,null,null,null,null,null,null,null,null,null,null,null,null,null,null,{"$f":"A61","v":2}]

{"sheet":"（様式第３）交付申請書（新規融資案件）","index":19,"n_rows":85,"n_cols":51,"rows_kept":85,"cut":false,"hidden":false,"merged":[[39,33,39,34],[39,27,39,32],[0,0,1,16],[82,19,82,24],[74,1,75,15],[74,19,75,33],[78,1,79,7],[78,8,79,8],[78,19,79,25],[78,26,79,26],[40,0,48,16],[40,18,48,34],[70,1,71,15],[70,19,71,33],[39,0,39,2],[21,28,22,33],[21,34,25,34],[23,28,24,33],[18,3,20,6],[18,8,20,9],[18,21,20,24],[18,26,20,27],[18,28,20,34],[18,10,20,16],[21,10,22,16],[23,10,24,16],[21,8,24,9],[21,26,24,27],[4,28,6,28],[15,8,17,9],[15,26,17,27],[15,28,17,34],[15,10,17,16],[39,18,39,20],[39,21,39,26],[82,1,82,7],[4,10,6,10],[39,3,39,8],[39,15,39,16],[39,9,39,14],[77,9,81,16]]}
["（様式第３）交付申請書（新規融資案件）"]
[]
["様式第３",null,null,null,null,null,null,null,null,null,null,null,null,null,null,null,null,null,{"$f":"A3","v":"様式第３"},null,null,null,null,null,null,null,null,null,null,null,null,null,null,null,null,null,null,null,null,null,null,null,null,null,null,null,null,"様式第4_Q4","受付番号",{"$f":"ASC(AY3)","v":""},{"$f":"IF(Q4=\"\",\"\",Q4)","v":""}]
[null,null,null,null,null,null,null,null,null,null,null,null,null,{"$f":"IF(Q4=\"\",\"受付番号（例：04AA-001-01）をご入力ください。→\",\"\")","v":"受付番号（例：04AA-001-01）をご入力ください。→"},null,null,null,null,null,null,null,null,null,null,null,null,null,null,null,null,null,null,null,null,"04AA-001-01",null,null,null,"様式第3_L2","受付番号",{"$f":"ASC(IF(Q4=\"\",\"\",Q4))","v":""},null,null,null,null,null,null,"様式第4_L6","年",{"$f":"IF(L6=\"\",\"\",L6)","v":""}]
[null,null,null,null,null,null,null,null,null,null,null,null,null,null,null,null,null,null,null,null,null,null,null,null,null,null,null,null,null,null,null,null,null,null,null,null,null,null,"様式第3_L4","年",{"$f":"IF(L6=\"\",\"\",L6)","v":""},null,null,null,null,null,null,"様式第4_N6","月",{"$f":"IF(N6=\"\",\"\",N6)","v":""}]
[null,null,null,null,null,null,null,null,null,null,null,null,"年",null,"月",null,"日",null,null,null,null,null,null,null,null,null,null,null,null,2022,{"$f":"M6","v":"年"},"○○",{"$f":"O6","v":"月"},"○○",{"$f":"Q6","v":"日"},null,null,null,"様式第3_N4","月",{"$f":"IF(N6=\"\",\"\",N6)","v":""},null,null,null,null,null,null,"様式第4_P6","日",{"$f":"IF(P6=\"\",\"\",P6)","v":""}]
[null,null,null,null,null,null,null,null,null,null,null,null,null,null,null,null,null,null,null,null,null,null,null,null,null,null,null,null,null,null,null,null,null,null,null,null,null,null,"様式第3_P4","日",{"$f":"IF(P6=\"\",\"\",P6)","v":""},null,null,null,null,null,null,"様式第4_K16","指定金融機関_住所",{"$f":"IF(K16=\"\",\"\",K16)","v":""}]
[null,null,null,null,null,null,null,null,null,null,null,null,null,null,null,null,null,null,null,null,null,null,null,null,null,null,null,null,null,null,null,null,null,null,null,null,null,null,"様式第3_K14","指定金融機関_住所",{"$f":"IF(K16=\"\",\"\",K16)","v":""},null,null,null,null,null,null,"様式第4_K19","指定金融機関_名称",{"$f":"IF(K19=\"\",\"\",K19)","v":""}]
["一般社団法人　環境共創イニシアチブ",null,null,null,null,null,null,null,null,null,null,null,null,null,null,null,null,null,{"$f":"A9","v":"一般社団法人　環境共創イニシアチブ"},null,null,null,null,null,null,null,null,null,null,null,null,null,null,null,null,null,null,null,"様式第3_K17","指定金融機関_名称",{"$f":"IF(K19=\"\",\"\",K19)","v":""},null,null,null,null,null,null,"様式第4_K22","指定金融機関_役職",{"$f":"IF(K22=\"\",\"\",K22)","v":""}]
[null,null,null,null,null,null,null,null,null,null,null,null,null,null,null,null,null,null,null,null,null,null,null,null,null,null,null,null,null,null,null,null,null,null,null,null,null,null,"様式第3_K20","指定金融機関_役職",{"$f":"IF(K22=\"\",\"\",K22)","v":""},null,null,null,null,null,null,"様式第4_K24","指定金融機関_代表者名",{"$f":"IF(K24=\"\",\"\",K24)","v":""}]
["代 表 理 事　　　村上　孝　殿",null,null,null,null,null,null,null,null,null,null,null,null,null,null,null,null,null,{"$f":"A11","v":"代 表 理 事　　　村上　孝　殿"},null,null,null,null,null,null,null,null,null,null,null,null,null,null,null,null,null,null,null,"様式第3_K22","指定金融機関_代表者名",{"$f":"IF(K24=\"\",\"\",K24)","v":""},null,null,null,null,null,null,"様式第4_B71","利子補給対象事業者名",{"$f":"IF(B71=\"\",\"\",B71)","v":""}]
[null,null,null,null,null,null,null,null,null,null,null,null,null,null,null,null,null,null,null,null,null,null,null,null,null,null,null,null,null,null,null,null,null,null,null,null,null,null,"様式第3_A37","交付方針決定日",{"$f":"IF(A40=\"\",\"\",A40)","v":""},null,null,null,null,null,null,"様式第4_B75","融資名称",{"$f":"IF(B75=\"\",\"\",B75)","v":""}]
[null,null,null,null,null,null,null,null,null,null,null,null,null,null,null,null,null,null,null,null,null,null,null,null,null,null,null,null,null,null,null,null,null,null,null,null,null,null,"様式第3_J37","交付方針決定通知番号",{"$f":"ASC(IF(J40=\"\",\"\",J40))","v":""},null,null,null,null,null,null,"様式第4_B79","利子補給金交付申請額",{"$f":"IF(B79=\"\",\"\",B79)","v":""}]
[null,null,null,null,null,null,null,null,null,null,null,null,null,null,null,null,null,null,null,null,null,null,null,null,null,null,null,null,null,null,null,null,null,null,null,null,null,null,"様式第3_B69","利子補給対象事業者名",{"$f":"IF(B71=\"\",\"\",B71)","v":""},null,null,null,null,null,null,"様式第4_B83","交付対象融資の内容",{"$f":"IF(B83=\"\",\"\",B83)","v":""}]
[null,null,null,null,null,null,null,null,null,null,{"$f":"IF(K16=\"\",\"↓住所は都道府県からご入力ください。\",\"\")","v":"↓住所は都道府県からご入力ください。"},null,null,null,null,null,null,null,null,null,null,null,null,null,null,null,null,null,null,null,null,null,null,null,null,null,null,null,"様式第3_B73","融資名称",{"$f":"IF(B75=\"\",\"\",B75)","v":""}]
[null,null,null,null,null,null,null,null,"住　　所",null,null,null,null,null,null,null,null,null,null,null,null,null,null,null,null,null,{"$f":"I16","v":"住　　所"},null,"〇〇県〇〇市〇〇町〇丁目〇番〇号",null,null,null,null,null,null,null,null,null,"様式第3_B77","利子補給金交付申請額",{"$f":"IF(B79=\"\",\"\",B79)","v":""}]
[null,null,null,null,null,null,null,null,null,null,null,null,null,null,null,null,null,null,null,null,null,null,null,null,null,null,null,null,null,null,null,null,null,null,null,null,null,null,"様式第3_B81","交付対象融資の内容",{"$f":"IF(B83=\"\",\"\",B83)","v":""}]
[]
[null,null,null,"指定金融機関",null,null,null,null,"名　　称",null,null,null,null,null,null,null,null,null,null,null,null,{"$f":"D19","v":"指定金融機関"},null,null,null,null,{"$f":"I19","v":"名　　称"},null,"株式会社〇〇銀行"]
[]
[]
[null,null,null,null,null,null,null,null,"代表者等名",null,null,null,null,null,null,null,null,null,null,null,null,null,null,null,null,null,{"$f":"I22","v":"代表者等名"},null,"代表取締役"]
[]
[null,null,null,null,null,null,null,null,null,null,null,null,null,null,null,null,null,null,null,null,null,null,null,null,null,null,null,null,"〇〇　〇〇"]
[]
[]
[]
[]
[]
[]
[null,null,null,null,null,null,null,null,"令和４年度省エネルギー設備投資に係る利子補給金",null,null,null,null,null,null,null,null,null,null,null,null,null,null,null,null,null,{"$f":"I31","v":"令和４年度省エネルギー設備投資に係る利子補給金"}]
[]
[null,null,null,null,null,null,null,null,"交付申請書（新規融資案件）",null,null,null,null,null,null,null,null,null,null,null,null,null,null,null,null,null,{"$f":"I33","v":"交付申請書（新規融資案件）"}]
[]
[]
[]
[]
[]
[]
[null,null,null,"をもって交付方針決定の通知 （",null,null,null,null,null,null,null,null,null,null,null,"）のあった",null,null,"202〇年○月○日",null,null,{"$f":"D40","v":"をもって交付方針決定の通知 （"},null,null,null,null,null,"SII-BFA220-01-○○○○○○-00○○○-F",null,null,null,null,null,{"$f":"P40","v":"）のあった"}]
["標記利子補給金の交付を受けたいので、省エネルギー設備投資に係る利子補給金交付規程（ＳＩＩ－ＢＦＡ２２０－０１－２２０４０１－Ｒ。以下「交付規程」という。）第８条第１項の規定に基づき、下記のとおり申請します。\n　なお、補助金等に係る予算の執行の適正化に関する法律（昭和３０年法律第１７９号）、補助金等に係る予算の執行の適正化に関する法律施行令（昭和３０年政令第２５５号）、省エネルギー設備投資に係る利子補給金助成事業費補助金交付要綱（平成２４・０３・２８財資第５号）及び交付規程の定めるところに従うことを承知の上、申請します。",null,null,null,null,null,null,null,null,null,null,null,null,null,null,null,null,null,{"$f":"A41","v":"標記利子補給金の交付を受けたいので、省エネルギー設備投資に係る利子補給金交付規程（ＳＩＩ－ＢＦＡ２２０－０１－２２０４０１－Ｒ。以下「交付規程」という。）第８条第１項の規定に基づき、下記のとおり申請します。\n　なお、補助金等に係る予算の執行の適正化に関する法律（昭和３０年法律第１７９号）、補助金等に係る予算の執行の適正化に関する法律施行令（昭和３０年政令第２５５号）、省エネルギー設備投資に係る利子補給金助成事業費補助金交付要綱（平成２４・０３・２８財資第５号）及び交付規程の定めるところに従うことを承知の上、申請します。"}]
[]
[]
[]
[]
[]
[]
[]
[]
[]
[]
[]
[]
[]
[]
[]
[]
[]
[]
[]
[]
[]
[]
[]
[null,null,null,null,null,null,null,null,null,null,null,null,null,null,null,null,{"$f":"IF($Q$4=\"\",\"様式第３で受付番号をご入力ください。\",$Q$4)","v":"様式第３で受付番号をご入力ください。"},null,null,null,null,null,null,null,null,null,null,null,null,null,null,null,null,null,"04AA-001-01"]
[]
[null,null,null,null,null,null,null,null,"記",null,null,null,null,null,null,null,null,null,null,null,null,null,null,null,null,null,{"$f":"I67","v":"記"}]
[]
[]
["１．利子補給対象事業者名",null,null,null,null,null,null,null,null,null,null,null,null,null,null,null,null,null,{"$f":"A70","v":"１．利子補給対象事業者名"}]
[null,null,null,null,null,null,null,null,null,null,null,null,null,null,null,null,null,null,null,"株式会社○○○○"]
[]
[]
["２．融資名称",null,null,null,null,null,null,null,null,null,null,null,null,null,null,null,null,null,{"$f":"A74","v":"２．融資名称"}]
[null,null,null,null,null,null,null,null,null,null,null,null,null,null,null,null,null,null,null,"○○○○○○○にともなう融資"]
[]
[]
["３．利子補給金交付申請額",null,null,null,null,null,null,null,null,{"$f":"IF(B79=\"\",\"2022年度の利子補給交付申請額をご入力ください。\n※2022年度単位期間Ⅰと単位期間Ⅱを合算して、\n　 交付申請も可能です。\",\"\")","v":"2022年度の利子補給交付申請額をご入力ください。\n※2022年度単位期間Ⅰと単位期間Ⅱを合算して、\n　 交付申請も可能です。"},null,null,null,null,null,null,null,null,{"$f":"A78","v":"３．利子補給金交付申請額"}]
[null,null,null,null,null,null,null,null,"円",null,null,null,null,null,null,null,null,null,null,"○○○,○○○",null,null,null,null,null,null,"円"]
[]
[]
["４．交付対象融資の内容",null,null,null,null,null,null,null,null,null,null,null,null,null,null,null,null,null,{"$f":"A82","v":"４．交付対象融資の内容"}]
[null,null,null,null,null,null,null,null,null,null,null,null,null,null,null,null,null,null,null,"※（別添１）融資計画詳細　参照"]
[]
["（注）この申請書には、ＳＩＩが指示する書面を添付すること。",null,null,null,null,null,null,null,null,null,null,null,null,null,null,null,null,null,{"$f":"A85","v":"（注）この申請書には、ＳＩＩが指示する書面を添付すること。"}]

{"sheet":"（別添１）融資計画詳細１（交付申請）","index":20,"n_rows":218,"n_cols":64,"rows_kept":218,"cut":false,"hidden":false,"merged":[[14,32,15,32],[16,32,17,32],[210,12,217,12],[210,28,217,28],[210,34,217,34],[210,39,217,39],[170,34,177,34],[170,39,177,39],[178,1,185,1],[178,7,185,7],[178,12,185,12],[178,28,185,28],[178,34,185,34],[178,39,185,39],[146,7,153,7],[146,12,153,12],[146,28,153,28],[146,34,153,34],[146,39,153,39],[122,34,129,34],[122,39,129,39],[130,1,137,1],[130,7,137,7],[130,12,137,12],[202,0,217,0],[202,1,209,1],[202,7,209,7],[202,12,209,12],[202,27,217,27],[202,28,209,28],[186,34,193,34],[186,39,193,39],[194,1,201,1],[194,7,201,7],[194,12,201,12],[194,28,201,28],[194,34,201,34],[194,39,201,39],[186,0,201,0],[186,1,193,1],[186,7,193,7],[186,12,193,12],[186,27,201,27],[186,28,193,28],[202,34,209,34],[202,39,209,39],[210,1,217,1],[210,7,217,7],[170,0,185,0],[170,1,177,1],[170,7,177,7],[170,12,177,12],[170,27,185,27],[170,28,177,28],[154,34,161,34],[154,39,161,39],[162,1,169,1],[162,7,169,7],[162,12,169,12],[162,28,169,28],[162,34,169,34],[162,39,169,39],[154,0,169,0],[154,1,161,1],[154,7,161,7],[154,12,161,12],[154,27,169,27],[154,28,161,28],[138,0,153,0],[138,1,145,1],[138,7,145,7],[138,12,145,12],[138,27,153,27],[138,28,145,28],[138,34,145,34],[138,39,145,39],[146,1,153,1],[130,28,137,28],[130,34,137,34],[130,39,137,39],[122,0,137,0],[122,1,129,1],[122,7,129,7],[122,12,129,12],[122,27,137,27],[122,28,129,28],[106,34,113,34],[106,39,113,39],[114,1,121,1],[114,7,121,7],[114,12,121,12],[114,28,121,28],[114,34,121,34],[114,39,121,39],[106,0,121,0],[106,1,113,1],[106,7,113,7],[106,12,113,12],[106,27,121,27],[106,28,113,28],[90,34,97,34],[90,39,97,39],[98,1,105,1],[98,7,105,7],[98,12,105,12],[98,28,105,28],[98,34,105,34],[98,39,105,39],[90,0,105,0],[90,1,97,1],[90,7,97,7],[90,12,97,12],[90,27,105,27],[90,28,97,28],[74,34,81,34],[74,39,81,39],[82,1,89,1],[82,7,89,7],[82,12,89,12],[82,28,89,28],[82,34,89,34],[82,39,89,39],[74,0,89,0],[74,1,81,1],[74,7,81,7],[74,12,81,12],[74,27,89,27],[74,28,81,28],[58,34,65,34],[58,39,65,39],[66,1,73,1],[66,7,73,7],[66,12,73,12],[66,28,73,28],[66,34,73,34],[66,39,73,39],[58,0,73,0],[58,1,65,1],[58,7,65,7],[58,12,65,12],[58,27,73,27],[58,28,65,28],[42,0,57,0],[42,1,49,1],[42,7,49,7],[42,12,49,12],[42,27,57,27],[38,0,40,1],[42,28,49,28],[42,34,49,34],[42,39,49,39],[50,1,57,1],[50,7,57,7],[50,12,57,12],[50,28,57,28],[50,34,57,34],[50,39,57,39],[38,29,38,39],[38,40,39,43],[39,2,39,7],[39,8,40,8],[39,9,40,9],[39,10,40,10],[39,11,39,12],[39,18,40,19],[39,20,40,21],[39,22,40,22],[38,2,38,12],[38,13,39,16],[38,18,38,23],[38,24,38,26],[38,27,40,28],[39,23,40,23],[39,26,40,26],[39,29,39,34],[39,35,40,35],[39,36,40,36],[39,37,40,37],[39,38,39,39],[34,10,35,12],[34,13,35,16],[34,37,35,39],[34,40,35,43],[27,35,32,43],[29,2,30,4],[29,5,30,5],[29,29,30,31],[29,32,30,32],[25,35,26,43],[27,0,30,1],[27,2,28,4],[27,5,28,5],[27,8,32,16],[27,27,30,28],[27,29,28,31],[27,32,28,32],[25,0,26,1],[25,2,26,4],[25,5,26,5],[25,8,26,16],[25,27,26,28],[25,29,26,31],[31,32,32,32],[31,33,32,33],[21,29,22,31],[21,32,22,32],[31,0,32,1],[31,2,32,4],[31,5,32,5],[31,27,32,28],[31,29,32,31],[25,32,26,32],[25,33,26,33],[17,8,18,16],[10,33,11,33],[17,35,18,43],[18,0,19,1],[18,2,19,4],[18,5,19,5],[18,27,19,28],[18,29,19,31],[18,32,19,32],[18,33,19,33],[19,8,24,16],[19,35,24,43],[21,33,22,33],[23,0,24,1],[23,2,24,4],[23,5,24,5],[23,27,24,28],[23,29,24,31],[23,32,24,32],[23,33,24,33],[21,0,22,1],[21,2,22,4],[21,5,22,5],[21,27,22,28],[8,35,9,43],[10,0,11,1],[10,2,11,4],[10,5,11,5],[10,8,16,16],[10,27,11,28],[10,29,11,31],[10,32,11,32],[10,35,16,43],[12,0,13,1],[12,2,13,4],[12,5,13,5],[12,27,13,28],[12,29,13,31],[12,32,13,32],[12,33,13,33],[14,0,17,1],[14,2,15,4],[14,5,15,5],[14,27,17,28],[14,29,15,31],[16,2,17,4],[16,5,17,5],[16,29,17,31],[0,0,1,16],[8,0,9,1],[8,2,9,4],[8,5,9,5],[8,8,9,16],[8,27,9,28],[8,29,9,31],[8,32,9,32],[8,33,9,33],[2,2,3,2],[2,29,3,29]]}
["（別添1）融資計画詳細1（交付申請）"]
[]
["（別添１）",null,"交付申請",null,null,null,null,null,null,null,null,null,null,null,null,null,null,null,null,null,null,null,null,null,null,null,null,{"$f":"A3","v":"（別添１）"},null,{"$f":"C3","v":"交付申請"},null,null,null,null,null,null,null,null,null,null,null,null,null,null,null,null,null,null,null,null,null,null,null,null,null,null,null,null,null,null,null,"別添1_C9","融資額",{"$f":"IF(C9=\"\",\"\",C9)","v":""}]
["融資計画詳細１",null,null,null,null,null,null,null,null,null,null,null,null,null,null,null,{"$f":"IF('（様式第３）交付申請書（新規融資案件）'!$Q$4=\"\",\"様式第３で受付番号をご入力ください。\",'（様式第３）交付申請書（新規融資案件）'!$Q$4)","v":"様式第３で受付番号をご入力ください。"},null,null,null,null,null,null,null,null,null,null,{"$f":"A4","v":"融資計画詳細１"},null,null,null,null,null,null,null,null,null,null,null,null,null,null,null,null,null,null,null,null,null,null,null,null,null,null,null,null,null,null,null,null,null,"別添1_C11","元金均等返済額",{"$f":"IF(C11=\"\",\"\",C11)","v":""}]
[null,null,null,null,null,null,null,null,null,null,null,null,null,null,null,null,null,null,null,null,null,null,null,null,null,null,null,null,null,null,null,null,null,null,null,null,null,null,null,null,null,null,null,null,null,null,null,null,null,null,null,null,null,null,null,null,null,null,null,null,null,"別添1_C13","最終弁済額",{"$f":"IF(C13=\"\",\"\",C13)","v":""}]
[null,null,null,null,null,null,null,null,null,null,null,null,null,null,null,null,null,null,null,null,null,null,null,null,null,null,null,null,null,null,null,null,null,null,null,null,null,null,null,null,null,null,null,null,null,null,null,null,null,null,null,null,null,null,null,null,null,null,null,null,null,"別添1_C15","融資期間_自：",{"$f":"IF(C15=\"\",\"\",C15)","v":""}]
["１．融資の内容",null,null,null,null,null,null,null,null,null,null,null,null,null,null,null,null,null,null,null,null,null,null,null,null,null,null,{"$f":"A7","v":"１．融資の内容"},null,null,null,null,null,null,null,null,null,null,null,null,null,null,null,null,null,null,null,null,null,null,null,null,null,null,null,null,null,null,null,null,null,"別添1_C17","融資期間_至：",{"$f":"IF(C17=\"\",\"\",C17)","v":""}]
[null,null,null,null,null,null,null,null,null,null,null,null,null,null,null,null,null,null,null,null,null,null,null,null,null,null,null,null,null,null,null,null,null,null,null,null,null,null,null,null,null,null,null,null,null,null,null,null,null,null,null,null,null,null,null,null,null,null,null,null,null,"別添1_C19","融資利率",{"$f":"IF(C19=\"\",\"\",C19)","v":""}]
["融資額",null,null,null,null,"円",null,null,"融資備考欄",null,null,null,null,null,null,null,null,null,null,null,null,null,null,null,null,null,null,{"$f":"A9","v":"融資額"},null,84000000,null,null,{"$f":"F9","v":"円"},null,null,"融資備考欄",null,null,null,null,null,null,null,null,null,null,null,null,null,null,null,null,null,null,null,null,null,null,null,null,null,"別添1_C22","内　交付対象融資額",{"$f":"IF(C22=\"\",\"\",C22)","v":""}]
[null,null,null,null,null,null,null,null,null,null,null,null,null,null,null,null,null,null,null,null,null,null,null,null,null,null,null,null,null,null,null,null,null,null,null,null,null,null,null,null,null,null,null,null,null,null,null,null,null,null,null,null,null,null,null,null,null,null,null,null,null,"別添1_C24","元金均等返済額",{"$f":"IF(C24=\"\",\"\",C24)","v":""}]
["元金均等返済額",null,null,null,null,"円",null,null,"",null,null,null,null,null,null,null,null,null,null,null,null,null,null,null,null,null,null,{"$f":"A11","v":"元金均等返済額"},null,1000000,null,null,{"$f":"F11","v":"円"},null,null,null,null,null,null,null,null,null,null,null,null,null,null,null,null,null,null,null,null,null,null,null,null,null,null,null,null,"別添1_C26","最終弁済額",{"$f":"IF(C26=\"\",\"\",C26)","v":""}]
[null,null,null,null,null,null,null,null,null,null,null,null,null,null,null,null,null,null,null,null,null,null,null,null,null,null,null,null,null,null,null,null,null,null,null,null,null,null,null,null,null,null,null,null,null,null,null,null,null,null,null,null,null,null,null,null,null,null,null,null,null,"別添1_C28","交付対象融資期間_自：",{"$f":"IF(C28=\"\",\"\",C28)","v":""}]
["最終弁済額",null,null,null,null,"円",null,null,null,null,null,null,null,null,null,null,null,null,null,null,null,null,null,null,null,null,null,{"$f":"A13","v":"最終弁済額"},null,1000000,null,null,{"$f":"F13","v":"円"},null,null,null,null,null,null,null,null,null,null,null,null,null,null,null,null,null,null,null,null,null,null,null,null,null,null,null,null,"別添1_C30","交付対象融資期間_至：",{"$f":"IF(C30=\"\",\"\",C30)","v":""}]
[null,null,null,null,null,null,null,null,null,null,null,null,null,null,null,null,null,null,null,null,null,null,null,null,null,null,null,null,null,null,null,null,null,null,null,null,null,null,null,null,null,null,null,null,null,null,null,null,null,null,null,null,null,null,null,null,null,null,null,null,null,"別添1_C32","利子補給率",{"$f":"IF(C32=\"\",\"\",C32)","v":""}]
["融資期間",null,null,null,null,"(自)",null,null,null,null,null,null,null,null,null,null,null,null,null,null,null,null,null,null,null,null,null,{"$f":"A15","v":"融資期間"},null,"2022-11-01",null,null,{"$f":"F15","v":"(自)"},null,null,null,null,null,null,null,null,null,null,null,null,null,null,null,null,null,null,null,null,null,null,null,null,null,null,null,null,"別添1_M43","利子補給金交付申請額（円）合計_単位期間Ⅰ",{"$f":"IF(M43=\"\",\"\",M43)","v":""}]
[null,null,null,null,null,null,null,null,null,null,null,null,null,null,null,null,null,null,null,null,null,null,null,null,null,null,null,null,null,null,null,null,null,null,null,null,null,null,null,null,null,null,null,null,null,null,null,null,null,null,null,null,null,null,null,null,null,null,null,null,null,"別添1_M51","利子補給金交付申請額（円）合計_単位期間Ⅱ",{"$f":"IF(M51=\"\",\"\",M51)","v":""}]
[null,null,null,null,null,"(至)",null,null,null,null,null,null,null,null,null,null,null,null,null,null,null,null,null,null,null,null,null,null,null,"2029-10-31",null,null,{"$f":"F17","v":"(至)"},null,null,null,null,null,null,null,null,null,null,null,null,null,null,null,null,null,null,null,null,null,null,null,null,null,null,null,null,"別添1_N35","利子補給金交付申請額合計（円）",{"$f":"IF(N35=\"\",\"\",N35)","v":0}]
[null,null,null,null,null,null,null,null,"協調融資",null,null,null,null,null,null,null,null,null,null,null,null,null,null,null,null,null,null,null,null,null,null,null,null,null,null,"協調融資",null,null,null,null,null,null,null,null,null,null,null,null,null,null,null,null,null,null,null,null,null,null,null,null,null,"別添1_I11","融資備考欄",{"$f":"IF(I11=\"\",\"\",I11)","v":""}]
["融資利率",null,null,null,null,"％",null,null,null,null,null,null,null,null,null,null,null,null,null,null,null,null,null,null,null,null,null,{"$f":"A19","v":"融資利率"},null,1.1000000000000001,null,null,{"$f":"F19","v":"％"},null,null,null,null,null,null,null,null,null,null,null,null,null,null,null,null,null,null,null,null,null,null,null,null,null,null,null,null,"別添1_I21","協調融資",{"$f":"IF(I20=\"\",\"\",I20)","v":""}]
[null,null,null,null,null,null,null,null,"",null,null,null,null,null,null,null,null,null,null,null,null,null,null,null,null,null,null,null,null,null,null,null,null,null,null,"本件融資は協調融資となります。\n△△銀行　融資額　○○○,○○○,○○○円\n□□銀行　融資額　○○○,○○○,○○○円",null,null,null,null,null,null,null,null,null,null,null,null,null,null,null,null,null,null,null,null,null,null,null,null,null,"別添1_I28","シンジケートローン",{"$f":"IF(I28=\"\",\"\",I28)","v":""}]
[]
["内　交付対象融資額",null,null,null,null,"円",null,null,null,null,null,null,null,null,null,null,null,null,null,null,null,null,null,null,null,null,null,{"$f":"A22","v":"内　交付対象融資額"},null,84000000,null,null,{"$f":"F22","v":"円"}]
[]
["元金均等返済額",null,null,null,null,"円",null,null,null,null,null,null,null,null,null,null,null,null,null,null,null,null,null,null,null,null,null,{"$f":"A24","v":"元金均等返済額"},null,1000000,null,null,{"$f":"F24","v":"円"}]
[]
["最終弁済額",null,null,null,null,"円",null,null,"シンジケートローン",null,null,null,null,null,null,null,null,null,null,null,null,null,null,null,null,null,null,{"$f":"A26","v":"最終弁済額"},null,1000000,null,null,{"$f":"F26","v":"円"},null,null,"シンジケートローン"]
[]
["交付対象融資期間",null,null,null,null,"(自)",null,null,"",null,null,null,null,null,null,null,null,null,null,null,null,null,null,null,null,null,null,{"$f":"A28","v":"交付対象融資期間"},null,"2022-11-01",null,null,{"$f":"F28","v":"(自)"},null,null,"本件融資はシンジケートローンを利用します。\n・アレンジャー\n○○銀行　融資額　○○○,○○○,○○○円\n・シンジケート団\n△△銀行　融資額　○○○,○○○,○○○円\n□□銀行　融資額　○○○,○○○,○○○円"]
[]
[null,null,null,null,null,"(至)",null,null,null,null,null,null,null,null,null,null,null,null,null,null,null,null,null,null,null,null,null,null,null,"2029-10-31",null,null,{"$f":"F30","v":"(至)"}]
[]
["利子補給率",null,null,null,null,"％",null,null,null,null,null,null,null,null,null,null,null,null,null,null,null,null,null,null,null,null,null,{"$f":"A32","v":"利子補給率"},null,1,null,null,{"$f":"F32","v":"％"}]
[]
[null,null,null,null,null,null,null,null,null,null,null,null,null,null,null,null,null,null,null,null,null,null,null,null,null,null,null,null,1]
[null,null,null,null,null,null,null,null,null,null,"利子補給金交付申請額合計（円）",null,null,{"$f":"SUMIF(M43:M218,\"<>#VALUE!\")","v":0},null,null,null,null,"数式ありのセル",null,null,null,null,null,null,null,null,null,null,null,null,null,null,null,null,null,null,{"$f":"K35","v":"利子補給金交付申請額合計（円）"},null,null,2973515]
[]
["２．申請する利子補給金の額",null,null,null,null,null,null,null,null,null,null,null,null,null,null,null,null,null,"エラーメッセージ",null,null,null,null,null,"エラーメッセージ",null,null,{"$f":"A37","v":"２．申請する利子補給金の額"}]
[null,null,null,null,{"$f":"IF(OR(E43>0,E51>0),\"\",\"↓上記にて交付対象融資期間を入力後、以下の「終了日」、「融資残高」、「交付対象融資残高」をご入力ください。\")","v":"↓上記にて交付対象融資期間を入力後、以下の「終了日」、「融資残高」、「交付対象融資残高」をご入力ください。"},null,null,null,null,null,null,null,null,null,null,null,"曜日色：土曜（青）、日曜（赤）、祝日（緑）※祝日は2022年5月時点",null,"↑開始日と終了日の入力に誤りがないかご確認ください。",null,null,null,null,null,"残高をご確認ください。"]
["単位期間",null,"利子補給金の額",null,null,null,null,null,null,null,null,null,null,"元金均等返済額\n（円）",null,null,null,null,"単位期間",null,null,null,null,null,"元金均等返済額",null,null,{"$f":"A39","v":"単位期間"},null,{"$f":"C39","v":"利子補給金の額"},null,null,null,null,null,null,null,null,null,null,{"$f":"N39","v":"元金均等返済額\n（円）"}]
[null,null,"単位期間",null,null,null,null,null,"融資残高\n（円）","交付対象\n融資残高\n（円）","利子\n補給率","利子補給金交付申請額（円）",null,null,null,null,null,null,"①日付の重複\n②「終了日-開始日」が1日以上あいている",null,"③単位期間以外の日程記載NG",null,"④日数が0","NG\nカウント","融資額","交付対象融資額","NG\nカウント",null,null,{"$f":"C40","v":"単位期間"},null,null,null,null,null,{"$f":"I40","v":"融資残高\n（円）"},{"$f":"J40","v":"交付対象\n融資残高\n（円）"},{"$f":"K40","v":"利子\n補給率"},{"$f":"L40","v":"利子補給金交付申請額（円）"}]
[null,null,"開始日","曜日","終了日","曜日","日数","日数\n（合計）",null,null,null,null,"合計（円）","計算用セル\n（配布時非表示）","融資額","計算用セル\n（配布時非表示）","交付対象\n融資額",null,null,null,null,null,null,null,{"$f":"$C$11","v":0},{"$f":"$C$24","v":0},null,null,null,{"$f":"C41","v":"開始日"},{"$f":"D41","v":"曜日"},{"$f":"E41","v":"終了日"},{"$f":"F41","v":"曜日"},{"$f":"G41","v":"日数"},{"$f":"H41","v":"日数\n（合計）"},null,null,null,null,{"$f":"M41","v":"合計（円）"},"計算用セル\n（配布時非表示）",{"$f":"O41","v":"融資額"},"計算用セル\n（配布時非表示）",{"$f":"Q41","v":"交付対象\n融資額"}]
[null,null,null,null,null,null,null,null,null,null,null,null,null,null,null,null,null,null,{"$f":"IF(C42=\"\",\"\",IF(C42>E42,\"NG\",\"\"))","v":""},{"$f":"IF(E42=\"\",\"\",IF(C43=\"\",\"\",IF(E42>C43,\"NG\",\"\")))","v":""},"2022-03-09","2022-09-12"]
["2022年度","単位期間Ⅰ",{"$f":"IF(C28=\"\",\"\",IF(C28<=DATE(2022,9,10),C28,\"\"))","v":""},{"$f":"IF(C43=\"\",\"\",C43)","v":""},null,{"$f":"IF(E43=\"\",\"\",E43)","v":""},{"$f":"IF(E43=\"\",\"\",E43-C43+1)","v":""},{"$f":"IF(G43=\"\",\"\",SUM(G43:G50))","v":""},null,null,{"$f":"C32/100","v":0},{"$f":"IF(J43=\"\",\"\",ROUNDDOWN(J43*K43*G43/365,0))","v":""},{"$f":"IF(L43=\"\",\"\",SUM(L43:L50))","v":""},{"$f":"IF(I43=\"\",N42,I43)","v":0},"-",{"$f":"IF(J43=\"\",P42,J43)","v":0},"-",null,{"$f":"IF(C43=\"\",\"\",IF(C43>E43,\"NG\",\"\"))","v":""},"",{"$f":"IF(C43=\"\",\"\",IF(C43<$U42,\"NG\",IF(C43>$V42,\"NG\",\"\")))","v":""},{"$f":"IF(E43=\"\",\"\",IF(C43<$U$42,\"NG\",IF(E43>$V$42,\"NG\",\"\")))","v":""},{"$f":"IF(G43>0,\"\",\"NG\")","v":""},{"$f":"COUNTIF(S43:W43,\"NG\")","v":0},"-","-","-",{"$f":"A43","v":"2022年度"},{"$f":"B43","v":"単位期間Ⅰ"},null,{"$f":"IF(AD43=\"\",\"\",AD43)","v":""},null,{"$f":"IF(AF43=\"\",\"\",AF43)","v":""},{"$f":"IF(AD43=\"\",\"\",AF43-AD43+1)","v":""},{"$f":"IF(AH43=\"\",\"\",SUM(AH43:AH50))","v":""},null,null,{"$f":"AD32/100","v":0.01},{"$f":"IF(AF43=\"\",\"\",ROUNDDOWN(AK43*AL43*AH43/365,0))","v":""},{"$f":"IF(AM43=\"\",\"\",SUM(AM43:AM50))","v":""},{"$f":"IF(AJ43=\"\",AO42,AJ43)","v":0},"-",{"$f":"IF(AK43=\"\",AQ42,AK43)","v":0},"-"]
[null,null,{"$f":"IF(E44=\"\",\"\",IF(E43=\"\",\"\",IF(E43>=DATE(2022,9,10),\"\",E43+1)))","v":""},{"$f":"IF(C44=\"\",\"\",C44)","v":""},null,{"$f":"IF(E44=\"\",\"\",E44)","v":""},{"$f":"IF(E44=\"\",\"\",E44-C44+1)","v":""},null,{"$f":"IF(I43=\"\",\"\",IF(E44=\"\",\"\",I43-$C$11))","v":""},{"$f":"IF(J43=\"\",\"\",IF(F44=\"\",\"\",J43-$C$24))","v":""},{"$f":"IF(K43=\"\",\"\",$K$43)","v":0},{"$f":"IF(J44=\"\",\"\",ROUNDDOWN(J44*K44*G44/365,0))","v":""},null,{"$f":"IF(I44=\"\",N43,I44)","v":0},{"$f":"N43-N44","v":0},{"$f":"IF(J44=\"\",P43,J44)","v":0},{"$f":"P43-P44","v":0},{"$f":"IF(AA44>0,$Y$38,\"\")","v":""},{"$f":"IF(C44=\"\",\"\",IF(C44=E43,\"NG\",IF(C44<E43,\"NG\",IF((C44-E43)>1,\"NG\",\"\"))))","v":""},"",null,{"$f":"IF(E44=\"\",\"\",IF(C44<$U$42,\"NG\",IF(E44>$V$42,\"NG\",\"\")))","v":""},{"$f":"IF(G44>0,\"\",\"NG\")","v":""},{"$f":"COUNTIF(S44:W44,\"NG\")","v":0},{"$f":"IF($O44=0,\"\",IF($O44=$Y$41,\"\",\"NG\"))","v":""},{"$f":"IF($Q44=0,\"\",IF($Q44=$Z$41,\"\",\"NG\"))","v":""},{"$f":"COUNTIF(Y44:Z44,\"NG\")","v":0},null,null,null,{"$f":"IF(AD44=\"\",\"\",AD44)","v":""},null,{"$f":"IF(AF44=\"\",\"\",AF44)","v":""},{"$f":"IF(AD44=\"\",\"\",AF44-AD44+1)","v":""},null,{"$f":"IF(AJ43=\"\",\"\",IF(AF44=\"\",\"\",AJ43-$C$11))","v":""},{"$f":"IF(AK43=\"\",\"\",IF(AG44=\"\",\"\",AK43-$C$24))","v":""},0.01,{"$f":"IF(AF44=\"\",\"\",ROUNDDOWN(AK44*AL44*AH44/365,0))","v":""},null,0,{"$f":"AO43-AO44","v":0},0,{"$f":"AQ43-AQ44","v":0}]
[null,null,{"$f":"IF(E45=\"\",\"\",IF(E44=\"\",\"\",IF(E44>=DATE(2022,9,10),\"\",E44+1)))","v":""},"",null,{"$f":"IF(E45=\"\",\"\",E45)","v":""},{"$f":"IF(E45=\"\",\"\",E45-C45+1)","v":""},null,{"$f":"IF(I44=\"\",\"\",IF(E45=\"\",\"\",I44-$C$11))","v":""},{"$f":"IF(J44=\"\",\"\",IF(F45=\"\",\"\",J44-$C$24))","v":""},{"$f":"IF(K44=\"\",\"\",$K$43)","v":0},"",null,{"$f":"IF(I45=\"\",N44,I45)","v":0},{"$f":"N44-N45","v":0},{"$f":"IF(J45=\"\",P44,J45)","v":0},{"$f":"P44-P45","v":0},{"$f":"IF(AA45>0,$Y$38,\"\")","v":""},"","",null,{"$f":"IF(E45=\"\",\"\",IF(C45<$U$42,\"NG\",IF(E45>$V$42,\"NG\",\"\")))","v":""},"",0,{"$f":"IF($O45=0,\"\",IF($O45=$Y$41,\"\",\"NG\"))","v":""},{"$f":"IF($Q45=0,\"\",IF($Q45=$Z$41,\"\",\"NG\"))","v":""},0,null,null,{"$f":"IF(AF45=\"\",\"\",IF(AF44=\"\",\"\",IF(AF44>=DATE(2021,9,10),\"\",AF44+1)))","v":""},"",null,"","",null,{"$f":"IF(AJ44=\"\",\"\",IF(AF45=\"\",\"\",AJ44-$C$11))","v":""},{"$f":"IF(AK44=\"\",\"\",IF(AG45=\"\",\"\",AK44-$C$24))","v":""},0.01,{"$f":"IF(AF45=\"\",\"\",ROUNDDOWN(AK45*AL45*AH45/365,0))","v":""},null,0,{"$f":"AO44-AO45","v":0},0,{"$f":"AQ44-AQ45","v":0}]
[null,null,{"$f":"IF(E46=\"\",\"\",IF(E45=\"\",\"\",IF(E45>=DATE(2022,9,10),\"\",E45+1)))","v":""},"",null,{"$f":"IF(E46=\"\",\"\",E46)","v":""},{"$f":"IF(E46=\"\",\"\",E46-C46+1)","v":""},null,{"$f":"IF(I45=\"\",\"\",IF(E46=\"\",\"\",I45-$C$11))","v":""},{"$f":"IF(J45=\"\",\"\",IF(F46=\"\",\"\",J45-$C$24))","v":""},{"$f":"IF(K45=\"\",\"\",$K$43)","v":0},"",null,0,0,0,0,"","","",null,"","",0,"","",0,null,null,"","",null,"","",null,{"$f":"IF(AJ45=\"\",\"\",IF(AF46=\"\",\"\",AJ45-$C$11))","v":""},"",0.01,"",null,0,0,0,0]
[null,null,{"$f":"IF(E47=\"\",\"\",IF(E46=\"\",\"\",IF(E46>=DATE(2022,9,10),\"\",E46+1)))","v":""},"",null,{"$f":"IF(E47=\"\",\"\",E47)","v":""},"",null,{"$f":"IF(I46=\"\",\"\",IF(E47=\"\",\"\",I46-$C$11))","v":""},"",{"$f":"IF(K46=\"\",\"\",$K$43)","v":0},"",null,0,0,0,0,"","","",null,"","",0,"","",0,null,null,"","",null,"","",null,"","",0.01,"",null,0,0,0,0]
[null,null,{"$f":"IF(E48=\"\",\"\",IF(E47=\"\",\"\",IF(E47>=DATE(2022,9,10),\"\",E47+1)))","v":""},"",null,"","",null,"","",{"$f":"IF(K47=\"\",\"\",$K$43)","v":0},"",null,0,0,0,0,"","","",null,"","",0,"","",0,null,null,"","",null,"","",null,"","",0.01,"",null,0,0,0,0]
[null,null,"","",null,"","",null,"","",0,"",null,0,0,0,0,"","",{"$f":"IF(D49=\"\",\"\",IF(D49<C49,\"NG\",\"\"))","v":""},null,{"$f":"IF(E49=\"\",\"\",IF(C49<$U$42,\"NG\",IF(E49>$V$42,\"NG\",\"\")))","v":""},{"$f":"IF(G49>0,\"\",\"NG\")","v":""},0,"","",0,null,null,"","",null,"","",null,"","",0.01,"",null,0,0,0,0]
[null,null,{"$f":"IF(X50>0,$S$38,\"\")","v":""},null,null,null,"Null",null,null,null,0,{"$f":"IF(J50=\"\",\"\",ROUNDDOWN(J50*K50*G50/365,0))","v":""},null,0,0,0,0,"",null,null,"2022-09-09","2023-03-12",null,{"$f":"SUM(X43:X49)","v":0},"","",0,null,null,{"$f":"IF($C$220>0,$H$224,IF($E$220>0,$H$224,\"\"))","v":""},"",null,"",null,null,null,null,0.01,"",null,0,0,0,0]
[null,"単位期間Ⅱ",{"$f":"IF(C28=\"\",\"\",IF(E49>M225,E49+1,IF(E48>M225,E48+1,IF(E47>M225,E47+1,IF(E46>M225,E46+1,IF(E45>M225,E45+1,IF(E44>M225,E44+1,IF(E43>M225,E43+1,IF(C28>M225,C28,\"\")))))))))","v":""},{"$f":"IF(C51=\"\",\"\",C51)","v":""},null,{"$f":"IF(E51=\"\",\"\",E51)","v":""},{"$f":"IF(E51=\"\",\"\",E51-C51+1)","v":""},{"$f":"IF(G51=\"\",\"\",SUM(G51:G58))","v":""},null,null,{"$f":"IF(K50=\"\",\"\",$K$43)","v":0},{"$f":"IF(J51=\"\",\"\",ROUNDDOWN(J51*K51*G51/365,0))","v":""},{"$f":"IF(L51=\"\",\"\",SUM(L51:L58))","v":""},{"$f":"IF(I51=\"\",N50,I51)","v":0},{"$f":"IF(N50-N51<0,0,N50-N51)","v":0},{"$f":"IF(J51=\"\",P50,J51)","v":0},{"$f":"IF(P50-P51<0,0,P50-P51)","v":0},"",{"$f":"IF(C51=\"\",\"\",IF(C51>E51,\"NG\",\"\"))","v":""},{"$f":"IF(E51=\"\",\"\",IF(C52=\"\",\"\",IF(E51>C52,\"NG\",\"\")))","v":""},{"$f":"IF(C51=\"\",\"\",IF(C51<$U50,\"NG\",IF(C51>$V50,\"NG\",\"\")))","v":""},{"$f":"IF(E51=\"\",\"\",IF(C51<$U$50,\"NG\",IF(E51>$V$50,\"NG\",\"\")))","v":""},{"$f":"IF(G51>0,\"\",\"NG\")","v":""},{"$f":"COUNTIF(S51:W51,\"NG\")","v":0},"","",0,null,{"$f":"B51","v":"単位期間Ⅱ"},"2022-11-01",44866,"2022-11-30",44895,{"$f":"IF(AD51=\"\",\"\",AF51-AD51+1)","v":30},{"$f":"IF(AH51=\"\",\"\",SUM(AH51:AH58))","v":130},84000000,84000000,0.01,{"$f":"IF(AD51=\"\",\"\",ROUNDDOWN(AK51*AL51*AH51/365,0))","v":69041},{"$f":"IF(AM51=\"\",\"\",SUM(AM51:AM58))","v":293230},84000000,0,84000000,0]
[null,null,{"$f":"IF(E52=\"\",\"\",IF(E51=\"\",\"\",IF(E51>=DATE(2023,3,10),\"\",E51+1)))","v":""},{"$f":"IF(C52=\"\",\"\",C52)","v":""},null,"",{"$f":"IF(E52=\"\",\"\",E52-C52+1)","v":""},null,{"$f":"IF(I51=\"\",\"\",IF(E52=\"\",\"\",I51-$C$11))","v":""},{"$f":"IF(J51=\"\",\"\",IF(F52=\"\",\"\",J51-$C$24))","v":""},0,{"$f":"IF(J52=\"\",\"\",ROUNDDOWN(J52*K52*G52/365,0))","v":""},null,{"$f":"IF(I52=\"\",N51,I52)","v":0},{"$f":"N51-N52","v":0},{"$f":"IF(J52=\"\",P51,J52)","v":0},{"$f":"P51-P52","v":0},"",{"$f":"IF(C52=\"\",\"\",IF(C52=E51,\"NG\",IF(C52<E51,\"NG\",IF((C52-E51)>1,\"NG\",\"\"))))","v":""},{"$f":"IF(E52=\"\",\"\",IF(C53=\"\",\"\",IF(E52>C53,\"NG\",\"\")))","v":""},null,{"$f":"IF(E52=\"\",\"\",IF(C52<$U$50,\"NG\",IF(E52>$V$50,\"NG\",\"\")))","v":""},{"$f":"IF(G52>0,\"\",\"NG\")","v":""},{"$f":"COUNTIF(S52:W52,\"NG\")","v":0},"","",0,null,null,"2022-12-01",44896,"2022-12-31",44926,{"$f":"IF(AD52=\"\",\"\",AF52-AD52+1)","v":31},null,{"$f":"IF(AJ51=\"\",\"\",IF(AF52=\"\",\"\",AJ51-$AD$11))","v":83000000},{"$f":"IF(AK51=\"\",\"\",IF(AG52=\"\",\"\",AK51-$AD$24))","v":83000000},0.01,70493,null,83000000,1000000,83000000,1000000]
[null,null,"","",null,"","",null,{"$f":"IF(I52=\"\",\"\",IF(E53=\"\",\"\",I52-$C$11))","v":""},{"$f":"IF(J52=\"\",\"\",IF(F53=\"\",\"\",J52-$C$24))","v":""},0,"",null,0,0,0,{"$f":"P52-P53","v":0},"",{"$f":"IF(C53=\"\",\"\",IF(C53=E52,\"NG\",IF(C53<E52,\"NG\",IF((C53-E52)>1,\"NG\",\"\"))))","v":""},"",null,"","",0,"","",0,null,null,"2023-01-01",44927,"2023-01-31",44957,31,null,{"$f":"IF(AJ52=\"\",\"\",IF(AF53=\"\",\"\",AJ52-$AD$11))","v":82000000},{"$f":"IF(AK52=\"\",\"\",IF(AG53=\"\",\"\",AK52-$AD$24))","v":82000000},0.01,69643,null,82000000,1000000,82000000,1000000]
[null,null,"","",null,"","",null,"","",0,"",null,0,0,0,0,"","","",null,"","",0,"","",0,null,null,"2023-02-01",44958,"2023-02-28",44985,28,null,81000000,81000000,0.01,62136,null,81000000,1000000,81000000,1000000]
[null,null,"","",null,"","",null,"","",0,"",null,0,0,0,0,"","","",null,"","",0,"","",0,null,null,"2023-03-01",44986,"2023-03-10",44995,10,null,80000000,80000000,0.01,21917,null,80000000,1000000,80000000,1000000]
[null,null,"","",null,"","",null,"","",0,"",null,0,0,0,0,"","","",null,"","",0,"","",0,null,null,null,"",null,"","",null,"","",0.01,"",null,80000000,0,80000000,0]
[null,null,"","",null,"","",null,"","",0,"",null,0,0,0,0,"",{"$f":"IF(C57=\"\",\"\",IF(C57=E56,\"NG\",IF(C57<E56,\"NG\",IF((C57-E56)>1,\"NG\",\"\"))))","v":""},{"$f":"IF(D57=\"\",\"\",IF(D57<C57,\"NG\",\"\"))","v":""},null,"",{"$f":"IF(G57>0,\"\",\"NG\")","v":""},0,"","",0,null,null,null,"",null,"","",null,"","",0.01,"",null,80000000,0,80000000,0]
[null,null,{"$f":"IF(X58>0,$S$38,\"\")","v":""},null,null,null,"Null",null,null,null,0,{"$f":"IF(J58=\"\",\"\",ROUNDDOWN(J58*K58*G58/365,0))","v":""},null,0,{"$f":"N57-N58","v":0},0,0,"",null,null,"2023-03-09","2023-09-12",null,{"$f":"SUM(X51:X57)","v":0},"","",0,null,null,{"$f":"IF($C$238>0,$H$242,IF($E$238>0,$H$242,\"\"))","v":""},"",null,"",null,null,"","",0.01,"",null,80000000,0,80000000,0]
["2023年度","単位期間Ⅰ",{"$f":"IF(E59=\"\",\"\",IF(E57>0,E57+1,IF(E56>0,E56+1,IF(E55>0,E55+1,IF(E54>0,E54+1,IF(E53>0,E53+1,IF(E52>0,E52+1,E51+1)))))))","v":""},{"$f":"IF(C59=\"\",\"\",C59)","v":""},null,{"$f":"IF(E59=\"\",\"\",E59)","v":""},{"$f":"IF(E59=\"\",\"\",E59-C59+1)","v":""},{"$f":"IF(G59=\"\",\"\",SUM(G59:G66))","v":""},null,null,{"$f":"IF(K58=\"\",\"\",$K$43)","v":0},{"$f":"IF(J59=\"\",\"\",ROUNDDOWN(J59*K59*G59/365,0))","v":""},{"$f":"IF(L59=\"\",\"\",SUM(L59:L66))","v":""},{"$f":"IF(I59=\"\",N58,I59)","v":0},{"$f":"N58-N59","v":0},{"$f":"IF(J59=\"\",P58,J59)","v":0},0,"",{"$f":"IF(C59=\"\",\"\",IF(C59>E59,\"NG\",\"\"))","v":""},{"$f":"IF(E59=\"\",\"\",IF(C60=\"\",\"\",IF(E59>C60,\"NG\",\"\")))","v":""},{"$f":"IF(C59=\"\",\"\",IF(C59<$U58,\"NG\",IF(C59>$V58,\"NG\",\"\")))","v":""},{"$f":"IF(E59=\"\",\"\",IF(C59<$U$58,\"NG\",IF(E59>$V$58,\"NG\",\"\")))","v":""},{"$f":"IF(G59>0,\"\",\"NG\")","v":""},{"$f":"COUNTIF(S59:W59,\"NG\")","v":0},"","",0,{"$f":"A59","v":"2023年度"},"単位期間Ⅰ","2023-03-11",44996,"2023-03-31",45016,{"$f":"IF(AD59=\"\",\"\",AF59-AD59+1)","v":21},{"$f":"IF(AH59=\"\",\"\",SUM(AH59:AH66))","v":184},80000000,80000000,0.01,{"$f":"IF(AF59=\"\",\"\",ROUNDDOWN(AK59*AL59*AH59/365,0))","v":46027},{"$f":"IF(AM59=\"\",\"\",SUM(AM59:AM66))","v":389009},80000000,"-",80000000,"-"]
[null,null,{"$f":"IF(E60=\"\",\"\",IF(E59=\"\",\"\",IF(E59>=DATE(2023,9,10),\"\",E59+1)))","v":""},{"$f":"IF(C60=\"\",\"\",C60)","v":""},null,{"$f":"IF(E60=\"\",\"\",E60)","v":""},{"$f":"IF(E60=\"\",\"\",E60-C60+1)","v":""},null,{"$f":"IF(I59=\"\",\"\",IF(E60=\"\",\"\",I59-$C$11))","v":""},{"$f":"IF(J59=\"\",\"\",IF(F60=\"\",\"\",J59-$C$24))","v":""},{"$f":"IF(K59=\"\",\"\",$K$43)","v":0},{"$f":"IF(J60=\"\",\"\",ROUNDDOWN(J60*K60*G60/365,0))","v":""},null,{"$f":"IF(I60=\"\",N59,I60)","v":0},{"$f":"N59-N60","v":0},{"$f":"IF(J60=\"\",P59,J60)","v":0},{"$f":"P59-P60","v":0},"",{"$f":"IF(C60=\"\",\"\",IF(C60=E59,\"NG\",IF(C60<E59,\"NG\",IF((C60-E59)>1,\"NG\",\"\"))))","v":""},{"$f":"IF(E60=\"\",\"\",IF(C61=\"\",\"\",IF(E60>C61,\"NG\",\"\")))","v":""},null,{"$f":"IF(E60=\"\",\"\",IF(C60<$U$58,\"NG\",IF(E60>$V$58,\"NG\",\"\")))","v":""},{"$f":"IF(G60>0,\"\",\"NG\")","v":""},{"$f":"COUNTIF(S60:W60,\"NG\")","v":0},"","",0,null,null,"2023-04-01",45017,"2023-04-30",45046,{"$f":"IF(AD60=\"\",\"\",AF60-AD60+1)","v":30},null,79000000,79000000,0.01,{"$f":"IF(AF60=\"\",\"\",ROUNDDOWN(AK60*AL60*AH60/365,0))","v":64931},null,79000000,{"$f":"AO59-AO60","v":1000000},79000000,{"$f":"AQ59-AQ60","v":1000000}]
[null,null,"","",null,"","",null,{"$f":"IF(I60=\"\",\"\",IF(E61=\"\",\"\",I60-$C$11))","v":""},{"$f":"IF(J60=\"\",\"\",IF(F61=\"\",\"\",J60-$C$24))","v":""},0,"",null,{"$f":"IF(I61=\"\",N60,I61)","v":0},{"$f":"N60-N61","v":0},{"$f":"IF(J61=\"\",P60,J61)","v":0},{"$f":"P60-P61","v":0},"",{"$f":"IF(C61=\"\",\"\",IF(C61=E60,\"NG\",IF(C61<E60,\"NG\",IF((C61-E60)>1,\"NG\",\"\"))))","v":""},"",null,"","",0,"","",0,null,null,"2023-05-01",45047,"2023-05-31",45077,31,null,78000000,78000000,0.01,{"$f":"IF(AF61=\"\",\"\",ROUNDDOWN(AK61*AL61*AH61/365,0))","v":66246},null,78000000,{"$f":"AO60-AO61","v":1000000},78000000,{"$f":"AQ60-AQ61","v":1000000}]
[null,null,"","",null,"","",null,{"$f":"IF(I61=\"\",\"\",IF(E62=\"\",\"\",I61-$C$11))","v":""},{"$f":"IF(J61=\"\",\"\",IF(F62=\"\",\"\",J61-$C$24))","v":""},0,"",null,0,0,0,0,"","","",null,"","",0,"","",0,null,null,"2023-06-01",45078,"2023-06-30",45107,30,null,77000000,77000000,0.01,63287,null,77000000,1000000,77000000,1000000]
[null,null,"","",null,"","",null,"","",0,"",null,0,0,0,0,"","","",null,"","",0,"","",0,null,null,"2023-07-01",45108,"2023-07-31",45138,31,null,76000000,76000000,0.01,64547,null,76000000,1000000,76000000,1000000]
[null,null,"","",null,"","",null,"","",0,"",null,0,0,0,0,"","",{"$f":"IF(E64=\"\",\"\",IF(C65=\"\",\"\",IF(E64>C65,\"NG\",\"\")))","v":""},null,"","",0,"","",0,null,null,"2023-08-01",45139,"2023-08-31",45169,31,null,75000000,75000000,0.01,63698,null,75000000,1000000,75000000,1000000]
[null,null,"","",null,"","",null,"","",0,"",null,0,0,0,0,"","",{"$f":"IF(D65=\"\",\"\",IF(D65<C65,\"NG\",\"\"))","v":""},null,"","",0,"","",0,null,null,"2023-09-01",45170,"2023-09-10",45179,10,null,74000000,74000000,0.01,20273,null,74000000,1000000,74000000,1000000]
[null,null,{"$f":"IF(X66>0,$S$38,\"\")","v":""},null,null,null,"Null",null,null,null,0,{"$f":"IF(J66=\"\",\"\",ROUNDDOWN(J66*K66*G66/365,0))","v":""},null,0,0,0,0,"",null,null,"2023-09-09","2024-03-12",null,{"$f":"SUM(X59:X65)","v":0},"","",0,null,null,null,"",null,"",null,null,null,null,0.01,"",null,74000000,0,74000000,0]
[null,"単位期間Ⅱ",{"$f":"IF(E67=\"\",\"\",IF(E65>M240,E65+1,IF(E64>M240,E64+1,IF(E63>M240,E63+1,IF(E62>M240,E62+1,IF(E61>M240,E61+1,IF(E60>M240,E60+1,IF(E59>M240,E59+1,IF(C44>M240,C44,\"\")))))))))","v":""},{"$f":"IF(C67=\"\",\"\",C67)","v":""},null,{"$f":"IF(E67=\"\",\"\",E67)","v":""},{"$f":"IF(E67=\"\",\"\",E67-C67+1)","v":""},{"$f":"IF(G67=\"\",\"\",SUM(G67:G74))","v":""},null,null,0,{"$f":"IF(J67=\"\",\"\",ROUNDDOWN(J67*K67*G67/365,0))","v":""},{"$f":"IF(L67=\"\",\"\",SUM(L67:L74))","v":""},{"$f":"IF(I67=\"\",N66,I67)","v":0},{"$f":"IF(N66-N67<0,\"0 \",N66-N67)","v":0},{"$f":"IF(J67=\"\",P66,J67)","v":0},{"$f":"IF(P66-P67<0,\"0 \",P66-P67)","v":0},"",{"$f":"IF(C67=\"\",\"\",IF(C67>E67,\"NG\",\"\"))","v":""},{"$f":"IF(E67=\"\",\"\",IF(C68=\"\",\"\",IF(E67>C68,\"NG\",\"\")))","v":""},{"$f":"IF(C67=\"\",\"\",IF(C67<$U66,\"NG\",IF(C67>$V66,\"NG\",\"\")))","v":""},{"$f":"IF(E67=\"\",\"\",IF(C67<$U$66,\"NG\",IF(E67>$V$66,\"NG\",\"\")))","v":""},"",{"$f":"COUNTIF(S67:W67,\"NG\")","v":0},"","",0,null,"単位期間Ⅱ","2023-09-11",45180,"2023-09-30",45199,{"$f":"IF(AD67=\"\",\"\",AF67-AD67+1)","v":20},{"$f":"IF(AH67=\"\",\"\",SUM(AH67:AH74))","v":182},74000000,74000000,0.01,{"$f":"IF(AD67=\"\",\"\",ROUNDDOWN(AK67*AL67*AH67/365,0))","v":40547},{"$f":"IF(AM67=\"\",\"\",SUM(AM67:AM74))","v":354929},74000000,0,74000000,0]
[null,null,{"$f":"IF(E68=\"\",\"\",IF(E67=\"\",\"\",IF(E67>=DATE(2024,3,10),\"\",E67+1)))","v":""},{"$f":"IF(C68=\"\",\"\",C68)","v":""},null,{"$f":"IF(E68=\"\",\"\",E68)","v":""},{"$f":"IF(E68=\"\",\"\",E68-C68+1)","v":""},null,{"$f":"IF(I67=\"\",\"\",IF(E68=\"\",\"\",I67-$C$11))","v":""},{"$f":"IF(J67=\"\",\"\",IF(F68=\"\",\"\",J67-$C$24))","v":""},0,{"$f":"IF(J68=\"\",\"\",ROUNDDOWN(J68*K68*G68/365,0))","v":""},null,{"$f":"IF(I68=\"\",N67,I68)","v":0},{"$f":"N67-N68","v":0},{"$f":"IF(J68=\"\",P67,J68)","v":0},{"$f":"P67-P68","v":0},"",{"$f":"IF(C68=\"\",\"\",IF(C68=E67,\"NG\",IF(C68<E67,\"NG\",IF((C68-E67)>1,\"NG\",\"\"))))","v":""},{"$f":"IF(E68=\"\",\"\",IF(C69=\"\",\"\",IF(E68>C69,\"NG\",\"\")))","v":""},null,{"$f":"IF(E68=\"\",\"\",IF(C68<$U$66,\"NG\",IF(E68>$V$66,\"NG\",\"\")))","v":""},"",{"$f":"COUNTIF(S68:W68,\"NG\")","v":0},"","",0,null,null,"2023-10-01",45200,"2023-10-31",45230,{"$f":"IF(AD68=\"\",\"\",AF68-AD68+1)","v":31},null,73000000,73000000,0.01,62000,null,73000000,{"$f":"AO67-AO68","v":1000000},73000000,{"$f":"AQ67-AQ68","v":1000000}]
[null,null,"","",null,"","",null,{"$f":"IF(I68=\"\",\"\",IF(E69=\"\",\"\",I68-$C$11))","v":""},{"$f":"IF(J68=\"\",\"\",IF(F69=\"\",\"\",J68-$C$24))","v":""},0,"",null,{"$f":"IF(I69=\"\",N68,I69)","v":0},{"$f":"N68-N69","v":0},{"$f":"IF(J69=\"\",P68,J69)","v":0},{"$f":"P68-P69","v":0},"",{"$f":"IF(C69=\"\",\"\",IF(C69=E68,\"NG\",IF(C69<E68,\"NG\",IF((C69-E68)>1,\"NG\",\"\"))))","v":""},"",null,"","",0,"","",0,null,null,"2023-11-01",45231,"2023-11-30",45260,30,null,72000000,72000000,0.01,59178,null,72000000,1000000,72000000,1000000]
[null,null,"","",null,"","",null,"","",0,"",null,0,0,0,{"$f":"P69-P70","v":0},"","","",null,"","",0,"","",0,null,null,"2023-12-01",45261,"2023-12-31",45291,31,null,71000000,71000000,0.01,60301,null,71000000,1000000,71000000,1000000]
[null,null,"","",null,"","",null,"","",0,"",null,0,0,0,0,"","","",null,"","",0,"","",0,null,null,"2024-01-01",45292,"2024-01-31",45322,31,null,70000000,70000000,0.01,59452,null,70000000,1000000,70000000,1000000]
[null,null,"","",null,"","",null,"","",0,"",null,0,0,0,0,"","",{"$f":"IF(E72=\"\",\"\",IF(C73=\"\",\"\",IF(E72>C73,\"NG\",\"\")))","v":""},null,"","",0,"","",0,null,null,"2024-02-01",45323,"2024-02-29",45351,29,null,69000000,69000000,0.01,54821,null,69000000,1000000,69000000,1000000]
[null,null,"","",null,"","",null,"","",0,"",null,0,0,0,0,"","",{"$f":"IF(D73=\"\",\"\",IF(D73<C73,\"NG\",\"\"))","v":""},null,"","",0,"","",0,null,null,"2024-03-01",45352,"2024-03-10",45361,10,null,68000000,68000000,0.01,18630,null,68000000,1000000,68000000,1000000]
[null,null,{"$f":"IF(X74>0,$S$38,\"\")","v":""},null,null,null,"Null",null,null,null,0,{"$f":"IF(J74=\"\",\"\",ROUNDDOWN(J74*K74*G74/365,0))","v":""},null,0,0,0,0,"",null,null,"2024-03-09","2024-09-12",null,{"$f":"SUM(X67:X73)","v":0},"","",0,null,null,null,"",null,"",null,null,null,null,0.01,"",null,68000000,0,68000000,0]
["2024年度","単位期間Ⅰ",{"$f":"IF(E75=\"\",\"\",IF(E73>0,E73+1,IF(E72>0,E72+1,IF(E71>0,E71+1,IF(E70>0,E70+1,IF(E69>0,E69+1,IF(E68>0,E68+1,E67+1)))))))","v":""},{"$f":"IF(C75=\"\",\"\",C75)","v":""},null,{"$f":"IF(E75=\"\",\"\",E75)","v":""},{"$f":"IF(E75=\"\",\"\",E75-C75+1)","v":""},{"$f":"IF(G75=\"\",\"\",SUM(G75:G82))","v":""},null,null,{"$f":"IF(K74=\"\",\"\",$K$43)","v":0},{"$f":"IF(J75=\"\",\"\",ROUNDDOWN(J75*K75*G75/365,0))","v":""},{"$f":"IF(L75=\"\",\"\",SUM(L75:L82))","v":""},{"$f":"IF(I75=\"\",N74,I75)","v":0},0,{"$f":"IF(J75=\"\",P74,J75)","v":0},0,"",{"$f":"IF(C75=\"\",\"\",IF(C75>E75,\"NG\",\"\"))","v":""},{"$f":"IF(E75=\"\",\"\",IF(C76=\"\",\"\",IF(E75>C76,\"NG\",\"\")))","v":""},{"$f":"IF(C75=\"\",\"\",IF(C75<$U74,\"NG\",IF(C75>$V74,\"NG\",\"\")))","v":""},{"$f":"IF(E75=\"\",\"\",IF(C75<$U$74,\"NG\",IF(E75>$V$74,\"NG\",\"\")))","v":""},"",{"$f":"COUNTIF(S75:W75,\"NG\")","v":0},"","",0,{"$f":"A75","v":"2024年度"},"単位期間Ⅰ","2024-03-11",45362,"2024-03-31",45382,{"$f":"IF(AD75=\"\",\"\",AF75-AD75+1)","v":21},{"$f":"IF(AH75=\"\",\"\",SUM(AH75:AH82))","v":184},68000000,68000000,0.01,{"$f":"IF(AF75=\"\",\"\",ROUNDDOWN(AK75*AL75*AH75/365,0))","v":39123},{"$f":"IF(AM75=\"\",\"\",SUM(AM75:AM82))","v":328517},68000000,"-",68000000,"-"]
[null,null,{"$f":"IF(E76=\"\",\"\",IF(E75=\"\",\"\",IF(E75>=DATE(2024,9,10),\"\",E75+1)))","v":""},{"$f":"IF(C76=\"\",\"\",C76)","v":""},null,{"$f":"IF(E76=\"\",\"\",E76)","v":""},{"$f":"IF(E76=\"\",\"\",E76-C76+1)","v":""},null,{"$f":"IF(I75=\"\",\"\",IF(E76=\"\",\"\",I75-$C$11))","v":""},{"$f":"IF(J75=\"\",\"\",IF(F76=\"\",\"\",J75-$C$24))","v":""},{"$f":"IF(K75=\"\",\"\",$K$43)","v":0},{"$f":"IF(J76=\"\",\"\",ROUNDDOWN(J76*K76*G76/365,0))","v":""},null,{"$f":"IF(I76=\"\",N75,I76)","v":0},{"$f":"N75-N76","v":0},{"$f":"IF(J76=\"\",P75,J76)","v":0},{"$f":"P75-P76","v":0},"",{"$f":"IF(C76=\"\",\"\",IF(C76=E75,\"NG\",IF(C76<E75,\"NG\",IF((C76-E75)>1,\"NG\",\"\"))))","v":""},{"$f":"IF(E76=\"\",\"\",IF(C77=\"\",\"\",IF(E76>C77,\"NG\",\"\")))","v":""},null,{"$f":"IF(E76=\"\",\"\",IF(C76<$U$74,\"NG\",IF(E76>$V$74,\"NG\",\"\")))","v":""},"",{"$f":"COUNTIF(S76:W76,\"NG\")","v":0},"","",0,null,null,"2024-04-01",45383,"2024-04-30",45412,{"$f":"IF(AD76=\"\",\"\",AF76-AD76+1)","v":30},null,67000000,67000000,0.01,{"$f":"IF(AF76=\"\",\"\",ROUNDDOWN(AK76*AL76*AH76/365,0))","v":55068},null,67000000,{"$f":"AO75-AO76","v":1000000},67000000,{"$f":"AQ75-AQ76","v":1000000}]
[null,null,"","",null,"","",null,{"$f":"IF(I76=\"\",\"\",IF(E77=\"\",\"\",I76-$C$11))","v":""},{"$f":"IF(J76=\"\",\"\",IF(F77=\"\",\"\",J76-$C$24))","v":""},{"$f":"IF(K76=\"\",\"\",$K$43)","v":0},"",null,{"$f":"IF(I77=\"\",N76,I77)","v":0},{"$f":"N76-N77","v":0},{"$f":"IF(J77=\"\",P76,J77)","v":0},{"$f":"P76-P77","v":0},"",{"$f":"IF(C77=\"\",\"\",IF(C77=E76,\"NG\",IF(C77<E76,\"NG\",IF((C77-E76)>1,\"NG\",\"\"))))","v":""},"",null,"","",0,"","",0,null,null,"2024-05-01",45413,"2024-05-31",45443,31,null,66000000,66000000,0.01,{"$f":"IF(AF77=\"\",\"\",ROUNDDOWN(AK77*AL77*AH77/365,0))","v":56054},null,66000000,{"$f":"AO76-AO77","v":1000000},66000000,{"$f":"AQ76-AQ77","v":1000000}]
[null,null,"","",null,"","",null,{"$f":"IF(I77=\"\",\"\",IF(E78=\"\",\"\",I77-$C$11))","v":""},{"$f":"IF(J77=\"\",\"\",IF(F78=\"\",\"\",J77-$C$24))","v":""},0,"",null,0,0,0,0,"","","",null,"","",0,"","",0,null,null,"2024-06-01",45444,"2024-06-30",45473,30,null,65000000,65000000,0.01,53424,null,65000000,1000000,65000000,1000000]
[null,null,"","",null,"","",null,"","",0,"",null,0,0,0,0,"","","",null,"","",0,"","",0,null,null,"2024-07-01",45474,"2024-07-31",45504,31,null,64000000,64000000,0.01,54356,null,64000000,1000000,64000000,1000000]
[null,null,"","",null,"","",null,"","",0,"",null,0,0,0,0,"","","",null,"","",0,"","",0,null,null,"2024-08-01",45505,"2024-08-31",45535,31,null,63000000,63000000,0.01,53506,null,63000000,1000000,63000000,1000000]
[null,null,"","",null,"","",null,"","",0,"",null,0,0,0,0,"",{"$f":"IF(C81=\"\",\"\",IF(C81=E80,\"NG\",IF(C81<E80,\"NG\",IF((C81-E80)>1,\"NG\",\"\"))))","v":""},{"$f":"IF(D81=\"\",\"\",IF(D81<C81,\"NG\",\"\"))","v":""},null,"","",0,"","",0,null,null,"2024-09-01",45536,"2024-09-10",45545,10,null,62000000,62000000,0.01,16986,null,62000000,1000000,62000000,1000000]
[null,null,{"$f":"IF(X82>0,$S$38,\"\")","v":""},null,null,null,"Null",null,null,null,0,{"$f":"IF(J82=\"\",\"\",ROUNDDOWN(J82*K82*G82/365,0))","v":""},null,0,0,0,0,"",null,null,"2024-09-09","2025-03-12",null,{"$f":"SUM(X75:X81)","v":0},"","",0,null,null,null,"",null,"",null,null,null,null,0.01,"",null,62000000,0,62000000,0]
[null,"単位期間Ⅱ",{"$f":"IF(E83=\"\",\"\",IF(E81>M256,E81+1,IF(E80>M256,E80+1,IF(E79>M256,E79+1,IF(E78>M256,E78+1,IF(E77>M256,E77+1,IF(E76>M256,E76+1,IF(E75>M256,E75+1,IF(C60>M256,C60,\"\")))))))))","v":""},{"$f":"IF(C83=\"\",\"\",C83)","v":""},null,{"$f":"IF(E83=\"\",\"\",E83)","v":""},{"$f":"IF(E83=\"\",\"\",E83-C83+1)","v":""},{"$f":"IF(G83=\"\",\"\",SUM(G83:G90))","v":""},null,null,0,{"$f":"IF(J83=\"\",\"\",ROUNDDOWN(J83*K83*G83/365,0))","v":""},{"$f":"IF(L83=\"\",\"\",SUM(L83:L90))","v":""},{"$f":"IF(I83=\"\",N82,I83)","v":0},{"$f":"IF(N82-N83<0,\"0 \",N82-N83)","v":0},{"$f":"IF(J83=\"\",P82,J83)","v":0},{"$f":"IF(P82-P83<0,\"0 \",P82-P83)","v":0},"",{"$f":"IF(C83=\"\",\"\",IF(C83>E83,\"NG\",\"\"))","v":""},{"$f":"IF(E83=\"\",\"\",IF(C84=\"\",\"\",IF(E83>C84,\"NG\",\"\")))","v":""},{"$f":"IF(C83=\"\",\"\",IF(C83<$U82,\"NG\",IF(C83>$V82,\"NG\",\"\")))","v":""},{"$f":"IF(E83=\"\",\"\",IF(C83<$U$82,\"NG\",IF(E83>$V$82,\"NG\",\"\")))","v":""},"",{"$f":"COUNTIF(S83:W83,\"NG\")","v":0},"","",0,null,"単位期間Ⅱ","2024-09-11",45546,"2024-09-30",45565,{"$f":"IF(AD83=\"\",\"\",AF83-AD83+1)","v":20},{"$f":"IF(AH83=\"\",\"\",SUM(AH83:AH90))","v":181},62000000,62000000,0.01,{"$f":"IF(AD83=\"\",\"\",ROUNDDOWN(AK83*AL83*AH83/365,0))","v":33972},{"$f":"IF(AM83=\"\",\"\",SUM(AM83:AM90))","v":293532},62000000,0,62000000,0]
[null,null,{"$f":"IF(E84=\"\",\"\",IF(E83=\"\",\"\",IF(E83>=DATE(2025,3,10),\"\",E83+1)))","v":""},{"$f":"IF(C84=\"\",\"\",C84)","v":""},null,{"$f":"IF(E84=\"\",\"\",E84)","v":""},{"$f":"IF(E84=\"\",\"\",E84-C84+1)","v":""},null,{"$f":"IF(I83=\"\",\"\",IF(E84=\"\",\"\",I83-$C$11))","v":""},{"$f":"IF(J83=\"\",\"\",IF(F84=\"\",\"\",J83-$C$24))","v":""},0,{"$f":"IF(J84=\"\",\"\",ROUNDDOWN(J84*K84*G84/365,0))","v":""},null,{"$f":"IF(I84=\"\",N83,I84)","v":0},{"$f":"N83-N84","v":0},{"$f":"IF(J84=\"\",P83,J84)","v":0},{"$f":"P83-P84","v":0},"",{"$f":"IF(C84=\"\",\"\",IF(C84=E83,\"NG\",IF(C84<E83,\"NG\",IF((C84-E83)>1,\"NG\",\"\"))))","v":""},{"$f":"IF(E84=\"\",\"\",IF(C85=\"\",\"\",IF(E84>C85,\"NG\",\"\")))","v":""},null,{"$f":"IF(E84=\"\",\"\",IF(C84<$U$82,\"NG\",IF(E84>$V$82,\"NG\",\"\")))","v":""},"",{"$f":"COUNTIF(S84:W84,\"NG\")","v":0},"","",0,null,null,"2024-10-01",45566,"2024-10-31",45596,{"$f":"IF(AD84=\"\",\"\",AF84-AD84+1)","v":31},null,61000000,61000000,0.01,51808,null,61000000,{"$f":"AO83-AO84","v":1000000},61000000,{"$f":"AQ83-AQ84","v":1000000}]
[null,null,"","",null,"","",null,{"$f":"IF(I84=\"\",\"\",IF(E85=\"\",\"\",I84-$C$11))","v":""},{"$f":"IF(J84=\"\",\"\",IF(F85=\"\",\"\",J84-$C$24))","v":""},0,"",null,{"$f":"IF(I85=\"\",N84,I85)","v":0},{"$f":"N84-N85","v":0},{"$f":"IF(J85=\"\",P84,J85)","v":0},{"$f":"P84-P85","v":0},"",{"$f":"IF(C85=\"\",\"\",IF(C85=E84,\"NG\",IF(C85<E84,\"NG\",IF((C85-E84)>1,\"NG\",\"\"))))","v":""},"",null,"","",0,"","",0,null,null,"2024-11-01",45597,"2024-11-30",45626,30,null,60000000,60000000,0.01,49315,null,60000000,1000000,60000000,1000000]
[null,null,"","",null,"","",null,"","",0,"",null,0,0,0,{"$f":"P85-P86","v":0},"","","",null,"","",0,"","",0,null,null,"2024-12-01",45627,"2024-12-31",45657,31,null,59000000,59000000,0.01,50109,null,59000000,1000000,59000000,1000000]
[null,null,"","",null,"","",null,"","",0,"",null,0,0,0,0,"","","",null,"","",0,"","",0,null,null,"2025-01-01",45658,"2025-01-31",45688,31,null,58000000,58000000,0.01,49260,null,58000000,1000000,58000000,1000000]
[null,null,"","",null,"","",null,"","",0,"",null,0,0,0,0,"","",{"$f":"IF(E88=\"\",\"\",IF(C89=\"\",\"\",IF(E88>C89,\"NG\",\"\")))","v":""},null,"","",0,"","",0,null,null,"2025-02-01",45689,"2025-02-28",45716,28,null,57000000,57000000,0.01,43726,null,57000000,1000000,57000000,1000000]
[null,null,"","",null,"","",null,"","",0,"",null,0,0,0,0,"","",{"$f":"IF(D89=\"\",\"\",IF(D89<C89,\"NG\",\"\"))","v":""},null,"","",0,"","",0,null,null,"2025-03-01",45717,"2025-03-10",45726,10,null,56000000,56000000,0.01,15342,null,56000000,1000000,56000000,1000000]
[null,null,{"$f":"IF(X90>0,$S$38,\"\")","v":""},null,null,null,"Null",null,null,null,0,{"$f":"IF(J90=\"\",\"\",ROUNDDOWN(J90*K90*G90/365,0))","v":""},null,0,0,0,0,"",null,null,"2025-03-09","2025-09-12",null,{"$f":"SUM(X83:X89)","v":0},"","",0,null,null,null,"",null,"",null,null,null,null,0.01,"",null,56000000,0,56000000,0]
["2025年度","単位期間Ⅰ",{"$f":"IF(E91=\"\",\"\",IF(E89>0,E89+1,IF(E88>0,E88+1,IF(E87>0,E87+1,IF(E86>0,E86+1,IF(E85>0,E85+1,IF(E84>0,E84+1,E83+1)))))))","v":""},{"$f":"IF(C91=\"\",\"\",C91)","v":""},null,{"$f":"IF(E91=\"\",\"\",E91)","v":""},{"$f":"IF(E91=\"\",\"\",E91-C91+1)","v":""},{"$f":"IF(G91=\"\",\"\",SUM(G91:G98))","v":""},null,null,{"$f":"IF(K90=\"\",\"\",$K$43)","v":0},{"$f":"IF(J91=\"\",\"\",ROUNDDOWN(J91*K91*G91/365,0))","v":""},{"$f":"IF(L91=\"\",\"\",SUM(L91:L98))","v":""},{"$f":"IF(I91=\"\",N90,I91)","v":0},0,{"$f":"IF(J91=\"\",P90,J91)","v":0},0,"",{"$f":"IF(C91=\"\",\"\",IF(C91>E91,\"NG\",\"\"))","v":""},{"$f":"IF(E91=\"\",\"\",IF(C92=\"\",\"\",IF(E91>C92,\"NG\",\"\")))","v":""},{"$f":"IF(C91=\"\",\"\",IF(C91<$U90,\"NG\",IF(C91>$V90,\"NG\",\"\")))","v":""},{"$f":"IF(E91=\"\",\"\",IF(C91<$U$90,\"NG\",IF(E91>$V$90,\"NG\",\"\")))","v":""},"",{"$f":"COUNTIF(S91:W91,\"NG\")","v":0},"","",0,{"$f":"A91","v":"2025年度"},"単位期間Ⅰ","2025-03-11",45727,"2025-03-31",45747,{"$f":"IF(AD91=\"\",\"\",AF91-AD91+1)","v":21},{"$f":"IF(AH91=\"\",\"\",SUM(AH91:AH98))","v":184},56000000,56000000,0.01,{"$f":"IF(AF91=\"\",\"\",ROUNDDOWN(AK91*AL91*AH91/365,0))","v":32219},{"$f":"IF(AM91=\"\",\"\",SUM(AM91:AM98))","v":268025},56000000,"-",56000000,"-"]
[null,null,{"$f":"IF(E92=\"\",\"\",IF(E91=\"\",\"\",IF(E91>=DATE(2025,9,10),\"\",E91+1)))","v":""},{"$f":"IF(C92=\"\",\"\",C92)","v":""},null,{"$f":"IF(E92=\"\",\"\",E92)","v":""},{"$f":"IF(E92=\"\",\"\",E92-C92+1)","v":""},null,{"$f":"IF(I91=\"\",\"\",IF(E92=\"\",\"\",I91-$C$11))","v":""},{"$f":"IF(J91=\"\",\"\",IF(F92=\"\",\"\",J91-$C$24))","v":""},{"$f":"IF(K91=\"\",\"\",$K$43)","v":0},{"$f":"IF(J92=\"\",\"\",ROUNDDOWN(J92*K92*G92/365,0))","v":""},null,{"$f":"IF(I92=\"\",N91,I92)","v":0},{"$f":"N91-N92","v":0},{"$f":"IF(J92=\"\",P91,J92)","v":0},{"$f":"P91-P92","v":0},"",{"$f":"IF(C92=\"\",\"\",IF(C92=E91,\"NG\",IF(C92<E91,\"NG\",IF((C92-E91)>1,\"NG\",\"\"))))","v":""},{"$f":"IF(E92=\"\",\"\",IF(C93=\"\",\"\",IF(E92>C93,\"NG\",\"\")))","v":""},null,{"$f":"IF(E92=\"\",\"\",IF(C92<$U$90,\"NG\",IF(E92>$V$90,\"NG\",\"\")))","v":""},"",{"$f":"COUNTIF(S92:W92,\"NG\")","v":0},"","",0,null,null,"2025-04-01",45748,"2025-04-30",45777,{"$f":"IF(AD92=\"\",\"\",AF92-AD92+1)","v":30},null,55000000,55000000,0.01,{"$f":"IF(AF92=\"\",\"\",ROUNDDOWN(AK92*AL92*AH92/365,0))","v":45205},null,55000000,{"$f":"AO91-AO92","v":1000000},55000000,{"$f":"AQ91-AQ92","v":1000000}]
[null,null,"","",null,"","",null,{"$f":"IF(I92=\"\",\"\",IF(E93=\"\",\"\",I92-$C$11))","v":""},{"$f":"IF(J92=\"\",\"\",IF(F93=\"\",\"\",J92-$C$24))","v":""},{"$f":"IF(K92=\"\",\"\",$K$43)","v":0},"",null,{"$f":"IF(I93=\"\",N92,I93)","v":0},{"$f":"N92-N93","v":0},{"$f":"IF(J93=\"\",P92,J93)","v":0},{"$f":"P92-P93","v":0},"",{"$f":"IF(C93=\"\",\"\",IF(C93=E92,\"NG\",IF(C93<E92,\"NG\",IF((C93-E92)>1,\"NG\",\"\"))))","v":""},"",null,"","",0,"","",0,null,null,"2025-05-01",45778,"2025-05-31",45808,31,null,54000000,54000000,0.01,{"$f":"IF(AF93=\"\",\"\",ROUNDDOWN(AK93*AL93*AH93/365,0))","v":45863},null,54000000,{"$f":"AO92-AO93","v":1000000},54000000,{"$f":"AQ92-AQ93","v":1000000}]
[null,null,"","",null,"","",null,{"$f":"IF(I93=\"\",\"\",IF(E94=\"\",\"\",I93-$C$11))","v":""},{"$f":"IF(J93=\"\",\"\",IF(F94=\"\",\"\",J93-$C$24))","v":""},0,"",null,0,0,0,0,"","","",null,"","",0,"","",0,null,null,"2025-06-01",45809,"2025-06-30",45838,30,null,53000000,53000000,0.01,43561,null,53000000,1000000,53000000,1000000]
[null,null,"","",null,"","",null,"","",0,"",null,0,0,0,0,"","","",null,"","",0,"","",0,null,null,"2025-07-01",45839,"2025-07-31",45869,31,null,52000000,52000000,0.01,44164,null,52000000,1000000,52000000,1000000]
[null,null,"","",null,"","",null,"","",0,"",null,0,0,0,0,"","",{"$f":"IF(E96=\"\",\"\",IF(C97=\"\",\"\",IF(E96>C97,\"NG\",\"\")))","v":""},null,"","",0,"","",0,null,null,"2025-08-01",45870,"2025-08-31",45900,31,null,51000000,51000000,0.01,43315,null,51000000,1000000,51000000,1000000]
[null,null,"","",null,"","",null,"","",0,"",null,0,0,0,0,"","",{"$f":"IF(D97=\"\",\"\",IF(D97<C97,\"NG\",\"\"))","v":""},null,"",{"$f":"IF(G97>0,\"\",\"NG\")","v":""},0,"","",0,null,null,"2025-09-01",45901,"2025-09-10",45910,10,null,50000000,50000000,0.01,13698,null,50000000,1000000,50000000,1000000]
[null,null,{"$f":"IF(X98>0,$S$38,\"\")","v":""},null,null,null,"Null",null,null,null,0,{"$f":"IF(J98=\"\",\"\",ROUNDDOWN(J98*K98*G98/365,0))","v":""},null,0,0,0,0,"",null,null,"2025-09-09","2026-03-12",null,{"$f":"SUM(X91:X97)","v":0},"","",0,null,null,"","",null,"",null,null,null,null,0.01,"",null,50000000,0,50000000,0]
[null,"単位期間Ⅱ",{"$f":"IF(E99=\"\",\"\",IF(E97>M272,E97+1,IF(E96>M272,E96+1,IF(E95>M272,E95+1,IF(E94>M272,E94+1,IF(E93>M272,E93+1,IF(E92>M272,E92+1,IF(E91>M272,E91+1,IF(C76>M272,C76,\"\")))))))))","v":""},{"$f":"IF(C99=\"\",\"\",C99)","v":""},null,{"$f":"IF(E99=\"\",\"\",E99)","v":""},{"$f":"IF(E99=\"\",\"\",E99-C99+1)","v":""},{"$f":"IF(G99=\"\",\"\",SUM(G99:G106))","v":""},null,null,0,{"$f":"IF(J99=\"\",\"\",ROUNDDOWN(J99*K99*G99/365,0))","v":""},{"$f":"IF(L99=\"\",\"\",SUM(L99:L106))","v":""},{"$f":"IF(I99=\"\",N98,I99)","v":0},{"$f":"IF(N98-N99<0,\"0 \",N98-N99)","v":0},{"$f":"IF(J99=\"\",P98,J99)","v":0},{"$f":"IF(P98-P99<0,\"0 \",P98-P99)","v":0},"",{"$f":"IF(C99=\"\",\"\",IF(C99>E99,\"NG\",\"\"))","v":""},{"$f":"IF(E99=\"\",\"\",IF(C100=\"\",\"\",IF(E99>C100,\"NG\",\"\")))","v":""},{"$f":"IF(C99=\"\",\"\",IF(C99<$U98,\"NG\",IF(C99>$V98,\"NG\",\"\")))","v":""},{"$f":"IF(E99=\"\",\"\",IF(C99<$U$98,\"NG\",IF(E99>$V$98,\"NG\",\"\")))","v":""},{"$f":"IF(G99>0,\"\",\"NG\")","v":""},{"$f":"COUNTIF(S99:W99,\"NG\")","v":0},"","",0,null,"単位期間Ⅱ","2025-09-11",45911,"2025-09-30",45930,{"$f":"IF(AD99=\"\",\"\",AF99-AD99+1)","v":20},{"$f":"IF(AH99=\"\",\"\",SUM(AH99:AH106))","v":181},50000000,50000000,0.01,{"$f":"IF(AD99=\"\",\"\",ROUNDDOWN(AK99*AL99*AH99/365,0))","v":27397},{"$f":"IF(AM99=\"\",\"\",SUM(AM99:AM106))","v":234024},50000000,0,50000000,0]
[null,null,{"$f":"IF(E100=\"\",\"\",IF(E99=\"\",\"\",IF(E99>=DATE(2026,3,10),\"\",E99+1)))","v":""},{"$f":"IF(C100=\"\",\"\",C100)","v":""},null,{"$f":"IF(E100=\"\",\"\",E100)","v":""},{"$f":"IF(E100=\"\",\"\",E100-C100+1)","v":""},null,{"$f":"IF(I99=\"\",\"\",IF(E100=\"\",\"\",I99-$C$11))","v":""},{"$f":"IF(J99=\"\",\"\",IF(F100=\"\",\"\",J99-$C$24))","v":""},0,{"$f":"IF(J100=\"\",\"\",ROUNDDOWN(J100*K100*G100/365,0))","v":""},null,{"$f":"IF(I100=\"\",N99,I100)","v":0},{"$f":"N99-N100","v":0},{"$f":"IF(J100=\"\",P99,J100)","v":0},{"$f":"P99-P100","v":0},"",{"$f":"IF(C100=\"\",\"\",IF(C100=E99,\"NG\",IF(C100<E99,\"NG\",IF((C100-E99)>1,\"NG\",\"\"))))","v":""},{"$f":"IF(E100=\"\",\"\",IF(C101=\"\",\"\",IF(E100>C101,\"NG\",\"\")))","v":""},null,{"$f":"IF(E100=\"\",\"\",IF(C100<$U$98,\"NG\",IF(E100>$V$98,\"NG\",\"\")))","v":""},{"$f":"IF(G100>0,\"\",\"NG\")","v":""},{"$f":"COUNTIF(S100:W100,\"NG\")","v":0},"","",0,null,null,"2025-10-01",45931,"2025-10-31",45961,{"$f":"IF(AD100=\"\",\"\",AF100-AD100+1)","v":31},null,49000000,49000000,0.01,41616,null,49000000,{"$f":"AO99-AO100","v":1000000},49000000,{"$f":"AQ99-AQ100","v":1000000}]
[null,null,"","",null,"","",null,{"$f":"IF(I100=\"\",\"\",IF(E101=\"\",\"\",I100-$C$11))","v":""},{"$f":"IF(J100=\"\",\"\",IF(F101=\"\",\"\",J100-$C$24))","v":""},0,"",null,{"$f":"IF(I101=\"\",N100,I101)","v":0},{"$f":"N100-N101","v":0},{"$f":"IF(J101=\"\",P100,J101)","v":0},{"$f":"P100-P101","v":0},"",{"$f":"IF(C101=\"\",\"\",IF(C101=E100,\"NG\",IF(C101<E100,\"NG\",IF((C101-E100)>1,\"NG\",\"\"))))","v":""},"",null,"","",0,"","",0,null,null,"2025-11-01",45962,"2025-11-30",45991,30,null,48000000,48000000,0.01,39452,null,48000000,1000000,48000000,1000000]
[null,null,"","",null,"","",null,"","",0,"",null,0,0,0,{"$f":"P101-P102","v":0},"","","",null,"","",0,"","",0,null,null,"2025-12-01",45992,"2025-12-31",46022,31,null,47000000,47000000,0.01,39917,null,47000000,1000000,47000000,1000000]
[null,null,"","",null,"","",null,"","",0,"",null,0,0,0,0,"","","",null,"","",0,"","",0,null,null,"2026-01-01",46023,"2026-01-31",46053,31,null,46000000,46000000,0.01,39068,null,46000000,1000000,46000000,1000000]
[null,null,"","",null,"","",null,"","",0,"",null,0,0,0,0,"","",{"$f":"IF(E104=\"\",\"\",IF(C105=\"\",\"\",IF(E104>C105,\"NG\",\"\")))","v":""},null,"","",0,"","",0,null,null,"2026-02-01",46054,"2026-02-28",46081,28,null,45000000,45000000,0.01,34520,null,45000000,1000000,45000000,1000000]
[null,null,"","",null,"","",null,"","",0,"",null,0,0,0,0,"","",{"$f":"IF(D105=\"\",\"\",IF(D105<C105,\"NG\",\"\"))","v":""},null,"","",0,"","",0,null,null,"2026-03-01",46082,"2026-03-10",46091,10,null,44000000,44000000,0.01,12054,null,44000000,1000000,44000000,1000000]
[null,null,{"$f":"IF(X106>0,$S$38,\"\")","v":""},null,null,null,"Null",null,null,null,0,{"$f":"IF(J106=\"\",\"\",ROUNDDOWN(J106*K106*G106/365,0))","v":""},null,0,0,0,0,"",null,null,"2026-03-09","2026-09-12",null,{"$f":"SUM(X99:X105)","v":0},"","",0,null,null,"","",null,"",null,null,null,null,0.01,"",null,44000000,0,44000000,0]
["2026年度","単位期間Ⅰ",{"$f":"IF(E107=\"\",\"\",IF(E105>0,E105+1,IF(E104>0,E104+1,IF(E103>0,E103+1,IF(E102>0,E102+1,IF(E101>0,E101+1,IF(E100>0,E100+1,E99+1)))))))","v":""},{"$f":"IF(C107=\"\",\"\",C107)","v":""},null,{"$f":"IF(E107=\"\",\"\",E107)","v":""},{"$f":"IF(E107=\"\",\"\",E107-C107+1)","v":""},{"$f":"IF(G107=\"\",\"\",SUM(G107:G114))","v":""},null,null,{"$f":"IF(K106=\"\",\"\",$K$43)","v":0},{"$f":"IF(J107=\"\",\"\",ROUNDDOWN(J107*K107*G107/365,0))","v":""},{"$f":"IF(L107=\"\",\"\",SUM(L107:L114))","v":""},{"$f":"IF(I107=\"\",N106,I107)","v":0},0,{"$f":"IF(J107=\"\",P106,J107)","v":0},0,"",{"$f":"IF(C107=\"\",\"\",IF(C107>E107,\"NG\",\"\"))","v":""},{"$f":"IF(E107=\"\",\"\",IF(C108=\"\",\"\",IF(E107>C108,\"NG\",\"\")))","v":""},{"$f":"IF(C107=\"\",\"\",IF(C107<$U106,\"NG\",IF(C107>$V106,\"NG\",\"\")))","v":""},{"$f":"IF(E107=\"\",\"\",IF(C107<$U$106,\"NG\",IF(E107>$V$106,\"NG\",\"\")))","v":""},"",{"$f":"COUNTIF(S107:W107,\"NG\")","v":0},"","",0,{"$f":"A107","v":"2026年度"},"単位期間Ⅰ","2026-03-11",46092,"2026-03-31",46112,{"$f":"IF(AD107=\"\",\"\",AF107-AD107+1)","v":21},{"$f":"IF(AH107=\"\",\"\",SUM(AH107:AH114))","v":184},44000000,44000000,0.01,{"$f":"IF(AF107=\"\",\"\",ROUNDDOWN(AK107*AL107*AH107/365,0))","v":25315},{"$f":"IF(AM107=\"\",\"\",SUM(AM107:AM114))","v":207531},{"$f":"IF(AJ107=\"\",AO106,AJ107)","v":44000000},"-",{"$f":"IF(AK107=\"\",AQ106,AK107)","v":44000000},"-"]
[null,null,{"$f":"IF(E108=\"\",\"\",IF(E107=\"\",\"\",IF(E107>=DATE(2026,9,10),\"\",E107+1)))","v":""},{"$f":"IF(C108=\"\",\"\",C108)","v":""},null,{"$f":"IF(E108=\"\",\"\",E108)","v":""},{"$f":"IF(E108=\"\",\"\",E108-C108+1)","v":""},null,{"$f":"IF(I107=\"\",\"\",IF(E108=\"\",\"\",I107-$C$11))","v":""},{"$f":"IF(J107=\"\",\"\",IF(F108=\"\",\"\",J107-$C$24))","v":""},{"$f":"IF(K107=\"\",\"\",$K$43)","v":0},{"$f":"IF(J108=\"\",\"\",ROUNDDOWN(J108*K108*G108/365,0))","v":""},null,{"$f":"IF(I108=\"\",N107,I108)","v":0},{"$f":"N107-N108","v":0},{"$f":"IF(J108=\"\",P107,J108)","v":0},{"$f":"P107-P108","v":0},"",{"$f":"IF(C108=\"\",\"\",IF(C108=E107,\"NG\",IF(C108<E107,\"NG\",IF((C108-E107)>1,\"NG\",\"\"))))","v":""},{"$f":"IF(E108=\"\",\"\",IF(C109=\"\",\"\",IF(E108>C109,\"NG\",\"\")))","v":""},null,{"$f":"IF(E108=\"\",\"\",IF(C108<$U$106,\"NG\",IF(E108>$V$106,\"NG\",\"\")))","v":""},"",{"$f":"COUNTIF(S108:W108,\"NG\")","v":0},"","",0,null,null,"2026-04-01",{"$f":"IF(AD108=\"\",\"\",AD108)","v":46113},"2026-04-30",{"$f":"IF(AF108=\"\",\"\",AF108)","v":46142},{"$f":"IF(AD108=\"\",\"\",AF108-AD108+1)","v":30},null,43000000,43000000,0.01,{"$f":"IF(AF108=\"\",\"\",ROUNDDOWN(AK108*AL108*AH108/365,0))","v":35342},null,43000000,{"$f":"AO107-AO108","v":1000000},43000000,{"$f":"AQ107-AQ108","v":1000000}]
[null,null,"","",null,"","",null,{"$f":"IF(I108=\"\",\"\",IF(E109=\"\",\"\",I108-$C$11))","v":""},{"$f":"IF(J108=\"\",\"\",IF(F109=\"\",\"\",J108-$C$24))","v":""},{"$f":"IF(K108=\"\",\"\",$K$43)","v":0},"",null,{"$f":"IF(I109=\"\",N108,I109)","v":0},{"$f":"N108-N109","v":0},{"$f":"IF(J109=\"\",P108,J109)","v":0},{"$f":"P108-P109","v":0},{"$f":"IF(AA109>0,$Y$38,\"\")","v":""},{"$f":"IF(C109=\"\",\"\",IF(C109=E108,\"NG\",IF(C109<E108,\"NG\",IF((C109-E108)>1,\"NG\",\"\"))))","v":""},"",null,"","",0,{"$f":"IF($O109=0,\"\",IF($O109=$Y$41,\"\",\"NG\"))","v":""},{"$f":"IF($Q109=0,\"\",IF($Q109=$Z$41,\"\",\"NG\"))","v":""},{"$f":"COUNTIF(Y109:Z109,\"NG\")","v":0},null,null,"2026-05-01",46143,"2026-05-31",46173,31,null,42000000,42000000,0.01,{"$f":"IF(AF109=\"\",\"\",ROUNDDOWN(AK109*AL109*AH109/365,0))","v":35671},null,42000000,{"$f":"AO108-AO109","v":1000000},42000000,{"$f":"AQ108-AQ109","v":1000000}]
[null,null,"","",null,"","",null,{"$f":"IF(I109=\"\",\"\",IF(E110=\"\",\"\",I109-$C$11))","v":""},{"$f":"IF(J109=\"\",\"\",IF(F110=\"\",\"\",J109-$C$24))","v":""},0,"",null,0,0,0,0,"","","",null,"","",0,"","",0,null,null,"2026-06-01",46174,"2026-06-30",46203,30,null,41000000,41000000,0.01,33698,null,41000000,1000000,41000000,1000000]
[null,null,"","",null,"","",null,"","",0,"",null,0,0,0,0,"","","",null,"","",0,"","",0,null,null,"2026-07-01",46204,"2026-07-31",46234,31,null,40000000,40000000,0.01,33972,null,40000000,1000000,40000000,1000000]
[null,null,"","",null,"","",null,"","",0,"",null,0,0,0,0,"","",{"$f":"IF(E112=\"\",\"\",IF(C113=\"\",\"\",IF(E112>C113,\"NG\",\"\")))","v":""},null,"","",0,"","",0,null,null,"2026-08-01",46235,"2026-08-31",46265,31,null,39000000,39000000,0.01,33123,null,39000000,1000000,39000000,1000000]
[null,null,"","",null,"","",null,"","",0,"",null,0,0,0,0,"","",{"$f":"IF(D113=\"\",\"\",IF(D113<C113,\"NG\",\"\"))","v":""},null,"","",0,"","",0,null,null,"2026-09-01",46266,"2026-09-10",46275,10,null,38000000,38000000,0.01,10410,null,38000000,1000000,38000000,1000000]
[null,null,{"$f":"IF(X114>0,$S$38,\"\")","v":""},null,null,null,"Null",null,null,null,0,{"$f":"IF(J114=\"\",\"\",ROUNDDOWN(J114*K114*G114/365,0))","v":""},null,0,0,0,0,"",null,null,"2026-09-09","2027-03-12",null,{"$f":"SUM(X107:X113)","v":0},"","",0,null,null,"","",null,"",null,null,null,null,0.01,"",null,38000000,0,38000000,0]
[null,"単位期間Ⅱ",{"$f":"IF(E115=\"\",\"\",IF(E113>M287,E113+1,IF(E112>M287,E112+1,IF(E111>M287,E111+1,IF(E110>M287,E110+1,IF(E109>M287,E109+1,IF(E108>M287,E108+1,IF(E107>M287,E107+1,IF(C92>M287,C92,\"\")))))))))","v":""},{"$f":"IF(C115=\"\",\"\",C115)","v":""},null,{"$f":"IF(E115=\"\",\"\",E115)","v":""},{"$f":"IF(E115=\"\",\"\",E115-C115+1)","v":""},{"$f":"IF(G115=\"\",\"\",SUM(G115:G122))","v":""},null,null,0,{"$f":"IF(J115=\"\",\"\",ROUNDDOWN(J115*K115*G115/365,0))","v":""},{"$f":"IF(L115=\"\",\"\",SUM(L115:L122))","v":""},{"$f":"IF(I115=\"\",N114,I115)","v":0},{"$f":"IF(N114-N115<0,\"0 \",N114-N115)","v":0},{"$f":"IF(J115=\"\",P114,J115)","v":0},{"$f":"IF(P114-P115<0,\"0 \",P114-P115)","v":0},"",{"$f":"IF(C115=\"\",\"\",IF(C115>E115,\"NG\",\"\"))","v":""},{"$f":"IF(E115=\"\",\"\",IF(C116=\"\",\"\",IF(E115>C116,\"NG\",\"\")))","v":""},{"$f":"IF(C115=\"\",\"\",IF(C115<$U114,\"NG\",IF(C115>$V114,\"NG\",\"\")))","v":""},{"$f":"IF(E115=\"\",\"\",IF(C115<$U$114,\"NG\",IF(E115>$V$114,\"NG\",\"\")))","v":""},"",{"$f":"COUNTIF(S115:W115,\"NG\")","v":0},"","",0,null,"単位期間Ⅱ","2026-09-11",46276,"2026-09-30",46295,{"$f":"IF(AD115=\"\",\"\",AF115-AD115+1)","v":20},{"$f":"IF(AH115=\"\",\"\",SUM(AH115:AH122))","v":181},38000000,38000000,0.01,{"$f":"IF(AD115=\"\",\"\",ROUNDDOWN(AK115*AL115*AH115/365,0))","v":20821},{"$f":"IF(AM115=\"\",\"\",SUM(AM115:AM122))","v":174518},38000000,0,38000000,0]
[null,null,{"$f":"IF(E116=\"\",\"\",IF(E115=\"\",\"\",IF(E115>=DATE(2027,3,10),\"\",E115+1)))","v":""},{"$f":"IF(C116=\"\",\"\",C116)","v":""},null,{"$f":"IF(E116=\"\",\"\",E116)","v":""},{"$f":"IF(E116=\"\",\"\",E116-C116+1)","v":""},null,{"$f":"IF(I115=\"\",\"\",IF(E116=\"\",\"\",I115-$C$11))","v":""},{"$f":"IF(J115=\"\",\"\",IF(F116=\"\",\"\",J115-$C$24))","v":""},0,{"$f":"IF(J116=\"\",\"\",ROUNDDOWN(J116*K116*G116/365,0))","v":""},null,{"$f":"IF(I116=\"\",N115,I116)","v":0},{"$f":"N115-N116","v":0},{"$f":"IF(J116=\"\",P115,J116)","v":0},{"$f":"P115-P116","v":0},"",{"$f":"IF(C116=\"\",\"\",IF(C116=E115,\"NG\",IF(C116<E115,\"NG\",IF((C116-E115)>1,\"NG\",\"\"))))","v":""},{"$f":"IF(E116=\"\",\"\",IF(C117=\"\",\"\",IF(E116>C117,\"NG\",\"\")))","v":""},null,{"$f":"IF(E116=\"\",\"\",IF(C116<$U$114,\"NG\",IF(E116>$V$114,\"NG\",\"\")))","v":""},"",{"$f":"COUNTIF(S116:W116,\"NG\")","v":0},"","",0,null,null,"2026-10-01",46296,"2026-10-31",46326,{"$f":"IF(AD116=\"\",\"\",AF116-AD116+1)","v":31},null,37000000,37000000,0.01,31424,null,37000000,{"$f":"AO115-AO116","v":1000000},37000000,{"$f":"AQ115-AQ116","v":1000000}]
[null,null,"","",null,"","",null,{"$f":"IF(I116=\"\",\"\",IF(E117=\"\",\"\",I116-$C$11))","v":""},{"$f":"IF(J116=\"\",\"\",IF(F117=\"\",\"\",J116-$C$24))","v":""},0,"",null,{"$f":"IF(I117=\"\",N116,I117)","v":0},{"$f":"N116-N117","v":0},{"$f":"IF(J117=\"\",P116,J117)","v":0},{"$f":"P116-P117","v":0},"",{"$f":"IF(C117=\"\",\"\",IF(C117=E116,\"NG\",IF(C117<E116,\"NG\",IF((C117-E116)>1,\"NG\",\"\"))))","v":""},"",null,"","",0,"","",0,null,null,"2026-11-01",46327,"2026-11-30",46356,30,null,36000000,36000000,0.01,29589,null,36000000,1000000,36000000,1000000]
[null,null,"","",null,"","",null,"","",0,"",null,0,0,0,{"$f":"P117-P118","v":0},"","","",null,"","",0,"","",0,null,null,"2026-12-01",46357,"2026-12-31",46387,31,null,35000000,35000000,0.01,29726,null,35000000,1000000,35000000,1000000]
[null,null,"","",null,"","",null,"","",0,"",null,0,0,0,0,"","","",null,"","",0,"","",0,null,null,"2027-01-01",46388,"2027-01-31",46418,31,null,34000000,34000000,0.01,28876,null,34000000,1000000,34000000,1000000]
[null,null,"","",null,"","",null,"","",0,"",null,0,0,0,0,"","",{"$f":"IF(E120=\"\",\"\",IF(C121=\"\",\"\",IF(E120>C121,\"NG\",\"\")))","v":""},null,"","",0,"","",0,null,null,"2027-02-01",46419,"2027-02-28",46446,28,null,33000000,33000000,0.01,25315,null,33000000,1000000,33000000,1000000]
[null,null,"","",null,"","",null,"","",0,"",null,0,0,0,0,"","",{"$f":"IF(D121=\"\",\"\",IF(D121<C121,\"NG\",\"\"))","v":""},null,"","",0,"","",0,null,null,"2027-03-01",46447,"2027-03-10",46456,10,null,32000000,32000000,0.01,8767,null,32000000,1000000,32000000,1000000]
[null,null,{"$f":"IF(X122>0,$S$38,\"\")","v":""},null,null,null,"Null",null,null,null,0,{"$f":"IF(J122=\"\",\"\",ROUNDDOWN(J122*K122*G122/365,0))","v":""},null,0,0,0,0,"",null,null,"2027-03-09","2027-09-12",null,{"$f":"SUM(X115:X121)","v":0},"","",0,null,null,null,"",null,"",null,null,null,null,0.01,"",null,32000000,0,32000000,0]
["2027年度","単位期間Ⅰ",{"$f":"IF(E123=\"\",\"\",IF(E121>0,E121+1,IF(E120>0,E120+1,IF(E119>0,E119+1,IF(E118>0,E118+1,IF(E117>0,E117+1,IF(E116>0,E116+1,E115+1)))))))","v":""},{"$f":"IF(C123=\"\",\"\",C123)","v":""},null,{"$f":"IF(E123=\"\",\"\",E123)","v":""},{"$f":"IF(E123=\"\",\"\",E123-C123+1)","v":""},{"$f":"IF(G123=\"\",\"\",SUM(G123:G130))","v":""},null,null,{"$f":"IF(K122=\"\",\"\",$K$43)","v":0},{"$f":"IF(J123=\"\",\"\",ROUNDDOWN(J123*K123*G123/365,0))","v":""},{"$f":"IF(L123=\"\",\"\",SUM(L123:L130))","v":""},{"$f":"IF(I123=\"\",N122,I123)","v":0},0,{"$f":"IF(J123=\"\",P122,J123)","v":0},0,"",{"$f":"IF(C123=\"\",\"\",IF(C123>E123,\"NG\",\"\"))","v":""},{"$f":"IF(E123=\"\",\"\",IF(C124=\"\",\"\",IF(E123>C124,\"NG\",\"\")))","v":""},{"$f":"IF(C123=\"\",\"\",IF(C123<$U122,\"NG\",IF(C123>$V122,\"NG\",\"\")))","v":""},{"$f":"IF(E123=\"\",\"\",IF(C123<$U$122,\"NG\",IF(E123>$V$122,\"NG\",\"\")))","v":""},"",{"$f":"COUNTIF(S123:W123,\"NG\")","v":0},"","",0,{"$f":"A123","v":"2027年度"},"単位期間Ⅰ","2027-03-11",46457,"2027-03-31",46477,{"$f":"IF(AD123=\"\",\"\",AF123-AD123+1)","v":21},{"$f":"IF(AH123=\"\",\"\",SUM(AH123:AH130))","v":184},32000000,32000000,0.01,{"$f":"IF(AF123=\"\",\"\",ROUNDDOWN(AK123*AL123*AH123/365,0))","v":18410},{"$f":"IF(AM123=\"\",\"\",SUM(AM123:AM130))","v":147037},32000000,"-",32000000,"-"]
[null,null,{"$f":"IF(E124=\"\",\"\",IF(E123=\"\",\"\",IF(E123>=DATE(2027,9,10),\"\",E123+1)))","v":""},{"$f":"IF(C124=\"\",\"\",C124)","v":""},null,{"$f":"IF(E124=\"\",\"\",E124)","v":""},{"$f":"IF(E124=\"\",\"\",E124-C124+1)","v":""},null,{"$f":"IF(I123=\"\",\"\",IF(E124=\"\",\"\",I123-$C$11))","v":""},{"$f":"IF(J123=\"\",\"\",IF(F124=\"\",\"\",J123-$C$24))","v":""},{"$f":"IF(K123=\"\",\"\",$K$43)","v":0},{"$f":"IF(J124=\"\",\"\",ROUNDDOWN(J124*K124*G124/365,0))","v":""},null,{"$f":"IF(I124=\"\",N123,I124)","v":0},{"$f":"N123-N124","v":0},{"$f":"IF(J124=\"\",P123,J124)","v":0},{"$f":"P123-P124","v":0},"",{"$f":"IF(C124=\"\",\"\",IF(C124=E123,\"NG\",IF(C124<E123,\"NG\",IF((C124-E123)>1,\"NG\",\"\"))))","v":""},{"$f":"IF(E124=\"\",\"\",IF(C125=\"\",\"\",IF(E124>C125,\"NG\",\"\")))","v":""},null,{"$f":"IF(E124=\"\",\"\",IF(C124<$U$122,\"NG\",IF(E124>$V$122,\"NG\",\"\")))","v":""},"",{"$f":"COUNTIF(S124:W124,\"NG\")","v":0},"","",0,null,null,"2027-04-01",46478,"2027-04-30",46507,{"$f":"IF(AD124=\"\",\"\",AF124-AD124+1)","v":30},null,31000000,31000000,0.01,{"$f":"IF(AF124=\"\",\"\",ROUNDDOWN(AK124*AL124*AH124/365,0))","v":25479},null,31000000,{"$f":"AO123-AO124","v":1000000},31000000,{"$f":"AQ123-AQ124","v":1000000}]
[null,null,"","",null,"","",null,{"$f":"IF(I124=\"\",\"\",IF(E125=\"\",\"\",I124-$C$11))","v":""},{"$f":"IF(J124=\"\",\"\",IF(F125=\"\",\"\",J124-$C$24))","v":""},{"$f":"IF(K124=\"\",\"\",$K$43)","v":0},"",null,{"$f":"IF(I125=\"\",N124,I125)","v":0},{"$f":"N124-N125","v":0},{"$f":"IF(J125=\"\",P124,J125)","v":0},{"$f":"P124-P125","v":0},"",{"$f":"IF(C125=\"\",\"\",IF(C125=E124,\"NG\",IF(C125<E124,\"NG\",IF((C125-E124)>1,\"NG\",\"\"))))","v":""},"",null,"","",0,"","",0,null,null,"2027-05-01",46508,"2027-05-31",46538,31,null,30000000,30000000,0.01,{"$f":"IF(AF125=\"\",\"\",ROUNDDOWN(AK125*AL125*AH125/365,0))","v":25479},null,30000000,{"$f":"AO124-AO125","v":1000000},30000000,{"$f":"AQ124-AQ125","v":1000000}]
[null,null,"","",null,"","",null,{"$f":"IF(I125=\"\",\"\",IF(E126=\"\",\"\",I125-$C$11))","v":""},{"$f":"IF(J125=\"\",\"\",IF(F126=\"\",\"\",J125-$C$24))","v":""},0,"",null,0,0,0,0,"","","",null,"","",0,"","",0,null,null,"2027-06-01",46539,"2027-06-30",46568,30,null,29000000,29000000,0.01,23835,null,29000000,1000000,29000000,1000000]
[null,null,"","",null,"","",null,"","",0,"",null,0,0,0,0,"","","",null,"","",0,"","",0,null,null,"2027-07-01",46569,"2027-07-31",46599,31,null,28000000,28000000,0.01,23780,null,28000000,1000000,28000000,1000000]
[null,null,"","",null,"","",null,"","",0,"",null,0,0,0,0,"","","",null,"","",0,"","",0,null,null,"2027-08-01",46600,"2027-08-31",46630,31,null,27000000,27000000,0.01,22931,null,27000000,1000000,27000000,1000000]
[null,null,"","",null,"","",null,"","",0,"",null,0,0,0,0,"","",{"$f":"IF(D129=\"\",\"\",IF(D129<C129,\"NG\",\"\"))","v":""},null,"","",0,"","",0,null,null,"2027-09-01",46631,"2027-09-10",46640,10,null,26000000,26000000,0.01,7123,null,26000000,1000000,26000000,1000000]
[null,null,{"$f":"IF(X130>0,$S$38,\"\")","v":""},null,null,null,"Null",null,null,null,0,{"$f":"IF(J130=\"\",\"\",ROUNDDOWN(J130*K130*G130/365,0))","v":""},null,0,0,0,0,"",null,null,"2027-09-09","2028-03-12",null,{"$f":"SUM(X123:X129)","v":0},"","",0,null,null,"","",null,"",null,null,null,null,0.01,"",null,26000000,0,26000000,0]
[null,"単位期間Ⅱ",{"$f":"IF(E131=\"\",\"\",IF(E129>M303,E129+1,IF(E128>M303,E128+1,IF(E127>M303,E127+1,IF(E126>M303,E126+1,IF(E125>M303,E125+1,IF(E124>M303,E124+1,IF(E123>M303,E123+1,IF(C108>M303,C108,\"\")))))))))","v":""},{"$f":"IF(C131=\"\",\"\",C131)","v":""},null,{"$f":"IF(E131=\"\",\"\",E131)","v":""},{"$f":"IF(E131=\"\",\"\",E131-C131+1)","v":""},{"$f":"IF(G131=\"\",\"\",SUM(G131:G138))","v":""},null,null,0,{"$f":"IF(J131=\"\",\"\",ROUNDDOWN(J131*K131*G131/365,0))","v":""},{"$f":"IF(L131=\"\",\"\",SUM(L131:L138))","v":""},{"$f":"IF(I131=\"\",N130,I131)","v":0},{"$f":"IF(N130-N131<0,\"0 \",N130-N131)","v":0},{"$f":"IF(J131=\"\",P130,J131)","v":0},{"$f":"IF(P130-P131<0,\"0 \",P130-P131)","v":0},"",{"$f":"IF(C131=\"\",\"\",IF(C131>E131,\"NG\",\"\"))","v":""},{"$f":"IF(E131=\"\",\"\",IF(C132=\"\",\"\",IF(E131>C132,\"NG\",\"\")))","v":""},{"$f":"IF(C131=\"\",\"\",IF(C131<$U130,\"NG\",IF(C131>$V130,\"NG\",\"\")))","v":""},{"$f":"IF(E131=\"\",\"\",IF(C131<$U$130,\"NG\",IF(E131>$V$130,\"NG\",\"\")))","v":""},"",{"$f":"COUNTIF(S131:W131,\"NG\")","v":0},"","",0,null,"単位期間Ⅱ","2027-09-11",46641,"2027-09-30",46660,{"$f":"IF(AD131=\"\",\"\",AF131-AD131+1)","v":20},{"$f":"IF(AH131=\"\",\"\",SUM(AH131:AH138))","v":182},26000000,26000000,0.01,{"$f":"IF(AD131=\"\",\"\",ROUNDDOWN(AK131*AL131*AH131/365,0))","v":14246},{"$f":"IF(AM131=\"\",\"\",SUM(AM131:AM138))","v":115585},26000000,0,26000000,0]
[null,null,{"$f":"IF(E132=\"\",\"\",IF(E131=\"\",\"\",IF(E131>=DATE(2028,3,10),\"\",E131+1)))","v":""},{"$f":"IF(C132=\"\",\"\",C132)","v":""},null,{"$f":"IF(E132=\"\",\"\",E132)","v":""},{"$f":"IF(E132=\"\",\"\",E132-C132+1)","v":""},null,{"$f":"IF(I131=\"\",\"\",IF(E132=\"\",\"\",I131-$C$11))","v":""},{"$f":"IF(J131=\"\",\"\",IF(F132=\"\",\"\",J131-$C$24))","v":""},0,{"$f":"IF(J132=\"\",\"\",ROUNDDOWN(J132*K132*G132/365,0))","v":""},null,{"$f":"IF(I132=\"\",N131,I132)","v":0},{"$f":"N131-N132","v":0},{"$f":"IF(J132=\"\",P131,J132)","v":0},{"$f":"P131-P132","v":0},"",{"$f":"IF(C132=\"\",\"\",IF(C132=E131,\"NG\",IF(C132<E131,\"NG\",IF((C132-E131)>1,\"NG\",\"\"))))","v":""},{"$f":"IF(E132=\"\",\"\",IF(C133=\"\",\"\",IF(E132>C133,\"NG\",\"\")))","v":""},null,{"$f":"IF(E132=\"\",\"\",IF(C132<$U$130,\"NG\",IF(E132>$V$130,\"NG\",\"\")))","v":""},"",{"$f":"COUNTIF(S132:W132,\"NG\")","v":0},"","",0,null,null,"2027-10-01",46661,"2027-10-31",46691,{"$f":"IF(AD132=\"\",\"\",AF132-AD132+1)","v":31},null,25000000,25000000,0.01,21232,null,25000000,{"$f":"AO131-AO132","v":1000000},25000000,{"$f":"AQ131-AQ132","v":1000000}]
[null,null,"",{"$f":"IF(C133=\"\",\"\",C133)","v":""},null,"","",null,{"$f":"IF(I132=\"\",\"\",IF(E133=\"\",\"\",I132-$C$11))","v":""},{"$f":"IF(J132=\"\",\"\",IF(F133=\"\",\"\",J132-$C$24))","v":""},0,"",null,{"$f":"IF(I133=\"\",N132,I133)","v":0},{"$f":"N132-N133","v":0},{"$f":"IF(J133=\"\",P132,J133)","v":0},{"$f":"P132-P133","v":0},"",{"$f":"IF(C133=\"\",\"\",IF(C133=E132,\"NG\",IF(C133<E132,\"NG\",IF((C133-E132)>1,\"NG\",\"\"))))","v":""},"",null,"","",0,"","",0,null,null,"2027-11-01",46692,"2027-11-30",46721,30,null,24000000,24000000,0.01,19726,null,24000000,1000000,24000000,1000000]
[null,null,"","",null,"","",null,"","",0,"",null,0,0,0,{"$f":"P133-P134","v":0},"","","",null,"","",0,"","",0,null,null,"2027-12-01",46722,"2027-12-31",46752,31,null,23000000,23000000,0.01,19534,null,23000000,1000000,23000000,1000000]
[null,null,"","",null,"","",null,"","",0,"",null,0,0,0,0,"","","",null,"","",0,"","",0,null,null,"2028-01-01",46753,"2028-01-31",46783,31,null,22000000,22000000,0.01,18684,null,22000000,1000000,22000000,1000000]
[null,null,"","",null,"","",null,"","",0,"",null,0,0,0,0,"","",{"$f":"IF(E136=\"\",\"\",IF(C137=\"\",\"\",IF(E136>C137,\"NG\",\"\")))","v":""},null,"","",0,"","",0,null,null,"2028-02-01",46784,"2028-02-29",46812,29,null,21000000,21000000,0.01,16684,null,21000000,1000000,21000000,1000000]
[null,null,"","",null,"","",null,"","",0,"",null,0,0,0,0,"","",{"$f":"IF(D137=\"\",\"\",IF(D137<C137,\"NG\",\"\"))","v":""},null,"","",0,"","",0,null,null,"2028-03-01",46813,"2028-03-10",46822,10,null,20000000,20000000,0.01,5479,null,20000000,1000000,20000000,1000000]
[null,null,{"$f":"IF(X138>0,$S$38,\"\")","v":""},null,null,null,"Null",null,null,null,0,{"$f":"IF(J138=\"\",\"\",ROUNDDOWN(J138*K138*G138/365,0))","v":""},null,0,0,0,0,"",null,null,"2028-03-09","2028-09-12",null,{"$f":"SUM(X131:X137)","v":0},"","",0,null,null,null,"",null,"",null,null,null,null,0.01,"",null,20000000,0,20000000,0]
["2028年度","単位期間Ⅰ",{"$f":"IF(E139=\"\",\"\",IF(E137>0,E137+1,IF(E136>0,E136+1,IF(E135>0,E135+1,IF(E134>0,E134+1,IF(E133>0,E133+1,IF(E132>0,E132+1,E131+1)))))))","v":""},{"$f":"IF(C139=\"\",\"\",C139)","v":""},null,{"$f":"IF(E139=\"\",\"\",E139)","v":""},{"$f":"IF(E139=\"\",\"\",E139-C139+1)","v":""},{"$f":"IF(G139=\"\",\"\",SUM(G139:G146))","v":""},null,null,{"$f":"IF(K138=\"\",\"\",$K$43)","v":0},{"$f":"IF(J139=\"\",\"\",ROUNDDOWN(J139*K139*G139/365,0))","v":""},{"$f":"IF(L139=\"\",\"\",SUM(L139:L146))","v":""},{"$f":"IF(I139=\"\",N138,I139)","v":0},0,{"$f":"IF(J139=\"\",P138,J139)","v":0},0,"",{"$f":"IF(C139=\"\",\"\",IF(C139>E139,\"NG\",\"\"))","v":""},{"$f":"IF(E139=\"\",\"\",IF(C140=\"\",\"\",IF(E139>C140,\"NG\",\"\")))","v":""},{"$f":"IF(C139=\"\",\"\",IF(C139<$U138,\"NG\",IF(C139>$V138,\"NG\",\"\")))","v":""},{"$f":"IF(E139=\"\",\"\",IF(C139<$U$138,\"NG\",IF(E139>$V$138,\"NG\",\"\")))","v":""},"",{"$f":"COUNTIF(S139:W139,\"NG\")","v":0},"","",0,{"$f":"A139","v":"2028年度"},"単位期間Ⅰ","2028-03-11",46823,"2028-03-31",46843,{"$f":"IF(AD139=\"\",\"\",AF139-AD139+1)","v":21},{"$f":"IF(AH139=\"\",\"\",SUM(AH139:AH146))","v":184},20000000,20000000,0.01,{"$f":"IF(AF139=\"\",\"\",ROUNDDOWN(AK139*AL139*AH139/365,0))","v":11506},{"$f":"IF(AM139=\"\",\"\",SUM(AM139:AM146))","v":86544},20000000,"-",20000000,"-"]
[null,null,{"$f":"IF(E140=\"\",\"\",IF(E139=\"\",\"\",IF(E139>=DATE(2028,9,10),\"\",E139+1)))","v":""},{"$f":"IF(C140=\"\",\"\",C140)","v":""},null,{"$f":"IF(E140=\"\",\"\",E140)","v":""},{"$f":"IF(E140=\"\",\"\",E140-C140+1)","v":""},null,{"$f":"IF(I139=\"\",\"\",IF(E140=\"\",\"\",I139-$C$11))","v":""},{"$f":"IF(J139=\"\",\"\",IF(F140=\"\",\"\",J139-$C$24))","v":""},{"$f":"IF(K139=\"\",\"\",$K$43)","v":0},{"$f":"IF(J140=\"\",\"\",ROUNDDOWN(J140*K140*G140/365,0))","v":""},null,{"$f":"IF(I140=\"\",N139,I140)","v":0},{"$f":"N139-N140","v":0},{"$f":"IF(J140=\"\",P139,J140)","v":0},{"$f":"P139-P140","v":0},"",{"$f":"IF(C140=\"\",\"\",IF(C140=E139,\"NG\",IF(C140<E139,\"NG\",IF((C140-E139)>1,\"NG\",\"\"))))","v":""},{"$f":"IF(E140=\"\",\"\",IF(C141=\"\",\"\",IF(E140>C141,\"NG\",\"\")))","v":""},null,{"$f":"IF(E140=\"\",\"\",IF(C140<$U$138,\"NG\",IF(E140>$V$138,\"NG\",\"\")))","v":""},"",{"$f":"COUNTIF(S140:W140,\"NG\")","v":0},"","",0,null,null,"2028-04-01",46844,"2028-04-30",46873,{"$f":"IF(AD140=\"\",\"\",AF140-AD140+1)","v":30},null,19000000,19000000,0.01,{"$f":"IF(AF140=\"\",\"\",ROUNDDOWN(AK140*AL140*AH140/365,0))","v":15616},null,19000000,{"$f":"AO139-AO140","v":1000000},19000000,{"$f":"AQ139-AQ140","v":1000000}]
[null,null,"","",null,"","",null,{"$f":"IF(I140=\"\",\"\",IF(E141=\"\",\"\",I140-$C$11))","v":""},{"$f":"IF(J140=\"\",\"\",IF(F141=\"\",\"\",J140-$C$24))","v":""},{"$f":"IF(K140=\"\",\"\",$K$43)","v":0},"",null,{"$f":"IF(I141=\"\",N140,I141)","v":0},{"$f":"N140-N141","v":0},{"$f":"IF(J141=\"\",P140,J141)","v":0},{"$f":"P140-P141","v":0},"",{"$f":"IF(C141=\"\",\"\",IF(C141=E140,\"NG\",IF(C141<E140,\"NG\",IF((C141-E140)>1,\"NG\",\"\"))))","v":""},"",null,"","",0,"","",0,null,null,"2028-05-01",46874,"2028-05-31",46904,31,null,18000000,18000000,0.01,{"$f":"IF(AF141=\"\",\"\",ROUNDDOWN(AK141*AL141*AH141/365,0))","v":15287},null,18000000,{"$f":"AO140-AO141","v":1000000},18000000,{"$f":"AQ140-AQ141","v":1000000}]
[null,null,"","",null,"","",null,{"$f":"IF(I141=\"\",\"\",IF(E142=\"\",\"\",I141-$C$11))","v":""},{"$f":"IF(J141=\"\",\"\",IF(F142=\"\",\"\",J141-$C$24))","v":""},0,"",null,0,0,0,0,"","","",null,"","",0,"","",0,null,null,"2028-06-01",46905,"2028-06-30",46934,30,null,17000000,17000000,0.01,13972,null,17000000,1000000,17000000,1000000]
[null,null,"","",null,"","",null,"","",0,"",null,0,0,0,0,"","","",null,"","",0,"","",0,null,null,"2028-07-01",46935,"2028-07-31",46965,31,null,16000000,16000000,0.01,13589,null,16000000,1000000,16000000,1000000]
[null,null,"","",null,"","",null,"","",0,"",null,0,0,0,0,"","",{"$f":"IF(E144=\"\",\"\",IF(C145=\"\",\"\",IF(E144>C145,\"NG\",\"\")))","v":""},null,"","",0,"","",0,null,null,"2028-08-01",46966,"2028-08-31",46996,31,null,15000000,15000000,0.01,12739,null,15000000,1000000,15000000,1000000]
[null,null,"","",null,"","",null,"","",0,"",null,0,0,0,0,"","",{"$f":"IF(D145=\"\",\"\",IF(D145<C145,\"NG\",\"\"))","v":""},null,"","",0,"","",0,null,null,"2028-09-01",46997,"2028-09-10",47006,10,null,14000000,14000000,0.01,3835,null,14000000,1000000,14000000,1000000]
[null,null,{"$f":"IF(X146>0,$S$38,\"\")","v":""},null,null,null,"Null",null,null,null,0,{"$f":"IF(J146=\"\",\"\",ROUNDDOWN(J146*K146*G146/365,0))","v":""},null,0,0,0,0,"",null,null,"2028-09-09","2029-03-12",null,{"$f":"SUM(X139:X145)","v":0},"","",0,null,null,null,"",null,"",null,null,null,null,0.01,"",null,14000000,0,14000000,0]
[null,"単位期間Ⅱ",{"$f":"IF(E147=\"\",\"\",IF(E145>M318,E145+1,IF(E144>M318,E144+1,IF(E143>M318,E143+1,IF(E142>M318,E142+1,IF(E141>M318,E141+1,IF(E140>M318,E140+1,IF(E139>M318,E139+1,IF(C124>M318,C124,\"\")))))))))","v":""},{"$f":"IF(C147=\"\",\"\",C147)","v":""},null,{"$f":"IF(E147=\"\",\"\",E147)","v":""},{"$f":"IF(E147=\"\",\"\",E147-C147+1)","v":""},{"$f":"IF(G147=\"\",\"\",SUM(G147:G154))","v":""},null,null,0,{"$f":"IF(J147=\"\",\"\",ROUNDDOWN(J147*K147*G147/365,0))","v":""},{"$f":"IF(L147=\"\",\"\",SUM(L147:L154))","v":""},{"$f":"IF(I147=\"\",N146,I147)","v":0},{"$f":"IF(N146-N147<0,\"0 \",N146-N147)","v":0},{"$f":"IF(J147=\"\",P146,J147)","v":0},{"$f":"IF(P146-P147<0,\"0 \",P146-P147)","v":0},"",{"$f":"IF(C147=\"\",\"\",IF(C147>E147,\"NG\",\"\"))","v":""},{"$f":"IF(E147=\"\",\"\",IF(C148=\"\",\"\",IF(E147>C148,\"NG\",\"\")))","v":""},{"$f":"IF(C147=\"\",\"\",IF(C147<$U146,\"NG\",IF(C147>$V146,\"NG\",\"\")))","v":""},{"$f":"IF(E147=\"\",\"\",IF(C147<$U$146,\"NG\",IF(E147>$V$146,\"NG\",\"\")))","v":""},"",{"$f":"COUNTIF(S147:W147,\"NG\")","v":0},"","",0,null,"単位期間Ⅱ","2028-09-11",47007,"2028-09-30",47026,{"$f":"IF(AD147=\"\",\"\",AF147-AD147+1)","v":20},{"$f":"IF(AH147=\"\",\"\",SUM(AH147:AH154))","v":181},14000000,14000000,0.01,{"$f":"IF(AD147=\"\",\"\",ROUNDDOWN(AK147*AL147*AH147/365,0))","v":7671},{"$f":"IF(AM147=\"\",\"\",SUM(AM147:AM154))","v":55505},14000000,0,14000000,0]
[null,null,{"$f":"IF(E148=\"\",\"\",IF(E147=\"\",\"\",IF(E147>=DATE(2029,3,10),\"\",E147+1)))","v":""},{"$f":"IF(C148=\"\",\"\",C148)","v":""},null,{"$f":"IF(E148=\"\",\"\",E148)","v":""},{"$f":"IF(E148=\"\",\"\",E148-C148+1)","v":""},null,{"$f":"IF(I147=\"\",\"\",IF(E148=\"\",\"\",I147-$C$11))","v":""},{"$f":"IF(J147=\"\",\"\",IF(F148=\"\",\"\",J147-$C$24))","v":""},0,{"$f":"IF(J148=\"\",\"\",ROUNDDOWN(J148*K148*G148/365,0))","v":""},null,{"$f":"IF(I148=\"\",N147,I148)","v":0},{"$f":"N147-N148","v":0},{"$f":"IF(J148=\"\",P147,J148)","v":0},{"$f":"P147-P148","v":0},"",{"$f":"IF(C148=\"\",\"\",IF(C148=E147,\"NG\",IF(C148<E147,\"NG\",IF((C148-E147)>1,\"NG\",\"\"))))","v":""},{"$f":"IF(E148=\"\",\"\",IF(C149=\"\",\"\",IF(E148>C149,\"NG\",\"\")))","v":""},null,{"$f":"IF(E148=\"\",\"\",IF(C148<$U$146,\"NG\",IF(E148>$V$146,\"NG\",\"\")))","v":""},"",{"$f":"COUNTIF(S148:W148,\"NG\")","v":0},"","",0,null,null,"2028-10-01",47027,"2028-10-31",47057,{"$f":"IF(AD148=\"\",\"\",AF148-AD148+1)","v":31},null,13000000,13000000,0.01,11041,null,13000000,{"$f":"AO147-AO148","v":1000000},13000000,{"$f":"AQ147-AQ148","v":1000000}]
[null,null,"","",null,"","",null,{"$f":"IF(I148=\"\",\"\",IF(E149=\"\",\"\",I148-$C$11))","v":""},{"$f":"IF(J148=\"\",\"\",IF(F149=\"\",\"\",J148-$C$24))","v":""},0,"",null,{"$f":"IF(I149=\"\",N148,I149)","v":0},{"$f":"N148-N149","v":0},{"$f":"IF(J149=\"\",P148,J149)","v":0},{"$f":"P148-P149","v":0},"",{"$f":"IF(C149=\"\",\"\",IF(C149=E148,\"NG\",IF(C149<E148,\"NG\",IF((C149-E148)>1,\"NG\",\"\"))))","v":""},"",null,"","",0,"","",0,null,null,"2028-11-01",47058,"2028-11-30",47087,30,null,12000000,12000000,0.01,9863,null,12000000,1000000,12000000,1000000]
[null,null,"","",null,"","",null,"","",0,"",null,0,0,0,{"$f":"P149-P150","v":0},"","","",null,"","",0,"","",0,null,null,"2028-12-01",47088,"2028-12-31",47118,31,null,11000000,11000000,0.01,9342,null,11000000,1000000,11000000,1000000]
[null,null,"","",null,"","",null,"","",0,"",null,0,0,0,0,"","","",null,"","",0,"","",0,null,null,"2029-01-01",47119,"2029-01-31",47149,31,null,10000000,10000000,0.01,8493,null,10000000,1000000,10000000,1000000]
[null,null,"","",null,"","",null,"","",0,"",null,0,0,0,0,"","",{"$f":"IF(E152=\"\",\"\",IF(C153=\"\",\"\",IF(E152>C153,\"NG\",\"\")))","v":""},null,"","",0,"","",0,null,null,"2029-02-01",47150,"2029-02-28",47177,28,null,9000000,9000000,0.01,6904,null,9000000,1000000,9000000,1000000]
[null,null,"","",null,"","",null,"","",0,"",null,0,0,0,0,"","",{"$f":"IF(D153=\"\",\"\",IF(D153<C153,\"NG\",\"\"))","v":""},null,"","",0,"","",0,null,null,"2029-03-01",47178,"2029-03-10",47187,10,null,8000000,8000000,0.01,2191,null,8000000,1000000,8000000,1000000]
[null,null,{"$f":"IF(X154>0,$S$38,\"\")","v":""},null,null,null,"Null",null,null,null,0,{"$f":"IF(J154=\"\",\"\",ROUNDDOWN(J154*K154*G154/365,0))","v":""},null,0,0,0,0,"",null,null,"2029-03-09","2029-09-12",null,{"$f":"SUM(X147:X153)","v":0},"","",0,null,null,null,"",null,"",null,null,null,null,0.01,"",null,8000000,0,8000000,0]
["2029年度","単位期間Ⅰ",{"$f":"IF(E155=\"\",\"\",IF(E153>0,E153+1,IF(E152>0,E152+1,IF(E151>0,E151+1,IF(E150>0,E150+1,IF(E149>0,E149+1,IF(E148>0,E148+1,E147+1)))))))","v":""},{"$f":"IF(C155=\"\",\"\",C155)","v":""},null,{"$f":"IF(E155=\"\",\"\",E155)","v":""},{"$f":"IF(E155=\"\",\"\",E155-C155+1)","v":""},{"$f":"IF(G155=\"\",\"\",SUM(G155:G162))","v":""},null,null,{"$f":"IF(K154=\"\",\"\",$K$43)","v":0},{"$f":"IF(J155=\"\",\"\",ROUNDDOWN(J155*K155*G155/365,0))","v":""},{"$f":"IF(L155=\"\",\"\",SUM(L155:L162))","v":""},{"$f":"IF(I155=\"\",N154,I155)","v":0},0,{"$f":"IF(J155=\"\",P154,J155)","v":0},0,"",{"$f":"IF(C155=\"\",\"\",IF(C155>E155,\"NG\",\"\"))","v":""},{"$f":"IF(E155=\"\",\"\",IF(C156=\"\",\"\",IF(E155>C156,\"NG\",\"\")))","v":""},{"$f":"IF(C155=\"\",\"\",IF(C155<$U154,\"NG\",IF(C155>$V154,\"NG\",\"\")))","v":""},{"$f":"IF(E155=\"\",\"\",IF(C155<$U$154,\"NG\",IF(E155>$V$154,\"NG\",\"\")))","v":""},"",{"$f":"COUNTIF(S155:W155,\"NG\")","v":0},"","",0,{"$f":"A155","v":"2029年度"},"単位期間Ⅰ","2029-03-11",47188,"2029-03-31",47208,{"$f":"IF(AD155=\"\",\"\",AF155-AD155+1)","v":21},{"$f":"IF(AH155=\"\",\"\",SUM(AH155:AH162))","v":184},8000000,8000000,0.01,{"$f":"IF(AF155=\"\",\"\",ROUNDDOWN(AK155*AL155*AH155/365,0))","v":4602},{"$f":"IF(AM155=\"\",\"\",SUM(AM155:AM162))","v":26050},8000000,"-",8000000,"-"]
[null,null,{"$f":"IF(E156=\"\",\"\",IF(E155=\"\",\"\",IF(E155>=DATE(2029,9,10),\"\",E155+1)))","v":""},{"$f":"IF(C156=\"\",\"\",C156)","v":""},null,{"$f":"IF(E156=\"\",\"\",E156)","v":""},{"$f":"IF(E156=\"\",\"\",E156-C156+1)","v":""},null,{"$f":"IF(I155=\"\",\"\",IF(E156=\"\",\"\",I155-$C$11))","v":""},{"$f":"IF(J155=\"\",\"\",IF(F156=\"\",\"\",J155-$C$24))","v":""},{"$f":"IF(K155=\"\",\"\",$K$43)","v":0},{"$f":"IF(J156=\"\",\"\",ROUNDDOWN(J156*K156*G156/365,0))","v":""},null,{"$f":"IF(I156=\"\",N155,I156)","v":0},{"$f":"N155-N156","v":0},{"$f":"IF(J156=\"\",P155,J156)","v":0},{"$f":"P155-P156","v":0},"",{"$f":"IF(C156=\"\",\"\",IF(C156=E155,\"NG\",IF(C156<E155,\"NG\",IF((C156-E155)>1,\"NG\",\"\"))))","v":""},{"$f":"IF(E156=\"\",\"\",IF(C157=\"\",\"\",IF(E156>C157,\"NG\",\"\")))","v":""},null,{"$f":"IF(E156=\"\",\"\",IF(C156<$U$154,\"NG\",IF(E156>$V$154,\"NG\",\"\")))","v":""},"",{"$f":"COUNTIF(S156:W156,\"NG\")","v":0},"","",0,null,null,"2029-04-01",47209,"2029-04-30",47238,{"$f":"IF(AD156=\"\",\"\",AF156-AD156+1)","v":30},null,7000000,7000000,0.01,{"$f":"IF(AF156=\"\",\"\",ROUNDDOWN(AK156*AL156*AH156/365,0))","v":5753},null,7000000,{"$f":"AO155-AO156","v":1000000},7000000,{"$f":"AQ155-AQ156","v":1000000}]
[null,null,"","",null,"","",null,{"$f":"IF(I156=\"\",\"\",IF(E157=\"\",\"\",I156-$C$11))","v":""},{"$f":"IF(J156=\"\",\"\",IF(F157=\"\",\"\",J156-$C$24))","v":""},{"$f":"IF(K156=\"\",\"\",$K$43)","v":0},"",null,{"$f":"IF(I157=\"\",N156,I157)","v":0},{"$f":"N156-N157","v":0},{"$f":"IF(J157=\"\",P156,J157)","v":0},{"$f":"P156-P157","v":0},"",{"$f":"IF(C157=\"\",\"\",IF(C157=E156,\"NG\",IF(C157<E156,\"NG\",IF((C157-E156)>1,\"NG\",\"\"))))","v":""},"",null,"","",0,"","",0,null,null,"2029-05-01",47239,"2029-05-31",47269,31,null,6000000,6000000,0.01,{"$f":"IF(AF157=\"\",\"\",ROUNDDOWN(AK157*AL157*AH157/365,0))","v":5095},null,6000000,{"$f":"AO156-AO157","v":1000000},6000000,{"$f":"AQ156-AQ157","v":1000000}]
[null,null,"","",null,"","",null,{"$f":"IF(I157=\"\",\"\",IF(E158=\"\",\"\",I157-$C$11))","v":""},{"$f":"IF(J157=\"\",\"\",IF(F158=\"\",\"\",J157-$C$24))","v":""},0,"",null,0,0,0,0,"","","",null,"","",0,"","",0,null,null,"2029-06-01",47270,"2029-06-30",47299,30,null,5000000,5000000,0.01,4109,null,5000000,1000000,5000000,1000000]
[null,null,"","",null,"","",null,"","",0,"",null,0,0,0,0,"","","",null,"","",0,"","",0,null,null,"2029-07-01",47300,"2029-07-31",47330,31,null,4000000,4000000,0.01,3397,null,4000000,1000000,4000000,1000000]
[null,null,"","",null,"","",null,"","",0,"",null,0,0,0,0,"","",{"$f":"IF(E160=\"\",\"\",IF(C161=\"\",\"\",IF(E160>C161,\"NG\",\"\")))","v":""},null,"","",0,"","",0,null,null,"2029-08-01",47331,"2029-08-31",47361,31,null,3000000,3000000,0.01,2547,null,3000000,1000000,3000000,1000000]
[null,null,"","",null,"","",null,"","",0,"",null,0,0,0,0,"","",{"$f":"IF(D161=\"\",\"\",IF(D161<C161,\"NG\",\"\"))","v":""},null,"","",0,"","",0,null,null,"2029-09-01",47362,"2029-09-10",47371,10,null,2000000,2000000,0.01,547,null,2000000,1000000,2000000,1000000]
[null,null,{"$f":"IF(X162>0,$S$38,\"\")","v":""},null,null,null,"Null",null,null,null,0,{"$f":"IF(J162=\"\",\"\",ROUNDDOWN(J162*K162*G162/365,0))","v":""},null,0,0,0,0,"",null,null,"2029-09-09","2030-03-12",null,{"$f":"SUM(X155:X161)","v":0},"","",0,null,null,null,"",null,"",null,null,null,null,0.01,"",null,2000000,0,2000000,0]
[null,"単位期間Ⅱ",{"$f":"IF(E163=\"\",\"\",IF(E161>M334,E161+1,IF(E160>M334,E160+1,IF(E159>M334,E159+1,IF(E158>M334,E158+1,IF(E157>M334,E157+1,IF(E156>M334,E156+1,IF(E155>M334,E155+1,IF(C140>M334,C140,\"\")))))))))","v":""},{"$f":"IF(C163=\"\",\"\",C163)","v":""},null,{"$f":"IF(E163=\"\",\"\",E163)","v":""},{"$f":"IF(E163=\"\",\"\",E163-C163+1)","v":""},{"$f":"IF(G163=\"\",\"\",SUM(G163:G170))","v":""},null,null,0,{"$f":"IF(J163=\"\",\"\",ROUNDDOWN(J163*K163*G163/365,0))","v":""},{"$f":"IF(L163=\"\",\"\",SUM(L163:L170))","v":""},{"$f":"IF(I163=\"\",N162,I163)","v":0},{"$f":"IF(N162-N163<0,\"0 \",N162-N163)","v":0},{"$f":"IF(J163=\"\",P162,J163)","v":0},{"$f":"IF(P162-P163<0,\"0 \",P162-P163)","v":0},"",{"$f":"IF(C163=\"\",\"\",IF(C163>E163,\"NG\",\"\"))","v":""},{"$f":"IF(E163=\"\",\"\",IF(C164=\"\",\"\",IF(E163>C164,\"NG\",\"\")))","v":""},{"$f":"IF(C163=\"\",\"\",IF(C163<$U162,\"NG\",IF(C163>$V162,\"NG\",\"\")))","v":""},{"$f":"IF(E163=\"\",\"\",IF(C163<$U$162,\"NG\",IF(E163>$V$162,\"NG\",\"\")))","v":""},"",{"$f":"COUNTIF(S163:W163,\"NG\")","v":0},"","",0,null,"単位期間Ⅱ","2029-09-11",47372,"2029-09-30",47391,{"$f":"IF(AD163=\"\",\"\",AF163-AD163+1)","v":20},{"$f":"IF(AH163=\"\",\"\",SUM(AH163:AH170))","v":51},2000000,2000000,0.01,{"$f":"IF(AD163=\"\",\"\",ROUNDDOWN(AK163*AL163*AH163/365,0))","v":1095},{"$f":"IF(AM163=\"\",\"\",SUM(AM163:AM170))","v":1944},2000000,0,2000000,0]
[null,null,{"$f":"IF(E164=\"\",\"\",IF(E163=\"\",\"\",IF(E163>=DATE(2030,3,10),\"\",E163+1)))","v":""},{"$f":"IF(C164=\"\",\"\",C164)","v":""},null,{"$f":"IF(E164=\"\",\"\",E164)","v":""},{"$f":"IF(E164=\"\",\"\",E164-C164+1)","v":""},null,{"$f":"IF(I163=\"\",\"\",IF(E164=\"\",\"\",I163-$C$11))","v":""},{"$f":"IF(J163=\"\",\"\",IF(F164=\"\",\"\",J163-$C$24))","v":""},0,{"$f":"IF(J164=\"\",\"\",ROUNDDOWN(J164*K164*G164/365,0))","v":""},null,{"$f":"IF(I164=\"\",N163,I164)","v":0},{"$f":"N163-N164","v":0},{"$f":"IF(J164=\"\",P163,J164)","v":0},{"$f":"P163-P164","v":0},"",{"$f":"IF(C164=\"\",\"\",IF(C164=E163,\"NG\",IF(C164<E163,\"NG\",IF((C164-E163)>1,\"NG\",\"\"))))","v":""},{"$f":"IF(E164=\"\",\"\",IF(C165=\"\",\"\",IF(E164>C165,\"NG\",\"\")))","v":""},null,{"$f":"IF(E164=\"\",\"\",IF(C164<$U$162,\"NG\",IF(E164>$V$162,\"NG\",\"\")))","v":""},"",{"$f":"COUNTIF(S164:W164,\"NG\")","v":0},"","",0,null,null,"2029-10-01",47392,"2029-10-31",47422,{"$f":"IF(AD164=\"\",\"\",AF164-AD164+1)","v":31},null,1000000,1000000,0.01,849,null,1000000,{"$f":"AO163-AO164","v":1000000},1000000,{"$f":"AQ163-AQ164","v":1000000}]
[null,null,"","",null,"","",null,{"$f":"IF(I164=\"\",\"\",IF(E165=\"\",\"\",I164-$C$11))","v":""},{"$f":"IF(J164=\"\",\"\",IF(F165=\"\",\"\",J164-$C$24))","v":""},0,"",null,{"$f":"IF(I165=\"\",N164,I165)","v":0},{"$f":"N164-N165","v":0},{"$f":"IF(J165=\"\",P164,J165)","v":0},{"$f":"P164-P165","v":0},"",{"$f":"IF(C165=\"\",\"\",IF(C165=E164,\"NG\",IF(C165<E164,\"NG\",IF((C165-E164)>1,\"NG\",\"\"))))","v":""},"",null,"",{"$f":"IF(G165>0,\"\",\"NG\")","v":""},0,"","",0,null,null,null,"",null,"","",null,null,null,0.01,"",null,1000000,0,1000000,0]
[null,null,"","",null,"","",null,"","",0,"",null,0,0,0,{"$f":"P165-P166","v":0},"","","",null,"","",0,"","",0,null,null,null,"",null,"","",null,null,null,0.01,"",null,1000000,0,1000000,0]
[null,null,"","",null,"","",null,"","",0,"",null,0,0,0,0,"","","",null,"","",0,"","",0,null,null,null,"",null,"","",null,null,null,0.01,"",null,1000000,0,1000000,0]
[null,null,"","",null,"","",null,"","",0,"",null,0,0,0,0,"","",{"$f":"IF(E168=\"\",\"\",IF(C169=\"\",\"\",IF(E168>C169,\"NG\",\"\")))","v":""},null,"","",0,"","",0,null,null,null,"",null,"","",null,null,null,0.01,"",null,1000000,0,1000000,0]
[null,null,"","",null,"","",null,"","",0,"",null,0,0,0,0,"","",{"$f":"IF(D169=\"\",\"\",IF(D169<C169,\"NG\",\"\"))","v":""},null,"","",0,"","",0,null,null,null,"",null,"","",null,null,null,0.01,"",null,1000000,0,1000000,0]
[null,null,{"$f":"IF(X170>0,$S$38,\"\")","v":""},null,null,null,"Null",null,null,null,0,{"$f":"IF(J170=\"\",\"\",ROUNDDOWN(J170*K170*G170/365,0))","v":""},null,0,0,0,0,"",null,null,"2030-03-09","2030-09-12",null,{"$f":"SUM(X163:X169)","v":0},"","",0,null,null,null,"",null,"",null,null,null,null,0.01,"",null,1000000,0,1000000,0]
["2030年度","単位期間Ⅰ",{"$f":"IF(E171=\"\",\"\",IF(E169>0,E169+1,IF(E168>0,E168+1,IF(E167>0,E167+1,IF(E166>0,E166+1,IF(E165>0,E165+1,IF(E164>0,E164+1,E163+1)))))))","v":""},{"$f":"IF(C171=\"\",\"\",C171)","v":""},null,{"$f":"IF(E171=\"\",\"\",E171)","v":""},{"$f":"IF(E171=\"\",\"\",E171-C171+1)","v":""},{"$f":"IF(G171=\"\",\"\",SUM(G171:G178))","v":""},null,null,{"$f":"IF(K170=\"\",\"\",$K$43)","v":0},{"$f":"IF(J171=\"\",\"\",ROUNDDOWN(J171*K171*G171/365,0))","v":""},{"$f":"IF(L171=\"\",\"\",SUM(L171:L178))","v":""},{"$f":"IF(I171=\"\",N170,I171)","v":0},0,{"$f":"IF(J171=\"\",P170,J171)","v":0},0,"",{"$f":"IF(C171=\"\",\"\",IF(C171>E171,\"NG\",\"\"))","v":""},{"$f":"IF(E171=\"\",\"\",IF(C172=\"\",\"\",IF(E171>C172,\"NG\",\"\")))","v":""},{"$f":"IF(C171=\"\",\"\",IF(C171<$U170,\"NG\",IF(C171>$V170,\"NG\",\"\")))","v":""},{"$f":"IF(E171=\"\",\"\",IF(C171<$U$170,\"NG\",IF(E171>$V$170,\"NG\",\"\")))","v":""},"",{"$f":"COUNTIF(S171:W171,\"NG\")","v":0},"","",0,{"$f":"A171","v":"2030年度"},"単位期間Ⅰ",null,"",null,"",{"$f":"IF(AD171=\"\",\"\",AF171-AD171+1)","v":""},{"$f":"IF(AH171=\"\",\"\",SUM(AH171:AH178))","v":""},null,null,0.01,{"$f":"IF(AF171=\"\",\"\",ROUNDDOWN(AK171*AL171*AH171/365,0))","v":""},{"$f":"IF(AM171=\"\",\"\",SUM(AM171:AM178))","v":""},{"$f":"IF(AJ171=\"\",AO170,AJ171)","v":1000000},"-",{"$f":"IF(AK171=\"\",AQ170,AK171)","v":1000000},"-"]
[null,null,{"$f":"IF(E172=\"\",\"\",IF(E171=\"\",\"\",IF(E171>=DATE(2030,9,10),\"\",E171+1)))","v":""},{"$f":"IF(C172=\"\",\"\",C172)","v":""},null,{"$f":"IF(E172=\"\",\"\",E172)","v":""},{"$f":"IF(E172=\"\",\"\",E172-C172+1)","v":""},null,{"$f":"IF(I171=\"\",\"\",IF(E172=\"\",\"\",I171-$C$11))","v":""},{"$f":"IF(J171=\"\",\"\",IF(F172=\"\",\"\",J171-$C$24))","v":""},{"$f":"IF(K171=\"\",\"\",$K$43)","v":0},{"$f":"IF(J172=\"\",\"\",ROUNDDOWN(J172*K172*G172/365,0))","v":""},null,{"$f":"IF(I172=\"\",N171,I172)","v":0},{"$f":"N171-N172","v":0},{"$f":"IF(J172=\"\",P171,J172)","v":0},{"$f":"P171-P172","v":0},"",{"$f":"IF(C172=\"\",\"\",IF(C172=E171,\"NG\",IF(C172<E171,\"NG\",IF((C172-E171)>1,\"NG\",\"\"))))","v":""},{"$f":"IF(E172=\"\",\"\",IF(C173=\"\",\"\",IF(E172>C173,\"NG\",\"\")))","v":""},null,{"$f":"IF(E172=\"\",\"\",IF(C172<$U$170,\"NG\",IF(E172>$V$170,\"NG\",\"\")))","v":""},"",{"$f":"COUNTIF(S172:W172,\"NG\")","v":0},"","",0,null,null,null,{"$f":"IF(AD172=\"\",\"\",AD172)","v":""},null,{"$f":"IF(AF172=\"\",\"\",AF172)","v":""},{"$f":"IF(AD172=\"\",\"\",AF172-AD172+1)","v":""},null,null,null,0.01,{"$f":"IF(AF172=\"\",\"\",ROUNDDOWN(AK172*AL172*AH172/365,0))","v":""},null,1000000,{"$f":"AO171-AO172","v":0},1000000,{"$f":"AQ171-AQ172","v":0}]
[null,null,"","",null,"","",null,{"$f":"IF(I172=\"\",\"\",IF(E173=\"\",\"\",I172-$C$11))","v":""},{"$f":"IF(J172=\"\",\"\",IF(F173=\"\",\"\",J172-$C$24))","v":""},{"$f":"IF(K172=\"\",\"\",$K$43)","v":0},"",null,{"$f":"IF(I173=\"\",N172,I173)","v":0},{"$f":"N172-N173","v":0},{"$f":"IF(J173=\"\",P172,J173)","v":0},{"$f":"P172-P173","v":0},{"$f":"IF(AA173>0,$Y$38,\"\")","v":""},{"$f":"IF(C173=\"\",\"\",IF(C173=E172,\"NG\",IF(C173<E172,\"NG\",IF((C173-E172)>1,\"NG\",\"\"))))","v":""},"",null,"","",0,{"$f":"IF($O173=0,\"\",IF($O173=$Y$41,\"\",\"NG\"))","v":""},{"$f":"IF($Q173=0,\"\",IF($Q173=$Z$41,\"\",\"NG\"))","v":""},{"$f":"COUNTIF(Y173:Z173,\"NG\")","v":0},null,null,null,"",null,"","",null,null,null,0.01,{"$f":"IF(AF173=\"\",\"\",ROUNDDOWN(AK173*AL173*AH173/365,0))","v":""},null,1000000,{"$f":"AO172-AO173","v":0},1000000,{"$f":"AQ172-AQ173","v":0}]
[null,null,"","",null,"","",null,{"$f":"IF(I173=\"\",\"\",IF(E174=\"\",\"\",I173-$C$11))","v":""},{"$f":"IF(J173=\"\",\"\",IF(F174=\"\",\"\",J173-$C$24))","v":""},0,"",null,0,0,0,0,"","","",null,"","",0,"","",0,null,null,null,"",null,"","",null,null,null,0.01,"",null,1000000,0,1000000,0]
[null,null,"","",null,"","",null,"","",0,"",null,0,0,0,0,"","","",null,"","",0,"","",0,null,null,null,"",null,"","",null,null,null,0.01,"",null,1000000,0,1000000,0]
[null,null,"","",null,"","",null,"","",0,"",null,0,0,0,0,"","",{"$f":"IF(E176=\"\",\"\",IF(C177=\"\",\"\",IF(E176>C177,\"NG\",\"\")))","v":""},null,"","",0,"","",0,null,null,null,"",null,"","",null,null,null,0.01,"",null,1000000,0,1000000,0]
[null,null,"","",null,"","",null,"","",0,"",null,0,0,0,0,"","",{"$f":"IF(D177=\"\",\"\",IF(D177<C177,\"NG\",\"\"))","v":""},null,"","",0,"","",0,null,null,null,"",null,"","",null,null,null,0.01,"",null,1000000,0,1000000,0]
[null,null,{"$f":"IF(X178>0,$S$38,\"\")","v":""},null,null,null,"Null",null,null,null,0,{"$f":"IF(J178=\"\",\"\",ROUNDDOWN(J178*K178*G178/365,0))","v":""},null,0,0,0,0,"",null,null,"2030-09-09","2031-03-12",null,{"$f":"SUM(X171:X177)","v":0},"","",0,null,null,null,"",null,"",null,null,null,null,0.01,"",null,1000000,0,1000000,0]
[null,"単位期間Ⅱ",{"$f":"IF(E179=\"\",\"\",IF(E177>M349,E177+1,IF(E176>M349,E176+1,IF(E175>M349,E175+1,IF(E174>M349,E174+1,IF(E173>M349,E173+1,IF(E172>M349,E172+1,IF(E171>M349,E171+1,IF(C156>M349,C156,\"\")))))))))","v":""},{"$f":"IF(C179=\"\",\"\",C179)","v":""},null,{"$f":"IF(E179=\"\",\"\",E179)","v":""},{"$f":"IF(E179=\"\",\"\",E179-C179+1)","v":""},{"$f":"IF(G179=\"\",\"\",SUM(G179:G186))","v":""},null,null,0,{"$f":"IF(J179=\"\",\"\",ROUNDDOWN(J179*K179*G179/365,0))","v":""},{"$f":"IF(L179=\"\",\"\",SUM(L179:L186))","v":""},{"$f":"IF(I179=\"\",N178,I179)","v":0},{"$f":"IF(N178-N179<0,\"0 \",N178-N179)","v":0},{"$f":"IF(J179=\"\",P178,J179)","v":0},{"$f":"IF(P178-P179<0,\"0 \",P178-P179)","v":0},"",{"$f":"IF(C179=\"\",\"\",IF(C179>E179,\"NG\",\"\"))","v":""},{"$f":"IF(E179=\"\",\"\",IF(C180=\"\",\"\",IF(E179>C180,\"NG\",\"\")))","v":""},{"$f":"IF(C179=\"\",\"\",IF(C179<$U178,\"NG\",IF(C179>$V178,\"NG\",\"\")))","v":""},{"$f":"IF(E179=\"\",\"\",IF(C179<$U$178,\"NG\",IF(E179>$V$178,\"NG\",\"\")))","v":""},"",{"$f":"COUNTIF(S179:W179,\"NG\")","v":0},"","",0,null,"単位期間Ⅱ",null,"",null,"",null,null,null,null,0.01,{"$f":"IF(AD179=\"\",\"\",ROUNDDOWN(AK179*AL179*AH179/365,0))","v":""},{"$f":"IF(AM179=\"\",\"\",SUM(AM179:AM186))","v":""},1000000,0,1000000,0]
[null,null,{"$f":"IF(E180=\"\",\"\",IF(E179=\"\",\"\",IF(E179>=DATE(2031,3,10),\"\",E179+1)))","v":""},{"$f":"IF(C180=\"\",\"\",C180)","v":""},null,{"$f":"IF(E180=\"\",\"\",E180)","v":""},{"$f":"IF(E180=\"\",\"\",E180-C180+1)","v":""},null,{"$f":"IF(I179=\"\",\"\",IF(E180=\"\",\"\",I179-$C$11))","v":""},{"$f":"IF(J179=\"\",\"\",IF(F180=\"\",\"\",J179-$C$24))","v":""},0,{"$f":"IF(J180=\"\",\"\",ROUNDDOWN(J180*K180*G180/365,0))","v":""},null,{"$f":"IF(I180=\"\",N179,I180)","v":0},{"$f":"N179-N180","v":0},{"$f":"IF(J180=\"\",P179,J180)","v":0},{"$f":"P179-P180","v":0},"",{"$f":"IF(C180=\"\",\"\",IF(C180=E179,\"NG\",IF(C180<E179,\"NG\",IF((C180-E179)>1,\"NG\",\"\"))))","v":""},{"$f":"IF(E180=\"\",\"\",IF(C181=\"\",\"\",IF(E180>C181,\"NG\",\"\")))","v":""},null,{"$f":"IF(E180=\"\",\"\",IF(C180<$U$178,\"NG\",IF(E180>$V$178,\"NG\",\"\")))","v":""},"",{"$f":"COUNTIF(S180:W180,\"NG\")","v":0},"","",0,null,null,null,"",null,"",null,null,null,null,0.01,"",null,1000000,{"$f":"AO179-AO180","v":0},1000000,{"$f":"AQ179-AQ180","v":0}]
[null,null,"","",null,"","",null,{"$f":"IF(I180=\"\",\"\",IF(E181=\"\",\"\",I180-$C$11))","v":""},{"$f":"IF(J180=\"\",\"\",IF(F181=\"\",\"\",J180-$C$24))","v":""},0,"",null,{"$f":"IF(I181=\"\",N180,I181)","v":0},{"$f":"N180-N181","v":0},{"$f":"IF(J181=\"\",P180,J181)","v":0},{"$f":"P180-P181","v":0},"",{"$f":"IF(C181=\"\",\"\",IF(C181=E180,\"NG\",IF(C181<E180,\"NG\",IF((C181-E180)>1,\"NG\",\"\"))))","v":""},"",null,"","",0,"","",0,null,null,null,"",null,"",null,null,null,null,0.01,"",null,1000000,0,1000000,0]
[null,null,"","",null,"","",null,"","",0,"",null,0,0,0,{"$f":"P181-P182","v":0},"","","",null,"","",0,"","",0,null,null,null,"",null,"",null,null,null,null,0.01,"",null,1000000,0,1000000,0]
[null,null,"","",null,"","",null,"","",0,"",null,0,0,0,0,"","","",null,"","",0,"","",0,null,null,null,"",null,"",null,null,null,null,0.01,"",null,1000000,0,1000000,0]
[null,null,"","",null,"","",null,"","",0,"",null,0,0,0,0,"","",{"$f":"IF(E184=\"\",\"\",IF(C185=\"\",\"\",IF(E184>C185,\"NG\",\"\")))","v":""},null,"","",0,"","",0,null,null,null,"",null,"",null,null,null,null,0.01,"",null,1000000,0,1000000,0]
[null,null,"","",null,"","",null,"","",0,"",null,0,0,0,0,"","",{"$f":"IF(D185=\"\",\"\",IF(D185<C185,\"NG\",\"\"))","v":""},null,"",{"$f":"IF(G185>0,\"\",\"NG\")","v":""},0,"","",0,null,null,null,"",null,"",null,null,null,null,0.01,"",null,1000000,0,1000000,0]
[null,null,{"$f":"IF(X186>0,$S$38,\"\")","v":""},null,null,null,"Null",null,null,null,0,{"$f":"IF(J186=\"\",\"\",ROUNDDOWN(J186*K186*G186/365,0))","v":""},null,0,0,0,0,"",null,null,"2031-03-09","2031-09-12",null,{"$f":"SUM(X179:X185)","v":0},"","",0,null,null,null,"",null,"",null,null,null,null,0.01,"",null,1000000,0,1000000,0]
["2031年度","単位期間Ⅰ",{"$f":"IF(E187=\"\",\"\",IF(E185>0,E185+1,IF(E184>0,E184+1,IF(E183>0,E183+1,IF(E182>0,E182+1,IF(E181>0,E181+1,IF(E180>0,E180+1,E179+1)))))))","v":""},{"$f":"IF(C187=\"\",\"\",C187)","v":""},null,{"$f":"IF(E187=\"\",\"\",E187)","v":""},{"$f":"IF(E187=\"\",\"\",E187-C187+1)","v":""},{"$f":"IF(G187=\"\",\"\",SUM(G187:G194))","v":""},null,null,{"$f":"IF(K186=\"\",\"\",$K$43)","v":0},{"$f":"IF(J187=\"\",\"\",ROUNDDOWN(J187*K187*G187/365,0))","v":""},{"$f":"IF(L187=\"\",\"\",SUM(L187:L194))","v":""},{"$f":"IF(I187=\"\",N186,I187)","v":0},0,{"$f":"IF(J187=\"\",P186,J187)","v":0},0,"",{"$f":"IF(C187=\"\",\"\",IF(C187>E187,\"NG\",\"\"))","v":""},{"$f":"IF(E187=\"\",\"\",IF(C188=\"\",\"\",IF(E187>C188,\"NG\",\"\")))","v":""},{"$f":"IF(C187=\"\",\"\",IF(C187<$U186,\"NG\",IF(C187>$V186,\"NG\",\"\")))","v":""},{"$f":"IF(E187=\"\",\"\",IF(C187<$U$186,\"NG\",IF(E187>$V$186,\"NG\",\"\")))","v":""},{"$f":"IF(G187>0,\"\",\"NG\")","v":""},{"$f":"COUNTIF(S187:W187,\"NG\")","v":0},"","",0,{"$f":"A187","v":"2031年度"},"単位期間Ⅰ",null,"",null,"",null,null,null,null,0.01,{"$f":"IF(AF187=\"\",\"\",ROUNDDOWN(AK187*AL187*AH187/365,0))","v":""},{"$f":"IF(AM187=\"\",\"\",SUM(AM187:AM194))","v":""},1000000,"-",1000000,"-"]
[null,null,{"$f":"IF(E188=\"\",\"\",IF(E187=\"\",\"\",IF(E187>=DATE(2031,9,10),\"\",E187+1)))","v":""},{"$f":"IF(C188=\"\",\"\",C188)","v":""},null,{"$f":"IF(E188=\"\",\"\",E188)","v":""},{"$f":"IF(E188=\"\",\"\",E188-C188+1)","v":""},null,{"$f":"IF(I187=\"\",\"\",IF(E188=\"\",\"\",I187-$C$11))","v":""},{"$f":"IF(J187=\"\",\"\",IF(F188=\"\",\"\",J187-$C$24))","v":""},{"$f":"IF(K187=\"\",\"\",$K$43)","v":0},{"$f":"IF(J188=\"\",\"\",ROUNDDOWN(J188*K188*G188/365,0))","v":""},null,{"$f":"IF(I188=\"\",N187,I188)","v":0},{"$f":"N187-N188","v":0},{"$f":"IF(J188=\"\",P187,J188)","v":0},{"$f":"P187-P188","v":0},"",{"$f":"IF(C188=\"\",\"\",IF(C188=E187,\"NG\",IF(C188<E187,\"NG\",IF((C188-E187)>1,\"NG\",\"\"))))","v":""},{"$f":"IF(E188=\"\",\"\",IF(C189=\"\",\"\",IF(E188>C189,\"NG\",\"\")))","v":""},null,{"$f":"IF(E188=\"\",\"\",IF(C188<$U$186,\"NG\",IF(E188>$V$186,\"NG\",\"\")))","v":""},{"$f":"IF(G188>0,\"\",\"NG\")","v":""},{"$f":"COUNTIF(S188:W188,\"NG\")","v":0},"","",0,null,null,null,"",null,"",null,null,null,null,0.01,{"$f":"IF(AF188=\"\",\"\",ROUNDDOWN(AK188*AL188*AH188/365,0))","v":""},null,1000000,{"$f":"AO187-AO188","v":0},1000000,{"$f":"AQ187-AQ188","v":0}]
[null,null,"","",null,"","",null,{"$f":"IF(I188=\"\",\"\",IF(E189=\"\",\"\",I188-$C$11))","v":""},{"$f":"IF(J188=\"\",\"\",IF(F189=\"\",\"\",J188-$C$24))","v":""},{"$f":"IF(K188=\"\",\"\",$K$43)","v":0},"",null,{"$f":"IF(I189=\"\",N188,I189)","v":0},{"$f":"N188-N189","v":0},{"$f":"IF(J189=\"\",P188,J189)","v":0},{"$f":"P188-P189","v":0},"",{"$f":"IF(C189=\"\",\"\",IF(C189=E188,\"NG\",IF(C189<E188,\"NG\",IF((C189-E188)>1,\"NG\",\"\"))))","v":""},"",null,"","",0,"","",0,null,null,null,"",null,"",null,null,null,null,0.01,{"$f":"IF(AF189=\"\",\"\",ROUNDDOWN(AK189*AL189*AH189/365,0))","v":""},null,1000000,{"$f":"AO188-AO189","v":0},1000000,{"$f":"AQ188-AQ189","v":0}]
[null,null,"","",null,"","",null,{"$f":"IF(I189=\"\",\"\",IF(E190=\"\",\"\",I189-$C$11))","v":""},{"$f":"IF(J189=\"\",\"\",IF(F190=\"\",\"\",J189-$C$24))","v":""},0,"",null,0,0,0,0,"","","",null,"","",0,"","",0,null,null,null,"",null,"",null,null,null,null,0.01,"",null,1000000,0,1000000,0]
[null,null,"","",null,"","",null,"","",0,"",null,0,0,0,0,"","","",null,"","",0,"","",0,null,null,null,"",null,"",null,null,null,null,0.01,"",null,1000000,0,1000000,0]
[null,null,"","",null,"","",null,"","",0,"",null,0,0,0,0,"","",{"$f":"IF(E192=\"\",\"\",IF(C193=\"\",\"\",IF(E192>C193,\"NG\",\"\")))","v":""},null,"","",0,"","",0,null,null,null,"",null,"",null,null,null,null,0.01,"",null,1000000,0,1000000,0]
[null,null,"","",null,"","",null,"","",0,"",null,0,0,0,0,"","",{"$f":"IF(D193=\"\",\"\",IF(D193<C193,\"NG\",\"\"))","v":""},null,"","",0,"","",0,null,null,null,"",null,"",null,null,null,null,0.01,"",null,1000000,0,1000000,0]
[null,null,{"$f":"IF(X194>0,$S$38,\"\")","v":""},null,null,null,"Null",null,null,null,0,{"$f":"IF(J194=\"\",\"\",ROUNDDOWN(J194*K194*G194/365,0))","v":""},null,0,0,0,0,"",null,null,"2031-09-09","2032-03-12",null,{"$f":"SUM(X187:X193)","v":0},"","",0,null,null,null,"",null,"",null,null,null,null,0.01,"",null,1000000,0,1000000,0]
[null,"単位期間Ⅱ",{"$f":"IF(E195=\"\",\"\",IF(E193>M365,E193+1,IF(E192>M365,E192+1,IF(E191>M365,E191+1,IF(E190>M365,E190+1,IF(E189>M365,E189+1,IF(E188>M365,E188+1,IF(E187>M365,E187+1,IF(C172>M365,C172,\"\")))))))))","v":""},{"$f":"IF(C195=\"\",\"\",C195)","v":""},null,{"$f":"IF(E195=\"\",\"\",E195)","v":""},{"$f":"IF(E195=\"\",\"\",E195-C195+1)","v":""},{"$f":"IF(G195=\"\",\"\",SUM(G195:G202))","v":""},null,null,0,{"$f":"IF(J195=\"\",\"\",ROUNDDOWN(J195*K195*G195/365,0))","v":""},{"$f":"IF(L195=\"\",\"\",SUM(L195:L202))","v":""},{"$f":"IF(I195=\"\",N194,I195)","v":0},{"$f":"IF(N194-N195<0,\"0 \",N194-N195)","v":0},{"$f":"IF(J195=\"\",P194,J195)","v":0},{"$f":"IF(P194-P195<0,\"0 \",P194-P195)","v":0},"",{"$f":"IF(C195=\"\",\"\",IF(C195>E195,\"NG\",\"\"))","v":""},{"$f":"IF(E195=\"\",\"\",IF(C196=\"\",\"\",IF(E195>C196,\"NG\",\"\")))","v":""},{"$f":"IF(C195=\"\",\"\",IF(C195<$U194,\"NG\",IF(C195>$V194,\"NG\",\"\")))","v":""},{"$f":"IF(E195=\"\",\"\",IF(C195<$U$194,\"NG\",IF(E195>$V$194,\"NG\",\"\")))","v":""},"",{"$f":"COUNTIF(S195:W195,\"NG\")","v":0},"","",0,null,"単位期間Ⅱ",null,"",null,"",null,null,null,null,0.01,{"$f":"IF(AD195=\"\",\"\",ROUNDDOWN(AK195*AL195*AH195/365,0))","v":""},{"$f":"IF(AM195=\"\",\"\",SUM(AM195:AM202))","v":""},1000000,0,1000000,0]
[null,null,{"$f":"IF(E196=\"\",\"\",IF(E195=\"\",\"\",IF(E195>=DATE(2032,3,10),\"\",E195+1)))","v":""},{"$f":"IF(C196=\"\",\"\",C196)","v":""},null,{"$f":"IF(E196=\"\",\"\",E196)","v":""},{"$f":"IF(E196=\"\",\"\",E196-C196+1)","v":""},null,{"$f":"IF(I195=\"\",\"\",IF(E196=\"\",\"\",I195-$C$11))","v":""},{"$f":"IF(J195=\"\",\"\",IF(F196=\"\",\"\",J195-$C$24))","v":""},0,{"$f":"IF(J196=\"\",\"\",ROUNDDOWN(J196*K196*G196/365,0))","v":""},null,{"$f":"IF(I196=\"\",N195,I196)","v":0},{"$f":"N195-N196","v":0},{"$f":"IF(J196=\"\",P195,J196)","v":0},{"$f":"P195-P196","v":0},"",{"$f":"IF(C196=\"\",\"\",IF(C196=E195,\"NG\",IF(C196<E195,\"NG\",IF((C196-E195)>1,\"NG\",\"\"))))","v":""},{"$f":"IF(E196=\"\",\"\",IF(C197=\"\",\"\",IF(E196>C197,\"NG\",\"\")))","v":""},null,{"$f":"IF(E196=\"\",\"\",IF(C196<$U$194,\"NG\",IF(E196>$V$194,\"NG\",\"\")))","v":""},"",{"$f":"COUNTIF(S196:W196,\"NG\")","v":0},"","",0,null,null,null,"",null,"",null,null,null,null,0.01,"",null,1000000,{"$f":"AO195-AO196","v":0},1000000,{"$f":"AQ195-AQ196","v":0}]
[null,null,"","",null,"","",null,{"$f":"IF(I196=\"\",\"\",IF(E197=\"\",\"\",I196-$C$11))","v":""},{"$f":"IF(J196=\"\",\"\",IF(F197=\"\",\"\",J196-$C$24))","v":""},0,"",null,{"$f":"IF(I197=\"\",N196,I197)","v":0},{"$f":"N196-N197","v":0},{"$f":"IF(J197=\"\",P196,J197)","v":0},{"$f":"P196-P197","v":0},"",{"$f":"IF(C197=\"\",\"\",IF(C197=E196,\"NG\",IF(C197<E196,\"NG\",IF((C197-E196)>1,\"NG\",\"\"))))","v":""},"",null,"","",0,"","",0,null,null,null,"",null,"",null,null,null,null,0.01,"",null,1000000,0,1000000,0]
[null,null,"","",null,"","",null,"","",0,"",null,0,0,0,{"$f":"P197-P198","v":0},"","","",null,"","",0,"","",0,null,null,null,"",null,"",null,null,null,null,0.01,"",null,1000000,0,1000000,0]
[null,null,"","",null,"","",null,"","",0,"",null,0,0,0,0,"","","",null,"","",0,"","",0,null,null,null,"",null,"",null,null,null,null,0.01,"",null,1000000,0,1000000,0]
[null,null,"","",null,"","",null,"","",0,"",null,0,0,0,0,"","",{"$f":"IF(E200=\"\",\"\",IF(C201=\"\",\"\",IF(E200>C201,\"NG\",\"\")))","v":""},null,"","",0,"","",0,null,null,null,"",null,"",null,null,null,null,0.01,"",null,1000000,0,1000000,0]
[null,null,"","",null,"","",null,"","",0,"",null,0,0,0,0,"","",{"$f":"IF(D201=\"\",\"\",IF(D201<C201,\"NG\",\"\"))","v":""},null,"","",0,"","",0,null,null,null,"",null,"",null,null,null,null,0.01,"",null,1000000,0,1000000,0]
[null,null,{"$f":"IF(X202>0,$S$38,\"\")","v":""},null,null,null,"Null",null,null,null,0,{"$f":"IF(J202=\"\",\"\",ROUNDDOWN(J202*K202*G202/365,0))","v":""},null,0,0,0,0,"",null,null,"2032-03-09","2032-09-12",null,{"$f":"SUM(X195:X201)","v":0},"","",0,null,null,null,"",null,"",null,null,null,null,0.01,"",null,1000000,0,1000000,0]
["2032年度","単位期間Ⅰ",{"$f":"IF(E203=\"\",\"\",IF(E201>0,E201+1,IF(E200>0,E200+1,IF(E199>0,E199+1,IF(E198>0,E198+1,IF(E197>0,E197+1,IF(E196>0,E196+1,E195+1)))))))","v":""},{"$f":"IF(C203=\"\",\"\",C203)","v":""},null,{"$f":"IF(E203=\"\",\"\",E203)","v":""},{"$f":"IF(E203=\"\",\"\",E203-C203+1)","v":""},{"$f":"IF(G203=\"\",\"\",SUM(G203:G210))","v":""},null,null,{"$f":"IF(K202=\"\",\"\",$K$43)","v":0},{"$f":"IF(J203=\"\",\"\",ROUNDDOWN(J203*K203*G203/365,0))","v":""},{"$f":"IF(L203=\"\",\"\",SUM(L203:L210))","v":""},{"$f":"IF(I203=\"\",N202,I203)","v":0},0,{"$f":"IF(J203=\"\",P202,J203)","v":0},0,{"$f":"IF(AA203>0,$Y$38,\"\")","v":""},{"$f":"IF(C203=\"\",\"\",IF(C203>E203,\"NG\",\"\"))","v":""},{"$f":"IF(E203=\"\",\"\",IF(C204=\"\",\"\",IF(E203>C204,\"NG\",\"\")))","v":""},{"$f":"IF(C203=\"\",\"\",IF(C203<$U202,\"NG\",IF(C203>$V202,\"NG\",\"\")))","v":""},{"$f":"IF(E203=\"\",\"\",IF(C203<$U$202,\"NG\",IF(E203>$V$202,\"NG\",\"\")))","v":""},"",{"$f":"COUNTIF(S203:W203,\"NG\")","v":0},"","",0,{"$f":"A203","v":"2032年度"},"単位期間Ⅰ",null,"",null,"",null,null,null,null,0.01,{"$f":"IF(AF203=\"\",\"\",ROUNDDOWN(AK203*AL203*AH203/365,0))","v":""},{"$f":"IF(AM203=\"\",\"\",SUM(AM203:AM210))","v":""},1000000,"-",1000000,"-"]
[null,null,{"$f":"IF(E204=\"\",\"\",IF(E203=\"\",\"\",IF(E203>=DATE(2032,9,10),\"\",E203+1)))","v":""},{"$f":"IF(C204=\"\",\"\",C204)","v":""},null,{"$f":"IF(E204=\"\",\"\",E204)","v":""},{"$f":"IF(E204=\"\",\"\",E204-C204+1)","v":""},null,{"$f":"IF(I203=\"\",\"\",IF(E204=\"\",\"\",I203-$C$11))","v":""},{"$f":"IF(J203=\"\",\"\",IF(F204=\"\",\"\",J203-$C$24))","v":""},{"$f":"IF(K203=\"\",\"\",$K$43)","v":0},{"$f":"IF(J204=\"\",\"\",ROUNDDOWN(J204*K204*G204/365,0))","v":""},null,{"$f":"IF(I204=\"\",N203,I204)","v":0},{"$f":"N203-N204","v":0},{"$f":"IF(J204=\"\",P203,J204)","v":0},{"$f":"P203-P204","v":0},"",{"$f":"IF(C204=\"\",\"\",IF(C204=E203,\"NG\",IF(C204<E203,\"NG\",IF((C204-E203)>1,\"NG\",\"\"))))","v":""},{"$f":"IF(E204=\"\",\"\",IF(C205=\"\",\"\",IF(E204>C205,\"NG\",\"\")))","v":""},null,{"$f":"IF(E204=\"\",\"\",IF(C204<$U$202,\"NG\",IF(E204>$V$202,\"NG\",\"\")))","v":""},"",{"$f":"COUNTIF(S204:W204,\"NG\")","v":0},"","",0,null,null,null,"",null,"",null,null,null,null,0.01,{"$f":"IF(AF204=\"\",\"\",ROUNDDOWN(AK204*AL204*AH204/365,0))","v":""},null,1000000,{"$f":"AO203-AO204","v":0},1000000,{"$f":"AQ203-AQ204","v":0}]
[null,null,"","",null,"","",null,{"$f":"IF(I204=\"\",\"\",IF(E205=\"\",\"\",I204-$C$11))","v":""},{"$f":"IF(J204=\"\",\"\",IF(F205=\"\",\"\",J204-$C$24))","v":""},{"$f":"IF(K204=\"\",\"\",$K$43)","v":0},"",null,{"$f":"IF(I205=\"\",N204,I205)","v":0},{"$f":"N204-N205","v":0},{"$f":"IF(J205=\"\",P204,J205)","v":0},{"$f":"P204-P205","v":0},"",{"$f":"IF(C205=\"\",\"\",IF(C205=E204,\"NG\",IF(C205<E204,\"NG\",IF((C205-E204)>1,\"NG\",\"\"))))","v":""},"",null,"","",0,"","",0,null,null,null,"",null,"",null,null,null,null,0.01,{"$f":"IF(AF205=\"\",\"\",ROUNDDOWN(AK205*AL205*AH205/365,0))","v":""},null,1000000,{"$f":"AO204-AO205","v":0},1000000,{"$f":"AQ204-AQ205","v":0}]
[null,null,"","",null,"","",null,{"$f":"IF(I205=\"\",\"\",IF(E206=\"\",\"\",I205-$C$11))","v":""},{"$f":"IF(J205=\"\",\"\",IF(F206=\"\",\"\",J205-$C$24))","v":""},0,"",null,0,0,0,0,"","","",null,"","",0,"","",0,null,null,null,"",null,"",null,null,null,null,0.01,"",null,1000000,0,1000000,0]
[null,null,"","",null,"","",null,"","",0,"",null,0,0,0,0,"","","",null,"","",0,"","",0,null,null,null,"",null,"",null,null,null,null,0.01,"",null,1000000,0,1000000,0]
[null,null,"","",null,"","",null,"","",0,"",null,0,0,0,0,"","","",null,"","",0,"","",0,null,null,null,"",null,"",null,null,null,null,0.01,"",null,1000000,0,1000000,0]
[null,null,"","",null,"","",null,"","",0,"",null,0,0,0,0,"","",{"$f":"IF(D209=\"\",\"\",IF(D209<C209,\"NG\",\"\"))","v":""},null,"","",0,"","",0,null,null,null,"",null,"",null,null,null,null,0.01,"",null,1000000,0,1000000,0]
[null,null,{"$f":"IF(X210>0,$S$38,\"\")","v":""},null,null,null,"Null",null,null,null,0,{"$f":"IF(J210=\"\",\"\",ROUNDDOWN(J210*K210*G210/365,0))","v":""},null,0,0,0,0,"",null,null,"2032-09-09","2033-03-12",null,{"$f":"SUM(X203:X209)","v":0},"","",0,null,null,null,"",null,"",null,null,null,null,0.01,"",null,1000000,0,1000000,0]
[null,"単位期間Ⅱ",{"$f":"IF(E211=\"\",\"\",IF(E209>M381,E209+1,IF(E208>M381,E208+1,IF(E207>M381,E207+1,IF(E206>M381,E206+1,IF(E205>M381,E205+1,IF(E204>M381,E204+1,IF(E203>M381,E203+1,IF(C188>M381,C188,\"\")))))))))","v":""},{"$f":"IF(C211=\"\",\"\",C211)","v":""},null,{"$f":"IF(E211=\"\",\"\",E211)","v":""},{"$f":"IF(E211=\"\",\"\",E211-C211+1)","v":""},{"$f":"IF(G211=\"\",\"\",SUM(G211:G218))","v":""},null,null,0,{"$f":"IF(J211=\"\",\"\",ROUNDDOWN(J211*K211*G211/365,0))","v":""},{"$f":"IF(L211=\"\",\"\",SUM(L211:L218))","v":""},{"$f":"IF(I211=\"\",N210,I211)","v":0},{"$f":"IF(N210-N211<0,\"0 \",N210-N211)","v":0},{"$f":"IF(J211=\"\",P210,J211)","v":0},{"$f":"IF(P210-P211<0,\"0 \",P210-P211)","v":0},"",{"$f":"IF(C211=\"\",\"\",IF(C211>E211,\"NG\",\"\"))","v":""},{"$f":"IF(E211=\"\",\"\",IF(C212=\"\",\"\",IF(E211>C212,\"NG\",\"\")))","v":""},{"$f":"IF(C211=\"\",\"\",IF(C211<$U210,\"NG\",IF(C211>$V210,\"NG\",\"\")))","v":""},{"$f":"IF(E211=\"\",\"\",IF(C211<$U$210,\"NG\",IF(E211>$V$210,\"NG\",\"\")))","v":""},"",{"$f":"COUNTIF(S211:W211,\"NG\")","v":0},"","",0,null,"単位期間Ⅱ",null,"",null,"",null,{"$f":"IF(AH211=\"\",\"\",SUM(AH211:AH218))","v":""},null,null,0.01,{"$f":"IF(AD211=\"\",\"\",ROUNDDOWN(AK211*AL211*AH211/365,0))","v":""},{"$f":"IF(AM211=\"\",\"\",SUM(AM211:AM218))","v":""},1000000,0,1000000,0]
[null,null,{"$f":"IF(E212=\"\",\"\",IF(E211=\"\",\"\",IF(E211>=DATE(2033,3,10),\"\",E211+1)))","v":""},{"$f":"IF(C212=\"\",\"\",C212)","v":""},null,{"$f":"IF(E212=\"\",\"\",E212)","v":""},{"$f":"IF(E212=\"\",\"\",E212-C212+1)","v":""},null,{"$f":"IF(I211=\"\",\"\",IF(E212=\"\",\"\",I211-$C$11))","v":""},{"$f":"IF(J211=\"\",\"\",IF(F212=\"\",\"\",J211-$C$24))","v":""},0,{"$f":"IF(J212=\"\",\"\",ROUNDDOWN(J212*K212*G212/365,0))","v":""},null,{"$f":"IF(I212=\"\",N211,I212)","v":0},{"$f":"N211-N212","v":0},{"$f":"IF(J212=\"\",P211,J212)","v":0},{"$f":"P211-P212","v":0},"",{"$f":"IF(C212=\"\",\"\",IF(C212=E211,\"NG\",IF(C212<E211,\"NG\",IF((C212-E211)>1,\"NG\",\"\"))))","v":""},{"$f":"IF(E212=\"\",\"\",IF(C213=\"\",\"\",IF(E212>C213,\"NG\",\"\")))","v":""},null,{"$f":"IF(E212=\"\",\"\",IF(C212<$U$210,\"NG\",IF(E212>$V$210,\"NG\",\"\")))","v":""},"",{"$f":"COUNTIF(S212:W212,\"NG\")","v":0},"","",0,null,null,null,"",null,"",null,null,{"$f":"IF(AJ211=\"\",\"\",IF(AF212=\"\",\"\",AJ211-$AD$11))","v":""},{"$f":"IF(AK211=\"\",\"\",IF(AG212=\"\",\"\",AK211-$AD$24))","v":""},0.01,"",null,1000000,{"$f":"AO211-AO212","v":0},1000000,{"$f":"AQ211-AQ212","v":0}]
[null,null,"","",null,"","",null,null,null,0,"",null,{"$f":"IF(I213=\"\",N212,I213)","v":0},{"$f":"N212-N213","v":0},{"$f":"IF(J213=\"\",P212,J213)","v":0},{"$f":"P212-P213","v":0},"",{"$f":"IF(C213=\"\",\"\",IF(C213=E212,\"NG\",IF(C213<E212,\"NG\",IF((C213-E212)>1,\"NG\",\"\"))))","v":""},"",null,"","",0,"","",0,null,null,null,"",null,"",null,null,{"$f":"IF(AJ212=\"\",\"\",IF(AF213=\"\",\"\",AJ212-$AD$11))","v":""},{"$f":"IF(AK212=\"\",\"\",IF(AG213=\"\",\"\",AK212-$AD$24))","v":""},0.01,"",null,1000000,0,1000000,0]
[null,null,"","",null,"","",null,{"$f":"IF(I213=\"\",\"\",IF(E214=\"\",\"\",I213-$C$11))","v":""},{"$f":"IF(J213=\"\",\"\",IF(F214=\"\",\"\",J213-$C$24))","v":""},0,"",null,0,0,0,{"$f":"P213-P214","v":0},"","","",null,"","",0,"","",0,null,null,null,"",null,"",null,null,"","",0.01,"",null,1000000,0,1000000,0]
[null,null,"","",null,"","",null,"","",0,"",null,0,0,0,0,"","","",null,"","",0,"","",0,null,null,null,"",null,"",null,null,"","",0.01,"",null,1000000,0,1000000,0]
[null,null,"","",null,"","",null,"","",0,"",null,0,0,0,0,"","","",null,"","",0,"","",0,null,null,null,"",null,"",null,null,"","",0.01,"",null,1000000,0,1000000,0]
[null,null,"","",null,"","",null,"","",0,"",null,0,0,0,0,"","",{"$f":"IF(D217=\"\",\"\",IF(D217<C217,\"NG\",\"\"))","v":""},null,"",{"$f":"IF(G217>0,\"\",\"NG\")","v":""},0,"","",0,null,null,null,"",null,"",null,null,"","",0.01,"",null,1000000,0,1000000,0]
[null,null,{"$f":"IF(X218>0,$S$38,\"\")","v":""},null,null,null,"Null",null,null,null,0,{"$f":"IF(J218=\"\",\"\",ROUNDDOWN(J218*K218*G218/365,0))","v":""},null,0,0,0,0,"",null,null,null,null,null,{"$f":"SUM(X211:X217)","v":0},{"$f":"IF(U218=0,\"\",IF(U218=#REF!,\"\",\"NG\"))","v":""},{"$f":"IF(W218=0,\"\",IF(W218=#REF!,\"\",\"NG\"))","v":""},0,null,null,{"$f":"IF($C$238>0,$H$242,IF($E$238>0,$H$242,\"\"))","v":""},"",null,"",null,null,"","",0.01,"",null,1000000,0,1000000,0]

{"sheet":"（別添１）融資計画詳細２（交付申請）","index":21,"n_rows":73,"n_cols":74,"rows_kept":73,"cut":false,"hidden":false,"merged":[[0,0,1,17],[26,0,27,2],[26,3,27,11],[8,19,9,21],[12,19,13,21],[60,6,61,6],[37,0,38,2],[28,7,29,8],[28,3,29,3],[33,3,34,11],[35,3,36,11],[37,3,38,11],[60,0,61,2],[28,12,29,17],[42,3,44,3],[45,3,47,3],[8,0,9,2],[18,0,19,2],[18,12,19,17],[22,0,23,2],[16,0,17,2],[33,0,34,2],[12,0,13,2],[28,6,29,6],[28,9,29,9],[28,10,29,11],[33,12,34,17],[26,19,27,21],[33,19,34,21],[22,19,23,21],[22,31,23,36],[28,31,29,36],[33,31,34,36],[16,19,17,21],[18,19,19,21],[18,31,19,36],[60,25,61,25],[60,19,61,21],[60,22,61,22],[60,23,61,24],[60,26,61,27],[60,28,61,36],[48,22,50,22],[48,23,50,36],[51,22,53,22],[51,23,53,36],[54,22,56,22],[54,23,56,36],[37,19,38,21],[62,19,71,21],[62,22,71,36],[72,19,81,21],[72,22,81,36],[8,39,9,41],[12,39,13,41],[16,39,17,41],[8,42,9,50],[10,39,11,41],[10,42,11,50],[12,42,13,50],[14,39,15,41],[14,42,15,50],[16,42,17,50],[33,39,34,41],[54,43,56,56],[37,39,38,41],[35,22,36,30],[37,22,38,30],[42,19,56,21],[42,22,44,22],[42,23,44,36],[45,22,47,22],[45,23,47,36],[28,51,29,56],[33,42,34,50],[33,51,34,56],[18,39,19,41],[18,51,19,56],[22,39,23,41],[18,42,19,50],[20,39,21,41],[20,42,21,50],[22,42,23,50],[22,51,23,56],[24,39,25,41],[24,42,25,50],[26,42,27,50],[28,39,29,41],[28,42,29,42],[28,43,29,44],[28,45,29,45],[28,46,29,47],[28,48,29,48],[28,49,29,50],[26,39,27,41],[42,0,56,2],[62,0,71,2],[72,0,81,2],[60,3,61,3],[60,4,61,5],[60,7,61,8],[60,9,61,17],[8,3,9,11],[10,3,11,11],[12,3,13,11],[14,3,15,11],[16,3,17,11],[18,3,19,11],[20,3,21,11],[22,3,23,11],[24,3,25,11],[10,0,11,2],[14,0,15,2],[20,0,21,2],[24,0,25,2],[35,0,36,2],[28,0,29,2],[28,4,29,5],[22,12,23,17],[48,3,50,3],[51,3,53,3],[54,3,56,3],[42,4,44,17],[45,4,47,17],[48,4,50,17],[51,4,53,17],[54,4,56,17],[62,3,71,17],[72,3,81,17],[8,22,9,30],[10,19,11,21],[10,22,11,30],[12,22,13,30],[14,19,15,21],[14,22,15,30],[16,22,17,30],[18,22,19,30],[20,19,21,21],[20,22,21,30],[22,22,23,30],[24,19,25,21],[24,22,25,30],[26,22,27,30],[28,19,29,21],[28,22,29,22],[28,23,29,24],[28,25,29,25],[28,26,29,27],[28,28,29,28],[28,29,29,30],[33,22,34,30],[35,19,36,21],[2,3,3,5],[60,39,61,41],[60,42,61,42],[60,43,61,44],[60,46,61,47],[60,48,61,56],[62,39,71,41],[62,42,71,56],[72,39,81,41],[72,42,81,56],[60,45,61,45],[35,39,36,41],[35,42,36,50],[37,42,38,50],[42,39,56,41],[42,42,44,42],[42,43,44,56],[45,42,47,42],[45,43,47,56],[48,42,50,42],[48,43,50,56],[51,42,53,42],[51,43,53,56],[54,42,56,42]]}
["（別添１）融資計画詳細２（交付申請）"]
[]
["（別添１）",null,null,"交付申請",null,null,null,null,null,null,null,null,null,null,null,null,null,null,null,{"$f":"A3","v":"（別添１）"},null,null,null,null,null,null,null,null,null,null,null,null,null,null,null,null,null,null,null,"（別添１）",null,null,null,null,null,null,null,null,null,null,null,null,null,null,null,null,null,null,"別添1-2_D9","事業者名",{"$f":"IF(D9=\"\",\"\",D9)","v":""}]
["融資計画詳細２",null,null,null,null,null,null,null,null,null,null,null,null,null,null,null,null,{"$f":"IF('（様式第３）交付申請書（新規融資案件）'!$Q$4=\"\",\"様式第３で受付番号をご入力ください。\",'（様式第３）交付申請書（新規融資案件）'!$Q$4)","v":"様式第３で受付番号をご入力ください。"},null,"融資計画詳細3",null,null,null,null,null,null,null,null,null,null,null,null,null,null,null,null,null,null,"04AA-001-01","融資計画詳細3",null,null,null,null,null,null,null,null,null,null,null,null,null,null,null,null,"04AA-001-01",null,"別添1-2_D11","設備等利用者名",{"$f":"IF(D11=\"\",\"\",D11)","v":""}]
[null,null,null,null,null,null,null,null,null,null,null,null,null,null,null,null,null,null,null,null,null,null,null,null,null,null,null,null,null,null,null,null,null,null,null,null,null,null,null,null,null,null,null,null,null,null,null,null,null,null,null,null,null,null,null,null,null,null,"別添1-2_D13","都道府県",{"$f":"IF(D13=\"\",\"\",D13)","v":""}]
[null,null,null,null,null,null,null,null,null,null,null,null,null,null,null,null,null,null,null,null,null,null,null,null,null,null,null,null,null,null,null,null,null,null,null,null,null,null,null,null,null,null,null,null,null,null,null,null,null,null,null,null,null,null,null,null,null,null,"別添1-2_D15","市区町村",{"$f":"IF(D15=\"\",\"\",D15)","v":""}]
["４．利子補給対象事業者情報",null,null,null,null,null,null,null,null,null,null,null,null,null,null,null,null,null,null,{"$f":"A7","v":"４．利子補給対象事業者情報"},null,null,null,null,null,null,null,null,null,null,null,null,null,null,null,null,null,null,null,"４．利子補給対象事業者情報",null,null,null,null,null,null,null,null,null,null,null,null,null,null,null,null,null,null,"別添1-2_D17","丁目・番地",{"$f":"IF(D17=\"\",\"\",D17)","v":""}]
[null,null,null,null,null,null,null,null,null,null,null,null,null,null,null,null,null,null,null,null,null,null,null,null,null,null,null,null,null,null,null,null,null,null,null,null,null,null,null,null,null,null,null,null,null,null,null,null,null,null,null,null,null,null,null,null,null,null,"別添1-2_D19","業種大分類",{"$f":"IF(D19=\"\",\"\",D19)","v":""}]
["事業者名",null,null,"",null,null,null,null,null,null,null,null,null,null,null,null,null,null,null,{"$f":"A9","v":"事業者名"},null,null,"株式会社○○○○",null,null,null,null,null,null,null,null,null,null,null,null,null,null,null,null,"事業者名",null,null,"○○○○",null,null,null,null,null,null,null,null,null,null,null,null,null,null,null,"別添1-2_D21","業種分類項目名",{"$f":"IF(D21=\"\",\"\",D21)","v":""}]
[null,null,null,null,null,null,null,null,null,null,null,null,null,null,null,null,null,null,null,null,null,null,null,null,null,null,null,null,null,null,null,null,null,null,null,null,null,null,null,null,null,null,null,null,null,null,null,null,null,null,null,null,null,null,null,null,null,null,"別添1-2_D23","資本金",{"$f":"IF(D23=\"\",\"\",D23)","v":""}]
["設備等利用者名",null,null,"",null,null,null,null,null,null,null,null,null,null,null,null,null,null,null,{"$f":"A11","v":"設備等利用者名"},null,null,"株式会社○○○○",null,null,null,null,null,null,null,null,null,null,null,null,null,null,null,null,"設備等利用者名",null,null,"○○○○",null,null,null,null,null,null,null,null,null,null,null,null,null,null,null,"別添1-2_D25","従業員数",{"$f":"IF(D25=\"\",\"\",D25)","v":""}]
[null,null,null,null,null,null,null,null,null,null,null,null,null,null,null,null,null,null,null,null,null,null,null,null,null,null,null,null,null,null,null,null,null,null,null,null,null,null,null,null,null,null,null,null,null,null,null,null,null,null,null,null,null,null,null,null,null,null,"別添1-2_D27","企業の内容",{"$f":"IF(D27=\"\",\"\",D27)","v":""}]
["都道府県",null,null,"",null,null,null,null,null,null,null,null,null,null,null,null,null,null,null,{"$f":"A13","v":"都道府県"},null,null,"○○県",null,null,null,null,null,null,null,null,null,null,null,null,null,null,null,null,"都道府県",null,null,"○○県",null,null,null,null,null,null,null,null,null,null,null,null,null,null,null,"別添1-2_D29","企業の規模",{"$f":"IF(BK13=\"中小企業\",BK13,IF(BM13=\"個人事業主\",BM13,IF(BO13:BO13=\"その他\",BO13,\"\")))","v":""},{"$f":"_xlfn.IFS(D29=\"\",FALSE,D29=\"　\",FALSE,D29=\"☑\",TRUE)","v":false},{"$f":"IF(D29=\"☑\",\"中小企業\",\"\")","v":""},{"$f":"_xlfn.IFS(G29=\"\",FALSE,G29=\"　\",FALSE,G29=\"☑\",TRUE)","v":false},{"$f":"IF(G29=\"☑\",\"個人事業主\",\"\")","v":""},{"$f":"_xlfn.IFS(J29=\"\",FALSE,J29=\"　\",FALSE,J29=\"☑\",TRUE)","v":false},{"$f":"IF(J29=\"☑\",\"その他\",\"\")","v":""},{"$f":"COUNTIF(BJ13:BO13,TRUE)","v":0},{"$f":"IF(BP13=3,\"NG\",IF(BP13=2,\"NG\",IF(BP13=0,\"NG\",\"OK\")))","v":"NG"}]
[null,null,null,null,null,null,null,null,null,null,null,null,null,null,null,null,null,null,null,null,null,null,null,null,null,null,null,null,null,null,null,null,null,null,null,null,null,null,null,null,null,null,null,null,null,null,null,null,null,null,null,null,null,null,null,null,null,null,"別添1-2_D34","都道府県",{"$f":"IF(D34=\"\",\"\",D34)","v":""}]
["市区町村",null,null,"",null,null,null,null,null,null,null,null,null,null,null,null,null,null,null,{"$f":"A15","v":"市区町村"},null,null,"○○市○○町",null,null,null,null,null,null,null,null,null,null,null,null,null,null,null,null,"市区町村",null,null,"○○市○○町",null,null,null,null,null,null,null,null,null,null,null,null,null,null,null,"別添1-2_D36","市区町村",{"$f":"IF(D36=\"\",\"\",D36)","v":""}]
[null,null,null,null,null,null,null,null,null,null,null,null,null,null,null,null,null,null,null,null,null,null,null,null,null,null,null,null,null,null,null,null,null,null,null,null,null,null,null,null,null,null,null,null,null,null,null,null,null,null,null,null,null,null,null,null,null,null,"別添1-2_D38","丁目・番地",{"$f":"IF(D38=\"\",\"\",D38)","v":""}]
["丁目・番地",null,null,"",null,null,null,null,null,null,null,null,null,null,null,null,null,null,null,{"$f":"A17","v":"丁目・番地"},null,null,"○丁目○番○号",null,null,null,null,null,null,null,null,null,null,null,null,null,null,null,null,"丁目・番地",null,null,"○丁目○番○号",null,null,null,null,null,null,null,null,null,null,null,null,null,null,null,"別添1-2_D43～55","対象要件１",{"$f":"IF(OR(BK17=TRUE,BM17=TRUE),\"04-（ア）\",IF(BO17=TRUE,\"04-（イ）\",IF(OR(BQ17=TRUE,BS17=TRUE),\"04-（ウ）\",\"\")))","v":""},null,{"$f":"_xlfn.IFS(D43=\"\",FALSE,D43=\"　\",FALSE,D43=\"☑\",TRUE)","v":false},{"$f":"IF(BK17=FALSE,\"\",IF(D43=\"☑\",\"(ア)TR\"))","v":""},{"$f":"_xlfn.IFS(D46=\"\",FALSE,D46=\"　\",FALSE,D46=\"☑\",TRUE)","v":false},{"$f":"IF(BM17=FALSE,\"\",IF(D46=\"☑\",\"(ア)TR該当なし\"))","v":""},{"$f":"_xlfn.IFS(D49=\"\",FALSE,D49=\"　\",FALSE,D49=\"☑\",TRUE)","v":false},{"$f":"IF(BO17=FALSE,\"\",IF(D49=\"☑\",\"イ\"))","v":""},{"$f":"_xlfn.IFS(D52=\"\",FALSE,D52=\"　\",FALSE,D52=\"☑\",TRUE)","v":false},{"$f":"IF(BQ17=FALSE,\"\",IF(D52=\"☑\",\"(ウ)データセンター\"))","v":""},{"$f":"_xlfn.IFS(D55=\"\",FALSE,D55=\"　\",FALSE,D55=\"☑\",TRUE)","v":false},{"$f":"IF(BS17=FALSE,\"\",IF(D55=\"☑\",\"(ウ)EMS\"))","v":""},{"$f":"COUNTIF(BK17:BT17,TRUE)","v":0},{"$f":"IF(BU17=0,\"NG\",\"OK\")","v":"NG"}]
[null,null,null,null,null,null,null,null,null,null,null,null,null,null,null,null,null,null,null,null,null,null,null,null,null,null,null,null,null,null,null,null,null,null,null,null,null,null,null,null,null,null,null,null,null,null,null,null,null,null,null,null,null,null,null,null,null,null,"別添1-2_D43～55","対象要件２",{"$f":"BL17&BN17&BP17&BR17&BT17","v":""}]
["業種大分類",null,null,null,null,null,null,null,null,null,null,null,null,null,null,null,null,null,null,{"$f":"A19","v":"業種大分類"},null,null,"○○業",null,null,null,null,null,null,null,null,null,null,null,null,null,null,null,null,"業種大分類",null,null,"無",null,null,null,null,null,null,null,null,null,null,null,null,null,null,null,"別添1-2_D61","設備導入区分１",{"$f":"IF(OR(BJ19=\"①\",BJ19=\"①②\"),\"①\",IF(BJ19=\"②\",\"②\",\"\"))","v":""},{"$f":"BL19&BN19","v":""},{"$f":"_xlfn.IFS(D61=\"\",FALSE,D61=\"　\",FALSE,D61=\"☑\",TRUE)","v":false},{"$f":"IF(BK19=FALSE,\"\",IF(D61=\"☑\",\"①\"))","v":""},{"$f":"_xlfn.IFS(G61=\"\",FALSE,G61=\"　\",FALSE,G61=\"☑\",TRUE)","v":false},{"$f":"IF(BM19=FALSE,\"\",IF(G61=\"☑\",\"②\"))","v":""},{"$f":"COUNTIF(BK19:BN19,TRUE)","v":0},{"$f":"IF(BO19=0,\"NG\",IF(BO19=0,\"NG\",\"OK\"))","v":"NG"}]
[null,null,null,null,null,null,null,null,null,null,null,null,null,null,null,null,null,null,null,null,null,null,null,null,null,null,null,null,null,null,null,null,null,null,null,null,null,null,null,null,null,null,null,null,null,null,null,null,null,null,null,null,null,null,null,null,null,null,"別添1-2_D61","設備導入区分2",{"$f":"BL20&BN20","v":""},null,{"$f":"_xlfn.IFS(D61=\"\",FALSE,D61=\"　\",FALSE,D61=\"☑\",TRUE)","v":false},{"$f":"IF(BK19=FALSE,\"\",IF(D61=\"☑\",\"新設\"))","v":""},{"$f":"_xlfn.IFS(G62=\"\",FALSE,G62=\"　\",FALSE,G62=\"☑\",TRUE)","v":false},{"$f":"IF(BM19=FALSE,\"\",IF(G61=\"☑\",\"増設\"))","v":""},{"$f":"COUNTIF(BK20:BN20,TRUE)","v":0},{"$f":"IF(BO20=0,\"NG\",IF(BO20=0,\"NG\",\"OK\"))","v":"NG"}]
["業種分類項目名",null,null,null,null,null,null,null,null,null,null,null,null,null,null,null,null,null,null,{"$f":"A21","v":"業種分類項目名"},null,null,"○○業",null,null,null,null,null,null,null,null,null,null,null,null,null,null,null,null,"業種分類項目名",null,null,"無",null,null,null,null,null,null,null,null,null,null,null,null,null,null,null,"別添1-2_D63","導入設備の概要",{"$f":"IF(D63=\"\",\"\",D63)","v":""}]
[null,null,null,null,null,null,null,null,null,null,null,null,null,null,null,null,null,null,null,null,null,null,null,null,null,null,null,null,null,null,null,null,null,null,null,null,null,null,null,null,null,null,null,null,null,null,null,null,null,null,null,null,null,null,null,null,null,null,"別添1-2_D73","対象事業の概要",{"$f":"IF(D73=\"\",\"\",D73)","v":""}]
["資本金",null,null,null,null,null,null,null,null,null,null,null,null,null,null,null,null,null,null,{"$f":"A23","v":"資本金"},null,null,"○，○○○，○○○ 円",null,null,null,null,null,null,null,null,null,null,null,null,null,null,null,null,"資本金",null,null,"0 円"]
[]
["従業員数",null,null,null,null,null,null,null,null,null,null,null,null,null,null,null,null,null,null,{"$f":"A25","v":"従業員数"},null,null,"○○○ 人",null,null,null,null,null,null,null,null,null,null,null,null,null,null,null,null,"従業員数",null,null,"○○○ 人"]
[]
["企業の内容",null,null,"",null,null,null,null,null,null,null,null,null,null,null,null,null,null,null,{"$f":"A27","v":"企業の内容"},null,null,"○○部品の製造",null,null,null,null,null,null,null,null,null,null,null,null,null,null,null,null,"企業の内容",null,null,"○○部品の製造"]
[]
["企業の規模",null,null,null,"中小企業",null,null,"個人事業主",null,null,"その他",null,{"$f":"IF(BQ13=\"NG\",\"←該当する対象要件（チェックボックス）を選択してください。\",\"\")","v":"←該当する対象要件（チェックボックス）を選択してください。"},null,null,null,null,null,null,{"$f":"A29","v":"企業の規模"},null,null,"☑",{"$f":"E29","v":"中小企業"},null,null,{"$f":"H29","v":"個人事業主"},null,null,{"$f":"K29","v":"その他"},null,{"$f":"IF(W9=\"\",\"\",IF(CJ13=\"NG\",\"←該当する対象要件（チェックボックス）を選択してください。\",\"\"))","v":""},null,null,null,null,null,null,null,"企業の規模",null,null,null,"中小企業",null,"☑","個人事業主",null,null,"その他",null,{"$f":"IF(AQ9=\"\",\"\",IF(DD13=\"NG\",\"←該当する対象要件（チェックボックス）を選択してください。\",\"\"))","v":""}]
[]
[]
["５．所在地（省エネルギー設備の使用場所及び省エネルギー取組の実施場所）",null,null,null,null,null,null,null,null,null,null,null,null,null,null,null,null,null,null,{"$f":"A32","v":"５．所在地（省エネルギー設備の使用場所及び省エネルギー取組の実施場所）"},null,null,null,null,null,null,null,null,null,null,null,null,null,null,null,null,null,null,null,"５．所在地（省エネルギー設備の使用場所及び省エネルギー取組の実施場所）"]
[]
["都道府県",null,null,"",null,null,null,null,null,null,null,null,null,null,null,null,null,null,null,{"$f":"A34","v":"都道府県"},null,null,"○○県",null,null,null,null,null,null,null,null,null,null,null,null,null,null,null,null,"（住所）都道府県",null,null,"○○県"]
[]
["市区町村",null,null,"",null,null,null,null,null,null,null,null,null,null,null,null,null,null,null,{"$f":"A36","v":"市区町村"},null,null,"○○市○○町",null,null,null,null,null,null,null,null,null,null,null,null,null,null,null,null,"市区町村",null,null,"○○市○○町"]
[]
["丁目・番地",null,null,"",null,null,null,null,null,null,null,null,null,null,null,null,null,null,null,{"$f":"A38","v":"丁目・番地"},null,null,"〇丁目〇番〇号",null,null,null,null,null,null,null,null,null,null,null,null,null,null,null,null,"丁目・番地",null,null,"〇丁目〇番〇号"]
[]
[]
["６．対象要件",null,null,null,null,null,null,null,null,null,null,null,null,null,null,null,null,null,null,{"$f":"A41","v":"６．対象要件"},null,null,null,null,null,null,null,null,null,null,null,null,null,null,null,null,null,null,null,"６．対象要件"]
[{"$f":"IF(BV17=\"NG\",\"↓該当する対象要件（チェックボックス）を選択してください。\",\"\")","v":"↓該当する対象要件（チェックボックス）を選択してください。"}]
["対象要件",null,null,null,"（ア）エネルギー消費効率が高い省エネルギー設備を新設、又は増設する事業。\n　　※トップランナー基準を満たす設備の導入",null,null,null,null,null,null,null,null,null,null,null,null,null,null,{"$f":"A43","v":"対象要件"},null,null,"☑",{"$f":"E43","v":"（ア）エネルギー消費効率が高い省エネルギー設備を新設、又は増設する事業。\n　　※トップランナー基準を満たす設備の導入"},null,null,null,null,null,null,null,null,null,null,null,null,null,null,null,"対象要件",null,null,"☑","（ア）エネルギー消費効率が高い省エネルギー設備を新設、又は増設する事業。\n　　※トップランナー基準を満たす設備の導入"]
[]
[]
[null,null,null,null,"（ア）エネルギー消費効率が高い省エネルギー設備を新設、又は増設する事業。\n　　※トップランナー基準に該当しない設備で、エネルギー消費効率が高い設備の導入",null,null,null,null,null,null,null,null,null,null,null,null,null,null,null,null,null,"☑",{"$f":"E46","v":"（ア）エネルギー消費効率が高い省エネルギー設備を新設、又は増設する事業。\n　　※トップランナー基準に該当しない設備で、エネルギー消費効率が高い設備の導入"},null,null,null,null,null,null,null,null,null,null,null,null,null,null,null,null,null,null,null,"（ア）エネルギー消費効率が高い省エネルギー設備を新設、又は増設する事業。\n　　※トップランナー基準に該当しない設備で、エネルギー消費効率が高い設備の導入"]
[]
[]
[null,null,null,null,"（イ）省エネルギー設備等を新設、又は増設し、工場・事業場全体におけるエネルギー\n　　 消費原単位が１％以上改善される事業。",null,null,null,null,null,null,null,null,null,null,null,null,null,null,null,null,null,null,{"$f":"E49","v":"（イ）省エネルギー設備等を新設、又は増設し、工場・事業場全体におけるエネルギー\n　　 消費原単位が１％以上改善される事業。"},null,null,null,null,null,null,null,null,null,null,null,null,null,null,null,null,null,null,null,"（イ）省エネルギー設備等を新設、又は増設し、工場・事業場全体におけるエネルギー\n　　 消費原単位が１％以上改善される事業。"]
[]
[]
[null,null,null,null,"（ウ）データセンターのクラウドサービス活用に関する事業。",null,null,null,null,null,null,null,null,null,null,null,null,null,null,null,null,null,null,{"$f":"E52","v":"（ウ）データセンターのクラウドサービス活用に関する事業。"},null,null,null,null,null,null,null,null,null,null,null,null,null,null,null,null,null,null,null,"（ウ）データセンターのクラウドサービス活用に関する事業。"]
[]
[]
[null,null,null,null,"（ウ）ＥＭＳの導入等による省エネルギー取組に関する事業。",null,null,null,null,null,null,null,null,null,null,null,null,null,null,null,null,null,null,{"$f":"E55","v":"（ウ）ＥＭＳの導入等による省エネルギー取組に関する事業。"},null,null,null,null,null,null,null,null,null,null,null,null,null,null,null,null,null,null,null,"（ウ）ＥＭＳの導入等による省エネルギー取組に関する事業。"]
[]
[]
[null,null,null,null,null,null,null,null,null,null,null,null,null,null,null,null,null,null,null,{"$f":"IF(W9=\"\",\"\",IF(CO17=\"NG\",\"↑該当する対象要件（チェックボックス）を選択してください。\",\"\"))","v":""},null,null,null,null,null,null,null,null,null,null,null,null,null,null,null,null,null,null,null,{"$f":"IF(AQ9=\"\",\"\",IF(DI17=\"NG\",\"↑該当する対象要件（チェックボックス）を選択してください。\",\"\"))","v":""}]
["７．利子補給対象事業の概要",null,null,null,null,null,null,null,null,null,null,null,null,null,null,null,null,null,null,{"$f":"A59","v":"７．利子補給対象事業の概要"},null,null,null,null,null,null,null,null,null,null,null,null,null,null,null,null,null,null,null,"７．利子補給対象事業の概要"]
[]
["導入設備区分",null,null,null,"新設",null,null,"増設",null,{"$f":"IF(BP18=\"NG\",\"←該当する導入設備区分（チェックボックス）を選択してください。\",\"\")","v":""},null,null,null,null,null,null,null,null,null,{"$f":"A61","v":"導入設備区分"},null,null,"☑","新設",null,"☑","増設",null,{"$f":"IF(W9=\"\",\"\",IF(CI18=\"NG\",\"←該当する導入設備区分（チェックボックス）を選択してください。\",\"\"))","v":""},null,null,null,null,null,null,null,null,null,null,"導入設備区分",null,null,"☑","新設",null,"☑","増設",null,{"$f":"IF(AQ9=\"\",\"\",IF(DC18=\"NG\",\"←該当する導入設備区分（チェックボックス）を選択してください。\",\"\"))","v":""}]
[]
["対象事業の概要",null,null,"",null,null,null,null,null,null,null,null,null,null,null,null,null,null,null,"対象事業の概要",null,null,"例①：○○工場に○○機器を新設する事業\n例②：○○作業所の生産ラインを増設する事業\n　　　（現状6ラインから8ラインへ2ライン増設）",null,null,null,null,null,null,null,null,null,null,null,null,null,null,null,null,"対象事業の概要",null,null,"例①：○○工場に○○機器を新設する事業\n例②：○○作業所の生産ラインを増設する事業\n　　　（現状6ラインから8ラインへ2ライン増設）"]
[]
[]
[]
[]
[]
[]
[]
[]
[]
["導入設備の概要",null,null,"",null,null,null,null,null,null,null,null,null,null,null,null,null,null,null,"導入設備の概要",null,null,"例①：工場新設による○○機器新規導入\n　　　○○機器○台、○○機器○台の新規導入\n例②：生産ライン拡大による○○機器の増設\n　　　○○機器○台、○○機器○台の増設",null,null,null,null,null,null,null,null,null,null,null,null,null,null,null,null,"導入設備の概要",null,null,"例①：工場新設による○○機器新規導入\n　　　○○機器○台、○○機器○台の新規導入\n例②：生産ライン拡大による○○機器の増設\n　　　○○機器○台、○○機器○台の増設"]

{"sheet":"（様式第９）実績報告書","index":22,"n_rows":85,"n_cols":56,"rows_kept":85,"cut":false,"hidden":false,"merged":[[39,30,39,33],[39,24,39,29],[0,0,1,16],[82,18,82,23],[74,1,75,15],[74,18,75,32],[78,1,79,7],[78,8,79,8],[78,18,79,24],[78,25,79,25],[40,0,46,16],[40,17,46,33],[70,1,71,15],[70,18,71,32],[39,0,39,2],[15,8,17,9],[15,25,17,26],[15,27,17,33],[18,27,20,33],[21,8,24,9],[21,25,24,26],[21,27,22,32],[15,10,17,16],[18,10,20,16],[21,10,22,16],[23,10,24,16],[21,33,23,33],[23,27,24,32],[82,1,82,7],[18,3,20,6],[18,8,20,9],[18,20,20,23],[18,25,20,26],[39,20,39,23],[39,3,39,6],[39,17,39,19],[39,13,39,16],[39,7,39,12],[77,9,81,16]]}
["（様式第９）実績報告書"]
[]
["様式第９",null,null,null,null,null,null,null,null,null,null,null,null,null,null,null,null,{"$f":"A3","v":"様式第９"}]
[null,null,null,null,null,null,null,null,null,null,null,null,null,null,null,null,{"$f":"IF('（様式第３）交付申請書（新規融資案件）'!$Q$4=\"\",\"様式第３で受付番号をご入力ください。\",'（様式第３）交付申請書（新規融資案件）'!$Q$4)","v":"様式第３で受付番号をご入力ください。"},null,null,null,null,null,null,null,null,null,null,null,null,null,null,null,null,"04AA-001-01",null,null,null,"様式9_L6","年",{"$f":"IF(L6=\"\",\"\",L6)","v":""},null,null,null,null,null,null,null,null,null,null,null,null,null,"様式7_L4","年",{"$f":"IF(L6=\"\",\"\",L6)","v":""}]
[null,null,null,null,null,null,null,null,null,null,null,null,null,null,null,null,null,null,null,null,null,null,null,null,null,null,null,null,null,null,null,null,null,null,null,null,null,"様式9_N6","月",{"$f":"IF(N6=\"\",\"\",N6)","v":""},null,null,null,null,null,null,null,null,null,null,null,null,null,"様式7_N4","月",{"$f":"IF(N6=\"\",\"\",N6)","v":""}]
[null,null,null,null,null,null,null,null,null,null,null,null,"年",null,"月",null,"日",null,null,null,null,null,null,null,null,null,null,null,"202○",{"$f":"M6","v":"年"},"○○",{"$f":"O6","v":"月"},"○○",{"$f":"Q6","v":"日"},null,null,null,"様式9_P6","日",{"$f":"IF(P6=\"\",\"\",P6)","v":""},null,null,null,null,null,null,null,null,null,null,null,null,null,"様式7_P4","日",{"$f":"IF(P6=\"\",\"\",P6)","v":""}]
[null,null,null,null,null,null,null,null,null,null,null,null,null,null,null,null,null,null,null,null,null,null,null,null,null,null,null,null,null,null,null,null,null,null,null,null,null,"様式9_K16","指定金融機関_住所",{"$f":"IF(K16=\"\",\"\",K16)","v":""},null,null,null,null,null,null,null,null,null,null,null,null,null,"様式7_K14","指定金融機関_住所",{"$f":"IF(K16=\"\",\"\",K16)","v":""}]
[null,null,null,null,null,null,null,null,null,null,null,null,null,null,null,null,null,null,null,null,null,null,null,null,null,null,null,null,null,null,null,null,null,null,null,null,null,"様式9_K19","指定金融機関_名称",{"$f":"IF(K19=\"\",\"\",K19)","v":""},null,null,null,null,null,null,null,null,null,null,null,null,null,"様式7_K17","指定金融機関_名称",{"$f":"IF(K19=\"\",\"\",K19)","v":""}]
["一般社団法人　環境共創イニシアチブ",null,null,null,null,null,null,null,null,null,null,null,null,null,null,null,null,{"$f":"A9","v":"一般社団法人　環境共創イニシアチブ"},null,null,null,null,null,null,null,null,null,null,null,null,null,null,null,null,null,null,null,"様式9_K22","指定金融機関_役職",{"$f":"IF(K22=\"\",\"\",K22)","v":""},null,null,null,null,null,null,null,null,null,null,null,null,null,"様式7_K20","指定金融機関_役職",{"$f":"IF(K22=\"\",\"\",K22)","v":""}]
[null,null,null,null,null,null,null,null,null,null,null,null,null,null,null,null,null,null,null,null,null,null,null,null,null,null,null,null,null,null,null,null,null,null,null,null,null,"様式9_K24","指定金融機関_代表者名",{"$f":"IF(K24=\"\",\"\",K24)","v":""},null,null,null,null,null,null,null,null,null,null,null,null,null,"様式7_K22","指定金融機関_代表者名",{"$f":"IF(K24=\"\",\"\",K24)","v":""}]
["代 表 理 事　　　村上　孝　殿",null,null,null,null,null,null,null,null,null,null,null,null,null,null,null,null,{"$f":"A11","v":"代 表 理 事　　　村上　孝　殿"},null,null,null,null,null,null,null,null,null,null,null,null,null,null,null,null,null,null,null,"様式9_A40","交付決定日",{"$f":"IF(A40=\"\",\"\",A40)","v":""},null,null,null,null,null,null,null,null,null,null,null,null,null,"様式7_A38","交付決定日",{"$f":"IF(A40=\"\",\"\",A40)","v":""}]
[null,null,null,null,null,null,null,null,null,null,null,null,null,null,null,null,null,null,null,null,null,null,null,null,null,null,null,null,null,null,null,null,null,null,null,null,null,"様式9_H40","交付決定番号",{"$f":"IF(H40=\"\",\"\",H40)","v":""},null,null,null,null,null,null,null,null,null,null,null,null,null,"様式7_H38","交付決定番号",{"$f":"IF(H40=\"\",\"\",H40)","v":""}]
[null,null,null,null,null,null,null,null,null,null,null,null,null,null,null,null,null,null,null,null,null,null,null,null,null,null,null,null,null,null,null,null,null,null,null,null,null,"様式9_B71","利子補給対象事業者名",{"$f":"IF(B71=\"\",\"\",B71)","v":""},null,null,null,null,null,null,null,null,null,null,null,null,null,"様式7_B69","利子補給対象事業者名",{"$f":"IF(B71=\"\",\"\",B71)","v":""}]
[null,null,null,null,null,null,null,null,null,null,null,null,null,null,null,null,null,null,null,null,null,null,null,null,null,null,null,null,null,null,null,null,null,null,null,null,null,"様式9_B75","融資名称",{"$f":"IF(B75=\"\",\"\",B75)","v":""},null,null,null,null,null,null,null,null,null,null,null,null,null,"様式7_B73","融資名称",{"$f":"IF(B75=\"\",\"\",B75)","v":""}]
[null,null,null,null,null,null,null,null,null,null,{"$f":"IF(K16=\"\",\"↓住所は都道府県からご入力ください。\",\"\")","v":"↓住所は都道府県からご入力ください。"},null,null,null,null,null,null,null,null,null,null,null,null,null,null,null,null,null,null,null,null,null,null,null,null,null,null,"様式9_B79","利子補給金額",{"$f":"IF(B79=\"\",\"\",B79)","v":""},null,null,null,null,null,null,null,null,null,null,null,null,null,"様式7_B77","利子補給金額",{"$f":"IF(B79=\"\",\"\",B79)","v":""}]
[null,null,null,null,null,null,null,null,"住　　所",null,null,null,null,null,null,null,null,null,null,null,null,null,null,null,null,{"$f":"I16","v":"住　　所"},null,"〇〇県〇〇市〇〇町〇丁目〇番〇号",null,null,null,null,null,null,null,null,null,"様式9_B83","交付対象融資の内容",{"$f":"IF(B83=\"\",\"\",B83)","v":""},null,null,null,null,null,null,null,null,null,null,null,null,null,"様式7_B81","交付対象融資の内容",{"$f":"IF(B83=\"\",\"\",B83)","v":""}]
[]
[]
[null,null,null,"指定金融機関",null,null,null,null,"名　　称",null,null,null,null,null,null,null,null,null,null,null,{"$f":"D19","v":"指定金融機関"},null,null,null,null,{"$f":"I19","v":"名　　称"},null,"株式会社〇〇銀行"]
[]
[]
[null,null,null,null,null,null,null,null,"代表者等名",null,null,null,null,null,null,null,null,null,null,null,null,null,null,null,null,{"$f":"I22","v":"代表者等名"},null,"代表取締役"]
[]
[null,null,null,null,null,null,null,null,null,null,null,null,null,null,null,null,null,null,null,null,null,null,null,null,null,null,null,"〇〇　〇〇"]
[]
[]
[]
[]
[]
[]
[null,null,null,null,null,null,null,null,"令和４年度省エネルギー設備投資に係る利子補給金",null,null,null,null,null,null,null,null,null,null,null,null,null,null,null,null,{"$f":"I31","v":"令和４年度省エネルギー設備投資に係る利子補給金"}]
[]
[null,null,null,null,null,null,null,null,"実績報告書",null,null,null,null,null,null,null,null,null,null,null,null,null,null,null,null,{"$f":"I33","v":"実績報告書"}]
[]
[]
[]
[]
[]
[]
[null,null,null,"をもって交付決定 （",null,null,null,null,null,null,null,null,null,"）があった標記利子補",null,null,null,"202○年○月○日",null,null,{"$f":"D40","v":"をもって交付決定 （"},null,null,null,"SII-BFA220-01-○○○○○○-00○○○-A",null,null,null,null,null,{"$f":"N40","v":"）があった標記利子補"}]
["給金について、省エネルギー設備投資に係る利子補給金交付規程（ＳＩＩ－ＢＦＡ２２０－０１－２２０４０１－Ｒ）第１６条の規定に基づき、下記のとおり報告します。",null,null,null,null,null,null,null,null,null,null,null,null,null,null,null,null,{"$f":"A41","v":"給金について、省エネルギー設備投資に係る利子補給金交付規程（ＳＩＩ－ＢＦＡ２２０－０１－２２０４０１－Ｒ）第１６条の規定に基づき、下記のとおり報告します。"}]
[]
[]
[]
[]
[]
[]
[]
[]
[]
[]
[]
[]
[]
[]
[]
[]
[]
[]
[]
[]
[]
[]
[]
[null,null,null,null,null,null,null,null,null,null,null,null,null,null,null,null,{"$f":"IF('（様式第３）交付申請書（新規融資案件）'!$Q$4=\"\",\"様式第３で受付番号をご入力ください。\",'（様式第３）交付申請書（新規融資案件）'!$Q$4)","v":"様式第３で受付番号をご入力ください。"},null,null,null,null,null,null,null,null,null,null,null,null,null,null,null,null,"04AA-001-01"]
[]
[null,null,null,null,null,null,null,null,"記",null,null,null,null,null,null,null,null,null,null,null,null,null,null,null,null,{"$f":"I67","v":"記"}]
[]
[]
["１．利子補給対象事業者名",null,null,null,null,null,null,null,null,null,null,null,null,null,null,null,null,{"$f":"A70","v":"１．利子補給対象事業者名"}]
[null,null,null,null,null,null,null,null,null,null,null,null,null,null,null,null,null,null,"株式会社○○○○"]
[]
[]
["２．融資名称",null,null,null,null,null,null,null,null,null,null,null,null,null,null,null,null,{"$f":"A74","v":"２．融資名称"}]
[null,null,null,null,null,null,null,null,null,null,null,null,null,null,null,null,null,null,"○○○○○○○にともなう融資"]
[]
[]
["３．利子補給金額",null,null,null,null,null,null,null,null,{"$f":"IF(B79=\"\",\"2022年度の利子補給交付申請額をご入力ください。\n※2022年度単位期間Ⅰと単位期間Ⅱを合算して、\n　 交付申請も可能です。\",\"\")","v":"2022年度の利子補給交付申請額をご入力ください。\n※2022年度単位期間Ⅰと単位期間Ⅱを合算して、\n　 交付申請も可能です。"},null,null,null,null,null,null,null,{"$f":"A78","v":"３．利子補給金額"}]
[null,null,null,null,null,null,null,null,"円",null,null,null,null,null,null,null,null,null,"○○○,○○○",null,null,null,null,null,null,"円"]
[]
[]
["４．交付対象融資の内容",null,null,null,null,null,null,null,null,null,null,null,null,null,null,null,null,{"$f":"A82","v":"４．交付対象融資の内容"}]
[null,null,null,null,null,null,null,null,null,null,null,null,null,null,null,null,null,null,"※（別添１）融資計画詳細　参照"]
[]
["（注）この申請書には、ＳＩＩが指示する書面を添付すること。",null,null,null,null,null,null,null,null,null,null,null,null,null,null,null,null,{"$f":"A85","v":"（注）この申請書には、ＳＩＩが指示する書面を添付すること。"}]

{"sheet":"（別添1）融資計画詳細１（実績報告）","index":23,"n_rows":218,"n_cols":64,"rows_kept":218,"cut":false,"hidden":false,"merged":[[202,34,209,34],[202,39,209,39],[210,1,217,1],[210,7,217,7],[210,12,217,12],[210,28,217,28],[210,34,217,34],[210,39,217,39],[202,0,217,0],[202,1,209,1],[202,7,209,7],[202,12,209,12],[202,27,217,27],[202,28,209,28],[186,34,193,34],[186,39,193,39],[194,1,201,1],[194,7,201,7],[194,12,201,12],[194,28,201,28],[194,34,201,34],[194,39,201,39],[186,0,201,0],[186,1,193,1],[186,7,193,7],[186,12,193,12],[186,27,201,27],[186,28,193,28],[170,34,177,34],[170,39,177,39],[178,1,185,1],[178,7,185,7],[178,12,185,12],[178,28,185,28],[178,34,185,34],[178,39,185,39],[170,0,185,0],[170,1,177,1],[170,7,177,7],[170,12,177,12],[170,27,185,27],[170,28,177,28],[154,34,161,34],[154,39,161,39],[162,1,169,1],[162,7,169,7],[162,12,169,12],[162,28,169,28],[162,34,169,34],[162,39,169,39],[154,0,169,0],[154,1,161,1],[154,7,161,7],[154,12,161,12],[154,27,169,27],[154,28,161,28],[138,34,145,34],[138,39,145,39],[146,1,153,1],[146,7,153,7],[146,12,153,12],[146,28,153,28],[146,34,153,34],[146,39,153,39],[138,0,153,0],[138,1,145,1],[138,7,145,7],[138,12,145,12],[138,27,153,27],[138,28,145,28],[122,34,129,34],[122,39,129,39],[130,1,137,1],[130,7,137,7],[130,12,137,12],[130,28,137,28],[130,34,137,34],[130,39,137,39],[122,0,137,0],[122,1,129,1],[122,7,129,7],[122,12,129,12],[122,27,137,27],[122,28,129,28],[106,34,113,34],[106,39,113,39],[114,1,121,1],[114,7,121,7],[114,12,121,12],[114,28,121,28],[114,34,121,34],[114,39,121,39],[106,0,121,0],[106,1,113,1],[106,7,113,7],[106,12,113,12],[106,27,121,27],[106,28,113,28],[90,34,97,34],[90,39,97,39],[98,1,105,1],[98,7,105,7],[98,12,105,12],[98,28,105,28],[98,34,105,34],[98,39,105,39],[90,0,105,0],[90,1,97,1],[90,7,97,7],[90,12,97,12],[90,27,105,27],[90,28,97,28],[74,34,81,34],[74,39,81,39],[82,1,89,1],[82,7,89,7],[82,12,89,12],[82,28,89,28],[82,34,89,34],[82,39,89,39],[74,0,89,0],[74,1,81,1],[74,7,81,7],[74,12,81,12],[74,27,89,27],[74,28,81,28],[58,34,65,34],[58,39,65,39],[66,1,73,1],[66,7,73,7],[66,12,73,12],[66,28,73,28],[66,34,73,34],[66,39,73,39],[58,0,73,0],[58,1,65,1],[58,7,65,7],[58,12,65,12],[58,27,73,27],[58,28,65,28],[42,0,57,0],[42,1,49,1],[42,7,49,7],[42,12,49,12],[42,27,57,27],[38,0,40,1],[42,28,49,28],[42,34,49,34],[42,39,49,39],[50,1,57,1],[50,7,57,7],[50,12,57,12],[50,28,57,28],[50,34,57,34],[50,39,57,39],[38,29,38,39],[38,40,39,43],[39,2,39,7],[39,8,40,8],[39,9,40,9],[39,10,40,10],[39,11,39,12],[39,18,40,19],[39,20,40,21],[39,22,40,22],[38,2,38,12],[38,13,39,16],[38,18,38,23],[38,24,38,26],[38,27,40,28],[39,23,40,23],[39,26,40,26],[39,29,39,34],[39,35,40,35],[39,36,40,36],[39,37,40,37],[39,38,39,39],[34,10,35,12],[34,13,35,16],[34,37,35,39],[34,40,35,43],[27,35,32,43],[29,2,30,4],[29,5,30,5],[29,29,30,31],[29,32,30,32],[21,32,22,32],[31,0,32,1],[31,2,32,4],[31,5,32,5],[31,27,32,28],[31,29,32,31],[25,32,26,32],[25,33,26,33],[25,35,26,43],[27,0,30,1],[27,2,28,4],[27,5,28,5],[27,8,32,16],[27,27,30,28],[27,29,28,31],[27,32,28,32],[25,0,26,1],[25,2,26,4],[25,5,26,5],[25,8,26,16],[25,27,26,28],[25,29,26,31],[31,32,32,32],[31,33,32,33],[10,33,11,33],[17,35,18,43],[18,0,19,1],[18,2,19,4],[18,5,19,5],[18,27,19,28],[18,29,19,31],[18,32,19,32],[18,33,19,33],[19,8,24,16],[19,35,24,43],[21,33,22,33],[23,0,24,1],[23,2,24,4],[23,5,24,5],[23,27,24,28],[23,29,24,31],[23,32,24,32],[23,33,24,33],[21,0,22,1],[21,2,22,4],[21,5,22,5],[21,27,22,28],[21,29,22,31],[12,29,13,31],[12,32,13,32],[12,33,13,33],[14,0,17,1],[14,2,15,4],[14,5,15,5],[14,27,17,28],[14,29,15,31],[16,2,17,4],[16,5,17,5],[16,29,17,31],[17,8,18,16],[14,32,15,32],[16,32,17,32],[0,0,1,16],[2,2,3,2],[2,29,3,29],[8,32,9,32],[8,33,9,33],[8,35,9,43],[10,0,11,1],[10,2,11,4],[10,5,11,5],[10,8,16,16],[10,27,11,28],[10,29,11,31],[10,32,11,32],[8,0,9,1],[8,2,9,4],[8,5,9,5],[8,8,9,16],[8,27,9,28],[8,29,9,31],[10,35,16,43],[12,0,13,1],[12,2,13,4],[12,5,13,5],[12,27,13,28]]}
["（別添1）融資計画詳細１（実績報告）"]
[]
["（別添１）",null,"実績報告",null,null,null,null,null,null,null,null,null,null,null,null,null,null,null,null,null,null,null,null,null,null,null,null,{"$f":"A3","v":"（別添１）"},null,{"$f":"C3","v":"実績報告"},null,null,null,null,null,null,null,null,null,null,null,null,null,null,null,null,null,null,null,null,null,null,null,null,null,null,null,null,null,null,null,"別添1_C9","融資額",{"$f":"IF(C9=\"\",\"\",C9)","v":""}]
["融資計画詳細１",null,null,null,null,null,null,null,null,null,null,null,null,null,null,null,{"$f":"IF('（様式第３）交付申請書（新規融資案件）'!$Q$4=\"\",\"様式第３で受付番号をご入力ください。\",'（様式第３）交付申請書（新規融資案件）'!$Q$4)","v":"様式第３で受付番号をご入力ください。"},null,null,null,null,null,null,null,null,null,null,{"$f":"A4","v":"融資計画詳細１"},null,null,null,null,null,null,null,null,null,null,null,null,null,null,null,null,null,null,null,null,null,null,null,null,null,null,null,null,null,null,null,null,null,"別添1_C11","元金均等返済額",{"$f":"IF(C11=\"\",\"\",C11)","v":""}]
[null,null,null,null,null,null,null,null,null,null,null,null,null,null,null,null,null,null,null,null,null,null,null,null,null,null,null,null,null,null,null,null,null,null,null,null,null,null,null,null,null,null,null,null,null,null,null,null,null,null,null,null,null,null,null,null,null,null,null,null,null,"別添1_C13","最終弁済額",{"$f":"IF(C13=\"\",\"\",C13)","v":""}]
[null,null,null,null,null,null,null,null,null,null,null,null,null,null,null,null,null,null,null,null,null,null,null,null,null,null,null,null,null,null,null,null,null,null,null,null,null,null,null,null,null,null,null,null,null,null,null,null,null,null,null,null,null,null,null,null,null,null,null,null,null,"別添1_C15","融資期間_自：",{"$f":"IF(C15=\"\",\"\",C15)","v":""}]
["１．融資の内容",null,null,null,null,null,null,null,null,null,null,null,null,null,null,null,null,null,null,null,null,null,null,null,null,null,null,{"$f":"A7","v":"１．融資の内容"},null,null,null,null,null,null,null,null,null,null,null,null,null,null,null,null,null,null,null,null,null,null,null,null,null,null,null,null,null,null,null,null,null,"別添1_C17","融資期間_至：",{"$f":"IF(C17=\"\",\"\",C17)","v":""}]
[null,null,null,null,null,null,null,null,null,null,null,null,null,null,null,null,null,null,null,null,null,null,null,null,null,null,null,null,null,null,null,null,null,null,null,null,null,null,null,null,null,null,null,null,null,null,null,null,null,null,null,null,null,null,null,null,null,null,null,null,null,"別添1_C19","融資利率",{"$f":"IF(C19=\"\",\"\",C19)","v":""}]
["融資額",null,null,null,null,"円",null,null,"融資備考欄",null,null,null,null,null,null,null,null,null,null,null,null,null,null,null,null,null,null,{"$f":"A9","v":"融資額"},null,84000000,null,null,{"$f":"F9","v":"円"},null,null,"融資備考欄",null,null,null,null,null,null,null,null,null,null,null,null,null,null,null,null,null,null,null,null,null,null,null,null,null,"別添1_C22","内　交付対象融資額",{"$f":"IF(C22=\"\",\"\",C22)","v":""}]
[null,null,null,null,null,null,null,null,null,null,null,null,null,null,null,null,null,null,null,null,null,null,null,null,null,null,null,null,null,null,null,null,null,null,null,null,null,null,null,null,null,null,null,null,null,null,null,null,null,null,null,null,null,null,null,null,null,null,null,null,null,"別添1_C24","元金均等返済額",{"$f":"IF(C24=\"\",\"\",C24)","v":""}]
["元金均等返済額",null,null,null,null,"円",null,null,"",null,null,null,null,null,null,null,null,null,null,null,null,null,null,null,null,null,null,{"$f":"A11","v":"元金均等返済額"},null,1000000,null,null,{"$f":"F11","v":"円"},null,null,null,null,null,null,null,null,null,null,null,null,null,null,null,null,null,null,null,null,null,null,null,null,null,null,null,null,"別添1_C26","最終弁済額",{"$f":"IF(C26=\"\",\"\",C26)","v":""}]
[null,null,null,null,null,null,null,null,null,null,null,null,null,null,null,null,null,null,null,null,null,null,null,null,null,null,null,null,null,null,null,null,null,null,null,null,null,null,null,null,null,null,null,null,null,null,null,null,null,null,null,null,null,null,null,null,null,null,null,null,null,"別添1_C28","交付対象融資期間_自：",{"$f":"IF(C28=\"\",\"\",C28)","v":""}]
["最終弁済額",null,null,null,null,"円",null,null,null,null,null,null,null,null,null,null,null,null,null,null,null,null,null,null,null,null,null,{"$f":"A13","v":"最終弁済額"},null,1000000,null,null,{"$f":"F13","v":"円"},null,null,null,null,null,null,null,null,null,null,null,null,null,null,null,null,null,null,null,null,null,null,null,null,null,null,null,null,"別添1_C30","交付対象融資期間_至：",{"$f":"IF(C30=\"\",\"\",C30)","v":""}]
[null,null,null,null,null,null,null,null,null,null,null,null,null,null,null,null,null,null,null,null,null,null,null,null,null,null,null,null,null,null,null,null,null,null,null,null,null,null,null,null,null,null,null,null,null,null,null,null,null,null,null,null,null,null,null,null,null,null,null,null,null,"別添1_C32","利子補給率",{"$f":"IF(C32=\"\",\"\",C32)","v":""}]
["融資期間",null,null,null,null,"(自)",null,null,null,null,null,null,null,null,null,null,null,null,null,null,null,null,null,null,null,null,null,{"$f":"A15","v":"融資期間"},null,"2022-11-01",null,null,{"$f":"F15","v":"(自)"},null,null,null,null,null,null,null,null,null,null,null,null,null,null,null,null,null,null,null,null,null,null,null,null,null,null,null,null,"別添1_M43","利子補給金交付申請額（円）合計_単位期間Ⅰ",{"$f":"IF(M43=\"\",\"\",M43)","v":""}]
[null,null,null,null,null,null,null,null,null,null,null,null,null,null,null,null,null,null,null,null,null,null,null,null,null,null,null,null,null,null,null,null,null,null,null,null,null,null,null,null,null,null,null,null,null,null,null,null,null,null,null,null,null,null,null,null,null,null,null,null,null,"別添1_M51","利子補給金交付申請額（円）合計_単位期間Ⅱ",{"$f":"IF(M51=\"\",\"\",M51)","v":""}]
[null,null,null,null,null,"(至)",null,null,null,null,null,null,null,null,null,null,null,null,null,null,null,null,null,null,null,null,null,null,null,"2029-10-31",null,null,{"$f":"F17","v":"(至)"},null,null,null,null,null,null,null,null,null,null,null,null,null,null,null,null,null,null,null,null,null,null,null,null,null,null,null,null,"別添1_N35","利子補給金交付申請額合計（円）",{"$f":"IF(N35=\"\",\"\",N35)","v":0}]
[null,null,null,null,null,null,null,null,"協調融資",null,null,null,null,null,null,null,null,null,null,null,null,null,null,null,null,null,null,null,null,null,null,null,null,null,null,"協調融資",null,null,null,null,null,null,null,null,null,null,null,null,null,null,null,null,null,null,null,null,null,null,null,null,null,"別添1_I11","融資備考欄",{"$f":"IF(I11=\"\",\"\",I11)","v":""}]
["融資利率",null,null,null,null,"％",null,null,null,null,null,null,null,null,null,null,null,null,null,null,null,null,null,null,null,null,null,{"$f":"A19","v":"融資利率"},null,1.1000000000000001,null,null,{"$f":"F19","v":"％"},null,null,null,null,null,null,null,null,null,null,null,null,null,null,null,null,null,null,null,null,null,null,null,null,null,null,null,null,"別添1_I21","協調融資",{"$f":"IF(I20=\"\",\"\",I20)","v":""}]
[null,null,null,null,null,null,null,null,"",null,null,null,null,null,null,null,null,null,null,null,null,null,null,null,null,null,null,null,null,null,null,null,null,null,null,"本件融資は協調融資となります。\n△△銀行　融資額　○○○,○○○,○○○円\n□□銀行　融資額　○○○,○○○,○○○円",null,null,null,null,null,null,null,null,null,null,null,null,null,null,null,null,null,null,null,null,null,null,null,null,null,"別添1_I28","シンジケートローン",{"$f":"IF(I28=\"\",\"\",I28)","v":""}]
[]
["内　交付対象融資額",null,null,null,null,"円",null,null,null,null,null,null,null,null,null,null,null,null,null,null,null,null,null,null,null,null,null,{"$f":"A22","v":"内　交付対象融資額"},null,84000000,null,null,{"$f":"F22","v":"円"}]
[]
["元金均等返済額",null,null,null,null,"円",null,null,null,null,null,null,null,null,null,null,null,null,null,null,null,null,null,null,null,null,null,{"$f":"A24","v":"元金均等返済額"},null,1000000,null,null,{"$f":"F24","v":"円"}]
[]
["最終弁済額",null,null,null,null,"円",null,null,"シンジケートローン",null,null,null,null,null,null,null,null,null,null,null,null,null,null,null,null,null,null,{"$f":"A26","v":"最終弁済額"},null,1000000,null,null,{"$f":"F26","v":"円"},null,null,"シンジケートローン"]
[]
["交付対象融資期間",null,null,null,null,"(自)",null,null,"",null,null,null,null,null,null,null,null,null,null,null,null,null,null,null,null,null,null,{"$f":"A28","v":"交付対象融資期間"},null,"2022-11-01",null,null,{"$f":"F28","v":"(自)"},null,null,"本件融資はシンジケートローンを利用します。\n・アレンジャー\n○○銀行　融資額　○○○,○○○,○○○円\n・シンジケート団\n△△銀行　融資額　○○○,○○○,○○○円\n□□銀行　融資額　○○○,○○○,○○○円"]
[]
[null,null,null,null,null,"(至)",null,null,null,null,null,null,null,null,null,null,null,null,null,null,null,null,null,null,null,null,null,null,null,"2029-10-31",null,null,{"$f":"F30","v":"(至)"}]
[]
["利子補給率",null,null,null,null,"％",null,null,null,null,null,null,null,null,null,null,null,null,null,null,null,null,null,null,null,null,null,{"$f":"A32","v":"利子補給率"},null,1,null,null,{"$f":"F32","v":"％"}]
[]
[null,null,null,null,null,null,null,null,null,null,null,null,null,null,null,null,null,null,null,null,null,null,null,null,null,null,null,null,1]
[null,null,null,null,null,null,null,null,null,null,"利子補給金交付申請額合計（円）",null,null,{"$f":"SUMIF(M43:M218,\"<>#VALUE!\")","v":0},null,null,null,null,"数式ありのセル",null,null,null,null,null,null,null,null,null,null,null,null,null,null,null,null,null,null,{"$f":"K35","v":"利子補給金交付申請額合計（円）"},null,null,2973515]
[]
["２．申請する利子補給金の額",null,null,null,null,null,null,null,null,null,null,null,null,null,null,null,null,null,"エラーメッセージ",null,null,null,null,null,"エラーメッセージ",null,null,{"$f":"A37","v":"２．申請する利子補給金の額"}]
[null,null,null,null,{"$f":"IF(OR(E43>0,E51>0),\"\",\"↓上記にて交付対象融資期間を入力後、以下の「終了日」、「融資残高」、「交付対象融資残高」をご入力ください。\")","v":"↓上記にて交付対象融資期間を入力後、以下の「終了日」、「融資残高」、「交付対象融資残高」をご入力ください。"},null,null,null,null,null,null,null,null,null,null,null,"曜日色：土曜（青）、日曜（赤）、祝日（緑）※祝日は2022年5月時点",null,"↑開始日と終了日の入力に誤りがないかご確認ください。",null,null,null,null,null,"残高をご確認ください。"]
["単位期間",null,"利子補給金の額",null,null,null,null,null,null,null,null,null,null,"元金均等返済額\n（円）",null,null,null,null,"単位期間",null,null,null,null,null,"元金均等返済額",null,null,{"$f":"A39","v":"単位期間"},null,{"$f":"C39","v":"利子補給金の額"},null,null,null,null,null,null,null,null,null,null,{"$f":"N39","v":"元金均等返済額\n（円）"}]
[null,null,"単位期間",null,null,null,null,null,"融資残高\n（円）","交付対象\n融資残高\n（円）","利子\n補給率","利子補給金交付申請額（円）",null,null,null,null,null,null,"①日付の重複\n②「終了日-開始日」が1日以上あいている",null,"③単位期間以外の日程記載NG",null,"④日数が0","NG\nカウント","融資額","交付対象融資額","NG\nカウント",null,null,{"$f":"C40","v":"単位期間"},null,null,null,null,null,{"$f":"I40","v":"融資残高\n（円）"},{"$f":"J40","v":"交付対象\n融資残高\n（円）"},{"$f":"K40","v":"利子\n補給率"},{"$f":"L40","v":"利子補給金交付申請額（円）"}]
[null,null,"開始日","曜日","終了日","曜日","日数","日数\n（合計）",null,null,null,null,"合計（円）","計算用セル\n（配布時非表示）","融資額","計算用セル\n（配布時非表示）","交付対象\n融資額",null,null,null,null,null,null,null,{"$f":"$C$11","v":0},{"$f":"$C$24","v":0},null,null,null,{"$f":"C41","v":"開始日"},{"$f":"D41","v":"曜日"},{"$f":"E41","v":"終了日"},{"$f":"F41","v":"曜日"},{"$f":"G41","v":"日数"},{"$f":"H41","v":"日数\n（合計）"},null,null,null,null,{"$f":"M41","v":"合計（円）"},"計算用セル\n（配布時非表示）",{"$f":"O41","v":"融資額"},"計算用セル\n（配布時非表示）",{"$f":"Q41","v":"交付対象\n融資額"}]
[null,null,null,null,null,null,null,null,null,null,null,null,null,null,null,null,null,null,{"$f":"IF(C42=\"\",\"\",IF(C42>E42,\"NG\",\"\"))","v":""},{"$f":"IF(E42=\"\",\"\",IF(C43=\"\",\"\",IF(E42>C43,\"NG\",\"\")))","v":""},"2022-03-09","2022-09-12"]
["2022年度","単位期間Ⅰ",{"$f":"IF(C28=\"\",\"\",IF(C28<=DATE(2022,9,10),C28,\"\"))","v":""},{"$f":"IF(C43=\"\",\"\",C43)","v":""},null,{"$f":"IF(E43=\"\",\"\",E43)","v":""},{"$f":"IF(E43=\"\",\"\",E43-C43+1)","v":""},{"$f":"IF(G43=\"\",\"\",SUM(G43:G50))","v":""},null,null,{"$f":"C32/100","v":0},{"$f":"IF(J43=\"\",\"\",ROUNDDOWN(J43*K43*G43/365,0))","v":""},{"$f":"IF(L43=\"\",\"\",SUM(L43:L50))","v":""},{"$f":"IF(I43=\"\",N42,I43)","v":0},"-",{"$f":"IF(J43=\"\",P42,J43)","v":0},"-",null,{"$f":"IF(C43=\"\",\"\",IF(C43>E43,\"NG\",\"\"))","v":""},"",{"$f":"IF(C43=\"\",\"\",IF(C43<$U42,\"NG\",IF(C43>$V42,\"NG\",\"\")))","v":""},{"$f":"IF(E43=\"\",\"\",IF(C43<$U$42,\"NG\",IF(E43>$V$42,\"NG\",\"\")))","v":""},{"$f":"IF(G43>0,\"\",\"NG\")","v":""},{"$f":"COUNTIF(S43:W43,\"NG\")","v":0},"-","-","-",{"$f":"A43","v":"2022年度"},{"$f":"B43","v":"単位期間Ⅰ"},null,{"$f":"IF(AD43=\"\",\"\",AD43)","v":""},null,{"$f":"IF(AF43=\"\",\"\",AF43)","v":""},{"$f":"IF(AD43=\"\",\"\",AF43-AD43+1)","v":""},{"$f":"IF(AH43=\"\",\"\",SUM(AH43:AH50))","v":""},null,null,{"$f":"AD32/100","v":0.01},{"$f":"IF(AF43=\"\",\"\",ROUNDDOWN(AK43*AL43*AH43/365,0))","v":""},{"$f":"IF(AM43=\"\",\"\",SUM(AM43:AM50))","v":""},{"$f":"IF(AJ43=\"\",AO42,AJ43)","v":0},"-",{"$f":"IF(AK43=\"\",AQ42,AK43)","v":0},"-"]
[null,null,{"$f":"IF(E44=\"\",\"\",IF(E43=\"\",\"\",IF(E43>=DATE(2022,9,10),\"\",E43+1)))","v":""},{"$f":"IF(C44=\"\",\"\",C44)","v":""},null,{"$f":"IF(E44=\"\",\"\",E44)","v":""},{"$f":"IF(E44=\"\",\"\",E44-C44+1)","v":""},null,{"$f":"IF(I43=\"\",\"\",IF(E44=\"\",\"\",I43-$C$11))","v":""},{"$f":"IF(J43=\"\",\"\",IF(F44=\"\",\"\",J43-$C$24))","v":""},{"$f":"IF(K43=\"\",\"\",$K$43)","v":0},{"$f":"IF(J44=\"\",\"\",ROUNDDOWN(J44*K44*G44/365,0))","v":""},null,{"$f":"IF(I44=\"\",N43,I44)","v":0},{"$f":"N43-N44","v":0},{"$f":"IF(J44=\"\",P43,J44)","v":0},{"$f":"P43-P44","v":0},{"$f":"IF(AA44>0,$Y$38,\"\")","v":""},{"$f":"IF(C44=\"\",\"\",IF(C44=E43,\"NG\",IF(C44<E43,\"NG\",IF((C44-E43)>1,\"NG\",\"\"))))","v":""},"",null,{"$f":"IF(E44=\"\",\"\",IF(C44<$U$42,\"NG\",IF(E44>$V$42,\"NG\",\"\")))","v":""},{"$f":"IF(G44>0,\"\",\"NG\")","v":""},{"$f":"COUNTIF(S44:W44,\"NG\")","v":0},{"$f":"IF($O44=0,\"\",IF($O44=$Y$41,\"\",\"NG\"))","v":""},{"$f":"IF($Q44=0,\"\",IF($Q44=$Z$41,\"\",\"NG\"))","v":""},{"$f":"COUNTIF(Y44:Z44,\"NG\")","v":0},null,null,null,{"$f":"IF(AD44=\"\",\"\",AD44)","v":""},null,{"$f":"IF(AF44=\"\",\"\",AF44)","v":""},{"$f":"IF(AD44=\"\",\"\",AF44-AD44+1)","v":""},null,{"$f":"IF(AJ43=\"\",\"\",IF(AF44=\"\",\"\",AJ43-$C$11))","v":""},{"$f":"IF(AK43=\"\",\"\",IF(AG44=\"\",\"\",AK43-$C$24))","v":""},0.01,{"$f":"IF(AF44=\"\",\"\",ROUNDDOWN(AK44*AL44*AH44/365,0))","v":""},null,0,{"$f":"AO43-AO44","v":0},0,{"$f":"AQ43-AQ44","v":0}]
[null,null,{"$f":"IF(E45=\"\",\"\",IF(E44=\"\",\"\",IF(E44>=DATE(2022,9,10),\"\",E44+1)))","v":""},"",null,{"$f":"IF(E45=\"\",\"\",E45)","v":""},{"$f":"IF(E45=\"\",\"\",E45-C45+1)","v":""},null,{"$f":"IF(I44=\"\",\"\",IF(E45=\"\",\"\",I44-$C$11))","v":""},{"$f":"IF(J44=\"\",\"\",IF(F45=\"\",\"\",J44-$C$24))","v":""},{"$f":"IF(K44=\"\",\"\",$K$43)","v":0},"",null,{"$f":"IF(I45=\"\",N44,I45)","v":0},{"$f":"N44-N45","v":0},{"$f":"IF(J45=\"\",P44,J45)","v":0},{"$f":"P44-P45","v":0},{"$f":"IF(AA45>0,$Y$38,\"\")","v":""},"","",null,{"$f":"IF(E45=\"\",\"\",IF(C45<$U$42,\"NG\",IF(E45>$V$42,\"NG\",\"\")))","v":""},"",0,{"$f":"IF($O45=0,\"\",IF($O45=$Y$41,\"\",\"NG\"))","v":""},{"$f":"IF($Q45=0,\"\",IF($Q45=$Z$41,\"\",\"NG\"))","v":""},0,null,null,{"$f":"IF(AF45=\"\",\"\",IF(AF44=\"\",\"\",IF(AF44>=DATE(2021,9,10),\"\",AF44+1)))","v":""},"",null,"","",null,{"$f":"IF(AJ44=\"\",\"\",IF(AF45=\"\",\"\",AJ44-$C$11))","v":""},{"$f":"IF(AK44=\"\",\"\",IF(AG45=\"\",\"\",AK44-$C$24))","v":""},0.01,{"$f":"IF(AF45=\"\",\"\",ROUNDDOWN(AK45*AL45*AH45/365,0))","v":""},null,0,{"$f":"AO44-AO45","v":0},0,{"$f":"AQ44-AQ45","v":0}]
[null,null,{"$f":"IF(E46=\"\",\"\",IF(E45=\"\",\"\",IF(E45>=DATE(2022,9,10),\"\",E45+1)))","v":""},"",null,{"$f":"IF(E46=\"\",\"\",E46)","v":""},{"$f":"IF(E46=\"\",\"\",E46-C46+1)","v":""},null,{"$f":"IF(I45=\"\",\"\",IF(E46=\"\",\"\",I45-$C$11))","v":""},{"$f":"IF(J45=\"\",\"\",IF(F46=\"\",\"\",J45-$C$24))","v":""},{"$f":"IF(K45=\"\",\"\",$K$43)","v":0},"",null,0,0,0,0,"","","",null,"","",0,"","",0,null,null,"","",null,"","",null,{"$f":"IF(AJ45=\"\",\"\",IF(AF46=\"\",\"\",AJ45-$C$11))","v":""},"",0.01,"",null,0,0,0,0]
[null,null,{"$f":"IF(E47=\"\",\"\",IF(E46=\"\",\"\",IF(E46>=DATE(2022,9,10),\"\",E46+1)))","v":""},"",null,{"$f":"IF(E47=\"\",\"\",E47)","v":""},"",null,{"$f":"IF(I46=\"\",\"\",IF(E47=\"\",\"\",I46-$C$11))","v":""},"",{"$f":"IF(K46=\"\",\"\",$K$43)","v":0},"",null,0,0,0,0,"","","",null,"","",0,"","",0,null,null,"","",null,"","",null,"","",0.01,"",null,0,0,0,0]
[null,null,{"$f":"IF(E48=\"\",\"\",IF(E47=\"\",\"\",IF(E47>=DATE(2022,9,10),\"\",E47+1)))","v":""},"",null,"","",null,"","",{"$f":"IF(K47=\"\",\"\",$K$43)","v":0},"",null,0,0,0,0,"","","",null,"","",0,"","",0,null,null,"","",null,"","",null,"","",0.01,"",null,0,0,0,0]
[null,null,"","",null,"","",null,"","",0,"",null,0,0,0,0,"","",{"$f":"IF(D49=\"\",\"\",IF(D49<C49,\"NG\",\"\"))","v":""},null,{"$f":"IF(E49=\"\",\"\",IF(C49<$U$42,\"NG\",IF(E49>$V$42,\"NG\",\"\")))","v":""},{"$f":"IF(G49>0,\"\",\"NG\")","v":""},0,"","",0,null,null,"","",null,"","",null,"","",0.01,"",null,0,0,0,0]
[null,null,{"$f":"IF(X50>0,$S$38,\"\")","v":""},null,null,null,"Null",null,null,null,0,{"$f":"IF(J50=\"\",\"\",ROUNDDOWN(J50*K50*G50/365,0))","v":""},null,0,0,0,0,"",null,null,"2022-09-09","2023-03-12",null,{"$f":"SUM(X43:X49)","v":0},"","",0,null,null,{"$f":"IF($C$220>0,$H$224,IF($E$220>0,$H$224,\"\"))","v":""},"",null,"",null,null,null,null,0.01,"",null,0,0,0,0]
[null,"単位期間Ⅱ",{"$f":"IF(C28=\"\",\"\",IF(E49>M225,E49+1,IF(E48>M225,E48+1,IF(E47>M225,E47+1,IF(E46>M225,E46+1,IF(E45>M225,E45+1,IF(E44>M225,E44+1,IF(E43>M225,E43+1,IF(C28>M225,C28,\"\")))))))))","v":""},{"$f":"IF(C51=\"\",\"\",C51)","v":""},null,{"$f":"IF(E51=\"\",\"\",E51)","v":""},{"$f":"IF(E51=\"\",\"\",E51-C51+1)","v":""},{"$f":"IF(G51=\"\",\"\",SUM(G51:G58))","v":""},null,null,{"$f":"IF(K50=\"\",\"\",$K$43)","v":0},{"$f":"IF(J51=\"\",\"\",ROUNDDOWN(J51*K51*G51/365,0))","v":""},{"$f":"IF(L51=\"\",\"\",SUM(L51:L58))","v":""},{"$f":"IF(I51=\"\",N50,I51)","v":0},{"$f":"IF(N50-N51<0,0,N50-N51)","v":0},{"$f":"IF(J51=\"\",P50,J51)","v":0},{"$f":"IF(P50-P51<0,0,P50-P51)","v":0},"",{"$f":"IF(C51=\"\",\"\",IF(C51>E51,\"NG\",\"\"))","v":""},{"$f":"IF(E51=\"\",\"\",IF(C52=\"\",\"\",IF(E51>C52,\"NG\",\"\")))","v":""},{"$f":"IF(C51=\"\",\"\",IF(C51<$U50,\"NG\",IF(C51>$V50,\"NG\",\"\")))","v":""},{"$f":"IF(E51=\"\",\"\",IF(C51<$U$50,\"NG\",IF(E51>$V$50,\"NG\",\"\")))","v":""},{"$f":"IF(G51>0,\"\",\"NG\")","v":""},{"$f":"COUNTIF(S51:W51,\"NG\")","v":0},"","",0,null,{"$f":"B51","v":"単位期間Ⅱ"},"2022-11-01",44866,"2022-11-30",44895,{"$f":"IF(AD51=\"\",\"\",AF51-AD51+1)","v":30},{"$f":"IF(AH51=\"\",\"\",SUM(AH51:AH58))","v":130},84000000,84000000,0.01,{"$f":"IF(AD51=\"\",\"\",ROUNDDOWN(AK51*AL51*AH51/365,0))","v":69041},{"$f":"IF(AM51=\"\",\"\",SUM(AM51:AM58))","v":293230},84000000,0,84000000,0]
[null,null,{"$f":"IF(E52=\"\",\"\",IF(E51=\"\",\"\",IF(E51>=DATE(2023,3,10),\"\",E51+1)))","v":""},{"$f":"IF(C52=\"\",\"\",C52)","v":""},null,"",{"$f":"IF(E52=\"\",\"\",E52-C52+1)","v":""},null,{"$f":"IF(I51=\"\",\"\",IF(E52=\"\",\"\",I51-$C$11))","v":""},{"$f":"IF(J51=\"\",\"\",IF(F52=\"\",\"\",J51-$C$24))","v":""},0,{"$f":"IF(J52=\"\",\"\",ROUNDDOWN(J52*K52*G52/365,0))","v":""},null,{"$f":"IF(I52=\"\",N51,I52)","v":0},{"$f":"N51-N52","v":0},{"$f":"IF(J52=\"\",P51,J52)","v":0},{"$f":"P51-P52","v":0},"",{"$f":"IF(C52=\"\",\"\",IF(C52=E51,\"NG\",IF(C52<E51,\"NG\",IF((C52-E51)>1,\"NG\",\"\"))))","v":""},{"$f":"IF(E52=\"\",\"\",IF(C53=\"\",\"\",IF(E52>C53,\"NG\",\"\")))","v":""},null,{"$f":"IF(E52=\"\",\"\",IF(C52<$U$50,\"NG\",IF(E52>$V$50,\"NG\",\"\")))","v":""},{"$f":"IF(G52>0,\"\",\"NG\")","v":""},{"$f":"COUNTIF(S52:W52,\"NG\")","v":0},"","",0,null,null,"2022-12-01",44896,"2022-12-31",{"$f":"IF(AF52=\"\",\"\",AF52)","v":44926},{"$f":"IF(AD52=\"\",\"\",AF52-AD52+1)","v":31},null,{"$f":"IF(AJ51=\"\",\"\",IF(AF52=\"\",\"\",AJ51-$AD$11))","v":83000000},{"$f":"IF(AK51=\"\",\"\",IF(AG52=\"\",\"\",AK51-$AD$24))","v":83000000},0.01,70493,null,83000000,1000000,83000000,1000000]
[null,null,"","",null,"","",null,{"$f":"IF(I52=\"\",\"\",IF(E53=\"\",\"\",I52-$C$11))","v":""},{"$f":"IF(J52=\"\",\"\",IF(F53=\"\",\"\",J52-$C$24))","v":""},0,"",null,0,0,0,{"$f":"P52-P53","v":0},"",{"$f":"IF(C53=\"\",\"\",IF(C53=E52,\"NG\",IF(C53<E52,\"NG\",IF((C53-E52)>1,\"NG\",\"\"))))","v":""},"",null,"","",0,"","",0,null,null,"2023-01-01",44927,"2023-01-31",44957,31,null,{"$f":"IF(AJ52=\"\",\"\",IF(AF53=\"\",\"\",AJ52-$AD$11))","v":82000000},{"$f":"IF(AK52=\"\",\"\",IF(AG53=\"\",\"\",AK52-$AD$24))","v":82000000},0.01,69643,null,82000000,1000000,82000000,1000000]
[null,null,"","",null,"","",null,"","",0,"",null,0,0,0,0,"","","",null,"","",0,"","",0,null,null,"2023-02-01",44958,"2023-02-28",44985,28,null,81000000,81000000,0.01,62136,null,81000000,1000000,81000000,1000000]
[null,null,"","",null,"","",null,"","",0,"",null,0,0,0,0,"","","",null,"","",0,"","",0,null,null,"2023-03-01",44986,"2023-03-10",{"$f":"IF(AF55=\"\",\"\",AF55)","v":44995},10,null,80000000,80000000,0.01,21917,null,80000000,1000000,80000000,1000000]
[null,null,"","",null,"","",null,"","",0,"",null,0,0,0,0,"","","",null,"","",0,"","",0,null,null,null,"",null,{"$f":"IF(AF56=\"\",\"\",AF56)","v":""},"",null,"","",0.01,"",null,80000000,0,80000000,0]
[null,null,"","",null,"","",null,"","",0,"",null,0,0,0,0,"",{"$f":"IF(C57=\"\",\"\",IF(C57=E56,\"NG\",IF(C57<E56,\"NG\",IF((C57-E56)>1,\"NG\",\"\"))))","v":""},{"$f":"IF(D57=\"\",\"\",IF(D57<C57,\"NG\",\"\"))","v":""},null,"",{"$f":"IF(G57>0,\"\",\"NG\")","v":""},0,"","",0,null,null,null,"",null,{"$f":"IF(AF57=\"\",\"\",AF57)","v":""},"",null,"","",0.01,"",null,80000000,0,80000000,0]
[null,null,{"$f":"IF(X58>0,$S$38,\"\")","v":""},null,null,null,"Null",null,null,null,0,{"$f":"IF(J58=\"\",\"\",ROUNDDOWN(J58*K58*G58/365,0))","v":""},null,0,{"$f":"N57-N58","v":0},0,0,"",null,null,"2023-03-09","2023-09-12",null,{"$f":"SUM(X51:X57)","v":0},"","",0,null,null,{"$f":"IF($C$238>0,$H$242,IF($E$238>0,$H$242,\"\"))","v":""},"",null,"",null,null,"","",0.01,"",null,80000000,0,80000000,0]
["2023年度","単位期間Ⅰ",{"$f":"IF(E59=\"\",\"\",IF(E57>0,E57+1,IF(E56>0,E56+1,IF(E55>0,E55+1,IF(E54>0,E54+1,IF(E53>0,E53+1,IF(E52>0,E52+1,E51+1)))))))","v":""},{"$f":"IF(C59=\"\",\"\",C59)","v":""},null,{"$f":"IF(E59=\"\",\"\",E59)","v":""},{"$f":"IF(E59=\"\",\"\",E59-C59+1)","v":""},{"$f":"IF(G59=\"\",\"\",SUM(G59:G66))","v":""},null,null,{"$f":"IF(K58=\"\",\"\",$K$43)","v":0},{"$f":"IF(J59=\"\",\"\",ROUNDDOWN(J59*K59*G59/365,0))","v":""},{"$f":"IF(L59=\"\",\"\",SUM(L59:L66))","v":""},{"$f":"IF(I59=\"\",N58,I59)","v":0},{"$f":"N58-N59","v":0},{"$f":"IF(J59=\"\",P58,J59)","v":0},0,"",{"$f":"IF(C59=\"\",\"\",IF(C59>E59,\"NG\",\"\"))","v":""},{"$f":"IF(E59=\"\",\"\",IF(C60=\"\",\"\",IF(E59>C60,\"NG\",\"\")))","v":""},{"$f":"IF(C59=\"\",\"\",IF(C59<$U58,\"NG\",IF(C59>$V58,\"NG\",\"\")))","v":""},{"$f":"IF(E59=\"\",\"\",IF(C59<$U$58,\"NG\",IF(E59>$V$58,\"NG\",\"\")))","v":""},{"$f":"IF(G59>0,\"\",\"NG\")","v":""},{"$f":"COUNTIF(S59:W59,\"NG\")","v":0},"","",0,{"$f":"A59","v":"2023年度"},"単位期間Ⅰ","2023-03-11",44996,"2023-03-31",45016,{"$f":"IF(AD59=\"\",\"\",AF59-AD59+1)","v":21},{"$f":"IF(AH59=\"\",\"\",SUM(AH59:AH66))","v":184},80000000,80000000,0.01,{"$f":"IF(AF59=\"\",\"\",ROUNDDOWN(AK59*AL59*AH59/365,0))","v":46027},{"$f":"IF(AM59=\"\",\"\",SUM(AM59:AM66))","v":389009},80000000,"-",80000000,"-"]
[null,null,{"$f":"IF(E60=\"\",\"\",IF(E59=\"\",\"\",IF(E59>=DATE(2023,9,10),\"\",E59+1)))","v":""},{"$f":"IF(C60=\"\",\"\",C60)","v":""},null,{"$f":"IF(E60=\"\",\"\",E60)","v":""},{"$f":"IF(E60=\"\",\"\",E60-C60+1)","v":""},null,{"$f":"IF(I59=\"\",\"\",IF(E60=\"\",\"\",I59-$C$11))","v":""},{"$f":"IF(J59=\"\",\"\",IF(F60=\"\",\"\",J59-$C$24))","v":""},{"$f":"IF(K59=\"\",\"\",$K$43)","v":0},{"$f":"IF(J60=\"\",\"\",ROUNDDOWN(J60*K60*G60/365,0))","v":""},null,{"$f":"IF(I60=\"\",N59,I60)","v":0},{"$f":"N59-N60","v":0},{"$f":"IF(J60=\"\",P59,J60)","v":0},{"$f":"P59-P60","v":0},"",{"$f":"IF(C60=\"\",\"\",IF(C60=E59,\"NG\",IF(C60<E59,\"NG\",IF((C60-E59)>1,\"NG\",\"\"))))","v":""},{"$f":"IF(E60=\"\",\"\",IF(C61=\"\",\"\",IF(E60>C61,\"NG\",\"\")))","v":""},null,{"$f":"IF(E60=\"\",\"\",IF(C60<$U$58,\"NG\",IF(E60>$V$58,\"NG\",\"\")))","v":""},{"$f":"IF(G60>0,\"\",\"NG\")","v":""},{"$f":"COUNTIF(S60:W60,\"NG\")","v":0},"","",0,null,null,"2023-04-01",45017,"2023-04-30",45046,{"$f":"IF(AD60=\"\",\"\",AF60-AD60+1)","v":30},null,79000000,79000000,0.01,{"$f":"IF(AF60=\"\",\"\",ROUNDDOWN(AK60*AL60*AH60/365,0))","v":64931},null,79000000,{"$f":"AO59-AO60","v":1000000},79000000,{"$f":"AQ59-AQ60","v":1000000}]
[null,null,"","",null,"","",null,{"$f":"IF(I60=\"\",\"\",IF(E61=\"\",\"\",I60-$C$11))","v":""},{"$f":"IF(J60=\"\",\"\",IF(F61=\"\",\"\",J60-$C$24))","v":""},0,"",null,{"$f":"IF(I61=\"\",N60,I61)","v":0},{"$f":"N60-N61","v":0},{"$f":"IF(J61=\"\",P60,J61)","v":0},{"$f":"P60-P61","v":0},"",{"$f":"IF(C61=\"\",\"\",IF(C61=E60,\"NG\",IF(C61<E60,\"NG\",IF((C61-E60)>1,\"NG\",\"\"))))","v":""},"",null,"","",0,"","",0,null,null,"2023-05-01",45047,"2023-05-31",45077,31,null,78000000,78000000,0.01,{"$f":"IF(AF61=\"\",\"\",ROUNDDOWN(AK61*AL61*AH61/365,0))","v":66246},null,78000000,{"$f":"AO60-AO61","v":1000000},78000000,{"$f":"AQ60-AQ61","v":1000000}]
[null,null,"","",null,"","",null,{"$f":"IF(I61=\"\",\"\",IF(E62=\"\",\"\",I61-$C$11))","v":""},{"$f":"IF(J61=\"\",\"\",IF(F62=\"\",\"\",J61-$C$24))","v":""},0,"",null,0,0,0,0,"","","",null,"","",0,"","",0,null,null,"2023-06-01",45078,"2023-06-30",45107,30,null,77000000,77000000,0.01,63287,null,77000000,1000000,77000000,1000000]
[null,null,"","",null,"","",null,"","",0,"",null,0,0,0,0,"","","",null,"","",0,"","",0,null,null,"2023-07-01",45108,"2023-07-31",45138,31,null,76000000,76000000,0.01,64547,null,76000000,1000000,76000000,1000000]
[null,null,"","",null,"","",null,"","",0,"",null,0,0,0,0,"","",{"$f":"IF(E64=\"\",\"\",IF(C65=\"\",\"\",IF(E64>C65,\"NG\",\"\")))","v":""},null,"","",0,"","",0,null,null,"2023-08-01",45139,"2023-08-31",45169,31,null,75000000,75000000,0.01,63698,null,75000000,1000000,75000000,1000000]
[null,null,"","",null,"","",null,"","",0,"",null,0,0,0,0,"","",{"$f":"IF(D65=\"\",\"\",IF(D65<C65,\"NG\",\"\"))","v":""},null,"","",0,"","",0,null,null,"2023-09-01",45170,"2023-09-10",45179,10,null,74000000,74000000,0.01,20273,null,74000000,1000000,74000000,1000000]
[null,null,{"$f":"IF(X66>0,$S$38,\"\")","v":""},null,null,null,"Null",null,null,null,0,{"$f":"IF(J66=\"\",\"\",ROUNDDOWN(J66*K66*G66/365,0))","v":""},null,0,0,0,0,"",null,null,"2023-09-09","2024-03-12",null,{"$f":"SUM(X59:X65)","v":0},"","",0,null,null,null,"",null,"",null,null,null,null,0.01,"",null,74000000,0,74000000,0]
[null,"単位期間Ⅱ",{"$f":"IF(E67=\"\",\"\",IF(E65>M240,E65+1,IF(E64>M240,E64+1,IF(E63>M240,E63+1,IF(E62>M240,E62+1,IF(E61>M240,E61+1,IF(E60>M240,E60+1,IF(E59>M240,E59+1,IF(C44>M240,C44,\"\")))))))))","v":""},{"$f":"IF(C67=\"\",\"\",C67)","v":""},null,{"$f":"IF(E67=\"\",\"\",E67)","v":""},{"$f":"IF(E67=\"\",\"\",E67-C67+1)","v":""},{"$f":"IF(G67=\"\",\"\",SUM(G67:G74))","v":""},null,null,0,{"$f":"IF(J67=\"\",\"\",ROUNDDOWN(J67*K67*G67/365,0))","v":""},{"$f":"IF(L67=\"\",\"\",SUM(L67:L74))","v":""},{"$f":"IF(I67=\"\",N66,I67)","v":0},{"$f":"IF(N66-N67<0,\"0 \",N66-N67)","v":0},{"$f":"IF(J67=\"\",P66,J67)","v":0},{"$f":"IF(P66-P67<0,\"0 \",P66-P67)","v":0},"",{"$f":"IF(C67=\"\",\"\",IF(C67>E67,\"NG\",\"\"))","v":""},{"$f":"IF(E67=\"\",\"\",IF(C68=\"\",\"\",IF(E67>C68,\"NG\",\"\")))","v":""},{"$f":"IF(C67=\"\",\"\",IF(C67<$U66,\"NG\",IF(C67>$V66,\"NG\",\"\")))","v":""},{"$f":"IF(E67=\"\",\"\",IF(C67<$U$66,\"NG\",IF(E67>$V$66,\"NG\",\"\")))","v":""},"",{"$f":"COUNTIF(S67:W67,\"NG\")","v":0},"","",0,null,"単位期間Ⅱ","2023-09-11",45180,"2023-09-30",45199,{"$f":"IF(AD67=\"\",\"\",AF67-AD67+1)","v":20},{"$f":"IF(AH67=\"\",\"\",SUM(AH67:AH74))","v":182},74000000,74000000,0.01,{"$f":"IF(AD67=\"\",\"\",ROUNDDOWN(AK67*AL67*AH67/365,0))","v":40547},{"$f":"IF(AM67=\"\",\"\",SUM(AM67:AM74))","v":354929},74000000,0,74000000,0]
[null,null,{"$f":"IF(E68=\"\",\"\",IF(E67=\"\",\"\",IF(E67>=DATE(2024,3,10),\"\",E67+1)))","v":""},{"$f":"IF(C68=\"\",\"\",C68)","v":""},null,{"$f":"IF(E68=\"\",\"\",E68)","v":""},{"$f":"IF(E68=\"\",\"\",E68-C68+1)","v":""},null,{"$f":"IF(I67=\"\",\"\",IF(E68=\"\",\"\",I67-$C$11))","v":""},{"$f":"IF(J67=\"\",\"\",IF(F68=\"\",\"\",J67-$C$24))","v":""},0,{"$f":"IF(J68=\"\",\"\",ROUNDDOWN(J68*K68*G68/365,0))","v":""},null,{"$f":"IF(I68=\"\",N67,I68)","v":0},{"$f":"N67-N68","v":0},{"$f":"IF(J68=\"\",P67,J68)","v":0},{"$f":"P67-P68","v":0},"",{"$f":"IF(C68=\"\",\"\",IF(C68=E67,\"NG\",IF(C68<E67,\"NG\",IF((C68-E67)>1,\"NG\",\"\"))))","v":""},{"$f":"IF(E68=\"\",\"\",IF(C69=\"\",\"\",IF(E68>C69,\"NG\",\"\")))","v":""},null,{"$f":"IF(E68=\"\",\"\",IF(C68<$U$66,\"NG\",IF(E68>$V$66,\"NG\",\"\")))","v":""},"",{"$f":"COUNTIF(S68:W68,\"NG\")","v":0},"","",0,null,null,"2023-10-01",45200,"2023-10-31",45230,{"$f":"IF(AD68=\"\",\"\",AF68-AD68+1)","v":31},null,73000000,73000000,0.01,62000,null,73000000,{"$f":"AO67-AO68","v":1000000},73000000,{"$f":"AQ67-AQ68","v":1000000}]
[null,null,"","",null,"","",null,{"$f":"IF(I68=\"\",\"\",IF(E69=\"\",\"\",I68-$C$11))","v":""},{"$f":"IF(J68=\"\",\"\",IF(F69=\"\",\"\",J68-$C$24))","v":""},0,"",null,{"$f":"IF(I69=\"\",N68,I69)","v":0},{"$f":"N68-N69","v":0},{"$f":"IF(J69=\"\",P68,J69)","v":0},{"$f":"P68-P69","v":0},"",{"$f":"IF(C69=\"\",\"\",IF(C69=E68,\"NG\",IF(C69<E68,\"NG\",IF((C69-E68)>1,\"NG\",\"\"))))","v":""},"",null,"","",0,"","",0,null,null,"2023-11-01",45231,"2023-11-30",45260,30,null,72000000,72000000,0.01,59178,null,72000000,1000000,72000000,1000000]
[null,null,"","",null,"","",null,"","",0,"",null,0,0,0,{"$f":"P69-P70","v":0},"","","",null,"","",0,"","",0,null,null,"2023-12-01",45261,"2023-12-31",45291,31,null,71000000,71000000,0.01,60301,null,71000000,1000000,71000000,1000000]
[null,null,"","",null,"","",null,"","",0,"",null,0,0,0,0,"","","",null,"","",0,"","",0,null,null,"2024-01-01",45292,"2024-01-31",45322,31,null,70000000,70000000,0.01,59452,null,70000000,1000000,70000000,1000000]
[null,null,"","",null,"","",null,"","",0,"",null,0,0,0,0,"","",{"$f":"IF(E72=\"\",\"\",IF(C73=\"\",\"\",IF(E72>C73,\"NG\",\"\")))","v":""},null,"","",0,"","",0,null,null,"2024-02-01",45323,"2024-02-29",45351,29,null,69000000,69000000,0.01,54821,null,69000000,1000000,69000000,1000000]
[null,null,"","",null,"","",null,"","",0,"",null,0,0,0,0,"","",{"$f":"IF(D73=\"\",\"\",IF(D73<C73,\"NG\",\"\"))","v":""},null,"","",0,"","",0,null,null,"2024-03-01",45352,"2024-03-10",45361,10,null,68000000,68000000,0.01,18630,null,68000000,1000000,68000000,1000000]
[null,null,{"$f":"IF(X74>0,$S$38,\"\")","v":""},null,null,null,"Null",null,null,null,0,{"$f":"IF(J74=\"\",\"\",ROUNDDOWN(J74*K74*G74/365,0))","v":""},null,0,0,0,0,"",null,null,"2024-03-09","2024-09-12",null,{"$f":"SUM(X67:X73)","v":0},"","",0,null,null,null,"",null,"",null,null,null,null,0.01,"",null,68000000,0,68000000,0]
["2024年度","単位期間Ⅰ",{"$f":"IF(E75=\"\",\"\",IF(E73>0,E73+1,IF(E72>0,E72+1,IF(E71>0,E71+1,IF(E70>0,E70+1,IF(E69>0,E69+1,IF(E68>0,E68+1,E67+1)))))))","v":""},{"$f":"IF(C75=\"\",\"\",C75)","v":""},null,{"$f":"IF(E75=\"\",\"\",E75)","v":""},{"$f":"IF(E75=\"\",\"\",E75-C75+1)","v":""},{"$f":"IF(G75=\"\",\"\",SUM(G75:G82))","v":""},null,null,{"$f":"IF(K74=\"\",\"\",$K$43)","v":0},{"$f":"IF(J75=\"\",\"\",ROUNDDOWN(J75*K75*G75/365,0))","v":""},{"$f":"IF(L75=\"\",\"\",SUM(L75:L82))","v":""},{"$f":"IF(I75=\"\",N74,I75)","v":0},0,{"$f":"IF(J75=\"\",P74,J75)","v":0},0,"",{"$f":"IF(C75=\"\",\"\",IF(C75>E75,\"NG\",\"\"))","v":""},{"$f":"IF(E75=\"\",\"\",IF(C76=\"\",\"\",IF(E75>C76,\"NG\",\"\")))","v":""},{"$f":"IF(C75=\"\",\"\",IF(C75<$U74,\"NG\",IF(C75>$V74,\"NG\",\"\")))","v":""},{"$f":"IF(E75=\"\",\"\",IF(C75<$U$74,\"NG\",IF(E75>$V$74,\"NG\",\"\")))","v":""},"",{"$f":"COUNTIF(S75:W75,\"NG\")","v":0},"","",0,{"$f":"A75","v":"2024年度"},"単位期間Ⅰ","2024-03-11",45362,"2024-03-31",45382,{"$f":"IF(AD75=\"\",\"\",AF75-AD75+1)","v":21},{"$f":"IF(AH75=\"\",\"\",SUM(AH75:AH82))","v":184},68000000,68000000,0.01,{"$f":"IF(AF75=\"\",\"\",ROUNDDOWN(AK75*AL75*AH75/365,0))","v":39123},{"$f":"IF(AM75=\"\",\"\",SUM(AM75:AM82))","v":328517},68000000,"-",68000000,"-"]
[null,null,{"$f":"IF(E76=\"\",\"\",IF(E75=\"\",\"\",IF(E75>=DATE(2024,9,10),\"\",E75+1)))","v":""},{"$f":"IF(C76=\"\",\"\",C76)","v":""},null,{"$f":"IF(E76=\"\",\"\",E76)","v":""},{"$f":"IF(E76=\"\",\"\",E76-C76+1)","v":""},null,{"$f":"IF(I75=\"\",\"\",IF(E76=\"\",\"\",I75-$C$11))","v":""},{"$f":"IF(J75=\"\",\"\",IF(F76=\"\",\"\",J75-$C$24))","v":""},{"$f":"IF(K75=\"\",\"\",$K$43)","v":0},{"$f":"IF(J76=\"\",\"\",ROUNDDOWN(J76*K76*G76/365,0))","v":""},null,{"$f":"IF(I76=\"\",N75,I76)","v":0},{"$f":"N75-N76","v":0},{"$f":"IF(J76=\"\",P75,J76)","v":0},{"$f":"P75-P76","v":0},"",{"$f":"IF(C76=\"\",\"\",IF(C76=E75,\"NG\",IF(C76<E75,\"NG\",IF((C76-E75)>1,\"NG\",\"\"))))","v":""},{"$f":"IF(E76=\"\",\"\",IF(C77=\"\",\"\",IF(E76>C77,\"NG\",\"\")))","v":""},null,{"$f":"IF(E76=\"\",\"\",IF(C76<$U$74,\"NG\",IF(E76>$V$74,\"NG\",\"\")))","v":""},"",{"$f":"COUNTIF(S76:W76,\"NG\")","v":0},"","",0,null,null,"2024-04-01",45383,"2024-04-30",45412,{"$f":"IF(AD76=\"\",\"\",AF76-AD76+1)","v":30},null,67000000,67000000,0.01,{"$f":"IF(AF76=\"\",\"\",ROUNDDOWN(AK76*AL76*AH76/365,0))","v":55068},null,67000000,{"$f":"AO75-AO76","v":1000000},67000000,{"$f":"AQ75-AQ76","v":1000000}]
[null,null,"","",null,"","",null,{"$f":"IF(I76=\"\",\"\",IF(E77=\"\",\"\",I76-$C$11))","v":""},{"$f":"IF(J76=\"\",\"\",IF(F77=\"\",\"\",J76-$C$24))","v":""},{"$f":"IF(K76=\"\",\"\",$K$43)","v":0},"",null,{"$f":"IF(I77=\"\",N76,I77)","v":0},{"$f":"N76-N77","v":0},{"$f":"IF(J77=\"\",P76,J77)","v":0},{"$f":"P76-P77","v":0},"",{"$f":"IF(C77=\"\",\"\",IF(C77=E76,\"NG\",IF(C77<E76,\"NG\",IF((C77-E76)>1,\"NG\",\"\"))))","v":""},"",null,"","",0,"","",0,null,null,"2024-05-01",45413,"2024-05-31",45443,31,null,66000000,66000000,0.01,{"$f":"IF(AF77=\"\",\"\",ROUNDDOWN(AK77*AL77*AH77/365,0))","v":56054},null,66000000,{"$f":"AO76-AO77","v":1000000},66000000,{"$f":"AQ76-AQ77","v":1000000}]
[null,null,"","",null,"","",null,{"$f":"IF(I77=\"\",\"\",IF(E78=\"\",\"\",I77-$C$11))","v":""},{"$f":"IF(J77=\"\",\"\",IF(F78=\"\",\"\",J77-$C$24))","v":""},0,"",null,0,0,0,0,"","","",null,"","",0,"","",0,null,null,"2024-06-01",45444,"2024-06-30",45473,30,null,65000000,65000000,0.01,53424,null,65000000,1000000,65000000,1000000]
[null,null,"","",null,"","",null,"","",0,"",null,0,0,0,0,"","","",null,"","",0,"","",0,null,null,"2024-07-01",45474,"2024-07-31",45504,31,null,64000000,64000000,0.01,54356,null,64000000,1000000,64000000,1000000]
[null,null,"","",null,"","",null,"","",0,"",null,0,0,0,0,"","","",null,"","",0,"","",0,null,null,"2024-08-01",45505,"2024-08-31",45535,31,null,63000000,63000000,0.01,53506,null,63000000,1000000,63000000,1000000]
[null,null,"","",null,"","",null,"","",0,"",null,0,0,0,0,"",{"$f":"IF(C81=\"\",\"\",IF(C81=E80,\"NG\",IF(C81<E80,\"NG\",IF((C81-E80)>1,\"NG\",\"\"))))","v":""},{"$f":"IF(D81=\"\",\"\",IF(D81<C81,\"NG\",\"\"))","v":""},null,"","",0,"","",0,null,null,"2024-09-01",45536,"2024-09-10",45545,10,null,62000000,62000000,0.01,16986,null,62000000,1000000,62000000,1000000]
[null,null,{"$f":"IF(X82>0,$S$38,\"\")","v":""},null,null,null,"Null",null,null,null,0,{"$f":"IF(J82=\"\",\"\",ROUNDDOWN(J82*K82*G82/365,0))","v":""},null,0,0,0,0,"",null,null,"2024-09-09","2025-03-12",null,{"$f":"SUM(X75:X81)","v":0},"","",0,null,null,null,"",null,"",null,null,null,null,0.01,"",null,62000000,0,62000000,0]
[null,"単位期間Ⅱ",{"$f":"IF(E83=\"\",\"\",IF(E81>M256,E81+1,IF(E80>M256,E80+1,IF(E79>M256,E79+1,IF(E78>M256,E78+1,IF(E77>M256,E77+1,IF(E76>M256,E76+1,IF(E75>M256,E75+1,IF(C60>M256,C60,\"\")))))))))","v":""},{"$f":"IF(C83=\"\",\"\",C83)","v":""},null,{"$f":"IF(E83=\"\",\"\",E83)","v":""},{"$f":"IF(E83=\"\",\"\",E83-C83+1)","v":""},{"$f":"IF(G83=\"\",\"\",SUM(G83:G90))","v":""},null,null,0,{"$f":"IF(J83=\"\",\"\",ROUNDDOWN(J83*K83*G83/365,0))","v":""},{"$f":"IF(L83=\"\",\"\",SUM(L83:L90))","v":""},{"$f":"IF(I83=\"\",N82,I83)","v":0},{"$f":"IF(N82-N83<0,\"0 \",N82-N83)","v":0},{"$f":"IF(J83=\"\",P82,J83)","v":0},{"$f":"IF(P82-P83<0,\"0 \",P82-P83)","v":0},"",{"$f":"IF(C83=\"\",\"\",IF(C83>E83,\"NG\",\"\"))","v":""},{"$f":"IF(E83=\"\",\"\",IF(C84=\"\",\"\",IF(E83>C84,\"NG\",\"\")))","v":""},{"$f":"IF(C83=\"\",\"\",IF(C83<$U82,\"NG\",IF(C83>$V82,\"NG\",\"\")))","v":""},{"$f":"IF(E83=\"\",\"\",IF(C83<$U$82,\"NG\",IF(E83>$V$82,\"NG\",\"\")))","v":""},"",{"$f":"COUNTIF(S83:W83,\"NG\")","v":0},"","",0,null,"単位期間Ⅱ","2024-09-11",45546,"2024-09-30",45565,{"$f":"IF(AD83=\"\",\"\",AF83-AD83+1)","v":20},{"$f":"IF(AH83=\"\",\"\",SUM(AH83:AH90))","v":181},62000000,62000000,0.01,{"$f":"IF(AD83=\"\",\"\",ROUNDDOWN(AK83*AL83*AH83/365,0))","v":33972},{"$f":"IF(AM83=\"\",\"\",SUM(AM83:AM90))","v":293532},62000000,0,62000000,0]
[null,null,{"$f":"IF(E84=\"\",\"\",IF(E83=\"\",\"\",IF(E83>=DATE(2025,3,10),\"\",E83+1)))","v":""},{"$f":"IF(C84=\"\",\"\",C84)","v":""},null,{"$f":"IF(E84=\"\",\"\",E84)","v":""},{"$f":"IF(E84=\"\",\"\",E84-C84+1)","v":""},null,{"$f":"IF(I83=\"\",\"\",IF(E84=\"\",\"\",I83-$C$11))","v":""},{"$f":"IF(J83=\"\",\"\",IF(F84=\"\",\"\",J83-$C$24))","v":""},0,{"$f":"IF(J84=\"\",\"\",ROUNDDOWN(J84*K84*G84/365,0))","v":""},null,{"$f":"IF(I84=\"\",N83,I84)","v":0},{"$f":"N83-N84","v":0},{"$f":"IF(J84=\"\",P83,J84)","v":0},{"$f":"P83-P84","v":0},"",{"$f":"IF(C84=\"\",\"\",IF(C84=E83,\"NG\",IF(C84<E83,\"NG\",IF((C84-E83)>1,\"NG\",\"\"))))","v":""},{"$f":"IF(E84=\"\",\"\",IF(C85=\"\",\"\",IF(E84>C85,\"NG\",\"\")))","v":""},null,{"$f":"IF(E84=\"\",\"\",IF(C84<$U$82,\"NG\",IF(E84>$V$82,\"NG\",\"\")))","v":""},"",{"$f":"COUNTIF(S84:W84,\"NG\")","v":0},"","",0,null,null,"2024-10-01",45566,"2024-10-31",45596,{"$f":"IF(AD84=\"\",\"\",AF84-AD84+1)","v":31},null,61000000,61000000,0.01,51808,null,61000000,{"$f":"AO83-AO84","v":1000000},61000000,{"$f":"AQ83-AQ84","v":1000000}]
[null,null,"","",null,"","",null,{"$f":"IF(I84=\"\",\"\",IF(E85=\"\",\"\",I84-$C$11))","v":""},{"$f":"IF(J84=\"\",\"\",IF(F85=\"\",\"\",J84-$C$24))","v":""},0,"",null,{"$f":"IF(I85=\"\",N84,I85)","v":0},{"$f":"N84-N85","v":0},{"$f":"IF(J85=\"\",P84,J85)","v":0},{"$f":"P84-P85","v":0},"",{"$f":"IF(C85=\"\",\"\",IF(C85=E84,\"NG\",IF(C85<E84,\"NG\",IF((C85-E84)>1,\"NG\",\"\"))))","v":""},"",null,"","",0,"","",0,null,null,"2024-11-01",45597,"2024-11-30",45626,30,null,60000000,60000000,0.01,49315,null,60000000,1000000,60000000,1000000]
[null,null,"","",null,"","",null,"","",0,"",null,0,0,0,{"$f":"P85-P86","v":0},"","","",null,"","",0,"","",0,null,null,"2024-12-01",45627,"2024-12-31",45657,31,null,59000000,59000000,0.01,50109,null,59000000,1000000,59000000,1000000]
[null,null,"","",null,"","",null,"","",0,"",null,0,0,0,0,"","","",null,"","",0,"","",0,null,null,"2025-01-01",45658,"2025-01-31",45688,31,null,58000000,58000000,0.01,49260,null,58000000,1000000,58000000,1000000]
[null,null,"","",null,"","",null,"","",0,"",null,0,0,0,0,"","",{"$f":"IF(E88=\"\",\"\",IF(C89=\"\",\"\",IF(E88>C89,\"NG\",\"\")))","v":""},null,"","",0,"","",0,null,null,"2025-02-01",45689,"2025-02-28",45716,28,null,57000000,57000000,0.01,43726,null,57000000,1000000,57000000,1000000]
[null,null,"","",null,"","",null,"","",0,"",null,0,0,0,0,"","",{"$f":"IF(D89=\"\",\"\",IF(D89<C89,\"NG\",\"\"))","v":""},null,"","",0,"","",0,null,null,"2025-03-01",45717,"2025-03-10",45726,10,null,56000000,56000000,0.01,15342,null,56000000,1000000,56000000,1000000]
[null,null,{"$f":"IF(X90>0,$S$38,\"\")","v":""},null,null,null,"Null",null,null,null,0,{"$f":"IF(J90=\"\",\"\",ROUNDDOWN(J90*K90*G90/365,0))","v":""},null,0,0,0,0,"",null,null,"2025-03-09","2025-09-12",null,{"$f":"SUM(X83:X89)","v":0},"","",0,null,null,null,"",null,"",null,null,null,null,0.01,"",null,56000000,0,56000000,0]
["2025年度","単位期間Ⅰ",{"$f":"IF(E91=\"\",\"\",IF(E89>0,E89+1,IF(E88>0,E88+1,IF(E87>0,E87+1,IF(E86>0,E86+1,IF(E85>0,E85+1,IF(E84>0,E84+1,E83+1)))))))","v":""},{"$f":"IF(C91=\"\",\"\",C91)","v":""},null,{"$f":"IF(E91=\"\",\"\",E91)","v":""},{"$f":"IF(E91=\"\",\"\",E91-C91+1)","v":""},{"$f":"IF(G91=\"\",\"\",SUM(G91:G98))","v":""},null,null,{"$f":"IF(K90=\"\",\"\",$K$43)","v":0},{"$f":"IF(J91=\"\",\"\",ROUNDDOWN(J91*K91*G91/365,0))","v":""},{"$f":"IF(L91=\"\",\"\",SUM(L91:L98))","v":""},{"$f":"IF(I91=\"\",N90,I91)","v":0},0,{"$f":"IF(J91=\"\",P90,J91)","v":0},0,"",{"$f":"IF(C91=\"\",\"\",IF(C91>E91,\"NG\",\"\"))","v":""},{"$f":"IF(E91=\"\",\"\",IF(C92=\"\",\"\",IF(E91>C92,\"NG\",\"\")))","v":""},{"$f":"IF(C91=\"\",\"\",IF(C91<$U90,\"NG\",IF(C91>$V90,\"NG\",\"\")))","v":""},{"$f":"IF(E91=\"\",\"\",IF(C91<$U$90,\"NG\",IF(E91>$V$90,\"NG\",\"\")))","v":""},"",{"$f":"COUNTIF(S91:W91,\"NG\")","v":0},"","",0,{"$f":"A91","v":"2025年度"},"単位期間Ⅰ","2025-03-11",45727,"2025-03-31",45747,{"$f":"IF(AD91=\"\",\"\",AF91-AD91+1)","v":21},{"$f":"IF(AH91=\"\",\"\",SUM(AH91:AH98))","v":184},56000000,56000000,0.01,{"$f":"IF(AF91=\"\",\"\",ROUNDDOWN(AK91*AL91*AH91/365,0))","v":32219},{"$f":"IF(AM91=\"\",\"\",SUM(AM91:AM98))","v":268025},56000000,"-",56000000,"-"]
[null,null,{"$f":"IF(E92=\"\",\"\",IF(E91=\"\",\"\",IF(E91>=DATE(2025,9,10),\"\",E91+1)))","v":""},{"$f":"IF(C92=\"\",\"\",C92)","v":""},null,{"$f":"IF(E92=\"\",\"\",E92)","v":""},{"$f":"IF(E92=\"\",\"\",E92-C92+1)","v":""},null,{"$f":"IF(I91=\"\",\"\",IF(E92=\"\",\"\",I91-$C$11))","v":""},{"$f":"IF(J91=\"\",\"\",IF(F92=\"\",\"\",J91-$C$24))","v":""},{"$f":"IF(K91=\"\",\"\",$K$43)","v":0},{"$f":"IF(J92=\"\",\"\",ROUNDDOWN(J92*K92*G92/365,0))","v":""},null,{"$f":"IF(I92=\"\",N91,I92)","v":0},{"$f":"N91-N92","v":0},{"$f":"IF(J92=\"\",P91,J92)","v":0},{"$f":"P91-P92","v":0},"",{"$f":"IF(C92=\"\",\"\",IF(C92=E91,\"NG\",IF(C92<E91,\"NG\",IF((C92-E91)>1,\"NG\",\"\"))))","v":""},{"$f":"IF(E92=\"\",\"\",IF(C93=\"\",\"\",IF(E92>C93,\"NG\",\"\")))","v":""},null,{"$f":"IF(E92=\"\",\"\",IF(C92<$U$90,\"NG\",IF(E92>$V$90,\"NG\",\"\")))","v":""},"",{"$f":"COUNTIF(S92:W92,\"NG\")","v":0},"","",0,null,null,"2025-04-01",45748,"2025-04-30",45777,{"$f":"IF(AD92=\"\",\"\",AF92-AD92+1)","v":30},null,55000000,55000000,0.01,{"$f":"IF(AF92=\"\",\"\",ROUNDDOWN(AK92*AL92*AH92/365,0))","v":45205},null,55000000,{"$f":"AO91-AO92","v":1000000},55000000,{"$f":"AQ91-AQ92","v":1000000}]
[null,null,"","",null,"","",null,{"$f":"IF(I92=\"\",\"\",IF(E93=\"\",\"\",I92-$C$11))","v":""},{"$f":"IF(J92=\"\",\"\",IF(F93=\"\",\"\",J92-$C$24))","v":""},{"$f":"IF(K92=\"\",\"\",$K$43)","v":0},"",null,{"$f":"IF(I93=\"\",N92,I93)","v":0},{"$f":"N92-N93","v":0},{"$f":"IF(J93=\"\",P92,J93)","v":0},{"$f":"P92-P93","v":0},"",{"$f":"IF(C93=\"\",\"\",IF(C93=E92,\"NG\",IF(C93<E92,\"NG\",IF((C93-E92)>1,\"NG\",\"\"))))","v":""},"",null,"","",0,"","",0,null,null,"2025-05-01",45778,"2025-05-31",45808,31,null,54000000,54000000,0.01,{"$f":"IF(AF93=\"\",\"\",ROUNDDOWN(AK93*AL93*AH93/365,0))","v":45863},null,54000000,{"$f":"AO92-AO93","v":1000000},54000000,{"$f":"AQ92-AQ93","v":1000000}]
[null,null,"","",null,"","",null,{"$f":"IF(I93=\"\",\"\",IF(E94=\"\",\"\",I93-$C$11))","v":""},{"$f":"IF(J93=\"\",\"\",IF(F94=\"\",\"\",J93-$C$24))","v":""},0,"",null,0,0,0,0,"","","",null,"","",0,"","",0,null,null,"2025-06-01",45809,"2025-06-30",45838,30,null,53000000,53000000,0.01,43561,null,53000000,1000000,53000000,1000000]
[null,null,"","",null,"","",null,"","",0,"",null,0,0,0,0,"","","",null,"","",0,"","",0,null,null,"2025-07-01",45839,"2025-07-31",45869,31,null,52000000,52000000,0.01,44164,null,52000000,1000000,52000000,1000000]
[null,null,"","",null,"","",null,"","",0,"",null,0,0,0,0,"","",{"$f":"IF(E96=\"\",\"\",IF(C97=\"\",\"\",IF(E96>C97,\"NG\",\"\")))","v":""},null,"","",0,"","",0,null,null,"2025-08-01",45870,"2025-08-31",45900,31,null,51000000,51000000,0.01,43315,null,51000000,1000000,51000000,1000000]
[null,null,"","",null,"","",null,"","",0,"",null,0,0,0,0,"","",{"$f":"IF(D97=\"\",\"\",IF(D97<C97,\"NG\",\"\"))","v":""},null,"",{"$f":"IF(G97>0,\"\",\"NG\")","v":""},0,"","",0,null,null,"2025-09-01",45901,"2025-09-10",45910,10,null,50000000,50000000,0.01,13698,null,50000000,1000000,50000000,1000000]
[null,null,{"$f":"IF(X98>0,$S$38,\"\")","v":""},null,null,null,"Null",null,null,null,0,{"$f":"IF(J98=\"\",\"\",ROUNDDOWN(J98*K98*G98/365,0))","v":""},null,0,0,0,0,"",null,null,"2025-09-09","2026-03-12",null,{"$f":"SUM(X91:X97)","v":0},"","",0,null,null,"","",null,"",null,null,null,null,0.01,"",null,50000000,0,50000000,0]
[null,"単位期間Ⅱ",{"$f":"IF(E99=\"\",\"\",IF(E97>M272,E97+1,IF(E96>M272,E96+1,IF(E95>M272,E95+1,IF(E94>M272,E94+1,IF(E93>M272,E93+1,IF(E92>M272,E92+1,IF(E91>M272,E91+1,IF(C76>M272,C76,\"\")))))))))","v":""},{"$f":"IF(C99=\"\",\"\",C99)","v":""},null,{"$f":"IF(E99=\"\",\"\",E99)","v":""},{"$f":"IF(E99=\"\",\"\",E99-C99+1)","v":""},{"$f":"IF(G99=\"\",\"\",SUM(G99:G106))","v":""},null,null,0,{"$f":"IF(J99=\"\",\"\",ROUNDDOWN(J99*K99*G99/365,0))","v":""},{"$f":"IF(L99=\"\",\"\",SUM(L99:L106))","v":""},{"$f":"IF(I99=\"\",N98,I99)","v":0},{"$f":"IF(N98-N99<0,\"0 \",N98-N99)","v":0},{"$f":"IF(J99=\"\",P98,J99)","v":0},{"$f":"IF(P98-P99<0,\"0 \",P98-P99)","v":0},"",{"$f":"IF(C99=\"\",\"\",IF(C99>E99,\"NG\",\"\"))","v":""},{"$f":"IF(E99=\"\",\"\",IF(C100=\"\",\"\",IF(E99>C100,\"NG\",\"\")))","v":""},{"$f":"IF(C99=\"\",\"\",IF(C99<$U98,\"NG\",IF(C99>$V98,\"NG\",\"\")))","v":""},{"$f":"IF(E99=\"\",\"\",IF(C99<$U$98,\"NG\",IF(E99>$V$98,\"NG\",\"\")))","v":""},{"$f":"IF(G99>0,\"\",\"NG\")","v":""},{"$f":"COUNTIF(S99:W99,\"NG\")","v":0},"","",0,null,"単位期間Ⅱ","2025-09-11",45911,"2025-09-30",45930,{"$f":"IF(AD99=\"\",\"\",AF99-AD99+1)","v":20},{"$f":"IF(AH99=\"\",\"\",SUM(AH99:AH106))","v":181},50000000,50000000,0.01,{"$f":"IF(AD99=\"\",\"\",ROUNDDOWN(AK99*AL99*AH99/365,0))","v":27397},{"$f":"IF(AM99=\"\",\"\",SUM(AM99:AM106))","v":234024},50000000,0,50000000,0]
[null,null,{"$f":"IF(E100=\"\",\"\",IF(E99=\"\",\"\",IF(E99>=DATE(2026,3,10),\"\",E99+1)))","v":""},{"$f":"IF(C100=\"\",\"\",C100)","v":""},null,{"$f":"IF(E100=\"\",\"\",E100)","v":""},{"$f":"IF(E100=\"\",\"\",E100-C100+1)","v":""},null,{"$f":"IF(I99=\"\",\"\",IF(E100=\"\",\"\",I99-$C$11))","v":""},{"$f":"IF(J99=\"\",\"\",IF(F100=\"\",\"\",J99-$C$24))","v":""},0,{"$f":"IF(J100=\"\",\"\",ROUNDDOWN(J100*K100*G100/365,0))","v":""},null,{"$f":"IF(I100=\"\",N99,I100)","v":0},{"$f":"N99-N100","v":0},{"$f":"IF(J100=\"\",P99,J100)","v":0},{"$f":"P99-P100","v":0},"",{"$f":"IF(C100=\"\",\"\",IF(C100=E99,\"NG\",IF(C100<E99,\"NG\",IF((C100-E99)>1,\"NG\",\"\"))))","v":""},{"$f":"IF(E100=\"\",\"\",IF(C101=\"\",\"\",IF(E100>C101,\"NG\",\"\")))","v":""},null,{"$f":"IF(E100=\"\",\"\",IF(C100<$U$98,\"NG\",IF(E100>$V$98,\"NG\",\"\")))","v":""},{"$f":"IF(G100>0,\"\",\"NG\")","v":""},{"$f":"COUNTIF(S100:W100,\"NG\")","v":0},"","",0,null,null,"2025-10-01",45931,"2025-10-31",45961,{"$f":"IF(AD100=\"\",\"\",AF100-AD100+1)","v":31},null,49000000,49000000,0.01,41616,null,49000000,{"$f":"AO99-AO100","v":1000000},49000000,{"$f":"AQ99-AQ100","v":1000000}]
[null,null,"","",null,"","",null,{"$f":"IF(I100=\"\",\"\",IF(E101=\"\",\"\",I100-$C$11))","v":""},{"$f":"IF(J100=\"\",\"\",IF(F101=\"\",\"\",J100-$C$24))","v":""},0,"",null,{"$f":"IF(I101=\"\",N100,I101)","v":0},{"$f":"N100-N101","v":0},{"$f":"IF(J101=\"\",P100,J101)","v":0},{"$f":"P100-P101","v":0},"",{"$f":"IF(C101=\"\",\"\",IF(C101=E100,\"NG\",IF(C101<E100,\"NG\",IF((C101-E100)>1,\"NG\",\"\"))))","v":""},"",null,"","",0,"","",0,null,null,"2025-11-01",45962,"2025-11-30",45991,30,null,48000000,48000000,0.01,39452,null,48000000,1000000,48000000,1000000]
[null,null,"","",null,"","",null,"","",0,"",null,0,0,0,{"$f":"P101-P102","v":0},"","","",null,"","",0,"","",0,null,null,"2025-12-01",45992,"2025-12-31",46022,31,null,47000000,47000000,0.01,39917,null,47000000,1000000,47000000,1000000]
[null,null,"","",null,"","",null,"","",0,"",null,0,0,0,0,"","","",null,"","",0,"","",0,null,null,"2026-01-01",46023,"2026-01-31",46053,31,null,46000000,46000000,0.01,39068,null,46000000,1000000,46000000,1000000]
[null,null,"","",null,"","",null,"","",0,"",null,0,0,0,0,"","",{"$f":"IF(E104=\"\",\"\",IF(C105=\"\",\"\",IF(E104>C105,\"NG\",\"\")))","v":""},null,"","",0,"","",0,null,null,"2026-02-01",46054,"2026-02-28",46081,28,null,45000000,45000000,0.01,34520,null,45000000,1000000,45000000,1000000]
[null,null,"","",null,"","",null,"","",0,"",null,0,0,0,0,"","",{"$f":"IF(D105=\"\",\"\",IF(D105<C105,\"NG\",\"\"))","v":""},null,"","",0,"","",0,null,null,"2026-03-01",46082,"2026-03-10",46091,10,null,44000000,44000000,0.01,12054,null,44000000,1000000,44000000,1000000]
[null,null,{"$f":"IF(X106>0,$S$38,\"\")","v":""},null,null,null,"Null",null,null,null,0,{"$f":"IF(J106=\"\",\"\",ROUNDDOWN(J106*K106*G106/365,0))","v":""},null,0,0,0,0,"",null,null,"2026-03-09","2026-09-12",null,{"$f":"SUM(X99:X105)","v":0},"","",0,null,null,"","",null,"",null,null,null,null,0.01,"",null,44000000,0,44000000,0]
["2026年度","単位期間Ⅰ",{"$f":"IF(E107=\"\",\"\",IF(E105>0,E105+1,IF(E104>0,E104+1,IF(E103>0,E103+1,IF(E102>0,E102+1,IF(E101>0,E101+1,IF(E100>0,E100+1,E99+1)))))))","v":""},{"$f":"IF(C107=\"\",\"\",C107)","v":""},null,{"$f":"IF(E107=\"\",\"\",E107)","v":""},{"$f":"IF(E107=\"\",\"\",E107-C107+1)","v":""},{"$f":"IF(G107=\"\",\"\",SUM(G107:G114))","v":""},null,null,{"$f":"IF(K106=\"\",\"\",$K$43)","v":0},{"$f":"IF(J107=\"\",\"\",ROUNDDOWN(J107*K107*G107/365,0))","v":""},{"$f":"IF(L107=\"\",\"\",SUM(L107:L114))","v":""},{"$f":"IF(I107=\"\",N106,I107)","v":0},0,{"$f":"IF(J107=\"\",P106,J107)","v":0},0,"",{"$f":"IF(C107=\"\",\"\",IF(C107>E107,\"NG\",\"\"))","v":""},{"$f":"IF(E107=\"\",\"\",IF(C108=\"\",\"\",IF(E107>C108,\"NG\",\"\")))","v":""},{"$f":"IF(C107=\"\",\"\",IF(C107<$U106,\"NG\",IF(C107>$V106,\"NG\",\"\")))","v":""},{"$f":"IF(E107=\"\",\"\",IF(C107<$U$106,\"NG\",IF(E107>$V$106,\"NG\",\"\")))","v":""},"",{"$f":"COUNTIF(S107:W107,\"NG\")","v":0},"","",0,{"$f":"A107","v":"2026年度"},"単位期間Ⅰ","2026-03-11",46092,"2026-03-31",46112,{"$f":"IF(AD107=\"\",\"\",AF107-AD107+1)","v":21},{"$f":"IF(AH107=\"\",\"\",SUM(AH107:AH114))","v":184},44000000,44000000,0.01,{"$f":"IF(AF107=\"\",\"\",ROUNDDOWN(AK107*AL107*AH107/365,0))","v":25315},{"$f":"IF(AM107=\"\",\"\",SUM(AM107:AM114))","v":207531},{"$f":"IF(AJ107=\"\",AO106,AJ107)","v":44000000},"-",{"$f":"IF(AK107=\"\",AQ106,AK107)","v":44000000},"-"]
[null,null,{"$f":"IF(E108=\"\",\"\",IF(E107=\"\",\"\",IF(E107>=DATE(2026,9,10),\"\",E107+1)))","v":""},{"$f":"IF(C108=\"\",\"\",C108)","v":""},null,{"$f":"IF(E108=\"\",\"\",E108)","v":""},{"$f":"IF(E108=\"\",\"\",E108-C108+1)","v":""},null,{"$f":"IF(I107=\"\",\"\",IF(E108=\"\",\"\",I107-$C$11))","v":""},{"$f":"IF(J107=\"\",\"\",IF(F108=\"\",\"\",J107-$C$24))","v":""},{"$f":"IF(K107=\"\",\"\",$K$43)","v":0},{"$f":"IF(J108=\"\",\"\",ROUNDDOWN(J108*K108*G108/365,0))","v":""},null,{"$f":"IF(I108=\"\",N107,I108)","v":0},{"$f":"N107-N108","v":0},{"$f":"IF(J108=\"\",P107,J108)","v":0},{"$f":"P107-P108","v":0},"",{"$f":"IF(C108=\"\",\"\",IF(C108=E107,\"NG\",IF(C108<E107,\"NG\",IF((C108-E107)>1,\"NG\",\"\"))))","v":""},{"$f":"IF(E108=\"\",\"\",IF(C109=\"\",\"\",IF(E108>C109,\"NG\",\"\")))","v":""},null,{"$f":"IF(E108=\"\",\"\",IF(C108<$U$106,\"NG\",IF(E108>$V$106,\"NG\",\"\")))","v":""},"",{"$f":"COUNTIF(S108:W108,\"NG\")","v":0},"","",0,null,null,"2026-04-01",{"$f":"IF(AD108=\"\",\"\",AD108)","v":46113},"2026-04-30",46142,{"$f":"IF(AD108=\"\",\"\",AF108-AD108+1)","v":30},null,43000000,43000000,0.01,{"$f":"IF(AF108=\"\",\"\",ROUNDDOWN(AK108*AL108*AH108/365,0))","v":35342},null,43000000,{"$f":"AO107-AO108","v":1000000},43000000,{"$f":"AQ107-AQ108","v":1000000}]
[null,null,"","",null,"","",null,{"$f":"IF(I108=\"\",\"\",IF(E109=\"\",\"\",I108-$C$11))","v":""},{"$f":"IF(J108=\"\",\"\",IF(F109=\"\",\"\",J108-$C$24))","v":""},{"$f":"IF(K108=\"\",\"\",$K$43)","v":0},"",null,{"$f":"IF(I109=\"\",N108,I109)","v":0},{"$f":"N108-N109","v":0},{"$f":"IF(J109=\"\",P108,J109)","v":0},{"$f":"P108-P109","v":0},{"$f":"IF(AA109>0,$Y$38,\"\")","v":""},{"$f":"IF(C109=\"\",\"\",IF(C109=E108,\"NG\",IF(C109<E108,\"NG\",IF((C109-E108)>1,\"NG\",\"\"))))","v":""},"",null,"","",0,{"$f":"IF($O109=0,\"\",IF($O109=$Y$41,\"\",\"NG\"))","v":""},{"$f":"IF($Q109=0,\"\",IF($Q109=$Z$41,\"\",\"NG\"))","v":""},{"$f":"COUNTIF(Y109:Z109,\"NG\")","v":0},null,null,"2026-05-01",46143,"2026-05-31",46173,31,null,42000000,42000000,0.01,{"$f":"IF(AF109=\"\",\"\",ROUNDDOWN(AK109*AL109*AH109/365,0))","v":35671},null,42000000,{"$f":"AO108-AO109","v":1000000},42000000,{"$f":"AQ108-AQ109","v":1000000}]
[null,null,"","",null,"","",null,{"$f":"IF(I109=\"\",\"\",IF(E110=\"\",\"\",I109-$C$11))","v":""},{"$f":"IF(J109=\"\",\"\",IF(F110=\"\",\"\",J109-$C$24))","v":""},0,"",null,0,0,0,0,"","","",null,"","",0,"","",0,null,null,"2026-06-01",46174,"2026-06-30",46203,30,null,41000000,41000000,0.01,33698,null,41000000,1000000,41000000,1000000]
[null,null,"","",null,"","",null,"","",0,"",null,0,0,0,0,"","","",null,"","",0,"","",0,null,null,"2026-07-01",46204,"2026-07-31",46234,31,null,40000000,40000000,0.01,33972,null,40000000,1000000,40000000,1000000]
[null,null,"","",null,"","",null,"","",0,"",null,0,0,0,0,"","",{"$f":"IF(E112=\"\",\"\",IF(C113=\"\",\"\",IF(E112>C113,\"NG\",\"\")))","v":""},null,"","",0,"","",0,null,null,"2026-08-01",46235,"2026-08-31",46265,31,null,39000000,39000000,0.01,33123,null,39000000,1000000,39000000,1000000]
[null,null,"","",null,"","",null,"","",0,"",null,0,0,0,0,"","",{"$f":"IF(D113=\"\",\"\",IF(D113<C113,\"NG\",\"\"))","v":""},null,"","",0,"","",0,null,null,"2026-09-01",46266,"2026-09-10",46275,10,null,38000000,38000000,0.01,10410,null,38000000,1000000,38000000,1000000]
[null,null,{"$f":"IF(X114>0,$S$38,\"\")","v":""},null,null,null,"Null",null,null,null,0,{"$f":"IF(J114=\"\",\"\",ROUNDDOWN(J114*K114*G114/365,0))","v":""},null,0,0,0,0,"",null,null,"2026-09-09","2027-03-12",null,{"$f":"SUM(X107:X113)","v":0},"","",0,null,null,"","",null,"",null,null,null,null,0.01,"",null,38000000,0,38000000,0]
[null,"単位期間Ⅱ",{"$f":"IF(E115=\"\",\"\",IF(E113>M287,E113+1,IF(E112>M287,E112+1,IF(E111>M287,E111+1,IF(E110>M287,E110+1,IF(E109>M287,E109+1,IF(E108>M287,E108+1,IF(E107>M287,E107+1,IF(C92>M287,C92,\"\")))))))))","v":""},{"$f":"IF(C115=\"\",\"\",C115)","v":""},null,{"$f":"IF(E115=\"\",\"\",E115)","v":""},{"$f":"IF(E115=\"\",\"\",E115-C115+1)","v":""},{"$f":"IF(G115=\"\",\"\",SUM(G115:G122))","v":""},null,null,0,{"$f":"IF(J115=\"\",\"\",ROUNDDOWN(J115*K115*G115/365,0))","v":""},{"$f":"IF(L115=\"\",\"\",SUM(L115:L122))","v":""},{"$f":"IF(I115=\"\",N114,I115)","v":0},{"$f":"IF(N114-N115<0,\"0 \",N114-N115)","v":0},{"$f":"IF(J115=\"\",P114,J115)","v":0},{"$f":"IF(P114-P115<0,\"0 \",P114-P115)","v":0},"",{"$f":"IF(C115=\"\",\"\",IF(C115>E115,\"NG\",\"\"))","v":""},{"$f":"IF(E115=\"\",\"\",IF(C116=\"\",\"\",IF(E115>C116,\"NG\",\"\")))","v":""},{"$f":"IF(C115=\"\",\"\",IF(C115<$U114,\"NG\",IF(C115>$V114,\"NG\",\"\")))","v":""},{"$f":"IF(E115=\"\",\"\",IF(C115<$U$114,\"NG\",IF(E115>$V$114,\"NG\",\"\")))","v":""},"",{"$f":"COUNTIF(S115:W115,\"NG\")","v":0},"","",0,null,"単位期間Ⅱ","2026-09-11",46276,"2026-09-30",46295,{"$f":"IF(AD115=\"\",\"\",AF115-AD115+1)","v":20},{"$f":"IF(AH115=\"\",\"\",SUM(AH115:AH122))","v":181},38000000,38000000,0.01,{"$f":"IF(AD115=\"\",\"\",ROUNDDOWN(AK115*AL115*AH115/365,0))","v":20821},{"$f":"IF(AM115=\"\",\"\",SUM(AM115:AM122))","v":174518},38000000,0,38000000,0]
[null,null,{"$f":"IF(E116=\"\",\"\",IF(E115=\"\",\"\",IF(E115>=DATE(2027,3,10),\"\",E115+1)))","v":""},{"$f":"IF(C116=\"\",\"\",C116)","v":""},null,{"$f":"IF(E116=\"\",\"\",E116)","v":""},{"$f":"IF(E116=\"\",\"\",E116-C116+1)","v":""},null,{"$f":"IF(I115=\"\",\"\",IF(E116=\"\",\"\",I115-$C$11))","v":""},{"$f":"IF(J115=\"\",\"\",IF(F116=\"\",\"\",J115-$C$24))","v":""},0,{"$f":"IF(J116=\"\",\"\",ROUNDDOWN(J116*K116*G116/365,0))","v":""},null,{"$f":"IF(I116=\"\",N115,I116)","v":0},{"$f":"N115-N116","v":0},{"$f":"IF(J116=\"\",P115,J116)","v":0},{"$f":"P115-P116","v":0},"",{"$f":"IF(C116=\"\",\"\",IF(C116=E115,\"NG\",IF(C116<E115,\"NG\",IF((C116-E115)>1,\"NG\",\"\"))))","v":""},{"$f":"IF(E116=\"\",\"\",IF(C117=\"\",\"\",IF(E116>C117,\"NG\",\"\")))","v":""},null,{"$f":"IF(E116=\"\",\"\",IF(C116<$U$114,\"NG\",IF(E116>$V$114,\"NG\",\"\")))","v":""},"",{"$f":"COUNTIF(S116:W116,\"NG\")","v":0},"","",0,null,null,"2026-10-01",46296,"2026-10-31",46326,{"$f":"IF(AD116=\"\",\"\",AF116-AD116+1)","v":31},null,37000000,37000000,0.01,31424,null,37000000,{"$f":"AO115-AO116","v":1000000},37000000,{"$f":"AQ115-AQ116","v":1000000}]
[null,null,"","",null,"","",null,{"$f":"IF(I116=\"\",\"\",IF(E117=\"\",\"\",I116-$C$11))","v":""},{"$f":"IF(J116=\"\",\"\",IF(F117=\"\",\"\",J116-$C$24))","v":""},0,"",null,{"$f":"IF(I117=\"\",N116,I117)","v":0},{"$f":"N116-N117","v":0},{"$f":"IF(J117=\"\",P116,J117)","v":0},{"$f":"P116-P117","v":0},"",{"$f":"IF(C117=\"\",\"\",IF(C117=E116,\"NG\",IF(C117<E116,\"NG\",IF((C117-E116)>1,\"NG\",\"\"))))","v":""},"",null,"","",0,"","",0,null,null,"2026-11-01",46327,"2026-11-30",46356,30,null,36000000,36000000,0.01,29589,null,36000000,1000000,36000000,1000000]
[null,null,"","",null,"","",null,"","",0,"",null,0,0,0,{"$f":"P117-P118","v":0},"","","",null,"","",0,"","",0,null,null,"2026-12-01",46357,"2026-12-31",46387,31,null,35000000,35000000,0.01,29726,null,35000000,1000000,35000000,1000000]
[null,null,"","",null,"","",null,"","",0,"",null,0,0,0,0,"","","",null,"","",0,"","",0,null,null,"2027-01-01",46388,"2027-01-31",46418,31,null,34000000,34000000,0.01,28876,null,34000000,1000000,34000000,1000000]
[null,null,"","",null,"","",null,"","",0,"",null,0,0,0,0,"","",{"$f":"IF(E120=\"\",\"\",IF(C121=\"\",\"\",IF(E120>C121,\"NG\",\"\")))","v":""},null,"","",0,"","",0,null,null,"2027-02-01",46419,"2027-02-28",46446,28,null,33000000,33000000,0.01,25315,null,33000000,1000000,33000000,1000000]
[null,null,"","",null,"","",null,"","",0,"",null,0,0,0,0,"","",{"$f":"IF(D121=\"\",\"\",IF(D121<C121,\"NG\",\"\"))","v":""},null,"","",0,"","",0,null,null,"2027-03-01",46447,"2027-03-10",{"$f":"IF(AF121=\"\",\"\",AF121)","v":46456},10,null,32000000,32000000,0.01,8767,null,32000000,1000000,32000000,1000000]
[null,null,{"$f":"IF(X122>0,$S$38,\"\")","v":""},null,null,null,"Null",null,null,null,0,{"$f":"IF(J122=\"\",\"\",ROUNDDOWN(J122*K122*G122/365,0))","v":""},null,0,0,0,0,"",null,null,"2027-03-09","2027-09-12",null,{"$f":"SUM(X115:X121)","v":0},"","",0,null,null,null,"",null,"",null,null,null,null,0.01,"",null,32000000,0,32000000,0]
["2027年度","単位期間Ⅰ",{"$f":"IF(E123=\"\",\"\",IF(E121>0,E121+1,IF(E120>0,E120+1,IF(E119>0,E119+1,IF(E118>0,E118+1,IF(E117>0,E117+1,IF(E116>0,E116+1,E115+1)))))))","v":""},{"$f":"IF(C123=\"\",\"\",C123)","v":""},null,{"$f":"IF(E123=\"\",\"\",E123)","v":""},{"$f":"IF(E123=\"\",\"\",E123-C123+1)","v":""},{"$f":"IF(G123=\"\",\"\",SUM(G123:G130))","v":""},null,null,{"$f":"IF(K122=\"\",\"\",$K$43)","v":0},{"$f":"IF(J123=\"\",\"\",ROUNDDOWN(J123*K123*G123/365,0))","v":""},{"$f":"IF(L123=\"\",\"\",SUM(L123:L130))","v":""},{"$f":"IF(I123=\"\",N122,I123)","v":0},0,{"$f":"IF(J123=\"\",P122,J123)","v":0},0,"",{"$f":"IF(C123=\"\",\"\",IF(C123>E123,\"NG\",\"\"))","v":""},{"$f":"IF(E123=\"\",\"\",IF(C124=\"\",\"\",IF(E123>C124,\"NG\",\"\")))","v":""},{"$f":"IF(C123=\"\",\"\",IF(C123<$U122,\"NG\",IF(C123>$V122,\"NG\",\"\")))","v":""},{"$f":"IF(E123=\"\",\"\",IF(C123<$U$122,\"NG\",IF(E123>$V$122,\"NG\",\"\")))","v":""},"",{"$f":"COUNTIF(S123:W123,\"NG\")","v":0},"","",0,{"$f":"A123","v":"2027年度"},"単位期間Ⅰ","2027-03-11",46457,"2027-03-31",46477,{"$f":"IF(AD123=\"\",\"\",AF123-AD123+1)","v":21},{"$f":"IF(AH123=\"\",\"\",SUM(AH123:AH130))","v":184},32000000,32000000,0.01,{"$f":"IF(AF123=\"\",\"\",ROUNDDOWN(AK123*AL123*AH123/365,0))","v":18410},{"$f":"IF(AM123=\"\",\"\",SUM(AM123:AM130))","v":147037},32000000,"-",32000000,"-"]
[null,null,{"$f":"IF(E124=\"\",\"\",IF(E123=\"\",\"\",IF(E123>=DATE(2027,9,10),\"\",E123+1)))","v":""},{"$f":"IF(C124=\"\",\"\",C124)","v":""},null,{"$f":"IF(E124=\"\",\"\",E124)","v":""},{"$f":"IF(E124=\"\",\"\",E124-C124+1)","v":""},null,{"$f":"IF(I123=\"\",\"\",IF(E124=\"\",\"\",I123-$C$11))","v":""},{"$f":"IF(J123=\"\",\"\",IF(F124=\"\",\"\",J123-$C$24))","v":""},{"$f":"IF(K123=\"\",\"\",$K$43)","v":0},{"$f":"IF(J124=\"\",\"\",ROUNDDOWN(J124*K124*G124/365,0))","v":""},null,{"$f":"IF(I124=\"\",N123,I124)","v":0},{"$f":"N123-N124","v":0},{"$f":"IF(J124=\"\",P123,J124)","v":0},{"$f":"P123-P124","v":0},"",{"$f":"IF(C124=\"\",\"\",IF(C124=E123,\"NG\",IF(C124<E123,\"NG\",IF((C124-E123)>1,\"NG\",\"\"))))","v":""},{"$f":"IF(E124=\"\",\"\",IF(C125=\"\",\"\",IF(E124>C125,\"NG\",\"\")))","v":""},null,{"$f":"IF(E124=\"\",\"\",IF(C124<$U$122,\"NG\",IF(E124>$V$122,\"NG\",\"\")))","v":""},"",{"$f":"COUNTIF(S124:W124,\"NG\")","v":0},"","",0,null,null,"2027-04-01",46478,"2027-04-30",46507,{"$f":"IF(AD124=\"\",\"\",AF124-AD124+1)","v":30},null,31000000,31000000,0.01,{"$f":"IF(AF124=\"\",\"\",ROUNDDOWN(AK124*AL124*AH124/365,0))","v":25479},null,31000000,{"$f":"AO123-AO124","v":1000000},31000000,{"$f":"AQ123-AQ124","v":1000000}]
[null,null,"","",null,"","",null,{"$f":"IF(I124=\"\",\"\",IF(E125=\"\",\"\",I124-$C$11))","v":""},{"$f":"IF(J124=\"\",\"\",IF(F125=\"\",\"\",J124-$C$24))","v":""},{"$f":"IF(K124=\"\",\"\",$K$43)","v":0},"",null,{"$f":"IF(I125=\"\",N124,I125)","v":0},{"$f":"N124-N125","v":0},{"$f":"IF(J125=\"\",P124,J125)","v":0},{"$f":"P124-P125","v":0},"",{"$f":"IF(C125=\"\",\"\",IF(C125=E124,\"NG\",IF(C125<E124,\"NG\",IF((C125-E124)>1,\"NG\",\"\"))))","v":""},"",null,"","",0,"","",0,null,null,"2027-05-01",46508,"2027-05-31",46538,31,null,30000000,30000000,0.01,{"$f":"IF(AF125=\"\",\"\",ROUNDDOWN(AK125*AL125*AH125/365,0))","v":25479},null,30000000,{"$f":"AO124-AO125","v":1000000},30000000,{"$f":"AQ124-AQ125","v":1000000}]
[null,null,"","",null,"","",null,{"$f":"IF(I125=\"\",\"\",IF(E126=\"\",\"\",I125-$C$11))","v":""},{"$f":"IF(J125=\"\",\"\",IF(F126=\"\",\"\",J125-$C$24))","v":""},0,"",null,0,0,0,0,"","","",null,"","",0,"","",0,null,null,"2027-06-01",46539,"2027-06-30",46568,30,null,29000000,29000000,0.01,23835,null,29000000,1000000,29000000,1000000]
[null,null,"","",null,"","",null,"","",0,"",null,0,0,0,0,"","","",null,"","",0,"","",0,null,null,"2027-07-01",46569,"2027-07-31",46599,31,null,28000000,28000000,0.01,23780,null,28000000,1000000,28000000,1000000]
[null,null,"","",null,"","",null,"","",0,"",null,0,0,0,0,"","","",null,"","",0,"","",0,null,null,"2027-08-01",46600,"2027-08-31",46630,31,null,27000000,27000000,0.01,22931,null,27000000,1000000,27000000,1000000]
[null,null,"","",null,"","",null,"","",0,"",null,0,0,0,0,"","",{"$f":"IF(D129=\"\",\"\",IF(D129<C129,\"NG\",\"\"))","v":""},null,"","",0,"","",0,null,null,"2027-09-01",46631,"2027-09-10",46640,10,null,26000000,26000000,0.01,7123,null,26000000,1000000,26000000,1000000]
[null,null,{"$f":"IF(X130>0,$S$38,\"\")","v":""},null,null,null,"Null",null,null,null,0,{"$f":"IF(J130=\"\",\"\",ROUNDDOWN(J130*K130*G130/365,0))","v":""},null,0,0,0,0,"",null,null,"2027-09-09","2028-03-12",null,{"$f":"SUM(X123:X129)","v":0},"","",0,null,null,"","",null,"",null,null,null,null,0.01,"",null,26000000,0,26000000,0]
[null,"単位期間Ⅱ",{"$f":"IF(E131=\"\",\"\",IF(E129>M303,E129+1,IF(E128>M303,E128+1,IF(E127>M303,E127+1,IF(E126>M303,E126+1,IF(E125>M303,E125+1,IF(E124>M303,E124+1,IF(E123>M303,E123+1,IF(C108>M303,C108,\"\")))))))))","v":""},{"$f":"IF(C131=\"\",\"\",C131)","v":""},null,{"$f":"IF(E131=\"\",\"\",E131)","v":""},{"$f":"IF(E131=\"\",\"\",E131-C131+1)","v":""},{"$f":"IF(G131=\"\",\"\",SUM(G131:G138))","v":""},null,null,0,{"$f":"IF(J131=\"\",\"\",ROUNDDOWN(J131*K131*G131/365,0))","v":""},{"$f":"IF(L131=\"\",\"\",SUM(L131:L138))","v":""},{"$f":"IF(I131=\"\",N130,I131)","v":0},{"$f":"IF(N130-N131<0,\"0 \",N130-N131)","v":0},{"$f":"IF(J131=\"\",P130,J131)","v":0},{"$f":"IF(P130-P131<0,\"0 \",P130-P131)","v":0},"",{"$f":"IF(C131=\"\",\"\",IF(C131>E131,\"NG\",\"\"))","v":""},{"$f":"IF(E131=\"\",\"\",IF(C132=\"\",\"\",IF(E131>C132,\"NG\",\"\")))","v":""},{"$f":"IF(C131=\"\",\"\",IF(C131<$U130,\"NG\",IF(C131>$V130,\"NG\",\"\")))","v":""},{"$f":"IF(E131=\"\",\"\",IF(C131<$U$130,\"NG\",IF(E131>$V$130,\"NG\",\"\")))","v":""},"",{"$f":"COUNTIF(S131:W131,\"NG\")","v":0},"","",0,null,"単位期間Ⅱ","2027-09-11",46641,"2027-09-30",46660,{"$f":"IF(AD131=\"\",\"\",AF131-AD131+1)","v":20},{"$f":"IF(AH131=\"\",\"\",SUM(AH131:AH138))","v":182},26000000,26000000,0.01,{"$f":"IF(AD131=\"\",\"\",ROUNDDOWN(AK131*AL131*AH131/365,0))","v":14246},{"$f":"IF(AM131=\"\",\"\",SUM(AM131:AM138))","v":115585},26000000,0,26000000,0]
[null,null,{"$f":"IF(E132=\"\",\"\",IF(E131=\"\",\"\",IF(E131>=DATE(2028,3,10),\"\",E131+1)))","v":""},{"$f":"IF(C132=\"\",\"\",C132)","v":""},null,{"$f":"IF(E132=\"\",\"\",E132)","v":""},{"$f":"IF(E132=\"\",\"\",E132-C132+1)","v":""},null,{"$f":"IF(I131=\"\",\"\",IF(E132=\"\",\"\",I131-$C$11))","v":""},{"$f":"IF(J131=\"\",\"\",IF(F132=\"\",\"\",J131-$C$24))","v":""},0,{"$f":"IF(J132=\"\",\"\",ROUNDDOWN(J132*K132*G132/365,0))","v":""},null,{"$f":"IF(I132=\"\",N131,I132)","v":0},{"$f":"N131-N132","v":0},{"$f":"IF(J132=\"\",P131,J132)","v":0},{"$f":"P131-P132","v":0},"",{"$f":"IF(C132=\"\",\"\",IF(C132=E131,\"NG\",IF(C132<E131,\"NG\",IF((C132-E131)>1,\"NG\",\"\"))))","v":""},{"$f":"IF(E132=\"\",\"\",IF(C133=\"\",\"\",IF(E132>C133,\"NG\",\"\")))","v":""},null,{"$f":"IF(E132=\"\",\"\",IF(C132<$U$130,\"NG\",IF(E132>$V$130,\"NG\",\"\")))","v":""},"",{"$f":"COUNTIF(S132:W132,\"NG\")","v":0},"","",0,null,null,"2027-10-01",46661,"2027-10-31",46691,{"$f":"IF(AD132=\"\",\"\",AF132-AD132+1)","v":31},null,25000000,25000000,0.01,21232,null,25000000,{"$f":"AO131-AO132","v":1000000},25000000,{"$f":"AQ131-AQ132","v":1000000}]
[null,null,"",{"$f":"IF(C133=\"\",\"\",C133)","v":""},null,"","",null,{"$f":"IF(I132=\"\",\"\",IF(E133=\"\",\"\",I132-$C$11))","v":""},{"$f":"IF(J132=\"\",\"\",IF(F133=\"\",\"\",J132-$C$24))","v":""},0,"",null,{"$f":"IF(I133=\"\",N132,I133)","v":0},{"$f":"N132-N133","v":0},{"$f":"IF(J133=\"\",P132,J133)","v":0},{"$f":"P132-P133","v":0},"",{"$f":"IF(C133=\"\",\"\",IF(C133=E132,\"NG\",IF(C133<E132,\"NG\",IF((C133-E132)>1,\"NG\",\"\"))))","v":""},"",null,"","",0,"","",0,null,null,"2027-11-01",46692,"2027-11-30",46721,30,null,24000000,24000000,0.01,19726,null,24000000,1000000,24000000,1000000]
[null,null,"","",null,"","",null,"","",0,"",null,0,0,0,{"$f":"P133-P134","v":0},"","","",null,"","",0,"","",0,null,null,"2027-12-01",46722,"2027-12-31",46752,31,null,23000000,23000000,0.01,19534,null,23000000,1000000,23000000,1000000]
[null,null,"","",null,"","",null,"","",0,"",null,0,0,0,0,"","","",null,"","",0,"","",0,null,null,"2028-01-01",46753,"2028-01-31",46783,31,null,22000000,22000000,0.01,18684,null,22000000,1000000,22000000,1000000]
[null,null,"","",null,"","",null,"","",0,"",null,0,0,0,0,"","",{"$f":"IF(E136=\"\",\"\",IF(C137=\"\",\"\",IF(E136>C137,\"NG\",\"\")))","v":""},null,"","",0,"","",0,null,null,"2028-02-01",46784,"2028-02-29",46812,29,null,21000000,21000000,0.01,16684,null,21000000,1000000,21000000,1000000]
[null,null,"","",null,"","",null,"","",0,"",null,0,0,0,0,"","",{"$f":"IF(D137=\"\",\"\",IF(D137<C137,\"NG\",\"\"))","v":""},null,"","",0,"","",0,null,null,"2028-03-01",46813,"2028-03-10",46822,10,null,20000000,20000000,0.01,5479,null,20000000,1000000,20000000,1000000]
[null,null,{"$f":"IF(X138>0,$S$38,\"\")","v":""},null,null,null,"Null",null,null,null,0,{"$f":"IF(J138=\"\",\"\",ROUNDDOWN(J138*K138*G138/365,0))","v":""},null,0,0,0,0,"",null,null,"2028-03-09","2028-09-12",null,{"$f":"SUM(X131:X137)","v":0},"","",0,null,null,null,"",null,"",null,null,null,null,0.01,"",null,20000000,0,20000000,0]
["2028年度","単位期間Ⅰ",{"$f":"IF(E139=\"\",\"\",IF(E137>0,E137+1,IF(E136>0,E136+1,IF(E135>0,E135+1,IF(E134>0,E134+1,IF(E133>0,E133+1,IF(E132>0,E132+1,E131+1)))))))","v":""},{"$f":"IF(C139=\"\",\"\",C139)","v":""},null,{"$f":"IF(E139=\"\",\"\",E139)","v":""},{"$f":"IF(E139=\"\",\"\",E139-C139+1)","v":""},{"$f":"IF(G139=\"\",\"\",SUM(G139:G146))","v":""},null,null,{"$f":"IF(K138=\"\",\"\",$K$43)","v":0},{"$f":"IF(J139=\"\",\"\",ROUNDDOWN(J139*K139*G139/365,0))","v":""},{"$f":"IF(L139=\"\",\"\",SUM(L139:L146))","v":""},{"$f":"IF(I139=\"\",N138,I139)","v":0},0,{"$f":"IF(J139=\"\",P138,J139)","v":0},0,"",{"$f":"IF(C139=\"\",\"\",IF(C139>E139,\"NG\",\"\"))","v":""},{"$f":"IF(E139=\"\",\"\",IF(C140=\"\",\"\",IF(E139>C140,\"NG\",\"\")))","v":""},{"$f":"IF(C139=\"\",\"\",IF(C139<$U138,\"NG\",IF(C139>$V138,\"NG\",\"\")))","v":""},{"$f":"IF(E139=\"\",\"\",IF(C139<$U$138,\"NG\",IF(E139>$V$138,\"NG\",\"\")))","v":""},"",{"$f":"COUNTIF(S139:W139,\"NG\")","v":0},"","",0,{"$f":"A139","v":"2028年度"},"単位期間Ⅰ","2028-03-11",46823,"2028-03-31",46843,{"$f":"IF(AD139=\"\",\"\",AF139-AD139+1)","v":21},{"$f":"IF(AH139=\"\",\"\",SUM(AH139:AH146))","v":184},20000000,20000000,0.01,{"$f":"IF(AF139=\"\",\"\",ROUNDDOWN(AK139*AL139*AH139/365,0))","v":11506},{"$f":"IF(AM139=\"\",\"\",SUM(AM139:AM146))","v":86544},20000000,"-",20000000,"-"]
[null,null,{"$f":"IF(E140=\"\",\"\",IF(E139=\"\",\"\",IF(E139>=DATE(2028,9,10),\"\",E139+1)))","v":""},{"$f":"IF(C140=\"\",\"\",C140)","v":""},null,{"$f":"IF(E140=\"\",\"\",E140)","v":""},{"$f":"IF(E140=\"\",\"\",E140-C140+1)","v":""},null,{"$f":"IF(I139=\"\",\"\",IF(E140=\"\",\"\",I139-$C$11))","v":""},{"$f":"IF(J139=\"\",\"\",IF(F140=\"\",\"\",J139-$C$24))","v":""},{"$f":"IF(K139=\"\",\"\",$K$43)","v":0},{"$f":"IF(J140=\"\",\"\",ROUNDDOWN(J140*K140*G140/365,0))","v":""},null,{"$f":"IF(I140=\"\",N139,I140)","v":0},{"$f":"N139-N140","v":0},{"$f":"IF(J140=\"\",P139,J140)","v":0},{"$f":"P139-P140","v":0},"",{"$f":"IF(C140=\"\",\"\",IF(C140=E139,\"NG\",IF(C140<E139,\"NG\",IF((C140-E139)>1,\"NG\",\"\"))))","v":""},{"$f":"IF(E140=\"\",\"\",IF(C141=\"\",\"\",IF(E140>C141,\"NG\",\"\")))","v":""},null,{"$f":"IF(E140=\"\",\"\",IF(C140<$U$138,\"NG\",IF(E140>$V$138,\"NG\",\"\")))","v":""},"",{"$f":"COUNTIF(S140:W140,\"NG\")","v":0},"","",0,null,null,"2028-04-01",46844,"2028-04-30",46873,{"$f":"IF(AD140=\"\",\"\",AF140-AD140+1)","v":30},null,19000000,19000000,0.01,{"$f":"IF(AF140=\"\",\"\",ROUNDDOWN(AK140*AL140*AH140/365,0))","v":15616},null,19000000,{"$f":"AO139-AO140","v":1000000},19000000,{"$f":"AQ139-AQ140","v":1000000}]
[null,null,"","",null,"","",null,{"$f":"IF(I140=\"\",\"\",IF(E141=\"\",\"\",I140-$C$11))","v":""},{"$f":"IF(J140=\"\",\"\",IF(F141=\"\",\"\",J140-$C$24))","v":""},{"$f":"IF(K140=\"\",\"\",$K$43)","v":0},"",null,{"$f":"IF(I141=\"\",N140,I141)","v":0},{"$f":"N140-N141","v":0},{"$f":"IF(J141=\"\",P140,J141)","v":0},{"$f":"P140-P141","v":0},"",{"$f":"IF(C141=\"\",\"\",IF(C141=E140,\"NG\",IF(C141<E140,\"NG\",IF((C141-E140)>1,\"NG\",\"\"))))","v":""},"",null,"","",0,"","",0,null,null,"2028-05-01",46874,"2028-05-31",46904,31,null,18000000,18000000,0.01,{"$f":"IF(AF141=\"\",\"\",ROUNDDOWN(AK141*AL141*AH141/365,0))","v":15287},null,18000000,{"$f":"AO140-AO141","v":1000000},18000000,{"$f":"AQ140-AQ141","v":1000000}]
[null,null,"","",null,"","",null,{"$f":"IF(I141=\"\",\"\",IF(E142=\"\",\"\",I141-$C$11))","v":""},{"$f":"IF(J141=\"\",\"\",IF(F142=\"\",\"\",J141-$C$24))","v":""},0,"",null,0,0,0,0,"","","",null,"","",0,"","",0,null,null,"2028-06-01",46905,"2028-06-30",46934,30,null,17000000,17000000,0.01,13972,null,17000000,1000000,17000000,1000000]
[null,null,"","",null,"","",null,"","",0,"",null,0,0,0,0,"","","",null,"","",0,"","",0,null,null,"2028-07-01",46935,"2028-07-31",46965,31,null,16000000,16000000,0.01,13589,null,16000000,1000000,16000000,1000000]
[null,null,"","",null,"","",null,"","",0,"",null,0,0,0,0,"","",{"$f":"IF(E144=\"\",\"\",IF(C145=\"\",\"\",IF(E144>C145,\"NG\",\"\")))","v":""},null,"","",0,"","",0,null,null,"2028-08-01",46966,"2028-08-31",46996,31,null,15000000,15000000,0.01,12739,null,15000000,1000000,15000000,1000000]
[null,null,"","",null,"","",null,"","",0,"",null,0,0,0,0,"","",{"$f":"IF(D145=\"\",\"\",IF(D145<C145,\"NG\",\"\"))","v":""},null,"","",0,"","",0,null,null,"2028-09-01",46997,"2028-09-10",47006,10,null,14000000,14000000,0.01,3835,null,14000000,1000000,14000000,1000000]
[null,null,{"$f":"IF(X146>0,$S$38,\"\")","v":""},null,null,null,"Null",null,null,null,0,{"$f":"IF(J146=\"\",\"\",ROUNDDOWN(J146*K146*G146/365,0))","v":""},null,0,0,0,0,"",null,null,"2028-09-09","2029-03-12",null,{"$f":"SUM(X139:X145)","v":0},"","",0,null,null,null,"",null,"",null,null,null,null,0.01,"",null,14000000,0,14000000,0]
[null,"単位期間Ⅱ",{"$f":"IF(E147=\"\",\"\",IF(E145>M318,E145+1,IF(E144>M318,E144+1,IF(E143>M318,E143+1,IF(E142>M318,E142+1,IF(E141>M318,E141+1,IF(E140>M318,E140+1,IF(E139>M318,E139+1,IF(C124>M318,C124,\"\")))))))))","v":""},{"$f":"IF(C147=\"\",\"\",C147)","v":""},null,{"$f":"IF(E147=\"\",\"\",E147)","v":""},{"$f":"IF(E147=\"\",\"\",E147-C147+1)","v":""},{"$f":"IF(G147=\"\",\"\",SUM(G147:G154))","v":""},null,null,0,{"$f":"IF(J147=\"\",\"\",ROUNDDOWN(J147*K147*G147/365,0))","v":""},{"$f":"IF(L147=\"\",\"\",SUM(L147:L154))","v":""},{"$f":"IF(I147=\"\",N146,I147)","v":0},{"$f":"IF(N146-N147<0,\"0 \",N146-N147)","v":0},{"$f":"IF(J147=\"\",P146,J147)","v":0},{"$f":"IF(P146-P147<0,\"0 \",P146-P147)","v":0},"",{"$f":"IF(C147=\"\",\"\",IF(C147>E147,\"NG\",\"\"))","v":""},{"$f":"IF(E147=\"\",\"\",IF(C148=\"\",\"\",IF(E147>C148,\"NG\",\"\")))","v":""},{"$f":"IF(C147=\"\",\"\",IF(C147<$U146,\"NG\",IF(C147>$V146,\"NG\",\"\")))","v":""},{"$f":"IF(E147=\"\",\"\",IF(C147<$U$146,\"NG\",IF(E147>$V$146,\"NG\",\"\")))","v":""},"",{"$f":"COUNTIF(S147:W147,\"NG\")","v":0},"","",0,null,"単位期間Ⅱ","2028-09-11",47007,"2028-09-30",47026,{"$f":"IF(AD147=\"\",\"\",AF147-AD147+1)","v":20},{"$f":"IF(AH147=\"\",\"\",SUM(AH147:AH154))","v":181},14000000,14000000,0.01,{"$f":"IF(AD147=\"\",\"\",ROUNDDOWN(AK147*AL147*AH147/365,0))","v":7671},{"$f":"IF(AM147=\"\",\"\",SUM(AM147:AM154))","v":55505},14000000,0,14000000,0]
[null,null,{"$f":"IF(E148=\"\",\"\",IF(E147=\"\",\"\",IF(E147>=DATE(2029,3,10),\"\",E147+1)))","v":""},{"$f":"IF(C148=\"\",\"\",C148)","v":""},null,{"$f":"IF(E148=\"\",\"\",E148)","v":""},{"$f":"IF(E148=\"\",\"\",E148-C148+1)","v":""},null,{"$f":"IF(I147=\"\",\"\",IF(E148=\"\",\"\",I147-$C$11))","v":""},{"$f":"IF(J147=\"\",\"\",IF(F148=\"\",\"\",J147-$C$24))","v":""},0,{"$f":"IF(J148=\"\",\"\",ROUNDDOWN(J148*K148*G148/365,0))","v":""},null,{"$f":"IF(I148=\"\",N147,I148)","v":0},{"$f":"N147-N148","v":0},{"$f":"IF(J148=\"\",P147,J148)","v":0},{"$f":"P147-P148","v":0},"",{"$f":"IF(C148=\"\",\"\",IF(C148=E147,\"NG\",IF(C148<E147,\"NG\",IF((C148-E147)>1,\"NG\",\"\"))))","v":""},{"$f":"IF(E148=\"\",\"\",IF(C149=\"\",\"\",IF(E148>C149,\"NG\",\"\")))","v":""},null,{"$f":"IF(E148=\"\",\"\",IF(C148<$U$146,\"NG\",IF(E148>$V$146,\"NG\",\"\")))","v":""},"",{"$f":"COUNTIF(S148:W148,\"NG\")","v":0},"","",0,null,null,"2028-10-01",47027,"2028-10-31",47057,{"$f":"IF(AD148=\"\",\"\",AF148-AD148+1)","v":31},null,13000000,13000000,0.01,11041,null,13000000,{"$f":"AO147-AO148","v":1000000},13000000,{"$f":"AQ147-AQ148","v":1000000}]
[null,null,"","",null,"","",null,{"$f":"IF(I148=\"\",\"\",IF(E149=\"\",\"\",I148-$C$11))","v":""},{"$f":"IF(J148=\"\",\"\",IF(F149=\"\",\"\",J148-$C$24))","v":""},0,"",null,{"$f":"IF(I149=\"\",N148,I149)","v":0},{"$f":"N148-N149","v":0},{"$f":"IF(J149=\"\",P148,J149)","v":0},{"$f":"P148-P149","v":0},"",{"$f":"IF(C149=\"\",\"\",IF(C149=E148,\"NG\",IF(C149<E148,\"NG\",IF((C149-E148)>1,\"NG\",\"\"))))","v":""},"",null,"","",0,"","",0,null,null,"2028-11-01",47058,"2028-11-30",47087,30,null,12000000,12000000,0.01,9863,null,12000000,1000000,12000000,1000000]
[null,null,"","",null,"","",null,"","",0,"",null,0,0,0,{"$f":"P149-P150","v":0},"","","",null,"","",0,"","",0,null,null,"2028-12-01",47088,"2028-12-31",47118,31,null,11000000,11000000,0.01,9342,null,11000000,1000000,11000000,1000000]
[null,null,"","",null,"","",null,"","",0,"",null,0,0,0,0,"","","",null,"","",0,"","",0,null,null,"2029-01-01",47119,"2029-01-31",47149,31,null,10000000,10000000,0.01,8493,null,10000000,1000000,10000000,1000000]
[null,null,"","",null,"","",null,"","",0,"",null,0,0,0,0,"","",{"$f":"IF(E152=\"\",\"\",IF(C153=\"\",\"\",IF(E152>C153,\"NG\",\"\")))","v":""},null,"","",0,"","",0,null,null,"2029-02-01",47150,"2029-02-28",47177,28,null,9000000,9000000,0.01,6904,null,9000000,1000000,9000000,1000000]
[null,null,"","",null,"","",null,"","",0,"",null,0,0,0,0,"","",{"$f":"IF(D153=\"\",\"\",IF(D153<C153,\"NG\",\"\"))","v":""},null,"","",0,"","",0,null,null,"2029-03-01",47178,"2029-03-10",47187,10,null,8000000,8000000,0.01,2191,null,8000000,1000000,8000000,1000000]
[null,null,{"$f":"IF(X154>0,$S$38,\"\")","v":""},null,null,null,"Null",null,null,null,0,{"$f":"IF(J154=\"\",\"\",ROUNDDOWN(J154*K154*G154/365,0))","v":""},null,0,0,0,0,"",null,null,"2029-03-09","2029-09-12",null,{"$f":"SUM(X147:X153)","v":0},"","",0,null,null,null,"",null,"",null,null,null,null,0.01,"",null,8000000,0,8000000,0]
["2029年度","単位期間Ⅰ",{"$f":"IF(E155=\"\",\"\",IF(E153>0,E153+1,IF(E152>0,E152+1,IF(E151>0,E151+1,IF(E150>0,E150+1,IF(E149>0,E149+1,IF(E148>0,E148+1,E147+1)))))))","v":""},{"$f":"IF(C155=\"\",\"\",C155)","v":""},null,{"$f":"IF(E155=\"\",\"\",E155)","v":""},{"$f":"IF(E155=\"\",\"\",E155-C155+1)","v":""},{"$f":"IF(G155=\"\",\"\",SUM(G155:G162))","v":""},null,null,{"$f":"IF(K154=\"\",\"\",$K$43)","v":0},{"$f":"IF(J155=\"\",\"\",ROUNDDOWN(J155*K155*G155/365,0))","v":""},{"$f":"IF(L155=\"\",\"\",SUM(L155:L162))","v":""},{"$f":"IF(I155=\"\",N154,I155)","v":0},0,{"$f":"IF(J155=\"\",P154,J155)","v":0},0,"",{"$f":"IF(C155=\"\",\"\",IF(C155>E155,\"NG\",\"\"))","v":""},{"$f":"IF(E155=\"\",\"\",IF(C156=\"\",\"\",IF(E155>C156,\"NG\",\"\")))","v":""},{"$f":"IF(C155=\"\",\"\",IF(C155<$U154,\"NG\",IF(C155>$V154,\"NG\",\"\")))","v":""},{"$f":"IF(E155=\"\",\"\",IF(C155<$U$154,\"NG\",IF(E155>$V$154,\"NG\",\"\")))","v":""},"",{"$f":"COUNTIF(S155:W155,\"NG\")","v":0},"","",0,{"$f":"A155","v":"2029年度"},"単位期間Ⅰ","2029-03-11",47188,"2029-03-31",47208,{"$f":"IF(AD155=\"\",\"\",AF155-AD155+1)","v":21},{"$f":"IF(AH155=\"\",\"\",SUM(AH155:AH162))","v":184},8000000,8000000,0.01,{"$f":"IF(AF155=\"\",\"\",ROUNDDOWN(AK155*AL155*AH155/365,0))","v":4602},{"$f":"IF(AM155=\"\",\"\",SUM(AM155:AM162))","v":26050},8000000,"-",8000000,"-"]
[null,null,{"$f":"IF(E156=\"\",\"\",IF(E155=\"\",\"\",IF(E155>=DATE(2029,9,10),\"\",E155+1)))","v":""},{"$f":"IF(C156=\"\",\"\",C156)","v":""},null,{"$f":"IF(E156=\"\",\"\",E156)","v":""},{"$f":"IF(E156=\"\",\"\",E156-C156+1)","v":""},null,{"$f":"IF(I155=\"\",\"\",IF(E156=\"\",\"\",I155-$C$11))","v":""},{"$f":"IF(J155=\"\",\"\",IF(F156=\"\",\"\",J155-$C$24))","v":""},{"$f":"IF(K155=\"\",\"\",$K$43)","v":0},{"$f":"IF(J156=\"\",\"\",ROUNDDOWN(J156*K156*G156/365,0))","v":""},null,{"$f":"IF(I156=\"\",N155,I156)","v":0},{"$f":"N155-N156","v":0},{"$f":"IF(J156=\"\",P155,J156)","v":0},{"$f":"P155-P156","v":0},"",{"$f":"IF(C156=\"\",\"\",IF(C156=E155,\"NG\",IF(C156<E155,\"NG\",IF((C156-E155)>1,\"NG\",\"\"))))","v":""},{"$f":"IF(E156=\"\",\"\",IF(C157=\"\",\"\",IF(E156>C157,\"NG\",\"\")))","v":""},null,{"$f":"IF(E156=\"\",\"\",IF(C156<$U$154,\"NG\",IF(E156>$V$154,\"NG\",\"\")))","v":""},"",{"$f":"COUNTIF(S156:W156,\"NG\")","v":0},"","",0,null,null,"2029-04-01",47209,"2029-04-30",47238,{"$f":"IF(AD156=\"\",\"\",AF156-AD156+1)","v":30},null,7000000,7000000,0.01,{"$f":"IF(AF156=\"\",\"\",ROUNDDOWN(AK156*AL156*AH156/365,0))","v":5753},null,7000000,{"$f":"AO155-AO156","v":1000000},7000000,{"$f":"AQ155-AQ156","v":1000000}]
[null,null,"","",null,"","",null,{"$f":"IF(I156=\"\",\"\",IF(E157=\"\",\"\",I156-$C$11))","v":""},{"$f":"IF(J156=\"\",\"\",IF(F157=\"\",\"\",J156-$C$24))","v":""},{"$f":"IF(K156=\"\",\"\",$K$43)","v":0},"",null,{"$f":"IF(I157=\"\",N156,I157)","v":0},{"$f":"N156-N157","v":0},{"$f":"IF(J157=\"\",P156,J157)","v":0},{"$f":"P156-P157","v":0},"",{"$f":"IF(C157=\"\",\"\",IF(C157=E156,\"NG\",IF(C157<E156,\"NG\",IF((C157-E156)>1,\"NG\",\"\"))))","v":""},"",null,"","",0,"","",0,null,null,"2029-05-01",47239,"2029-05-31",47269,31,null,6000000,6000000,0.01,{"$f":"IF(AF157=\"\",\"\",ROUNDDOWN(AK157*AL157*AH157/365,0))","v":5095},null,6000000,{"$f":"AO156-AO157","v":1000000},6000000,{"$f":"AQ156-AQ157","v":1000000}]
[null,null,"","",null,"","",null,{"$f":"IF(I157=\"\",\"\",IF(E158=\"\",\"\",I157-$C$11))","v":""},{"$f":"IF(J157=\"\",\"\",IF(F158=\"\",\"\",J157-$C$24))","v":""},0,"",null,0,0,0,0,"","","",null,"","",0,"","",0,null,null,"2029-06-01",47270,"2029-06-30",47299,30,null,5000000,5000000,0.01,4109,null,5000000,1000000,5000000,1000000]
[null,null,"","",null,"","",null,"","",0,"",null,0,0,0,0,"","","",null,"","",0,"","",0,null,null,"2029-07-01",47300,"2029-07-31",{"$f":"IF(AF159=\"\",\"\",AF159)","v":47330},31,null,4000000,4000000,0.01,3397,null,4000000,1000000,4000000,1000000]
[null,null,"","",null,"","",null,"","",0,"",null,0,0,0,0,"","",{"$f":"IF(E160=\"\",\"\",IF(C161=\"\",\"\",IF(E160>C161,\"NG\",\"\")))","v":""},null,"","",0,"","",0,null,null,"2029-08-01",47331,"2029-08-31",47361,31,null,3000000,3000000,0.01,2547,null,3000000,1000000,3000000,1000000]
[null,null,"","",null,"","",null,"","",0,"",null,0,0,0,0,"","",{"$f":"IF(D161=\"\",\"\",IF(D161<C161,\"NG\",\"\"))","v":""},null,"","",0,"","",0,null,null,"2029-09-01",47362,"2029-09-10",47371,10,null,2000000,2000000,0.01,547,null,2000000,1000000,2000000,1000000]
[null,null,{"$f":"IF(X162>0,$S$38,\"\")","v":""},null,null,null,"Null",null,null,null,0,{"$f":"IF(J162=\"\",\"\",ROUNDDOWN(J162*K162*G162/365,0))","v":""},null,0,0,0,0,"",null,null,"2029-09-09","2030-03-12",null,{"$f":"SUM(X155:X161)","v":0},"","",0,null,null,null,"",null,"",null,null,null,null,0.01,"",null,2000000,0,2000000,0]
[null,"単位期間Ⅱ",{"$f":"IF(E163=\"\",\"\",IF(E161>M334,E161+1,IF(E160>M334,E160+1,IF(E159>M334,E159+1,IF(E158>M334,E158+1,IF(E157>M334,E157+1,IF(E156>M334,E156+1,IF(E155>M334,E155+1,IF(C140>M334,C140,\"\")))))))))","v":""},{"$f":"IF(C163=\"\",\"\",C163)","v":""},null,{"$f":"IF(E163=\"\",\"\",E163)","v":""},{"$f":"IF(E163=\"\",\"\",E163-C163+1)","v":""},{"$f":"IF(G163=\"\",\"\",SUM(G163:G170))","v":""},null,null,0,{"$f":"IF(J163=\"\",\"\",ROUNDDOWN(J163*K163*G163/365,0))","v":""},{"$f":"IF(L163=\"\",\"\",SUM(L163:L170))","v":""},{"$f":"IF(I163=\"\",N162,I163)","v":0},{"$f":"IF(N162-N163<0,\"0 \",N162-N163)","v":0},{"$f":"IF(J163=\"\",P162,J163)","v":0},{"$f":"IF(P162-P163<0,\"0 \",P162-P163)","v":0},"",{"$f":"IF(C163=\"\",\"\",IF(C163>E163,\"NG\",\"\"))","v":""},{"$f":"IF(E163=\"\",\"\",IF(C164=\"\",\"\",IF(E163>C164,\"NG\",\"\")))","v":""},{"$f":"IF(C163=\"\",\"\",IF(C163<$U162,\"NG\",IF(C163>$V162,\"NG\",\"\")))","v":""},{"$f":"IF(E163=\"\",\"\",IF(C163<$U$162,\"NG\",IF(E163>$V$162,\"NG\",\"\")))","v":""},"",{"$f":"COUNTIF(S163:W163,\"NG\")","v":0},"","",0,null,"単位期間Ⅱ","2029-09-11",47372,"2029-09-30",47391,{"$f":"IF(AD163=\"\",\"\",AF163-AD163+1)","v":20},{"$f":"IF(AH163=\"\",\"\",SUM(AH163:AH170))","v":51},2000000,2000000,0.01,{"$f":"IF(AD163=\"\",\"\",ROUNDDOWN(AK163*AL163*AH163/365,0))","v":1095},{"$f":"IF(AM163=\"\",\"\",SUM(AM163:AM170))","v":1944},2000000,0,2000000,0]
[null,null,{"$f":"IF(E164=\"\",\"\",IF(E163=\"\",\"\",IF(E163>=DATE(2030,3,10),\"\",E163+1)))","v":""},{"$f":"IF(C164=\"\",\"\",C164)","v":""},null,{"$f":"IF(E164=\"\",\"\",E164)","v":""},{"$f":"IF(E164=\"\",\"\",E164-C164+1)","v":""},null,{"$f":"IF(I163=\"\",\"\",IF(E164=\"\",\"\",I163-$C$11))","v":""},{"$f":"IF(J163=\"\",\"\",IF(F164=\"\",\"\",J163-$C$24))","v":""},0,{"$f":"IF(J164=\"\",\"\",ROUNDDOWN(J164*K164*G164/365,0))","v":""},null,{"$f":"IF(I164=\"\",N163,I164)","v":0},{"$f":"N163-N164","v":0},{"$f":"IF(J164=\"\",P163,J164)","v":0},{"$f":"P163-P164","v":0},"",{"$f":"IF(C164=\"\",\"\",IF(C164=E163,\"NG\",IF(C164<E163,\"NG\",IF((C164-E163)>1,\"NG\",\"\"))))","v":""},{"$f":"IF(E164=\"\",\"\",IF(C165=\"\",\"\",IF(E164>C165,\"NG\",\"\")))","v":""},null,{"$f":"IF(E164=\"\",\"\",IF(C164<$U$162,\"NG\",IF(E164>$V$162,\"NG\",\"\")))","v":""},"",{"$f":"COUNTIF(S164:W164,\"NG\")","v":0},"","",0,null,null,"2029-10-01",47392,"2029-10-31",47422,{"$f":"IF(AD164=\"\",\"\",AF164-AD164+1)","v":31},null,1000000,1000000,0.01,849,null,1000000,{"$f":"AO163-AO164","v":1000000},1000000,{"$f":"AQ163-AQ164","v":1000000}]
[null,null,"","",null,"","",null,{"$f":"IF(I164=\"\",\"\",IF(E165=\"\",\"\",I164-$C$11))","v":""},{"$f":"IF(J164=\"\",\"\",IF(F165=\"\",\"\",J164-$C$24))","v":""},0,"",null,{"$f":"IF(I165=\"\",N164,I165)","v":0},{"$f":"N164-N165","v":0},{"$f":"IF(J165=\"\",P164,J165)","v":0},{"$f":"P164-P165","v":0},"",{"$f":"IF(C165=\"\",\"\",IF(C165=E164,\"NG\",IF(C165<E164,\"NG\",IF((C165-E164)>1,\"NG\",\"\"))))","v":""},"",null,"",{"$f":"IF(G165>0,\"\",\"NG\")","v":""},0,"","",0,null,null,null,"",null,"","",null,null,null,0.01,"",null,1000000,0,1000000,0]
[null,null,"","",null,"","",null,"","",0,"",null,0,0,0,{"$f":"P165-P166","v":0},"","","",null,"","",0,"","",0,null,null,null,"",null,"","",null,null,null,0.01,"",null,1000000,0,1000000,0]
[null,null,"","",null,"","",null,"","",0,"",null,0,0,0,0,"","","",null,"","",0,"","",0,null,null,null,"",null,"","",null,null,null,0.01,"",null,1000000,0,1000000,0]
[null,null,"","",null,"","",null,"","",0,"",null,0,0,0,0,"","",{"$f":"IF(E168=\"\",\"\",IF(C169=\"\",\"\",IF(E168>C169,\"NG\",\"\")))","v":""},null,"","",0,"","",0,null,null,null,"",null,"","",null,null,null,0.01,"",null,1000000,0,1000000,0]
[null,null,"","",null,"","",null,"","",0,"",null,0,0,0,0,"","",{"$f":"IF(D169=\"\",\"\",IF(D169<C169,\"NG\",\"\"))","v":""},null,"","",0,"","",0,null,null,null,"",null,"","",null,null,null,0.01,"",null,1000000,0,1000000,0]
[null,null,{"$f":"IF(X170>0,$S$38,\"\")","v":""},null,null,null,"Null",null,null,null,0,{"$f":"IF(J170=\"\",\"\",ROUNDDOWN(J170*K170*G170/365,0))","v":""},null,0,0,0,0,"",null,null,"2030-03-09","2030-09-12",null,{"$f":"SUM(X163:X169)","v":0},"","",0,null,null,null,"",null,"",null,null,null,null,0.01,"",null,1000000,0,1000000,0]
["2030年度","単位期間Ⅰ",{"$f":"IF(E171=\"\",\"\",IF(E169>0,E169+1,IF(E168>0,E168+1,IF(E167>0,E167+1,IF(E166>0,E166+1,IF(E165>0,E165+1,IF(E164>0,E164+1,E163+1)))))))","v":""},{"$f":"IF(C171=\"\",\"\",C171)","v":""},null,{"$f":"IF(E171=\"\",\"\",E171)","v":""},{"$f":"IF(E171=\"\",\"\",E171-C171+1)","v":""},{"$f":"IF(G171=\"\",\"\",SUM(G171:G178))","v":""},null,null,{"$f":"IF(K170=\"\",\"\",$K$43)","v":0},{"$f":"IF(J171=\"\",\"\",ROUNDDOWN(J171*K171*G171/365,0))","v":""},{"$f":"IF(L171=\"\",\"\",SUM(L171:L178))","v":""},{"$f":"IF(I171=\"\",N170,I171)","v":0},0,{"$f":"IF(J171=\"\",P170,J171)","v":0},0,"",{"$f":"IF(C171=\"\",\"\",IF(C171>E171,\"NG\",\"\"))","v":""},{"$f":"IF(E171=\"\",\"\",IF(C172=\"\",\"\",IF(E171>C172,\"NG\",\"\")))","v":""},{"$f":"IF(C171=\"\",\"\",IF(C171<$U170,\"NG\",IF(C171>$V170,\"NG\",\"\")))","v":""},{"$f":"IF(E171=\"\",\"\",IF(C171<$U$170,\"NG\",IF(E171>$V$170,\"NG\",\"\")))","v":""},"",{"$f":"COUNTIF(S171:W171,\"NG\")","v":0},"","",0,{"$f":"A171","v":"2030年度"},"単位期間Ⅰ",null,"",null,"",{"$f":"IF(AD171=\"\",\"\",AF171-AD171+1)","v":""},{"$f":"IF(AH171=\"\",\"\",SUM(AH171:AH178))","v":""},null,null,0.01,{"$f":"IF(AF171=\"\",\"\",ROUNDDOWN(AK171*AL171*AH171/365,0))","v":""},{"$f":"IF(AM171=\"\",\"\",SUM(AM171:AM178))","v":""},{"$f":"IF(AJ171=\"\",AO170,AJ171)","v":1000000},"-",{"$f":"IF(AK171=\"\",AQ170,AK171)","v":1000000},"-"]
[null,null,{"$f":"IF(E172=\"\",\"\",IF(E171=\"\",\"\",IF(E171>=DATE(2030,9,10),\"\",E171+1)))","v":""},{"$f":"IF(C172=\"\",\"\",C172)","v":""},null,{"$f":"IF(E172=\"\",\"\",E172)","v":""},{"$f":"IF(E172=\"\",\"\",E172-C172+1)","v":""},null,{"$f":"IF(I171=\"\",\"\",IF(E172=\"\",\"\",I171-$C$11))","v":""},{"$f":"IF(J171=\"\",\"\",IF(F172=\"\",\"\",J171-$C$24))","v":""},{"$f":"IF(K171=\"\",\"\",$K$43)","v":0},{"$f":"IF(J172=\"\",\"\",ROUNDDOWN(J172*K172*G172/365,0))","v":""},null,{"$f":"IF(I172=\"\",N171,I172)","v":0},{"$f":"N171-N172","v":0},{"$f":"IF(J172=\"\",P171,J172)","v":0},{"$f":"P171-P172","v":0},"",{"$f":"IF(C172=\"\",\"\",IF(C172=E171,\"NG\",IF(C172<E171,\"NG\",IF((C172-E171)>1,\"NG\",\"\"))))","v":""},{"$f":"IF(E172=\"\",\"\",IF(C173=\"\",\"\",IF(E172>C173,\"NG\",\"\")))","v":""},null,{"$f":"IF(E172=\"\",\"\",IF(C172<$U$170,\"NG\",IF(E172>$V$170,\"NG\",\"\")))","v":""},"",{"$f":"COUNTIF(S172:W172,\"NG\")","v":0},"","",0,null,null,null,{"$f":"IF(AD172=\"\",\"\",AD172)","v":""},null,"",{"$f":"IF(AD172=\"\",\"\",AF172-AD172+1)","v":""},null,null,null,0.01,{"$f":"IF(AF172=\"\",\"\",ROUNDDOWN(AK172*AL172*AH172/365,0))","v":""},null,1000000,{"$f":"AO171-AO172","v":0},1000000,{"$f":"AQ171-AQ172","v":0}]
[null,null,"","",null,"","",null,{"$f":"IF(I172=\"\",\"\",IF(E173=\"\",\"\",I172-$C$11))","v":""},{"$f":"IF(J172=\"\",\"\",IF(F173=\"\",\"\",J172-$C$24))","v":""},{"$f":"IF(K172=\"\",\"\",$K$43)","v":0},"",null,{"$f":"IF(I173=\"\",N172,I173)","v":0},{"$f":"N172-N173","v":0},{"$f":"IF(J173=\"\",P172,J173)","v":0},{"$f":"P172-P173","v":0},{"$f":"IF(AA173>0,$Y$38,\"\")","v":""},{"$f":"IF(C173=\"\",\"\",IF(C173=E172,\"NG\",IF(C173<E172,\"NG\",IF((C173-E172)>1,\"NG\",\"\"))))","v":""},"",null,"","",0,{"$f":"IF($O173=0,\"\",IF($O173=$Y$41,\"\",\"NG\"))","v":""},{"$f":"IF($Q173=0,\"\",IF($Q173=$Z$41,\"\",\"NG\"))","v":""},{"$f":"COUNTIF(Y173:Z173,\"NG\")","v":0},null,null,null,"",null,"","",null,null,null,0.01,{"$f":"IF(AF173=\"\",\"\",ROUNDDOWN(AK173*AL173*AH173/365,0))","v":""},null,1000000,{"$f":"AO172-AO173","v":0},1000000,{"$f":"AQ172-AQ173","v":0}]
[null,null,"","",null,"","",null,{"$f":"IF(I173=\"\",\"\",IF(E174=\"\",\"\",I173-$C$11))","v":""},{"$f":"IF(J173=\"\",\"\",IF(F174=\"\",\"\",J173-$C$24))","v":""},0,"",null,0,0,0,0,"","","",null,"","",0,"","",0,null,null,null,"",null,"","",null,null,null,0.01,"",null,1000000,0,1000000,0]
[null,null,"","",null,"","",null,"","",0,"",null,0,0,0,0,"","","",null,"","",0,"","",0,null,null,null,"",null,"","",null,null,null,0.01,"",null,1000000,0,1000000,0]
[null,null,"","",null,"","",null,"","",0,"",null,0,0,0,0,"","",{"$f":"IF(E176=\"\",\"\",IF(C177=\"\",\"\",IF(E176>C177,\"NG\",\"\")))","v":""},null,"","",0,"","",0,null,null,null,"",null,"","",null,null,null,0.01,"",null,1000000,0,1000000,0]
[null,null,"","",null,"","",null,"","",0,"",null,0,0,0,0,"","",{"$f":"IF(D177=\"\",\"\",IF(D177<C177,\"NG\",\"\"))","v":""},null,"","",0,"","",0,null,null,null,"",null,"","",null,null,null,0.01,"",null,1000000,0,1000000,0]
[null,null,{"$f":"IF(X178>0,$S$38,\"\")","v":""},null,null,null,"Null",null,null,null,0,{"$f":"IF(J178=\"\",\"\",ROUNDDOWN(J178*K178*G178/365,0))","v":""},null,0,0,0,0,"",null,null,"2030-09-09","2031-03-12",null,{"$f":"SUM(X171:X177)","v":0},"","",0,null,null,null,"",null,"",null,null,null,null,0.01,"",null,1000000,0,1000000,0]
[null,"単位期間Ⅱ",{"$f":"IF(E179=\"\",\"\",IF(E177>M349,E177+1,IF(E176>M349,E176+1,IF(E175>M349,E175+1,IF(E174>M349,E174+1,IF(E173>M349,E173+1,IF(E172>M349,E172+1,IF(E171>M349,E171+1,IF(C156>M349,C156,\"\")))))))))","v":""},{"$f":"IF(C179=\"\",\"\",C179)","v":""},null,{"$f":"IF(E179=\"\",\"\",E179)","v":""},{"$f":"IF(E179=\"\",\"\",E179-C179+1)","v":""},{"$f":"IF(G179=\"\",\"\",SUM(G179:G186))","v":""},null,null,0,{"$f":"IF(J179=\"\",\"\",ROUNDDOWN(J179*K179*G179/365,0))","v":""},{"$f":"IF(L179=\"\",\"\",SUM(L179:L186))","v":""},{"$f":"IF(I179=\"\",N178,I179)","v":0},{"$f":"IF(N178-N179<0,\"0 \",N178-N179)","v":0},{"$f":"IF(J179=\"\",P178,J179)","v":0},{"$f":"IF(P178-P179<0,\"0 \",P178-P179)","v":0},"",{"$f":"IF(C179=\"\",\"\",IF(C179>E179,\"NG\",\"\"))","v":""},{"$f":"IF(E179=\"\",\"\",IF(C180=\"\",\"\",IF(E179>C180,\"NG\",\"\")))","v":""},{"$f":"IF(C179=\"\",\"\",IF(C179<$U178,\"NG\",IF(C179>$V178,\"NG\",\"\")))","v":""},{"$f":"IF(E179=\"\",\"\",IF(C179<$U$178,\"NG\",IF(E179>$V$178,\"NG\",\"\")))","v":""},"",{"$f":"COUNTIF(S179:W179,\"NG\")","v":0},"","",0,null,"単位期間Ⅱ",null,"",null,"",null,null,null,null,0.01,{"$f":"IF(AD179=\"\",\"\",ROUNDDOWN(AK179*AL179*AH179/365,0))","v":""},{"$f":"IF(AM179=\"\",\"\",SUM(AM179:AM186))","v":""},1000000,0,1000000,0]
[null,null,{"$f":"IF(E180=\"\",\"\",IF(E179=\"\",\"\",IF(E179>=DATE(2031,3,10),\"\",E179+1)))","v":""},{"$f":"IF(C180=\"\",\"\",C180)","v":""},null,{"$f":"IF(E180=\"\",\"\",E180)","v":""},{"$f":"IF(E180=\"\",\"\",E180-C180+1)","v":""},null,{"$f":"IF(I179=\"\",\"\",IF(E180=\"\",\"\",I179-$C$11))","v":""},{"$f":"IF(J179=\"\",\"\",IF(F180=\"\",\"\",J179-$C$24))","v":""},0,{"$f":"IF(J180=\"\",\"\",ROUNDDOWN(J180*K180*G180/365,0))","v":""},null,{"$f":"IF(I180=\"\",N179,I180)","v":0},{"$f":"N179-N180","v":0},{"$f":"IF(J180=\"\",P179,J180)","v":0},{"$f":"P179-P180","v":0},"",{"$f":"IF(C180=\"\",\"\",IF(C180=E179,\"NG\",IF(C180<E179,\"NG\",IF((C180-E179)>1,\"NG\",\"\"))))","v":""},{"$f":"IF(E180=\"\",\"\",IF(C181=\"\",\"\",IF(E180>C181,\"NG\",\"\")))","v":""},null,{"$f":"IF(E180=\"\",\"\",IF(C180<$U$178,\"NG\",IF(E180>$V$178,\"NG\",\"\")))","v":""},"",{"$f":"COUNTIF(S180:W180,\"NG\")","v":0},"","",0,null,null,null,"",null,"",null,null,null,null,0.01,"",null,1000000,{"$f":"AO179-AO180","v":0},1000000,{"$f":"AQ179-AQ180","v":0}]
[null,null,"","",null,"","",null,{"$f":"IF(I180=\"\",\"\",IF(E181=\"\",\"\",I180-$C$11))","v":""},{"$f":"IF(J180=\"\",\"\",IF(F181=\"\",\"\",J180-$C$24))","v":""},0,"",null,{"$f":"IF(I181=\"\",N180,I181)","v":0},{"$f":"N180-N181","v":0},{"$f":"IF(J181=\"\",P180,J181)","v":0},{"$f":"P180-P181","v":0},"",{"$f":"IF(C181=\"\",\"\",IF(C181=E180,\"NG\",IF(C181<E180,\"NG\",IF((C181-E180)>1,\"NG\",\"\"))))","v":""},"",null,"","",0,"","",0,null,null,null,"",null,"",null,null,null,null,0.01,"",null,1000000,0,1000000,0]
[null,null,"","",null,"","",null,"","",0,"",null,0,0,0,{"$f":"P181-P182","v":0},"","","",null,"","",0,"","",0,null,null,null,"",null,"",null,null,null,null,0.01,"",null,1000000,0,1000000,0]
[null,null,"","",null,"","",null,"","",0,"",null,0,0,0,0,"","","",null,"","",0,"","",0,null,null,null,"",null,"",null,null,null,null,0.01,"",null,1000000,0,1000000,0]
[null,null,"","",null,"","",null,"","",0,"",null,0,0,0,0,"","",{"$f":"IF(E184=\"\",\"\",IF(C185=\"\",\"\",IF(E184>C185,\"NG\",\"\")))","v":""},null,"","",0,"","",0,null,null,null,"",null,"",null,null,null,null,0.01,"",null,1000000,0,1000000,0]
[null,null,"","",null,"","",null,"","",0,"",null,0,0,0,0,"","",{"$f":"IF(D185=\"\",\"\",IF(D185<C185,\"NG\",\"\"))","v":""},null,"",{"$f":"IF(G185>0,\"\",\"NG\")","v":""},0,"","",0,null,null,null,"",null,{"$f":"IF(AF185=\"\",\"\",AF185)","v":""},null,null,null,null,0.01,"",null,1000000,0,1000000,0]
[null,null,{"$f":"IF(X186>0,$S$38,\"\")","v":""},null,null,null,"Null",null,null,null,0,{"$f":"IF(J186=\"\",\"\",ROUNDDOWN(J186*K186*G186/365,0))","v":""},null,0,0,0,0,"",null,null,"2031-03-09","2031-09-12",null,{"$f":"SUM(X179:X185)","v":0},"","",0,null,null,null,"",null,"",null,null,null,null,0.01,"",null,1000000,0,1000000,0]
["2031年度","単位期間Ⅰ",{"$f":"IF(E187=\"\",\"\",IF(E185>0,E185+1,IF(E184>0,E184+1,IF(E183>0,E183+1,IF(E182>0,E182+1,IF(E181>0,E181+1,IF(E180>0,E180+1,E179+1)))))))","v":""},{"$f":"IF(C187=\"\",\"\",C187)","v":""},null,{"$f":"IF(E187=\"\",\"\",E187)","v":""},{"$f":"IF(E187=\"\",\"\",E187-C187+1)","v":""},{"$f":"IF(G187=\"\",\"\",SUM(G187:G194))","v":""},null,null,{"$f":"IF(K186=\"\",\"\",$K$43)","v":0},{"$f":"IF(J187=\"\",\"\",ROUNDDOWN(J187*K187*G187/365,0))","v":""},{"$f":"IF(L187=\"\",\"\",SUM(L187:L194))","v":""},{"$f":"IF(I187=\"\",N186,I187)","v":0},0,{"$f":"IF(J187=\"\",P186,J187)","v":0},0,"",{"$f":"IF(C187=\"\",\"\",IF(C187>E187,\"NG\",\"\"))","v":""},{"$f":"IF(E187=\"\",\"\",IF(C188=\"\",\"\",IF(E187>C188,\"NG\",\"\")))","v":""},{"$f":"IF(C187=\"\",\"\",IF(C187<$U186,\"NG\",IF(C187>$V186,\"NG\",\"\")))","v":""},{"$f":"IF(E187=\"\",\"\",IF(C187<$U$186,\"NG\",IF(E187>$V$186,\"NG\",\"\")))","v":""},{"$f":"IF(G187>0,\"\",\"NG\")","v":""},{"$f":"COUNTIF(S187:W187,\"NG\")","v":0},"","",0,{"$f":"A187","v":"2031年度"},"単位期間Ⅰ",null,"",null,"",null,null,null,null,0.01,{"$f":"IF(AF187=\"\",\"\",ROUNDDOWN(AK187*AL187*AH187/365,0))","v":""},{"$f":"IF(AM187=\"\",\"\",SUM(AM187:AM194))","v":""},1000000,"-",1000000,"-"]
[null,null,{"$f":"IF(E188=\"\",\"\",IF(E187=\"\",\"\",IF(E187>=DATE(2031,9,10),\"\",E187+1)))","v":""},{"$f":"IF(C188=\"\",\"\",C188)","v":""},null,{"$f":"IF(E188=\"\",\"\",E188)","v":""},{"$f":"IF(E188=\"\",\"\",E188-C188+1)","v":""},null,{"$f":"IF(I187=\"\",\"\",IF(E188=\"\",\"\",I187-$C$11))","v":""},{"$f":"IF(J187=\"\",\"\",IF(F188=\"\",\"\",J187-$C$24))","v":""},{"$f":"IF(K187=\"\",\"\",$K$43)","v":0},{"$f":"IF(J188=\"\",\"\",ROUNDDOWN(J188*K188*G188/365,0))","v":""},null,{"$f":"IF(I188=\"\",N187,I188)","v":0},{"$f":"N187-N188","v":0},{"$f":"IF(J188=\"\",P187,J188)","v":0},{"$f":"P187-P188","v":0},"",{"$f":"IF(C188=\"\",\"\",IF(C188=E187,\"NG\",IF(C188<E187,\"NG\",IF((C188-E187)>1,\"NG\",\"\"))))","v":""},{"$f":"IF(E188=\"\",\"\",IF(C189=\"\",\"\",IF(E188>C189,\"NG\",\"\")))","v":""},null,{"$f":"IF(E188=\"\",\"\",IF(C188<$U$186,\"NG\",IF(E188>$V$186,\"NG\",\"\")))","v":""},{"$f":"IF(G188>0,\"\",\"NG\")","v":""},{"$f":"COUNTIF(S188:W188,\"NG\")","v":0},"","",0,null,null,null,"",null,"",null,null,null,null,0.01,{"$f":"IF(AF188=\"\",\"\",ROUNDDOWN(AK188*AL188*AH188/365,0))","v":""},null,1000000,{"$f":"AO187-AO188","v":0},1000000,{"$f":"AQ187-AQ188","v":0}]
[null,null,"","",null,"","",null,{"$f":"IF(I188=\"\",\"\",IF(E189=\"\",\"\",I188-$C$11))","v":""},{"$f":"IF(J188=\"\",\"\",IF(F189=\"\",\"\",J188-$C$24))","v":""},{"$f":"IF(K188=\"\",\"\",$K$43)","v":0},"",null,{"$f":"IF(I189=\"\",N188,I189)","v":0},{"$f":"N188-N189","v":0},{"$f":"IF(J189=\"\",P188,J189)","v":0},{"$f":"P188-P189","v":0},"",{"$f":"IF(C189=\"\",\"\",IF(C189=E188,\"NG\",IF(C189<E188,\"NG\",IF((C189-E188)>1,\"NG\",\"\"))))","v":""},"",null,"","",0,"","",0,null,null,null,"",null,"",null,null,null,null,0.01,{"$f":"IF(AF189=\"\",\"\",ROUNDDOWN(AK189*AL189*AH189/365,0))","v":""},null,1000000,{"$f":"AO188-AO189","v":0},1000000,{"$f":"AQ188-AQ189","v":0}]
[null,null,"","",null,"","",null,{"$f":"IF(I189=\"\",\"\",IF(E190=\"\",\"\",I189-$C$11))","v":""},{"$f":"IF(J189=\"\",\"\",IF(F190=\"\",\"\",J189-$C$24))","v":""},0,"",null,0,0,0,0,"","","",null,"","",0,"","",0,null,null,null,"",null,"",null,null,null,null,0.01,"",null,1000000,0,1000000,0]
[null,null,"","",null,"","",null,"","",0,"",null,0,0,0,0,"","","",null,"","",0,"","",0,null,null,null,"",null,"",null,null,null,null,0.01,"",null,1000000,0,1000000,0]
[null,null,"","",null,"","",null,"","",0,"",null,0,0,0,0,"","",{"$f":"IF(E192=\"\",\"\",IF(C193=\"\",\"\",IF(E192>C193,\"NG\",\"\")))","v":""},null,"","",0,"","",0,null,null,null,"",null,"",null,null,null,null,0.01,"",null,1000000,0,1000000,0]
[null,null,"","",null,"","",null,"","",0,"",null,0,0,0,0,"","",{"$f":"IF(D193=\"\",\"\",IF(D193<C193,\"NG\",\"\"))","v":""},null,"","",0,"","",0,null,null,null,"",null,"",null,null,null,null,0.01,"",null,1000000,0,1000000,0]
[null,null,{"$f":"IF(X194>0,$S$38,\"\")","v":""},null,null,null,"Null",null,null,null,0,{"$f":"IF(J194=\"\",\"\",ROUNDDOWN(J194*K194*G194/365,0))","v":""},null,0,0,0,0,"",null,null,"2031-09-09","2032-03-12",null,{"$f":"SUM(X187:X193)","v":0},"","",0,null,null,null,"",null,"",null,null,null,null,0.01,"",null,1000000,0,1000000,0]
[null,"単位期間Ⅱ",{"$f":"IF(E195=\"\",\"\",IF(E193>M365,E193+1,IF(E192>M365,E192+1,IF(E191>M365,E191+1,IF(E190>M365,E190+1,IF(E189>M365,E189+1,IF(E188>M365,E188+1,IF(E187>M365,E187+1,IF(C172>M365,C172,\"\")))))))))","v":""},{"$f":"IF(C195=\"\",\"\",C195)","v":""},null,{"$f":"IF(E195=\"\",\"\",E195)","v":""},{"$f":"IF(E195=\"\",\"\",E195-C195+1)","v":""},{"$f":"IF(G195=\"\",\"\",SUM(G195:G202))","v":""},null,null,0,{"$f":"IF(J195=\"\",\"\",ROUNDDOWN(J195*K195*G195/365,0))","v":""},{"$f":"IF(L195=\"\",\"\",SUM(L195:L202))","v":""},{"$f":"IF(I195=\"\",N194,I195)","v":0},{"$f":"IF(N194-N195<0,\"0 \",N194-N195)","v":0},{"$f":"IF(J195=\"\",P194,J195)","v":0},{"$f":"IF(P194-P195<0,\"0 \",P194-P195)","v":0},"",{"$f":"IF(C195=\"\",\"\",IF(C195>E195,\"NG\",\"\"))","v":""},{"$f":"IF(E195=\"\",\"\",IF(C196=\"\",\"\",IF(E195>C196,\"NG\",\"\")))","v":""},{"$f":"IF(C195=\"\",\"\",IF(C195<$U194,\"NG\",IF(C195>$V194,\"NG\",\"\")))","v":""},{"$f":"IF(E195=\"\",\"\",IF(C195<$U$194,\"NG\",IF(E195>$V$194,\"NG\",\"\")))","v":""},"",{"$f":"COUNTIF(S195:W195,\"NG\")","v":0},"","",0,null,"単位期間Ⅱ",null,"",null,"",null,null,null,null,0.01,{"$f":"IF(AD195=\"\",\"\",ROUNDDOWN(AK195*AL195*AH195/365,0))","v":""},{"$f":"IF(AM195=\"\",\"\",SUM(AM195:AM202))","v":""},1000000,0,1000000,0]
[null,null,{"$f":"IF(E196=\"\",\"\",IF(E195=\"\",\"\",IF(E195>=DATE(2032,3,10),\"\",E195+1)))","v":""},{"$f":"IF(C196=\"\",\"\",C196)","v":""},null,{"$f":"IF(E196=\"\",\"\",E196)","v":""},{"$f":"IF(E196=\"\",\"\",E196-C196+1)","v":""},null,{"$f":"IF(I195=\"\",\"\",IF(E196=\"\",\"\",I195-$C$11))","v":""},{"$f":"IF(J195=\"\",\"\",IF(F196=\"\",\"\",J195-$C$24))","v":""},0,{"$f":"IF(J196=\"\",\"\",ROUNDDOWN(J196*K196*G196/365,0))","v":""},null,{"$f":"IF(I196=\"\",N195,I196)","v":0},{"$f":"N195-N196","v":0},{"$f":"IF(J196=\"\",P195,J196)","v":0},{"$f":"P195-P196","v":0},"",{"$f":"IF(C196=\"\",\"\",IF(C196=E195,\"NG\",IF(C196<E195,\"NG\",IF((C196-E195)>1,\"NG\",\"\"))))","v":""},{"$f":"IF(E196=\"\",\"\",IF(C197=\"\",\"\",IF(E196>C197,\"NG\",\"\")))","v":""},null,{"$f":"IF(E196=\"\",\"\",IF(C196<$U$194,\"NG\",IF(E196>$V$194,\"NG\",\"\")))","v":""},"",{"$f":"COUNTIF(S196:W196,\"NG\")","v":0},"","",0,null,null,null,"",null,"",null,null,null,null,0.01,"",null,1000000,{"$f":"AO195-AO196","v":0},1000000,{"$f":"AQ195-AQ196","v":0}]
[null,null,"","",null,"","",null,{"$f":"IF(I196=\"\",\"\",IF(E197=\"\",\"\",I196-$C$11))","v":""},{"$f":"IF(J196=\"\",\"\",IF(F197=\"\",\"\",J196-$C$24))","v":""},0,"",null,{"$f":"IF(I197=\"\",N196,I197)","v":0},{"$f":"N196-N197","v":0},{"$f":"IF(J197=\"\",P196,J197)","v":0},{"$f":"P196-P197","v":0},"",{"$f":"IF(C197=\"\",\"\",IF(C197=E196,\"NG\",IF(C197<E196,\"NG\",IF((C197-E196)>1,\"NG\",\"\"))))","v":""},"",null,"","",0,"","",0,null,null,null,"",null,"",null,null,null,null,0.01,"",null,1000000,0,1000000,0]
[null,null,"","",null,"","",null,"","",0,"",null,0,0,0,{"$f":"P197-P198","v":0},"","","",null,"","",0,"","",0,null,null,null,"",null,"",null,null,null,null,0.01,"",null,1000000,0,1000000,0]
[null,null,"","",null,"","",null,"","",0,"",null,0,0,0,0,"","","",null,"","",0,"","",0,null,null,null,"",null,"",null,null,null,null,0.01,"",null,1000000,0,1000000,0]
[null,null,"","",null,"","",null,"","",0,"",null,0,0,0,0,"","",{"$f":"IF(E200=\"\",\"\",IF(C201=\"\",\"\",IF(E200>C201,\"NG\",\"\")))","v":""},null,"","",0,"","",0,null,null,null,"",null,"",null,null,null,null,0.01,"",null,1000000,0,1000000,0]
[null,null,"","",null,"","",null,"","",0,"",null,0,0,0,0,"","",{"$f":"IF(D201=\"\",\"\",IF(D201<C201,\"NG\",\"\"))","v":""},null,"","",0,"","",0,null,null,null,"",null,"",null,null,null,null,0.01,"",null,1000000,0,1000000,0]
[null,null,{"$f":"IF(X202>0,$S$38,\"\")","v":""},null,null,null,"Null",null,null,null,0,{"$f":"IF(J202=\"\",\"\",ROUNDDOWN(J202*K202*G202/365,0))","v":""},null,0,0,0,0,"",null,null,"2032-03-09","2032-09-12",null,{"$f":"SUM(X195:X201)","v":0},"","",0,null,null,null,"",null,"",null,null,null,null,0.01,"",null,1000000,0,1000000,0]
["2032年度","単位期間Ⅰ",{"$f":"IF(E203=\"\",\"\",IF(E201>0,E201+1,IF(E200>0,E200+1,IF(E199>0,E199+1,IF(E198>0,E198+1,IF(E197>0,E197+1,IF(E196>0,E196+1,E195+1)))))))","v":""},{"$f":"IF(C203=\"\",\"\",C203)","v":""},null,{"$f":"IF(E203=\"\",\"\",E203)","v":""},{"$f":"IF(E203=\"\",\"\",E203-C203+1)","v":""},{"$f":"IF(G203=\"\",\"\",SUM(G203:G210))","v":""},null,null,{"$f":"IF(K202=\"\",\"\",$K$43)","v":0},{"$f":"IF(J203=\"\",\"\",ROUNDDOWN(J203*K203*G203/365,0))","v":""},{"$f":"IF(L203=\"\",\"\",SUM(L203:L210))","v":""},{"$f":"IF(I203=\"\",N202,I203)","v":0},0,{"$f":"IF(J203=\"\",P202,J203)","v":0},0,{"$f":"IF(AA203>0,$Y$38,\"\")","v":""},{"$f":"IF(C203=\"\",\"\",IF(C203>E203,\"NG\",\"\"))","v":""},{"$f":"IF(E203=\"\",\"\",IF(C204=\"\",\"\",IF(E203>C204,\"NG\",\"\")))","v":""},{"$f":"IF(C203=\"\",\"\",IF(C203<$U202,\"NG\",IF(C203>$V202,\"NG\",\"\")))","v":""},{"$f":"IF(E203=\"\",\"\",IF(C203<$U$202,\"NG\",IF(E203>$V$202,\"NG\",\"\")))","v":""},"",{"$f":"COUNTIF(S203:W203,\"NG\")","v":0},"","",0,{"$f":"A203","v":"2032年度"},"単位期間Ⅰ",null,"",null,"",null,null,null,null,0.01,{"$f":"IF(AF203=\"\",\"\",ROUNDDOWN(AK203*AL203*AH203/365,0))","v":""},{"$f":"IF(AM203=\"\",\"\",SUM(AM203:AM210))","v":""},1000000,"-",1000000,"-"]
[null,null,{"$f":"IF(E204=\"\",\"\",IF(E203=\"\",\"\",IF(E203>=DATE(2032,9,10),\"\",E203+1)))","v":""},{"$f":"IF(C204=\"\",\"\",C204)","v":""},null,{"$f":"IF(E204=\"\",\"\",E204)","v":""},{"$f":"IF(E204=\"\",\"\",E204-C204+1)","v":""},null,{"$f":"IF(I203=\"\",\"\",IF(E204=\"\",\"\",I203-$C$11))","v":""},{"$f":"IF(J203=\"\",\"\",IF(F204=\"\",\"\",J203-$C$24))","v":""},{"$f":"IF(K203=\"\",\"\",$K$43)","v":0},{"$f":"IF(J204=\"\",\"\",ROUNDDOWN(J204*K204*G204/365,0))","v":""},null,{"$f":"IF(I204=\"\",N203,I204)","v":0},{"$f":"N203-N204","v":0},{"$f":"IF(J204=\"\",P203,J204)","v":0},{"$f":"P203-P204","v":0},"",{"$f":"IF(C204=\"\",\"\",IF(C204=E203,\"NG\",IF(C204<E203,\"NG\",IF((C204-E203)>1,\"NG\",\"\"))))","v":""},{"$f":"IF(E204=\"\",\"\",IF(C205=\"\",\"\",IF(E204>C205,\"NG\",\"\")))","v":""},null,{"$f":"IF(E204=\"\",\"\",IF(C204<$U$202,\"NG\",IF(E204>$V$202,\"NG\",\"\")))","v":""},"",{"$f":"COUNTIF(S204:W204,\"NG\")","v":0},"","",0,null,null,null,"",null,"",null,null,null,null,0.01,{"$f":"IF(AF204=\"\",\"\",ROUNDDOWN(AK204*AL204*AH204/365,0))","v":""},null,1000000,{"$f":"AO203-AO204","v":0},1000000,{"$f":"AQ203-AQ204","v":0}]
[null,null,"","",null,"","",null,{"$f":"IF(I204=\"\",\"\",IF(E205=\"\",\"\",I204-$C$11))","v":""},{"$f":"IF(J204=\"\",\"\",IF(F205=\"\",\"\",J204-$C$24))","v":""},{"$f":"IF(K204=\"\",\"\",$K$43)","v":0},"",null,{"$f":"IF(I205=\"\",N204,I205)","v":0},{"$f":"N204-N205","v":0},{"$f":"IF(J205=\"\",P204,J205)","v":0},{"$f":"P204-P205","v":0},"",{"$f":"IF(C205=\"\",\"\",IF(C205=E204,\"NG\",IF(C205<E204,\"NG\",IF((C205-E204)>1,\"NG\",\"\"))))","v":""},"",null,"","",0,"","",0,null,null,null,"",null,"",null,null,null,null,0.01,{"$f":"IF(AF205=\"\",\"\",ROUNDDOWN(AK205*AL205*AH205/365,0))","v":""},null,1000000,{"$f":"AO204-AO205","v":0},1000000,{"$f":"AQ204-AQ205","v":0}]
[null,null,"","",null,"","",null,{"$f":"IF(I205=\"\",\"\",IF(E206=\"\",\"\",I205-$C$11))","v":""},{"$f":"IF(J205=\"\",\"\",IF(F206=\"\",\"\",J205-$C$24))","v":""},0,"",null,0,0,0,0,"","","",null,"","",0,"","",0,null,null,null,"",null,"",null,null,null,null,0.01,"",null,1000000,0,1000000,0]
[null,null,"","",null,"","",null,"","",0,"",null,0,0,0,0,"","","",null,"","",0,"","",0,null,null,null,"",null,"",null,null,null,null,0.01,"",null,1000000,0,1000000,0]
[null,null,"","",null,"","",null,"","",0,"",null,0,0,0,0,"","","",null,"","",0,"","",0,null,null,null,"",null,"",null,null,null,null,0.01,"",null,1000000,0,1000000,0]
[null,null,"","",null,"","",null,"","",0,"",null,0,0,0,0,"","",{"$f":"IF(D209=\"\",\"\",IF(D209<C209,\"NG\",\"\"))","v":""},null,"","",0,"","",0,null,null,null,"",null,"",null,null,null,null,0.01,"",null,1000000,0,1000000,0]
[null,null,{"$f":"IF(X210>0,$S$38,\"\")","v":""},null,null,null,"Null",null,null,null,0,{"$f":"IF(J210=\"\",\"\",ROUNDDOWN(J210*K210*G210/365,0))","v":""},null,0,0,0,0,"",null,null,"2032-09-09","2033-03-12",null,{"$f":"SUM(X203:X209)","v":0},"","",0,null,null,null,"",null,"",null,null,null,null,0.01,"",null,1000000,0,1000000,0]
[null,"単位期間Ⅱ",{"$f":"IF(E211=\"\",\"\",IF(E209>M381,E209+1,IF(E208>M381,E208+1,IF(E207>M381,E207+1,IF(E206>M381,E206+1,IF(E205>M381,E205+1,IF(E204>M381,E204+1,IF(E203>M381,E203+1,IF(C188>M381,C188,\"\")))))))))","v":""},{"$f":"IF(C211=\"\",\"\",C211)","v":""},null,{"$f":"IF(E211=\"\",\"\",E211)","v":""},{"$f":"IF(E211=\"\",\"\",E211-C211+1)","v":""},{"$f":"IF(G211=\"\",\"\",SUM(G211:G218))","v":""},null,null,0,{"$f":"IF(J211=\"\",\"\",ROUNDDOWN(J211*K211*G211/365,0))","v":""},{"$f":"IF(L211=\"\",\"\",SUM(L211:L218))","v":""},{"$f":"IF(I211=\"\",N210,I211)","v":0},{"$f":"IF(N210-N211<0,\"0 \",N210-N211)","v":0},{"$f":"IF(J211=\"\",P210,J211)","v":0},{"$f":"IF(P210-P211<0,\"0 \",P210-P211)","v":0},"",{"$f":"IF(C211=\"\",\"\",IF(C211>E211,\"NG\",\"\"))","v":""},{"$f":"IF(E211=\"\",\"\",IF(C212=\"\",\"\",IF(E211>C212,\"NG\",\"\")))","v":""},{"$f":"IF(C211=\"\",\"\",IF(C211<$U210,\"NG\",IF(C211>$V210,\"NG\",\"\")))","v":""},{"$f":"IF(E211=\"\",\"\",IF(C211<$U$210,\"NG\",IF(E211>$V$210,\"NG\",\"\")))","v":""},"",{"$f":"COUNTIF(S211:W211,\"NG\")","v":0},"","",0,null,"単位期間Ⅱ",null,"",null,"",null,{"$f":"IF(AH211=\"\",\"\",SUM(AH211:AH218))","v":""},null,null,0.01,{"$f":"IF(AD211=\"\",\"\",ROUNDDOWN(AK211*AL211*AH211/365,0))","v":""},{"$f":"IF(AM211=\"\",\"\",SUM(AM211:AM218))","v":""},1000000,0,1000000,0]
[null,null,{"$f":"IF(E212=\"\",\"\",IF(E211=\"\",\"\",IF(E211>=DATE(2033,3,10),\"\",E211+1)))","v":""},{"$f":"IF(C212=\"\",\"\",C212)","v":""},null,{"$f":"IF(E212=\"\",\"\",E212)","v":""},{"$f":"IF(E212=\"\",\"\",E212-C212+1)","v":""},null,{"$f":"IF(I211=\"\",\"\",IF(E212=\"\",\"\",I211-$C$11))","v":""},{"$f":"IF(J211=\"\",\"\",IF(F212=\"\",\"\",J211-$C$24))","v":""},0,{"$f":"IF(J212=\"\",\"\",ROUNDDOWN(J212*K212*G212/365,0))","v":""},null,{"$f":"IF(I212=\"\",N211,I212)","v":0},{"$f":"N211-N212","v":0},{"$f":"IF(J212=\"\",P211,J212)","v":0},{"$f":"P211-P212","v":0},"",{"$f":"IF(C212=\"\",\"\",IF(C212=E211,\"NG\",IF(C212<E211,\"NG\",IF((C212-E211)>1,\"NG\",\"\"))))","v":""},{"$f":"IF(E212=\"\",\"\",IF(C213=\"\",\"\",IF(E212>C213,\"NG\",\"\")))","v":""},null,{"$f":"IF(E212=\"\",\"\",IF(C212<$U$210,\"NG\",IF(E212>$V$210,\"NG\",\"\")))","v":""},"",{"$f":"COUNTIF(S212:W212,\"NG\")","v":0},"","",0,null,null,null,"",null,"",null,null,{"$f":"IF(AJ211=\"\",\"\",IF(AF212=\"\",\"\",AJ211-$AD$11))","v":""},{"$f":"IF(AK211=\"\",\"\",IF(AG212=\"\",\"\",AK211-$AD$24))","v":""},0.01,"",null,1000000,{"$f":"AO211-AO212","v":0},1000000,{"$f":"AQ211-AQ212","v":0}]
[null,null,"","",null,"","",null,null,null,0,"",null,{"$f":"IF(I213=\"\",N212,I213)","v":0},{"$f":"N212-N213","v":0},{"$f":"IF(J213=\"\",P212,J213)","v":0},{"$f":"P212-P213","v":0},"",{"$f":"IF(C213=\"\",\"\",IF(C213=E212,\"NG\",IF(C213<E212,\"NG\",IF((C213-E212)>1,\"NG\",\"\"))))","v":""},"",null,"","",0,"","",0,null,null,null,"",null,"",null,null,{"$f":"IF(AJ212=\"\",\"\",IF(AF213=\"\",\"\",AJ212-$AD$11))","v":""},{"$f":"IF(AK212=\"\",\"\",IF(AG213=\"\",\"\",AK212-$AD$24))","v":""},0.01,"",null,1000000,0,1000000,0]
[null,null,"","",null,"","",null,{"$f":"IF(I213=\"\",\"\",IF(E214=\"\",\"\",I213-$C$11))","v":""},{"$f":"IF(J213=\"\",\"\",IF(F214=\"\",\"\",J213-$C$24))","v":""},0,"",null,0,0,0,{"$f":"P213-P214","v":0},"","","",null,"","",0,"","",0,null,null,null,"",null,"",null,null,"","",0.01,"",null,1000000,0,1000000,0]
[null,null,"","",null,"","",null,"","",0,"",null,0,0,0,0,"","","",null,"","",0,"","",0,null,null,null,"",null,"",null,null,"","",0.01,"",null,1000000,0,1000000,0]
[null,null,"","",null,"","",null,"","",0,"",null,0,0,0,0,"","","",null,"","",0,"","",0,null,null,null,"",null,"",null,null,"","",0.01,"",null,1000000,0,1000000,0]
[null,null,"","",null,"","",null,"","",0,"",null,0,0,0,0,"","",{"$f":"IF(D217=\"\",\"\",IF(D217<C217,\"NG\",\"\"))","v":""},null,"",{"$f":"IF(G217>0,\"\",\"NG\")","v":""},0,"","",0,null,null,null,"",null,"",null,null,"","",0.01,"",null,1000000,0,1000000,0]
[null,null,{"$f":"IF(X218>0,$S$38,\"\")","v":""},null,null,null,"Null",null,null,null,0,{"$f":"IF(J218=\"\",\"\",ROUNDDOWN(J218*K218*G218/365,0))","v":""},null,0,0,0,0,"",null,null,null,null,null,{"$f":"SUM(X211:X217)","v":0},{"$f":"IF(U218=0,\"\",IF(U218=#REF!,\"\",\"NG\"))","v":""},{"$f":"IF(W218=0,\"\",IF(W218=#REF!,\"\",\"NG\"))","v":""},0,null,null,{"$f":"IF($C$238>0,$H$242,IF($E$238>0,$H$242,\"\"))","v":""},"",null,"",null,null,"","",0.01,"",null,1000000,0,1000000,0]

{"sheet":"（別添１）融資計画詳細２（実績報告）","index":24,"n_rows":94,"n_cols":74,"rows_kept":94,"cut":false,"hidden":false,"merged":[[8,39,9,41],[0,0,1,17],[12,0,13,2],[12,3,13,11],[12,19,13,21],[12,22,13,30],[12,39,13,41],[2,3,3,5],[85,0,88,2],[18,39,19,41],[26,0,27,2],[26,3,27,11],[26,19,27,21],[26,22,27,30],[26,39,27,41],[28,10,29,11],[28,12,29,17],[28,19,29,21],[28,22,29,22],[28,23,29,24],[28,25,29,25],[28,0,29,2],[28,3,29,3],[85,19,88,21],[12,42,13,50],[8,42,9,50],[10,0,11,2],[10,3,11,11],[10,19,11,21],[10,22,11,30],[10,39,11,41],[10,42,11,50],[16,0,17,2],[16,3,17,11],[16,19,17,21],[16,22,17,30],[16,39,17,41],[16,42,17,50],[14,0,15,2],[14,3,15,11],[14,19,15,21],[14,22,15,30],[14,39,15,41],[14,42,15,50],[8,0,9,2],[8,3,9,11],[8,19,9,21],[8,22,9,30],[18,42,19,50],[18,51,19,56],[20,0,21,2],[20,3,21,11],[20,19,21,21],[20,22,21,30],[20,39,21,41],[20,42,21,50],[18,0,19,2],[18,3,19,11],[18,19,19,21],[18,22,19,30],[18,31,19,36],[26,42,27,50],[22,39,23,41],[22,42,23,50],[22,51,23,56],[24,0,25,2],[24,3,25,11],[24,19,25,21],[24,22,25,30],[24,39,25,41],[24,42,25,50],[22,0,23,2],[22,3,23,11],[22,19,23,21],[22,22,23,30],[22,31,23,36],[37,0,38,2],[37,3,38,11],[37,19,38,21],[37,22,38,30],[37,39,38,41],[37,42,38,50],[33,39,34,41],[33,42,34,50],[33,51,34,56],[35,0,36,2],[35,3,36,11],[35,19,36,21],[35,22,36,30],[35,39,36,41],[35,42,36,50],[33,0,34,2],[33,3,34,11],[42,42,44,42],[42,43,44,56],[45,3,47,3],[45,4,47,17],[45,22,47,22],[45,23,47,36],[45,42,47,42],[45,43,47,56],[28,51,29,56],[28,26,29,27],[28,28,29,28],[28,29,29,30],[28,31,29,36],[28,39,29,41],[28,42,29,42],[28,4,29,5],[28,6,29,6],[28,7,29,8],[28,9,29,9],[28,43,29,44],[28,45,29,45],[28,46,29,47],[28,48,29,48],[28,49,29,50],[42,22,44,22],[42,23,44,36],[48,4,50,17],[60,26,61,27],[54,4,56,17],[54,22,56,22],[54,23,56,36],[33,12,34,17],[33,19,34,21],[33,22,34,30],[33,31,34,36],[54,42,56,42],[54,43,56,56],[60,0,61,2],[60,3,61,3],[60,4,61,5],[60,6,61,6],[60,7,61,8],[42,0,56,2],[48,22,50,22],[48,23,50,36],[54,3,56,3],[48,42,50,42],[48,43,50,56],[51,3,53,3],[51,4,53,17],[51,22,53,22],[51,23,53,36],[51,42,53,42],[51,43,53,56],[42,39,56,41],[48,3,50,3],[42,3,44,3],[42,4,44,17],[42,19,56,21],[60,48,61,56],[62,0,71,2],[62,3,71,17],[62,19,71,21],[62,22,71,36],[62,39,71,41],[62,42,71,56],[60,28,61,36],[60,39,61,41],[60,42,61,42],[60,43,61,44],[60,45,61,45],[60,46,61,47],[60,9,61,17],[60,19,61,21],[60,22,61,22],[60,23,61,24],[60,25,61,25],[85,39,88,41],[85,42,88,42],[89,39,92,41],[72,0,81,2],[72,3,81,17],[72,19,81,21],[72,22,81,36],[72,39,81,41],[72,42,81,56],[89,0,92,2],[89,19,92,21],[85,3,88,3],[85,22,88,22],[89,48,92,50],[89,51,92,56],[89,3,92,8],[89,9,92,11],[89,12,92,17],[89,22,92,27],[89,28,92,30],[89,31,92,36],[89,42,92,47]]}
["（別添１）融資計画詳細２（実績報告）"]
[]
["（別添１）",null,null,"実績報告",null,null,null,null,null,null,null,null,null,null,null,null,null,null,null,{"$f":"A3","v":"（別添１）"},null,null,null,null,null,null,null,null,null,null,null,null,null,null,null,null,null,null,null,"（別添１）",null,null,null,null,null,null,null,null,null,null,null,null,null,null,null,null,null,null,"別添1-2_D9","事業者名",{"$f":"IF(D9=\"\",\"\",D9)","v":""}]
["融資計画詳細２",null,null,null,null,null,null,null,null,null,null,null,null,null,null,null,null,{"$f":"IF('（様式第３）交付申請書（新規融資案件）'!$Q$4=\"\",\"様式第３で受付番号をご入力ください。\",'（様式第３）交付申請書（新規融資案件）'!$Q$4)","v":"様式第３で受付番号をご入力ください。"},null,"融資計画詳細3",null,null,null,null,null,null,null,null,null,null,null,null,null,null,null,null,null,null,"04AA-001-01","融資計画詳細3",null,null,null,null,null,null,null,null,null,null,null,null,null,null,null,null,"04AA-001-01",null,"別添1-2_D11","設備等利用者名",{"$f":"IF(D11=\"\",\"\",D11)","v":""}]
[null,null,null,null,null,null,null,null,null,null,null,null,null,null,null,null,null,null,null,null,null,null,null,null,null,null,null,null,null,null,null,null,null,null,null,null,null,null,null,null,null,null,null,null,null,null,null,null,null,null,null,null,null,null,null,null,null,null,"別添1-2_D13","都道府県",{"$f":"IF(D13=\"\",\"\",D13)","v":""}]
[null,null,null,null,null,null,null,null,null,null,null,null,null,null,null,null,null,null,null,null,null,null,null,null,null,null,null,null,null,null,null,null,null,null,null,null,null,null,null,null,null,null,null,null,null,null,null,null,null,null,null,null,null,null,null,null,null,null,"別添1-2_D15","市区町村",{"$f":"IF(D15=\"\",\"\",D15)","v":""}]
["４．利子補給対象事業者情報",null,null,null,null,null,null,null,null,null,null,null,null,null,null,null,null,null,null,{"$f":"A7","v":"４．利子補給対象事業者情報"},null,null,null,null,null,null,null,null,null,null,null,null,null,null,null,null,null,null,null,"４．利子補給対象事業者情報",null,null,null,null,null,null,null,null,null,null,null,null,null,null,null,null,null,null,"別添1-2_D17","丁目・番地",{"$f":"IF(D17=\"\",\"\",D17)","v":""}]
[null,null,null,null,null,null,null,null,null,null,null,null,null,null,null,null,null,null,null,null,null,null,null,null,null,null,null,null,null,null,null,null,null,null,null,null,null,null,null,null,null,null,null,null,null,null,null,null,null,null,null,null,null,null,null,null,null,null,"別添1-2_D19","業種大分類",{"$f":"IF(D19=\"\",\"\",D19)","v":""}]
["事業者名",null,null,"",null,null,null,null,null,null,null,null,null,null,null,null,null,null,null,{"$f":"A9","v":"事業者名"},null,null,"株式会社○○○○",null,null,null,null,null,null,null,null,null,null,null,null,null,null,null,null,"事業者名",null,null,"○○○○",null,null,null,null,null,null,null,null,null,null,null,null,null,null,null,"別添1-2_D21","業種分類項目名",{"$f":"IF(D21=\"\",\"\",D21)","v":""}]
[null,null,null,null,null,null,null,null,null,null,null,null,null,null,null,null,null,null,null,null,null,null,null,null,null,null,null,null,null,null,null,null,null,null,null,null,null,null,null,null,null,null,null,null,null,null,null,null,null,null,null,null,null,null,null,null,null,null,"別添1-2_D23","資本金",{"$f":"IF(D23=\"\",\"\",D23)","v":""}]
["設備等利用者名",null,null,"",null,null,null,null,null,null,null,null,null,null,null,null,null,null,null,{"$f":"A11","v":"設備等利用者名"},null,null,"株式会社○○○○",null,null,null,null,null,null,null,null,null,null,null,null,null,null,null,null,"設備等利用者名",null,null,"○○○○",null,null,null,null,null,null,null,null,null,null,null,null,null,null,null,"別添1-2_D25","従業員数",{"$f":"IF(D25=\"\",\"\",D25)","v":""}]
[null,null,null,null,null,null,null,null,null,null,null,null,null,null,null,null,null,null,null,null,null,null,null,null,null,null,null,null,null,null,null,null,null,null,null,null,null,null,null,null,null,null,null,null,null,null,null,null,null,null,null,null,null,null,null,null,null,null,"別添1-2_D27","企業の内容",{"$f":"IF(D27=\"\",\"\",D27)","v":""}]
["都道府県",null,null,"",null,null,null,null,null,null,null,null,null,null,null,null,null,null,null,{"$f":"A13","v":"都道府県"},null,null,"○○県",null,null,null,null,null,null,null,null,null,null,null,null,null,null,null,null,"都道府県",null,null,"○○県",null,null,null,null,null,null,null,null,null,null,null,null,null,null,null,"別添1-2_D29","企業の規模",{"$f":"IF(BK13=\"中小企業\",BK13,IF(BM13=\"個人事業主\",BM13,IF(BO13:BO13=\"その他\",BO13,\"\")))","v":""},{"$f":"_xlfn.IFS(D29=\"\",FALSE,D29=\"　\",FALSE,D29=\"☑\",TRUE)","v":false},{"$f":"IF(D29=\"☑\",\"中小企業\",\"\")","v":""},{"$f":"_xlfn.IFS(G29=\"\",FALSE,G29=\"　\",FALSE,G29=\"☑\",TRUE)","v":false},{"$f":"IF(G29=\"☑\",\"個人事業主\",\"\")","v":""},{"$f":"_xlfn.IFS(J29=\"\",FALSE,J29=\"　\",FALSE,J29=\"☑\",TRUE)","v":false},{"$f":"IF(J29=\"☑\",\"その他\",\"\")","v":""},{"$f":"COUNTIF(BJ13:BO13,TRUE)","v":0},{"$f":"IF(BP13=3,\"NG\",IF(BP13=2,\"NG\",IF(BP13=0,\"NG\",\"OK\")))","v":"NG"}]
[null,null,null,null,null,null,null,null,null,null,null,null,null,null,null,null,null,null,null,null,null,null,null,null,null,null,null,null,null,null,null,null,null,null,null,null,null,null,null,null,null,null,null,null,null,null,null,null,null,null,null,null,null,null,null,null,null,null,"別添1-2_D34","都道府県",{"$f":"IF(D34=\"\",\"\",D34)","v":""}]
["市区町村",null,null,"",null,null,null,null,null,null,null,null,null,null,null,null,null,null,null,{"$f":"A15","v":"市区町村"},null,null,"○○市○○町",null,null,null,null,null,null,null,null,null,null,null,null,null,null,null,null,"市区町村",null,null,"○○市○○町",null,null,null,null,null,null,null,null,null,null,null,null,null,null,null,"別添1-2_D36","市区町村",{"$f":"IF(D36=\"\",\"\",D36)","v":""}]
[null,null,null,null,null,null,null,null,null,null,null,null,null,null,null,null,null,null,null,null,null,null,null,null,null,null,null,null,null,null,null,null,null,null,null,null,null,null,null,null,null,null,null,null,null,null,null,null,null,null,null,null,null,null,null,null,null,null,"別添1-2_D38","丁目・番地",{"$f":"IF(D38=\"\",\"\",D38)","v":""}]
["丁目・番地",null,null,"",null,null,null,null,null,null,null,null,null,null,null,null,null,null,null,{"$f":"A17","v":"丁目・番地"},null,null,"○丁目○番○号",null,null,null,null,null,null,null,null,null,null,null,null,null,null,null,null,"丁目・番地",null,null,"○丁目○番○号",null,null,null,null,null,null,null,null,null,null,null,null,null,null,null,"別添1-2_D43～55","対象要件１",{"$f":"IF(OR(BK17=TRUE,BM17=TRUE),\"04-（ア）\",IF(BO17=TRUE,\"04-（イ）\",IF(OR(BQ17=TRUE,BS17=TRUE),\"04-（ウ）\",\"\")))","v":""},null,{"$f":"_xlfn.IFS(D43=\"\",FALSE,D43=\"　\",FALSE,D43=\"☑\",TRUE)","v":false},{"$f":"IF(BK17=FALSE,\"\",IF(D43=\"☑\",\"(ア)TR\"))","v":""},{"$f":"_xlfn.IFS(D46=\"\",FALSE,D46=\"　\",FALSE,D46=\"☑\",TRUE)","v":false},{"$f":"IF(BM17=FALSE,\"\",IF(D46=\"☑\",\"(ア)TR該当なし\"))","v":""},{"$f":"_xlfn.IFS(D49=\"\",FALSE,D49=\"　\",FALSE,D49=\"☑\",TRUE)","v":false},{"$f":"IF(BO17=FALSE,\"\",IF(D49=\"☑\",\"イ\"))","v":""},{"$f":"_xlfn.IFS(D52=\"\",FALSE,D52=\"　\",FALSE,D52=\"☑\",TRUE)","v":false},{"$f":"IF(BQ17=FALSE,\"\",IF(D52=\"☑\",\"(ウ)データセンター\"))","v":""},{"$f":"_xlfn.IFS(D55=\"\",FALSE,D55=\"　\",FALSE,D55=\"☑\",TRUE)","v":false},{"$f":"IF(BS17=FALSE,\"\",IF(D55=\"☑\",\"(ウ)EMS\"))","v":""},{"$f":"COUNTIF(BK17:BT17,TRUE)","v":0},{"$f":"IF(BU17=0,\"NG\",\"OK\")","v":"NG"}]
[null,null,null,null,null,null,null,null,null,null,null,null,null,null,null,null,null,null,null,null,null,null,null,null,null,null,null,null,null,null,null,null,null,null,null,null,null,null,null,null,null,null,null,null,null,null,null,null,null,null,null,null,null,null,null,null,null,null,"別添1-2_D43～55","対象要件２",{"$f":"BL17&BN17&BP17&BR17&BT17","v":""}]
["業種大分類",null,null,null,null,null,null,null,null,null,null,null,null,null,null,null,null,null,null,{"$f":"A19","v":"業種大分類"},null,null,"○○業",null,null,null,null,null,null,null,null,null,null,null,null,null,null,null,null,"業種大分類",null,null,"無",null,null,null,null,null,null,null,null,null,null,null,null,null,null,null,"別添1-2_D61","設備導入区分１",{"$f":"IF(OR(BJ19=\"①\",BJ19=\"①②\"),\"①\",IF(BJ19=\"②\",\"②\",\"\"))","v":""},{"$f":"BL19&BN19","v":""},{"$f":"_xlfn.IFS(D61=\"\",FALSE,D61=\"　\",FALSE,D61=\"☑\",TRUE)","v":false},{"$f":"IF(BK19=FALSE,\"\",IF(D61=\"☑\",\"①\"))","v":""},{"$f":"_xlfn.IFS(G61=\"\",FALSE,G61=\"　\",FALSE,G61=\"☑\",TRUE)","v":false},{"$f":"IF(BM19=FALSE,\"\",IF(G61=\"☑\",\"②\"))","v":""},{"$f":"COUNTIF(BK19:BN19,TRUE)","v":0},{"$f":"IF(BO19=0,\"NG\",IF(BO19=0,\"NG\",\"OK\"))","v":"NG"}]
[null,null,null,null,null,null,null,null,null,null,null,null,null,null,null,null,null,null,null,null,null,null,null,null,null,null,null,null,null,null,null,null,null,null,null,null,null,null,null,null,null,null,null,null,null,null,null,null,null,null,null,null,null,null,null,null,null,null,"別添1-2_D61","設備導入区分2",{"$f":"BL20&BN20","v":""},null,{"$f":"_xlfn.IFS(D61=\"\",FALSE,D61=\"　\",FALSE,D61=\"☑\",TRUE)","v":false},{"$f":"IF(BK19=FALSE,\"\",IF(D61=\"☑\",\"新設\"))","v":""},{"$f":"_xlfn.IFS(G62=\"\",FALSE,G62=\"　\",FALSE,G62=\"☑\",TRUE)","v":false},{"$f":"IF(BM19=FALSE,\"\",IF(G61=\"☑\",\"増設\"))","v":""},{"$f":"COUNTIF(BK20:BN20,TRUE)","v":0},{"$f":"IF(BO20=0,\"NG\",IF(BO20=0,\"NG\",\"OK\"))","v":"NG"}]
["業種分類項目名",null,null,null,null,null,null,null,null,null,null,null,null,null,null,null,null,null,null,{"$f":"A21","v":"業種分類項目名"},null,null,"○○業",null,null,null,null,null,null,null,null,null,null,null,null,null,null,null,null,"業種分類項目名",null,null,"無",null,null,null,null,null,null,null,null,null,null,null,null,null,null,null,"別添1-2_D63","導入設備の概要",{"$f":"IF(D63=\"\",\"\",D63)","v":""}]
[null,null,null,null,null,null,null,null,null,null,null,null,null,null,null,null,null,null,null,null,null,null,null,null,null,null,null,null,null,null,null,null,null,null,null,null,null,null,null,null,null,null,null,null,null,null,null,null,null,null,null,null,null,null,null,null,null,null,"別添1-2_D73","対象事業の概要",{"$f":"IF(D73=\"\",\"\",D73)","v":""}]
["資本金",null,null,null,null,null,null,null,null,null,null,null,null,null,null,null,null,null,null,{"$f":"A23","v":"資本金"},null,null,"○，○○○，○○○ 円",null,null,null,null,null,null,null,null,null,null,null,null,null,null,null,null,"資本金",null,null,"0 円",null,null,null,null,null,null,null,null,null,null,null,null,null,null,null,"別添1-2_D86","給与支給総額の\n伸び率が年平均1.5%を\n達成できているか",{"$f":"IF(D86=\"\",\"\",D86)","v":""}]
[null,null,null,null,null,null,null,null,null,null,null,null,null,null,null,null,null,null,null,null,null,null,null,null,null,null,null,null,null,null,null,null,null,null,null,null,null,null,null,null,null,null,null,null,null,null,null,null,null,null,null,null,null,null,null,null,null,null,"別添1-2_D90","未達成の事由",{"$f":"IF(D90=\"\",\"\",D90)","v":""}]
["従業員数",null,null,null,null,null,null,null,null,null,null,null,null,null,null,null,null,null,null,{"$f":"A25","v":"従業員数"},null,null,"○○○ 人",null,null,null,null,null,null,null,null,null,null,null,null,null,null,null,null,"従業員数",null,null,"○○○ 人",null,null,null,null,null,null,null,null,null,null,null,null,null,null,null,"別添1-2_D91","未達成の事由（その他）",{"$f":"IF(M90=\"\",\"\",M90)","v":""}]
[]
["企業の内容",null,null,"",null,null,null,null,null,null,null,null,null,null,null,null,null,null,null,{"$f":"A27","v":"企業の内容"},null,null,"○○部品の製造",null,null,null,null,null,null,null,null,null,null,null,null,null,null,null,null,"企業の内容",null,null,"○○部品の製造"]
[]
["企業の規模",null,null,null,"中小企業",null,null,"個人事業主",null,null,"その他",null,{"$f":"IF(BQ13=\"NG\",\"←該当する対象要件（チェックボックス）を選択してください。\",\"\")","v":"←該当する対象要件（チェックボックス）を選択してください。"},null,null,null,null,null,null,{"$f":"A29","v":"企業の規模"},null,null,"☑",{"$f":"E29","v":"中小企業"},null,null,{"$f":"H29","v":"個人事業主"},null,null,{"$f":"K29","v":"その他"},null,{"$f":"IF(W9=\"\",\"\",IF(CJ13=\"NG\",\"←該当する対象要件（チェックボックス）を選択してください。\",\"\"))","v":""},null,null,null,null,null,null,null,"企業の規模",null,null,null,"中小企業",null,"☑","個人事業主",null,null,"その他",null,{"$f":"IF(AQ9=\"\",\"\",IF(DD13=\"NG\",\"←該当する対象要件（チェックボックス）を選択してください。\",\"\"))","v":""}]
[]
[]
["５．所在地（省エネルギー設備の使用場所及び省エネルギー取組の実施場所）",null,null,null,null,null,null,null,null,null,null,null,null,null,null,null,null,null,null,{"$f":"A32","v":"５．所在地（省エネルギー設備の使用場所及び省エネルギー取組の実施場所）"},null,null,null,null,null,null,null,null,null,null,null,null,null,null,null,null,null,null,null,"５．所在地（省エネルギー設備の使用場所及び省エネルギー取組の実施場所）"]
[]
["都道府県",null,null,"",null,null,null,null,null,null,null,null,null,null,null,null,null,null,null,{"$f":"A34","v":"都道府県"},null,null,"○○県",null,null,null,null,null,null,null,null,null,null,null,null,null,null,null,null,"（住所）都道府県",null,null,"○○県"]
[]
["市区町村",null,null,"",null,null,null,null,null,null,null,null,null,null,null,null,null,null,null,{"$f":"A36","v":"市区町村"},null,null,"○○市○○町",null,null,null,null,null,null,null,null,null,null,null,null,null,null,null,null,"市区町村",null,null,"○○市○○町"]
[]
["丁目・番地",null,null,"",null,null,null,null,null,null,null,null,null,null,null,null,null,null,null,{"$f":"A38","v":"丁目・番地"},null,null,"〇丁目〇番〇号",null,null,null,null,null,null,null,null,null,null,null,null,null,null,null,null,"丁目・番地",null,null,"〇丁目〇番〇号"]
[]
[]
["６．対象要件",null,null,null,null,null,null,null,null,null,null,null,null,null,null,null,null,null,null,{"$f":"A41","v":"６．対象要件"},null,null,null,null,null,null,null,null,null,null,null,null,null,null,null,null,null,null,null,"６．対象要件"]
[{"$f":"IF(BV17=\"NG\",\"↓該当する対象要件（チェックボックス）を選択してください。\",\"\")","v":"↓該当する対象要件（チェックボックス）を選択してください。"}]
["対象要件",null,null,null,"（ア）エネルギー消費効率が高い省エネルギー設備を新設、又は増設する事業。\n　　※トップランナー基準を満たす設備の導入",null,null,null,null,null,null,null,null,null,null,null,null,null,null,{"$f":"A43","v":"対象要件"},null,null,"☑",{"$f":"E43","v":"（ア）エネルギー消費効率が高い省エネルギー設備を新設、又は増設する事業。\n　　※トップランナー基準を満たす設備の導入"},null,null,null,null,null,null,null,null,null,null,null,null,null,null,null,"対象要件",null,null,"☑","（ア）エネルギー消費効率が高い省エネルギー設備を新設、又は増設する事業。\n　　※トップランナー基準を満たす設備の導入"]
[]
[]
[null,null,null,null,"（ア）エネルギー消費効率が高い省エネルギー設備を新設、又は増設する事業。\n　　※トップランナー基準に該当しない設備で、エネルギー消費効率が高い設備の導入",null,null,null,null,null,null,null,null,null,null,null,null,null,null,null,null,null,"☑",{"$f":"E46","v":"（ア）エネルギー消費効率が高い省エネルギー設備を新設、又は増設する事業。\n　　※トップランナー基準に該当しない設備で、エネルギー消費効率が高い設備の導入"},null,null,null,null,null,null,null,null,null,null,null,null,null,null,null,null,null,null,null,"（ア）エネルギー消費効率が高い省エネルギー設備を新設、又は増設する事業。\n　　※トップランナー基準に該当しない設備で、エネルギー消費効率が高い設備の導入"]
[]
[]
[null,null,null,null,"（イ）省エネルギー設備等を新設、又は増設し、工場・事業場全体におけるエネルギー\n　　 消費原単位が１％以上改善される事業。",null,null,null,null,null,null,null,null,null,null,null,null,null,null,null,null,null,null,{"$f":"E49","v":"（イ）省エネルギー設備等を新設、又は増設し、工場・事業場全体におけるエネルギー\n　　 消費原単位が１％以上改善される事業。"},null,null,null,null,null,null,null,null,null,null,null,null,null,null,null,null,null,null,null,"（イ）省エネルギー設備等を新設、又は増設し、工場・事業場全体におけるエネルギー\n　　 消費原単位が１％以上改善される事業。"]
[]
[]
[null,null,null,null,"（ウ）データセンターのクラウドサービス活用に関する事業。",null,null,null,null,null,null,null,null,null,null,null,null,null,null,null,null,null,null,{"$f":"E52","v":"（ウ）データセンターのクラウドサービス活用に関する事業。"},null,null,null,null,null,null,null,null,null,null,null,null,null,null,null,null,null,null,null,"（ウ）データセンターのクラウドサービス活用に関する事業。"]
[]
[]
[null,null,null,null,"（ウ）ＥＭＳの導入等による省エネルギー取組に関する事業。",null,null,null,null,null,null,null,null,null,null,null,null,null,null,null,null,null,null,{"$f":"E55","v":"（ウ）ＥＭＳの導入等による省エネルギー取組に関する事業。"},null,null,null,null,null,null,null,null,null,null,null,null,null,null,null,null,null,null,null,"（ウ）ＥＭＳの導入等による省エネルギー取組に関する事業。"]
[]
[]
[null,null,null,null,null,null,null,null,null,null,null,null,null,null,null,null,null,null,null,{"$f":"IF(W9=\"\",\"\",IF(CO17=\"NG\",\"↑該当する対象要件（チェックボックス）を選択してください。\",\"\"))","v":""},null,null,null,null,null,null,null,null,null,null,null,null,null,null,null,null,null,null,null,{"$f":"IF(AQ9=\"\",\"\",IF(DI17=\"NG\",\"↑該当する対象要件（チェックボックス）を選択してください。\",\"\"))","v":""}]
["７．利子補給対象事業の概要",null,null,null,null,null,null,null,null,null,null,null,null,null,null,null,null,null,null,{"$f":"A59","v":"７．利子補給対象事業の概要"},null,null,null,null,null,null,null,null,null,null,null,null,null,null,null,null,null,null,null,"７．利子補給対象事業の概要"]
[]
["導入設備区分",null,null,null,"新設",null,null,"増設",null,{"$f":"IF(BP18=\"NG\",\"←該当する導入設備区分（チェックボックス）を選択してください。\",\"\")","v":""},null,null,null,null,null,null,null,null,null,{"$f":"A61","v":"導入設備区分"},null,null,"☑","新設",null,"☑","増設",null,{"$f":"IF(W9=\"\",\"\",IF(CI18=\"NG\",\"←該当する導入設備区分（チェックボックス）を選択してください。\",\"\"))","v":""},null,null,null,null,null,null,null,null,null,null,"導入設備区分",null,null,"☑","新設",null,null,"増設",null,{"$f":"IF(AQ9=\"\",\"\",IF(DC18=\"NG\",\"←該当する導入設備区分（チェックボックス）を選択してください。\",\"\"))","v":""}]
[]
["対象事業の概要",null,null,"",null,null,null,null,null,null,null,null,null,null,null,null,null,null,null,"対象事業の概要",null,null,"例①：○○工場に○○機器を新設する事業\n例②：○○作業所の生産ラインを増設する事業\n　　　（現状6ラインから8ラインへ2ライン増設）",null,null,null,null,null,null,null,null,null,null,null,null,null,null,null,null,"対象事業の概要",null,null,"例①：○○工場に○○機器を新設する事業\n例②：○○作業所の生産ラインを増設する事業\n　　　（現状6ラインから8ラインへ2ライン増設）"]
[]
[]
[]
[]
[]
[]
[]
[]
[]
["導入設備の概要",null,null,"",null,null,null,null,null,null,null,null,null,null,null,null,null,null,null,"導入設備の概要",null,null,"例①：工場新設による○○機器新規導入\n　　　○○機器○台、○○機器○台の新規導入\n例②：生産ライン拡大による○○機器の増設\n　　　○○機器○台、○○機器○台の増設",null,null,null,null,null,null,null,null,null,null,null,null,null,null,null,null,"導入設備の概要",null,null,"例①：工場新設による○○機器新規導入\n　　　○○機器○台、○○機器○台の新規導入\n例②：生産ライン拡大による○○機器の増設\n　　　○○機器○台、○○機器○台の増設"]
[]
[]
[]
[]
[]
[]
[]
[]
[]
[]
["８．経営革新計画における達成状況（任意）",null,null,null,null,null,null,null,null,null,null,null,null,null,null,null,null,null,null,{"$f":"A84","v":"８．経営革新計画における達成状況（任意）"},null,null,null,null,null,null,null,null,null,null,null,null,null,null,null,null,null,null,null,{"$f":"A84","v":"８．経営革新計画における達成状況（任意）"}]
[]
["給与支給総額の\n伸び率が年平均1.5%を\n達成できているか",null,null,null,null,null,null,null,null,null,null,null,null,null,null,null,null,null,null,{"$f":"A86","v":"給与支給総額の\n伸び率が年平均1.5%を\n達成できているか"},null,null,"×",null,null,null,null,null,null,null,null,null,null,null,null,null,null,null,null,{"$f":"A86","v":"給与支給総額の\n伸び率が年平均1.5%を\n達成できているか"},null,null,"×"]
[]
[]
[]
["未達成の事由",null,null,null,null,null,null,null,null,"その他を\n選択した場合",null,null,null,null,null,null,null,null,null,{"$f":"A90","v":"未達成の事由"},null,null,"業績が計画を下回ったため",null,null,null,null,null,"その他を\n選択した場合",null,null,null,null,null,null,null,null,null,null,{"$f":"A90","v":"未達成の事由"},null,null,"その他",null,null,null,null,null,"その他を\n選択した場合",null,null,"○○が発生したため。"]
[]
[]
[]
["※未達成であっても利子補給金額に影響はございません。",null,null,null,null,null,null,null,null,null,null,null,null,null,null,null,null,null,null,{"$f":"A94","v":"※未達成であっても利子補給金額に影響はございません。"},null,null,null,null,null,null,null,null,null,null,null,null,null,null,null,null,null,null,null,{"$f":"A94","v":"※未達成であっても利子補給金額に影響はございません。"}]

{"sheet":"（様式第１１）概算払請求書","index":25,"n_rows":91,"n_cols":40,"rows_kept":91,"cut":false,"hidden":false,"merged":[[0,0,1,16],[88,25,89,26],[88,27,89,32],[90,1,91,2],[90,3,91,7],[90,8,91,9],[90,10,91,15],[90,18,91,19],[90,20,91,24],[90,25,91,26],[90,27,91,32],[88,1,89,2],[88,3,89,7],[88,8,89,9],[88,10,89,15],[88,18,89,19],[88,20,89,24],[84,25,85,26],[84,27,85,32],[86,1,87,2],[86,3,87,7],[86,8,87,9],[86,10,87,15],[86,18,87,19],[86,20,87,24],[86,25,87,26],[86,27,87,32],[84,1,85,2],[84,3,85,7],[84,8,85,9],[84,10,85,15],[84,18,85,19],[84,20,85,24],[74,1,75,15],[74,18,75,32],[78,1,79,7],[78,8,79,8],[78,18,79,24],[78,25,79,25],[40,0,46,16],[40,17,46,33],[70,1,71,15],[70,18,71,32],[39,0,39,2],[39,3,39,6],[39,17,39,19],[39,20,39,23],[39,13,39,16],[39,7,39,12],[39,30,39,33],[39,24,39,29],[15,8,17,9],[15,25,17,26],[15,27,17,33],[18,27,20,33],[21,8,24,9],[21,25,24,26],[21,27,22,32],[15,10,17,16],[18,10,20,16],[21,10,22,16],[23,10,24,16],[18,3,20,6],[18,8,20,9],[18,20,20,23],[18,25,20,26],[21,33,23,33],[23,27,24,32]]}
["（様式第１１）概算払請求書"]
[]
["様式第１１",null,null,null,null,null,null,null,null,null,null,null,null,null,null,null,null,{"$f":"A3","v":"様式第１１"}]
[null,null,null,null,null,null,null,null,null,null,null,null,null,null,null,null,{"$f":"IF('（様式第３）交付申請書（新規融資案件）'!$Q$4=\"\",\"様式第３で受付番号をご入力ください。\",'（様式第３）交付申請書（新規融資案件）'!$Q$4)","v":"様式第３で受付番号をご入力ください。"},null,null,null,null,null,null,null,null,null,null,null,null,null,null,null,null,"04AA-001-01",null,null,null,"様式11概_L6","年",{"$f":"IF(L6=\"\",\"\",L6)","v":""}]
[null,null,null,null,null,null,null,null,null,null,null,null,null,null,null,null,null,null,null,null,null,null,null,null,null,null,null,null,null,null,null,null,null,null,null,null,null,"様式11概_N6","月",{"$f":"IF(N6=\"\",\"\",N6)","v":""}]
[null,null,null,null,null,null,null,null,null,null,null,null,"年",null,"月",null,"日",null,null,null,null,null,null,null,null,null,null,null,"202○",{"$f":"M6","v":"年"},"○○",{"$f":"O6","v":"月"},"○○",{"$f":"Q6","v":"日"},null,null,null,"様式11概_P6","日",{"$f":"IF(P6=\"\",\"\",P6)","v":""}]
[null,null,null,null,null,null,null,null,null,null,null,null,null,null,null,null,null,null,null,null,null,null,null,null,null,null,null,null,null,null,null,null,null,null,null,null,null,"様式11概_K16","指定金融機関_住所",{"$f":"IF(K16=\"\",\"\",K16)","v":""}]
[null,null,null,null,null,null,null,null,null,null,null,null,null,null,null,null,null,null,null,null,null,null,null,null,null,null,null,null,null,null,null,null,null,null,null,null,null,"様式11概_K19","指定金融機関_名称",{"$f":"IF(K19=\"\",\"\",K19)","v":""}]
["一般社団法人　環境共創イニシアチブ",null,null,null,null,null,null,null,null,null,null,null,null,null,null,null,null,{"$f":"A9","v":"一般社団法人　環境共創イニシアチブ"},null,null,null,null,null,null,null,null,null,null,null,null,null,null,null,null,null,null,null,"様式11概_K22","指定金融機関_役職",{"$f":"IF(K22=\"\",\"\",K22)","v":""}]
[null,null,null,null,null,null,null,null,null,null,null,null,null,null,null,null,null,null,null,null,null,null,null,null,null,null,null,null,null,null,null,null,null,null,null,null,null,"様式11概_K24","指定金融機関_代表者名",{"$f":"IF(K24=\"\",\"\",K24)","v":""}]
["代 表 理 事　　　村上　孝　殿",null,null,null,null,null,null,null,null,null,null,null,null,null,null,null,null,{"$f":"A11","v":"代 表 理 事　　　村上　孝　殿"},null,null,null,null,null,null,null,null,null,null,null,null,null,null,null,null,null,null,null,"様式11概_A40","交付決定日",{"$f":"IF(A40=\"\",\"\",A40)","v":""}]
[null,null,null,null,null,null,null,null,null,null,null,null,null,null,null,null,null,null,null,null,null,null,null,null,null,null,null,null,null,null,null,null,null,null,null,null,null,"様式11概_H40","交付決定番号",{"$f":"IF(H40=\"\",\"\",H40)","v":""}]
[null,null,null,null,null,null,null,null,null,null,null,null,null,null,null,null,null,null,null,null,null,null,null,null,null,null,null,null,null,null,null,null,null,null,null,null,null,"様式11概_B71","利子補給対象事業者名",{"$f":"IF(B71=\"\",\"\",B71)","v":""}]
[null,null,null,null,null,null,null,null,null,null,null,null,null,null,null,null,null,null,null,null,null,null,null,null,null,null,null,null,null,null,null,null,null,null,null,null,null,"様式11概_B75","融資名称",{"$f":"IF(B75=\"\",\"\",B75)","v":""}]
[null,null,null,null,null,null,null,null,null,null,{"$f":"IF(K16=\"\",\"↓住所は都道府県からご入力ください。\",\"\")","v":"↓住所は都道府県からご入力ください。"},null,null,null,null,null,null,null,null,null,null,null,null,null,null,null,null,null,null,null,null,null,null,null,null,null,null,"様式11概_B79","利子補給金概算払請求金額",{"$f":"IF(B79=\"\",\"\",B79)","v":""}]
[null,null,null,null,null,null,null,null,"住　　所",null,null,null,null,null,null,null,null,null,null,null,null,null,null,null,null,{"$f":"I16","v":"住　　所"},null,"〇〇県〇〇市〇〇町〇丁目〇番〇号",null,null,null,null,null,null,null,null,null,"様式11概_D85","金融機関名",{"$f":"IF(D85=\"\",\"\",D85)","v":""}]
[null,null,null,null,null,null,null,null,null,null,null,null,null,null,null,null,null,null,null,null,null,null,null,null,null,null,null,null,null,null,null,null,null,null,null,null,null,"様式11概_K85","銀行コード\n（4桁）",{"$f":"IF(K85=\"\",\"\",K85)","v":""}]
[null,null,null,null,null,null,null,null,null,null,null,null,null,null,null,null,null,null,null,null,null,null,null,null,null,null,null,null,null,null,null,null,null,null,null,null,null,"様式11概_D87","支店名",{"$f":"IF(D87=\"\",\"\",D87)","v":""}]
[null,null,null,"指定金融機関",null,null,null,null,"名　　称",null,null,null,null,null,null,null,null,null,null,null,{"$f":"D19","v":"指定金融機関"},null,null,null,null,{"$f":"I19","v":"名　　称"},null,"株式会社〇〇銀行",null,null,null,null,null,null,null,null,null,"様式11概_K87","支店コード\n（3桁）",{"$f":"IF(K87=\"\",\"\",K87)","v":""}]
[null,null,null,null,null,null,null,null,null,null,null,null,null,null,null,null,null,null,null,null,null,null,null,null,null,null,null,null,null,null,null,null,null,null,null,null,null,"様式11概_D89","預金の種別",{"$f":"IF(D89=\"\",\"\",D89)","v":""}]
[null,null,null,null,null,null,null,null,null,null,null,null,null,null,null,null,null,null,null,null,null,null,null,null,null,null,null,null,null,null,null,null,null,null,null,null,null,"様式11概_K89","口座番号\n（7桁）",{"$f":"IF(K89=\"\",\"\",K89)","v":""}]
[null,null,null,null,null,null,null,null,"代表者等名",null,null,null,null,null,null,null,null,null,null,null,null,null,null,null,null,{"$f":"I22","v":"代表者等名"},null,"代表取締役",null,null,null,null,null,null,null,null,null,"様式11概_D91","預金の名義",{"$f":"IF(D91=\"\",\"\",D91)","v":""}]
[null,null,null,null,null,null,null,null,null,null,null,null,null,null,null,null,null,null,null,null,null,null,null,null,null,null,null,null,null,null,null,null,null,null,null,null,null,"様式11概_K91","預金の名義\n（ｶﾅ）",{"$f":"IF(K91=\"\",\"\",K91)","v":""}]
[null,null,null,null,null,null,null,null,null,null,null,null,null,null,null,null,null,null,null,null,null,null,null,null,null,null,null,"〇〇　〇〇"]
[]
[]
[]
[]
[]
[]
[null,null,null,null,null,null,null,null,"令和４年度省エネルギー設備投資に係る利子補給金",null,null,null,null,null,null,null,null,null,null,null,null,null,null,null,null,{"$f":"I31","v":"令和４年度省エネルギー設備投資に係る利子補給金"}]
[]
[null,null,null,null,null,null,null,null,"概算払請求書",null,null,null,null,null,null,null,null,null,null,null,null,null,null,null,null,{"$f":"I33","v":"概算払請求書"}]
[]
[]
[]
[]
[]
[]
[null,null,null,"をもって交付決定 （",null,null,null,null,null,null,null,null,null,"）があった標記利子補給",null,null,null,"202○年○月○日",null,null,{"$f":"D40","v":"をもって交付決定 （"},null,null,null,"SII-BFA220-01-○○○○○○-00○○○-A",null,null,null,null,null,{"$f":"N40","v":"）があった標記利子補給"}]
["金について、省エネルギー設備投資に係る利子補給金交付規程（ＳＩＩ－ＢＦＡ２２０－０１－２２０４０１－Ｒ）第１８条第２項の規定に基づき、下記のとおり請求します。",null,null,null,null,null,null,null,null,null,null,null,null,null,null,null,null,{"$f":"A41","v":"金について、省エネルギー設備投資に係る利子補給金交付規程（ＳＩＩ－ＢＦＡ２２０－０１－２２０４０１－Ｒ）第１８条第２項の規定に基づき、下記のとおり請求します。"}]
[]
[]
[]
[]
[]
[]
[]
[]
[]
[]
[]
[]
[]
[]
[]
[]
[]
[]
[]
[]
[]
[]
[]
[null,null,null,null,null,null,null,null,null,null,null,null,null,null,null,null,{"$f":"IF('（様式第３）交付申請書（新規融資案件）'!$Q$4=\"\",\"様式第３で受付番号をご入力ください。\",'（様式第３）交付申請書（新規融資案件）'!$Q$4)","v":"様式第３で受付番号をご入力ください。"},null,null,null,null,null,null,null,null,null,null,null,null,null,null,null,null,"04AA-001-01"]
[]
[null,null,null,null,null,null,null,null,"記",null,null,null,null,null,null,null,null,null,null,null,null,null,null,null,null,{"$f":"I67","v":"記"}]
[]
[]
["１．利子補給対象事業者名",null,null,null,null,null,null,null,null,null,null,null,null,null,null,null,null,{"$f":"A70","v":"１．利子補給対象事業者名"}]
[null,null,null,null,null,null,null,null,null,null,null,null,null,null,null,null,null,null,"株式会社○○○○"]
[]
[]
["２．融資名称",null,null,null,null,null,null,null,null,null,null,null,null,null,null,null,null,{"$f":"A74","v":"２．融資名称"}]
[null,null,null,null,null,null,null,null,null,null,null,null,null,null,null,null,null,null,"○○○○○○○にともなう融資"]
[]
[]
["３．利子補給金概算払請求金額",null,null,null,null,null,null,null,null,null,null,null,null,null,null,null,null,{"$f":"A78","v":"３．利子補給金概算払請求金額"}]
[null,null,null,null,null,null,null,null,"円",null,null,null,null,null,null,null,null,null,"○○○,○○○",null,null,null,null,null,null,"円"]
[]
[]
[]
["４．振込先",null,null,null,null,null,null,null,null,null,null,null,null,null,null,null,null,{"$f":"A83","v":"４．振込先"}]
[]
[null,"金融機関名",null,null,null,null,null,null,"銀行コード\n（4桁）",null,"",null,null,null,null,null,null,null,{"$f":"B85","v":"金融機関名"},null,"○○銀行",null,null,null,null,{"$f":"I85","v":"銀行コード\n（4桁）"},null,"0000"]
[]
[null,"支店名",null,null,null,null,null,null,"支店コード\n（3桁）",null,"",null,null,null,null,null,null,null,{"$f":"B87","v":"支店名"},null,"○○支店",null,null,null,null,{"$f":"I87","v":"支店コード\n（3桁）"},null,"000"]
[]
[null,"預金の種別",null,null,null,null,null,null,"口座番号\n（7桁）",null,"",null,null,null,null,null,null,null,{"$f":"B89","v":"預金の種別"},null,"普通",null,null,null,null,{"$f":"I89","v":"口座番号\n（7桁）"},null,"0000000"]
[]
[null,"預金の名義",null,null,null,null,null,null,"預金の名義\n（ｶﾅ）",null,null,null,null,null,null,null,null,null,{"$f":"B91","v":"預金の名義"},null,"○○銀行　補助金用",null,null,null,null,{"$f":"I91","v":"預金の名義\n（ｶﾅ）"},null,"○○ｷﾞﾝｺｳ ﾎｼﾞｮｷﾝﾖｳ"]

{"sheet":"（様式第１１）精算払請求書","index":26,"n_rows":91,"n_cols":40,"rows_kept":91,"cut":false,"hidden":false,"merged":[[0,0,1,16],[88,25,89,26],[88,27,89,32],[90,1,91,2],[90,3,91,7],[90,8,91,9],[90,10,91,15],[90,18,91,19],[90,20,91,24],[90,25,91,26],[90,27,91,32],[88,1,89,2],[88,3,89,7],[88,8,89,9],[88,10,89,15],[88,18,89,19],[88,20,89,24],[84,25,85,26],[84,27,85,32],[86,1,87,2],[86,3,87,7],[86,8,87,9],[86,10,87,15],[86,18,87,19],[86,20,87,24],[86,25,87,26],[86,27,87,32],[84,1,85,2],[84,3,85,7],[84,8,85,9],[84,10,85,15],[84,18,85,19],[84,20,85,24],[74,1,75,15],[74,18,75,32],[78,1,79,7],[78,8,79,8],[78,18,79,24],[78,25,79,25],[40,0,46,16],[40,17,46,33],[70,1,71,15],[70,18,71,32],[39,0,39,2],[39,3,39,6],[39,17,39,19],[39,20,39,23],[39,13,39,16],[39,7,39,12],[39,30,39,33],[39,24,39,29],[21,33,23,33],[23,27,24,32],[15,8,17,9],[15,10,17,16],[15,25,17,26],[15,27,17,33],[18,27,20,33],[21,8,24,9],[21,25,24,26],[21,27,22,32],[21,10,22,16],[23,10,24,16],[18,3,20,6],[18,8,20,9],[18,10,20,16],[18,20,20,23],[18,25,20,26]]}
["（様式第１１）精算払請求書"]
[]
["様式第１１",null,null,null,null,null,null,null,null,null,null,null,null,null,null,null,null,{"$f":"A3","v":"様式第１１"}]
[null,null,null,null,null,null,null,null,null,null,null,null,null,null,null,null,{"$f":"IF('（様式第３）交付申請書（新規融資案件）'!$Q$4=\"\",\"様式第３で受付番号をご入力ください。\",'（様式第３）交付申請書（新規融資案件）'!$Q$4)","v":"様式第３で受付番号をご入力ください。"},null,null,null,null,null,null,null,null,null,null,null,null,null,null,null,null,"04AA-001-01",null,null,null,"様式11精_L6","年",{"$f":"IF(L6=\"\",\"\",L6)","v":""}]
[null,null,null,null,null,null,null,null,null,null,null,null,null,null,null,null,null,null,null,null,null,null,null,null,null,null,null,null,null,null,null,null,null,null,null,null,null,"様式11精_N6","月",{"$f":"IF(N6=\"\",\"\",N6)","v":""}]
[null,null,null,null,null,null,null,null,null,null,null,null,"年",null,"月",null,"日",null,null,null,null,null,null,null,null,null,null,null,"202○",{"$f":"M6","v":"年"},"○○",{"$f":"O6","v":"月"},"○○",{"$f":"Q6","v":"日"},null,null,null,"様式11精_P6","日",{"$f":"IF(P6=\"\",\"\",P6)","v":""}]
[null,null,null,null,null,null,null,null,null,null,null,null,null,null,null,null,null,null,null,null,null,null,null,null,null,null,null,null,null,null,null,null,null,null,null,null,null,"様式11精_K16","指定金融機関_住所",{"$f":"IF(K16=\"\",\"\",K16)","v":""}]
[null,null,null,null,null,null,null,null,null,null,null,null,null,null,null,null,null,null,null,null,null,null,null,null,null,null,null,null,null,null,null,null,null,null,null,null,null,"様式11精_K19","指定金融機関_名称",{"$f":"IF(K19=\"\",\"\",K19)","v":""}]
["一般社団法人　環境共創イニシアチブ",null,null,null,null,null,null,null,null,null,null,null,null,null,null,null,null,{"$f":"A9","v":"一般社団法人　環境共創イニシアチブ"},null,null,null,null,null,null,null,null,null,null,null,null,null,null,null,null,null,null,null,"様式11精_K22","指定金融機関_役職",{"$f":"IF(K22=\"\",\"\",K22)","v":""}]
[null,null,null,null,null,null,null,null,null,null,null,null,null,null,null,null,null,null,null,null,null,null,null,null,null,null,null,null,null,null,null,null,null,null,null,null,null,"様式11精_K24","指定金融機関_代表者名",{"$f":"IF(K24=\"\",\"\",K24)","v":""}]
["代 表 理 事　　　村上　孝　殿",null,null,null,null,null,null,null,null,null,null,null,null,null,null,null,null,{"$f":"A11","v":"代 表 理 事　　　村上　孝　殿"},null,null,null,null,null,null,null,null,null,null,null,null,null,null,null,null,null,null,null,"様式11精_A40","交付決定日",{"$f":"IF(A40=\"\",\"\",A40)","v":""}]
[null,null,null,null,null,null,null,null,null,null,null,null,null,null,null,null,null,null,null,null,null,null,null,null,null,null,null,null,null,null,null,null,null,null,null,null,null,"様式11精_H40","交付決定番号",{"$f":"IF(H40=\"\",\"\",H40)","v":""}]
[null,null,null,null,null,null,null,null,null,null,null,null,null,null,null,null,null,null,null,null,null,null,null,null,null,null,null,null,null,null,null,null,null,null,null,null,null,"様式11精_B71","利子補給対象事業者名",{"$f":"IF(B71=\"\",\"\",B71)","v":""}]
[null,null,null,null,null,null,null,null,null,null,null,null,null,null,null,null,null,null,null,null,null,null,null,null,null,null,null,null,null,null,null,null,null,null,null,null,null,"様式11精_B75","融資名称",{"$f":"IF(B75=\"\",\"\",B75)","v":""}]
[null,null,null,null,null,null,null,null,null,null,{"$f":"IF(K16=\"\",\"↓住所は都道府県からご入力ください。\",\"\")","v":"↓住所は都道府県からご入力ください。"},null,null,null,null,null,null,null,null,null,null,null,null,null,null,null,null,null,null,null,null,null,null,null,null,null,null,"様式11精_B79","利子補給金概算払請求金額",{"$f":"IF(B79=\"\",\"\",B79)","v":""}]
[null,null,null,null,null,null,null,null,"住　　所",null,null,null,null,null,null,null,null,null,null,null,null,null,null,null,null,{"$f":"I16","v":"住　　所"},null,"〇〇県〇〇市〇〇町〇丁目〇番〇号",null,null,null,null,null,null,null,null,null,"様式11精_D85","金融機関名",{"$f":"IF(D85=\"\",\"\",D85)","v":""}]
[null,null,null,null,null,null,null,null,null,null,null,null,null,null,null,null,null,null,null,null,null,null,null,null,null,null,null,null,null,null,null,null,null,null,null,null,null,"様式11精_K85","銀行コード\n（4桁）",{"$f":"IF(K85=\"\",\"\",K85)","v":""}]
[null,null,null,null,null,null,null,null,null,null,null,null,null,null,null,null,null,null,null,null,null,null,null,null,null,null,null,null,null,null,null,null,null,null,null,null,null,"様式11精_D87","支店名",{"$f":"IF(D87=\"\",\"\",D87)","v":""}]
[null,null,null,"指定金融機関",null,null,null,null,"名　　称",null,null,null,null,null,null,null,null,null,null,null,{"$f":"D19","v":"指定金融機関"},null,null,null,null,{"$f":"I19","v":"名　　称"},null,"株式会社〇〇銀行",null,null,null,null,null,null,null,null,null,"様式11精_K87","支店コード\n（3桁）",{"$f":"IF(K87=\"\",\"\",K87)","v":""}]
[null,null,null,null,null,null,null,null,null,null,null,null,null,null,null,null,null,null,null,null,null,null,null,null,null,null,null,null,null,null,null,null,null,null,null,null,null,"様式11精_D89","預金の種別",{"$f":"IF(D89=\"\",\"\",D89)","v":""}]
[null,null,null,null,null,null,null,null,null,null,null,null,null,null,null,null,null,null,null,null,null,null,null,null,null,null,null,null,null,null,null,null,null,null,null,null,null,"様式11精_K89","口座番号\n（7桁）",{"$f":"IF(K89=\"\",\"\",K89)","v":""}]
[null,null,null,null,null,null,null,null,"代表者等名",null,null,null,null,null,null,null,null,null,null,null,null,null,null,null,null,{"$f":"I22","v":"代表者等名"},null,"代表取締役",null,null,null,null,null,null,null,null,null,"様式11精_D91","預金の名義",{"$f":"IF(D91=\"\",\"\",D91)","v":""}]
[null,null,null,null,null,null,null,null,null,null,null,null,null,null,null,null,null,null,null,null,null,null,null,null,null,null,null,null,null,null,null,null,null,null,null,null,null,"様式11精_K91","預金の名義\n（ｶﾅ）",{"$f":"IF(K91=\"\",\"\",K91)","v":""}]
[null,null,null,null,null,null,null,null,null,null,null,null,null,null,null,null,null,null,null,null,null,null,null,null,null,null,null,"〇〇　〇〇"]
[]
[]
[]
[]
[]
[]
[null,null,null,null,null,null,null,null,"令和４年度省エネルギー設備投資に係る利子補給金",null,null,null,null,null,null,null,null,null,null,null,null,null,null,null,null,{"$f":"I31","v":"令和４年度省エネルギー設備投資に係る利子補給金"}]
[]
[null,null,null,null,null,null,null,null,"精算払請求書",null,null,null,null,null,null,null,null,null,null,null,null,null,null,null,null,{"$f":"I33","v":"精算払請求書"}]
[]
[]
[]
[]
[]
[]
[null,null,null,"をもって交付決定 （",null,null,null,null,null,null,null,null,null,"）があった標記利子補給",null,null,null,"202○年○月○日",null,null,{"$f":"D40","v":"をもって交付決定 （"},null,null,null,"SII-BFA220-01-○○○○○○-00○○○-A",null,null,null,null,null,{"$f":"N40","v":"）があった標記利子補給"}]
["金について、省エネルギー設備投資に係る利子補給金交付規程（ＳＩＩ－ＢＦＡ２２０－０１－２２０４０１－Ｒ）第１８条第２項の規定に基づき、下記のとおり請求します。",null,null,null,null,null,null,null,null,null,null,null,null,null,null,null,null,{"$f":"A41","v":"金について、省エネルギー設備投資に係る利子補給金交付規程（ＳＩＩ－ＢＦＡ２２０－０１－２２０４０１－Ｒ）第１８条第２項の規定に基づき、下記のとおり請求します。"}]
[]
[]
[]
[]
[]
[]
[]
[]
[]
[]
[]
[]
[]
[]
[]
[]
[]
[]
[]
[]
[]
[]
[]
[null,null,null,null,null,null,null,null,null,null,null,null,null,null,null,null,{"$f":"IF('（様式第３）交付申請書（新規融資案件）'!$Q$4=\"\",\"様式第３で受付番号をご入力ください。\",'（様式第３）交付申請書（新規融資案件）'!$Q$4)","v":"様式第３で受付番号をご入力ください。"},null,null,null,null,null,null,null,null,null,null,null,null,null,null,null,null,"04AA-001-01"]
[]
[null,null,null,null,null,null,null,null,"記",null,null,null,null,null,null,null,null,null,null,null,null,null,null,null,null,{"$f":"I67","v":"記"}]
[]
[]
["１．利子補給対象事業者名",null,null,null,null,null,null,null,null,null,null,null,null,null,null,null,null,{"$f":"A70","v":"１．利子補給対象事業者名"}]
[null,null,null,null,null,null,null,null,null,null,null,null,null,null,null,null,null,null,"株式会社○○○○"]
[]
[]
["２．融資名称",null,null,null,null,null,null,null,null,null,null,null,null,null,null,null,null,{"$f":"A74","v":"２．融資名称"}]
[null,null,null,null,null,null,null,null,null,null,null,null,null,null,null,null,null,null,"○○○○○○○にともなう融資"]
[]
[]
["３．利子補給金精算払請求金額",null,null,null,null,null,null,null,null,null,null,null,null,null,null,null,null,{"$f":"A78","v":"３．利子補給金精算払請求金額"}]
[null,null,null,null,null,null,null,null,"円",null,null,null,null,null,null,null,null,null,"○○○,○○○",null,null,null,null,null,null,{"$f":"I79","v":"円"}]
[]
[]
[]
["４．振込先",null,null,null,null,null,null,null,null,null,null,null,null,null,null,null,null,{"$f":"A83","v":"４．振込先"}]
[]
[null,"金融機関名",null,null,null,null,null,null,"銀行コード\n（4桁）",null,"",null,null,null,null,null,null,null,{"$f":"B85","v":"金融機関名"},null,"○○銀行",null,null,null,null,{"$f":"I85","v":"銀行コード\n（4桁）"},null,"0000"]
[]
[null,"支店名",null,null,null,null,null,null,"支店コード\n（3桁）",null,"",null,null,null,null,null,null,null,{"$f":"B87","v":"支店名"},null,"○○支店",null,null,null,null,{"$f":"I87","v":"支店コード\n（3桁）"},null,"000"]
[]
[null,"預金の種別",null,null,null,null,null,null,"口座番号\n（7桁）",null,"",null,null,null,null,null,null,null,{"$f":"B89","v":"預金の種別"},null,"普通",null,null,null,null,{"$f":"I89","v":"口座番号\n（7桁）"},null,"0000000"]
[]
[null,"預金の名義",null,null,null,null,null,null,"預金の名義\n（ｶﾅ）",null,null,null,null,null,null,null,null,null,{"$f":"B91","v":"預金の名義"},null,"○○銀行　補助金用",null,null,null,null,{"$f":"I91","v":"預金の名義\n（ｶﾅ）"},null,"○○ｷﾞﾝｺｳ ﾎｼﾞｮｷﾝﾖｳ"]